{"text_format":"1","workbook":"xlsx","n_sheets":13,"sheets":["Data-Juin","Data Juillet","Data aout","Data-Nov","Data novembre","Dashboard","Data","Organisations","Vocabulary","Gears","Setup Instructions","Geometry","3w"],"not_rendered":{"charts":6,"images":24,"macros":1,"external_links":8,"defined_names":598,"comments":0,"pivot_tables":0},"unopened":[],"bounds":{"document_bytes":16777216,"sheet_cells":100000,"rows_first":2000,"rows_last":500,"rows_between":2000,"halvings":0,"cell_chars":16384,"cell_head_chars":4096},"cells_cut":0,"cells_raw":0,"read":"whole","date_system":"1900"}

{"sheet":"Data-Juin","index":0,"n_rows":485,"n_cols":11,"rows_kept":485,"cut":false,"hidden":true,"merged":[[0,1,0,6]]}
[null,"3W Data Entry"]
[null,null,"Add a new organisation"]
[]
[null,"Acronym","Organisation","Org Type","Sector","Activity Type","Admin Unit Name","Pcode","Autre","I. Admin","I. Sector"]
[null,"YA-G-TU",{"$f":"INDEX(Organizations[],MATCH(Main3WData12[[#This Row],[Acronym]],AcronymList,0),1)","v":"YA-G-TU"},{"$f":"INDEX(Organizations[],MATCH(Main3WData12[[#This Row],[Acronym]],AcronymList,0),3)","v":"ONG Nat."},"Nutrition","Regulier","Mopti",{"$f":"VLOOKUP(Main3WData12[[#This Row],[Admin Unit Name]],AdminUnits[],2,FALSE)","v":"ML05"},{"$f":"VLOOKUP(Main3WData12[[#This Row],[Admin Unit Name]],AdminUnits[],3,FALSE)","v":"Sud"},{"$f":"VLOOKUP(Main3WData12[[#This Row],[Admin Unit Name]],AdminUnits[],4,FALSE)","v":5},{"$f":"VLOOKUP(Main3WData12[[#This Row],[Sector]],Sectors[],2,FALSE)","v":4}]
[null,"WV",{"$f":"INDEX(Organizations[],MATCH(Main3WData12[[#This Row],[Acronym]],AcronymList,0),1)","v":{"$error":"#N/A"}},{"$f":"INDEX(Organizations[],MATCH(Main3WData12[[#This Row],[Acronym]],AcronymList,0),3)","v":{"$error":"#N/A"}},"Nutrition","Regulier","Segou",{"$f":"VLOOKUP(Main3WData12[[#This Row],[Admin Unit Name]],AdminUnits[],2,FALSE)","v":"ML04"},{"$f":"VLOOKUP(Main3WData12[[#This Row],[Admin Unit Name]],AdminUnits[],3,FALSE)","v":"Sud"},{"$f":"VLOOKUP(Main3WData12[[#This Row],[Admin Unit Name]],AdminUnits[],4,FALSE)","v":4},{"$f":"VLOOKUP(Main3WData12[[#This Row],[Sector]],Sectors[],2,FALSE)","v":4}]
[null,"WV",{"$f":"INDEX(Organizations[],MATCH(Main3WData12[[#This Row],[Acronym]],AcronymList,0),1)","v":{"$error":"#N/A"}},{"$f":"INDEX(Organizations[],MATCH(Main3WData12[[#This Row],[Acronym]],AcronymList,0),3)","v":{"$error":"#N/A"}},"Protection","Regulier","Kayes",{"$f":"VLOOKUP(Main3WData12[[#This Row],[Admin Unit Name]],AdminUnits[],2,FALSE)","v":"ML01"},{"$f":"VLOOKUP(Main3WData12[[#This Row],[Admin Unit Name]],AdminUnits[],3,FALSE)","v":"Sud"},{"$f":"VLOOKUP(Main3WData12[[#This Row],[Admin Unit Name]],AdminUnits[],4,FALSE)","v":1},{"$f":"VLOOKUP(Main3WData12[[#This Row],[Sector]],Sectors[],2,FALSE)","v":5}]
[null,"WV",{"$f":"INDEX(Organizations[],MATCH(Main3WData12[[#This Row],[Acronym]],AcronymList,0),1)","v":{"$error":"#N/A"}},{"$f":"INDEX(Organizations[],MATCH(Main3WData12[[#This Row],[Acronym]],AcronymList,0),3)","v":{"$error":"#N/A"}},"Protection","Regulier","Segou",{"$f":"VLOOKUP(Main3WData12[[#This Row],[Admin Unit Name]],AdminUnits[],2,FALSE)","v":"ML04"},{"$f":"VLOOKUP(Main3WData12[[#This Row],[Admin Unit Name]],AdminUnits[],3,FALSE)","v":"Sud"},{"$f":"VLOOKUP(Main3WData12[[#This Row],[Admin Unit Name]],AdminUnits[],4,FALSE)","v":4},{"$f":"VLOOKUP(Main3WData12[[#This Row],[Sector]],Sectors[],2,FALSE)","v":5}]
[null,"WV",{"$f":"INDEX(Organizations[],MATCH(Main3WData12[[#This Row],[Acronym]],AcronymList,0),1)","v":{"$error":"#N/A"}},{"$f":"INDEX(Organizations[],MATCH(Main3WData12[[#This Row],[Acronym]],AcronymList,0),3)","v":{"$error":"#N/A"}},"Protection","Regulier","Sikasso",{"$f":"VLOOKUP(Main3WData12[[#This Row],[Admin Unit Name]],AdminUnits[],2,FALSE)","v":"ML03"},{"$f":"VLOOKUP(Main3WData12[[#This Row],[Admin Unit Name]],AdminUnits[],3,FALSE)","v":"Sud"},{"$f":"VLOOKUP(Main3WData12[[#This Row],[Admin Unit Name]],AdminUnits[],4,FALSE)","v":3},{"$f":"VLOOKUP(Main3WData12[[#This Row],[Sector]],Sectors[],2,FALSE)","v":5}]
[null,"WV",{"$f":"INDEX(Organizations[],MATCH(Main3WData12[[#This Row],[Acronym]],AcronymList,0),1)","v":{"$error":"#N/A"}},{"$f":"INDEX(Organizations[],MATCH(Main3WData12[[#This Row],[Acronym]],AcronymList,0),3)","v":{"$error":"#N/A"}},"Sécurité alimentaire","Regulier","Koulikoro",{"$f":"VLOOKUP(Main3WData12[[#This Row],[Admin Unit Name]],AdminUnits[],2,FALSE)","v":"ML02"},{"$f":"VLOOKUP(Main3WData12[[#This Row],[Admin Unit Name]],AdminUnits[],3,FALSE)","v":"Sud"},{"$f":"VLOOKUP(Main3WData12[[#This Row],[Admin Unit Name]],AdminUnits[],4,FALSE)","v":2},{"$f":"VLOOKUP(Main3WData12[[#This Row],[Sector]],Sectors[],2,FALSE)","v":7}]
[null,"WV",{"$f":"INDEX(Organizations[],MATCH(Main3WData12[[#This Row],[Acronym]],AcronymList,0),1)","v":{"$error":"#N/A"}},{"$f":"INDEX(Organizations[],MATCH(Main3WData12[[#This Row],[Acronym]],AcronymList,0),3)","v":{"$error":"#N/A"}},"Sécurité alimentaire","Regulier","Mopti",{"$f":"VLOOKUP(Main3WData12[[#This Row],[Admin Unit Name]],AdminUnits[],2,FALSE)","v":"ML05"},{"$f":"VLOOKUP(Main3WData12[[#This Row],[Admin Unit Name]],AdminUnits[],3,FALSE)","v":"Sud"},{"$f":"VLOOKUP(Main3WData12[[#This Row],[Admin Unit Name]],AdminUnits[],4,FALSE)","v":5},{"$f":"VLOOKUP(Main3WData12[[#This Row],[Sector]],Sectors[],2,FALSE)","v":7}]
[null,"WV",{"$f":"INDEX(Organizations[],MATCH(Main3WData12[[#This Row],[Acronym]],AcronymList,0),1)","v":{"$error":"#N/A"}},{"$f":"INDEX(Organizations[],MATCH(Main3WData12[[#This Row],[Acronym]],AcronymList,0),3)","v":{"$error":"#N/A"}},"Sécurité alimentaire","Regulier","Segou",{"$f":"VLOOKUP(Main3WData12[[#This Row],[Admin Unit Name]],AdminUnits[],2,FALSE)","v":"ML04"},{"$f":"VLOOKUP(Main3WData12[[#This Row],[Admin Unit Name]],AdminUnits[],3,FALSE)","v":"Sud"},{"$f":"VLOOKUP(Main3WData12[[#This Row],[Admin Unit Name]],AdminUnits[],4,FALSE)","v":4},{"$f":"VLOOKUP(Main3WData12[[#This Row],[Sector]],Sectors[],2,FALSE)","v":7}]
[null,"WV",{"$f":"INDEX(Organizations[],MATCH(Main3WData12[[#This Row],[Acronym]],AcronymList,0),1)","v":{"$error":"#N/A"}},{"$f":"INDEX(Organizations[],MATCH(Main3WData12[[#This Row],[Acronym]],AcronymList,0),3)","v":{"$error":"#N/A"}},"Sécurité alimentaire","Regulier","Sikasso",{"$f":"VLOOKUP(Main3WData12[[#This Row],[Admin Unit Name]],AdminUnits[],2,FALSE)","v":"ML03"},{"$f":"VLOOKUP(Main3WData12[[#This Row],[Admin Unit Name]],AdminUnits[],3,FALSE)","v":"Sud"},{"$f":"VLOOKUP(Main3WData12[[#This Row],[Admin Unit Name]],AdminUnits[],4,FALSE)","v":3},{"$f":"VLOOKUP(Main3WData12[[#This Row],[Sector]],Sectors[],2,FALSE)","v":7}]
[null,"WV",{"$f":"INDEX(Organizations[],MATCH(Main3WData12[[#This Row],[Acronym]],AcronymList,0),1)","v":{"$error":"#N/A"}},{"$f":"INDEX(Organizations[],MATCH(Main3WData12[[#This Row],[Acronym]],AcronymList,0),3)","v":{"$error":"#N/A"}},"Sécurité alimentaire","Regulier","Kayes",{"$f":"VLOOKUP(Main3WData12[[#This Row],[Admin Unit Name]],AdminUnits[],2,FALSE)","v":"ML01"},{"$f":"VLOOKUP(Main3WData12[[#This Row],[Admin Unit Name]],AdminUnits[],3,FALSE)","v":"Sud"},{"$f":"VLOOKUP(Main3WData12[[#This Row],[Admin Unit Name]],AdminUnits[],4,FALSE)","v":1},{"$f":"VLOOKUP(Main3WData12[[#This Row],[Sector]],Sectors[],2,FALSE)","v":7}]
[null,"WV",{"$f":"INDEX(Organizations[],MATCH(Main3WData12[[#This Row],[Acronym]],AcronymList,0),1)","v":{"$error":"#N/A"}},{"$f":"INDEX(Organizations[],MATCH(Main3WData12[[#This Row],[Acronym]],AcronymList,0),3)","v":{"$error":"#N/A"}},"EHA","Regulier","Segou",{"$f":"VLOOKUP(Main3WData12[[#This Row],[Admin Unit Name]],AdminUnits[],2,FALSE)","v":"ML04"},{"$f":"VLOOKUP(Main3WData12[[#This Row],[Admin Unit Name]],AdminUnits[],3,FALSE)","v":"Sud"},{"$f":"VLOOKUP(Main3WData12[[#This Row],[Admin Unit Name]],AdminUnits[],4,FALSE)","v":4},{"$f":"VLOOKUP(Main3WData12[[#This Row],[Sector]],Sectors[],2,FALSE)","v":8}]
[null,"WHH",{"$f":"INDEX(Organizations[],MATCH(Main3WData12[[#This Row],[Acronym]],AcronymList,0),1)","v":{"$error":"#N/A"}},{"$f":"INDEX(Organizations[],MATCH(Main3WData12[[#This Row],[Acronym]],AcronymList,0),3)","v":{"$error":"#N/A"}},"Protection","Regulier","Mopti",{"$f":"VLOOKUP(Main3WData12[[#This Row],[Admin Unit Name]],AdminUnits[],2,FALSE)","v":"ML05"},{"$f":"VLOOKUP(Main3WData12[[#This Row],[Admin Unit Name]],AdminUnits[],3,FALSE)","v":"Sud"},{"$f":"VLOOKUP(Main3WData12[[#This Row],[Admin Unit Name]],AdminUnits[],4,FALSE)","v":5},{"$f":"VLOOKUP(Main3WData12[[#This Row],[Sector]],Sectors[],2,FALSE)","v":5}]
[null,"WHH",{"$f":"INDEX(Organizations[],MATCH(Main3WData12[[#This Row],[Acronym]],AcronymList,0),1)","v":{"$error":"#N/A"}},{"$f":"INDEX(Organizations[],MATCH(Main3WData12[[#This Row],[Acronym]],AcronymList,0),3)","v":{"$error":"#N/A"}},"Protection","Regulier","Bamako",{"$f":"VLOOKUP(Main3WData12[[#This Row],[Admin Unit Name]],AdminUnits[],2,FALSE)","v":"ML09"},{"$f":"VLOOKUP(Main3WData12[[#This Row],[Admin Unit Name]],AdminUnits[],3,FALSE)","v":"Sud"},{"$f":"VLOOKUP(Main3WData12[[#This Row],[Admin Unit Name]],AdminUnits[],4,FALSE)","v":0},{"$f":"VLOOKUP(Main3WData12[[#This Row],[Sector]],Sectors[],2,FALSE)","v":5}]
[null,"WHH",{"$f":"INDEX(Organizations[],MATCH(Main3WData12[[#This Row],[Acronym]],AcronymList,0),1)","v":{"$error":"#N/A"}},{"$f":"INDEX(Organizations[],MATCH(Main3WData12[[#This Row],[Acronym]],AcronymList,0),3)","v":{"$error":"#N/A"}},"Sécurité alimentaire","Regulier","Koulikoro",{"$f":"VLOOKUP(Main3WData12[[#This Row],[Admin Unit Name]],AdminUnits[],2,FALSE)","v":"ML02"},{"$f":"VLOOKUP(Main3WData12[[#This Row],[Admin Unit Name]],AdminUnits[],3,FALSE)","v":"Sud"},{"$f":"VLOOKUP(Main3WData12[[#This Row],[Admin Unit Name]],AdminUnits[],4,FALSE)","v":2},{"$f":"VLOOKUP(Main3WData12[[#This Row],[Sector]],Sectors[],2,FALSE)","v":7}]
[null,"WHH",{"$f":"INDEX(Organizations[],MATCH(Main3WData12[[#This Row],[Acronym]],AcronymList,0),1)","v":{"$error":"#N/A"}},{"$f":"INDEX(Organizations[],MATCH(Main3WData12[[#This Row],[Acronym]],AcronymList,0),3)","v":{"$error":"#N/A"}},"Sécurité alimentaire","Regulier","Mopti",{"$f":"VLOOKUP(Main3WData12[[#This Row],[Admin Unit Name]],AdminUnits[],2,FALSE)","v":"ML05"},{"$f":"VLOOKUP(Main3WData12[[#This Row],[Admin Unit Name]],AdminUnits[],3,FALSE)","v":"Sud"},{"$f":"VLOOKUP(Main3WData12[[#This Row],[Admin Unit Name]],AdminUnits[],4,FALSE)","v":5},{"$f":"VLOOKUP(Main3WData12[[#This Row],[Sector]],Sectors[],2,FALSE)","v":7}]
[null,"WHH",{"$f":"INDEX(Organizations[],MATCH(Main3WData12[[#This Row],[Acronym]],AcronymList,0),1)","v":{"$error":"#N/A"}},{"$f":"INDEX(Organizations[],MATCH(Main3WData12[[#This Row],[Acronym]],AcronymList,0),3)","v":{"$error":"#N/A"}},"Sécurité alimentaire","Regulier","Kayes",{"$f":"VLOOKUP(Main3WData12[[#This Row],[Admin Unit Name]],AdminUnits[],2,FALSE)","v":"ML01"},{"$f":"VLOOKUP(Main3WData12[[#This Row],[Admin Unit Name]],AdminUnits[],3,FALSE)","v":"Sud"},{"$f":"VLOOKUP(Main3WData12[[#This Row],[Admin Unit Name]],AdminUnits[],4,FALSE)","v":1},{"$f":"VLOOKUP(Main3WData12[[#This Row],[Sector]],Sectors[],2,FALSE)","v":7}]
[null,"WHH",{"$f":"INDEX(Organizations[],MATCH(Main3WData12[[#This Row],[Acronym]],AcronymList,0),1)","v":{"$error":"#N/A"}},{"$f":"INDEX(Organizations[],MATCH(Main3WData12[[#This Row],[Acronym]],AcronymList,0),3)","v":{"$error":"#N/A"}},"Sécurité alimentaire","Regulier","Tombouctou",{"$f":"VLOOKUP(Main3WData12[[#This Row],[Admin Unit Name]],AdminUnits[],2,FALSE)","v":"ML06"},{"$f":"VLOOKUP(Main3WData12[[#This Row],[Admin Unit Name]],AdminUnits[],3,FALSE)","v":"Nord"},{"$f":"VLOOKUP(Main3WData12[[#This Row],[Admin Unit Name]],AdminUnits[],4,FALSE)","v":6},{"$f":"VLOOKUP(Main3WData12[[#This Row],[Sector]],Sectors[],2,FALSE)","v":7}]
[null,"WaterAid",{"$f":"INDEX(Organizations[],MATCH(Main3WData12[[#This Row],[Acronym]],AcronymList,0),1)","v":"WaterAid Mali"},{"$f":"INDEX(Organizations[],MATCH(Main3WData12[[#This Row],[Acronym]],AcronymList,0),3)","v":"UN"},"EHA","Regulier","Gao",{"$f":"VLOOKUP(Main3WData12[[#This Row],[Admin Unit Name]],AdminUnits[],2,FALSE)","v":"ML07"},{"$f":"VLOOKUP(Main3WData12[[#This Row],[Admin Unit Name]],AdminUnits[],3,FALSE)","v":"Nord"},{"$f":"VLOOKUP(Main3WData12[[#This Row],[Admin Unit Name]],AdminUnits[],4,FALSE)","v":7},{"$f":"VLOOKUP(Main3WData12[[#This Row],[Sector]],Sectors[],2,FALSE)","v":8}]
[null,"WaterAid",{"$f":"INDEX(Organizations[],MATCH(Main3WData12[[#This Row],[Acronym]],AcronymList,0),1)","v":"WaterAid Mali"},{"$f":"INDEX(Organizations[],MATCH(Main3WData12[[#This Row],[Acronym]],AcronymList,0),3)","v":"UN"},"EHA","Regulier","Bamako",{"$f":"VLOOKUP(Main3WData12[[#This Row],[Admin Unit Name]],AdminUnits[],2,FALSE)","v":"ML09"},{"$f":"VLOOKUP(Main3WData12[[#This Row],[Admin Unit Name]],AdminUnits[],3,FALSE)","v":"Sud"},{"$f":"VLOOKUP(Main3WData12[[#This Row],[Admin Unit Name]],AdminUnits[],4,FALSE)","v":0},{"$f":"VLOOKUP(Main3WData12[[#This Row],[Sector]],Sectors[],2,FALSE)","v":8}]
[null,"WaterAid",{"$f":"INDEX(Organizations[],MATCH(Main3WData12[[#This Row],[Acronym]],AcronymList,0),1)","v":"WaterAid Mali"},{"$f":"INDEX(Organizations[],MATCH(Main3WData12[[#This Row],[Acronym]],AcronymList,0),3)","v":"UN"},"EHA","Regulier","Koulikoro",{"$f":"VLOOKUP(Main3WData12[[#This Row],[Admin Unit Name]],AdminUnits[],2,FALSE)","v":"ML02"},{"$f":"VLOOKUP(Main3WData12[[#This Row],[Admin Unit Name]],AdminUnits[],3,FALSE)","v":"Sud"},{"$f":"VLOOKUP(Main3WData12[[#This Row],[Admin Unit Name]],AdminUnits[],4,FALSE)","v":2},{"$f":"VLOOKUP(Main3WData12[[#This Row],[Sector]],Sectors[],2,FALSE)","v":8}]
[null,"WaterAid",{"$f":"INDEX(Organizations[],MATCH(Main3WData12[[#This Row],[Acronym]],AcronymList,0),1)","v":"WaterAid Mali"},{"$f":"INDEX(Organizations[],MATCH(Main3WData12[[#This Row],[Acronym]],AcronymList,0),3)","v":"UN"},"EHA","Regulier","Mopti",{"$f":"VLOOKUP(Main3WData12[[#This Row],[Admin Unit Name]],AdminUnits[],2,FALSE)","v":"ML05"},{"$f":"VLOOKUP(Main3WData12[[#This Row],[Admin Unit Name]],AdminUnits[],3,FALSE)","v":"Sud"},{"$f":"VLOOKUP(Main3WData12[[#This Row],[Admin Unit Name]],AdminUnits[],4,FALSE)","v":5},{"$f":"VLOOKUP(Main3WData12[[#This Row],[Sector]],Sectors[],2,FALSE)","v":8}]
[null,"WaterAid",{"$f":"INDEX(Organizations[],MATCH(Main3WData12[[#This Row],[Acronym]],AcronymList,0),1)","v":"WaterAid Mali"},{"$f":"INDEX(Organizations[],MATCH(Main3WData12[[#This Row],[Acronym]],AcronymList,0),3)","v":"UN"},"EHA","Regulier","Segou",{"$f":"VLOOKUP(Main3WData12[[#This Row],[Admin Unit Name]],AdminUnits[],2,FALSE)","v":"ML04"},{"$f":"VLOOKUP(Main3WData12[[#This Row],[Admin Unit Name]],AdminUnits[],3,FALSE)","v":"Sud"},{"$f":"VLOOKUP(Main3WData12[[#This Row],[Admin Unit Name]],AdminUnits[],4,FALSE)","v":4},{"$f":"VLOOKUP(Main3WData12[[#This Row],[Sector]],Sectors[],2,FALSE)","v":8}]
[null,"WaterAid",{"$f":"INDEX(Organizations[],MATCH(Main3WData12[[#This Row],[Acronym]],AcronymList,0),1)","v":"WaterAid Mali"},{"$f":"INDEX(Organizations[],MATCH(Main3WData12[[#This Row],[Acronym]],AcronymList,0),3)","v":"UN"},"EHA","Regulier","Tombouctou",{"$f":"VLOOKUP(Main3WData12[[#This Row],[Admin Unit Name]],AdminUnits[],2,FALSE)","v":"ML06"},{"$f":"VLOOKUP(Main3WData12[[#This Row],[Admin Unit Name]],AdminUnits[],3,FALSE)","v":"Nord"},{"$f":"VLOOKUP(Main3WData12[[#This Row],[Admin Unit Name]],AdminUnits[],4,FALSE)","v":6},{"$f":"VLOOKUP(Main3WData12[[#This Row],[Sector]],Sectors[],2,FALSE)","v":8}]
[null,"Terre des Hommes Lausanne",{"$f":"INDEX(Organizations[],MATCH(Main3WData12[[#This Row],[Acronym]],AcronymList,0),1)","v":{"$error":"#N/A"}},{"$f":"INDEX(Organizations[],MATCH(Main3WData12[[#This Row],[Acronym]],AcronymList,0),3)","v":{"$error":"#N/A"}},"Nutrition","Regulier","Segou",{"$f":"VLOOKUP(Main3WData12[[#This Row],[Admin Unit Name]],AdminUnits[],2,FALSE)","v":"ML04"},{"$f":"VLOOKUP(Main3WData12[[#This Row],[Admin Unit Name]],AdminUnits[],3,FALSE)","v":"Sud"},{"$f":"VLOOKUP(Main3WData12[[#This Row],[Admin Unit Name]],AdminUnits[],4,FALSE)","v":4},{"$f":"VLOOKUP(Main3WData12[[#This Row],[Sector]],Sectors[],2,FALSE)","v":4}]
[null,"Terre des Hommes Lausanne",{"$f":"INDEX(Organizations[],MATCH(Main3WData12[[#This Row],[Acronym]],AcronymList,0),1)","v":{"$error":"#N/A"}},{"$f":"INDEX(Organizations[],MATCH(Main3WData12[[#This Row],[Acronym]],AcronymList,0),3)","v":{"$error":"#N/A"}},"EHA","Regulier","Segou",{"$f":"VLOOKUP(Main3WData12[[#This Row],[Admin Unit Name]],AdminUnits[],2,FALSE)","v":"ML04"},{"$f":"VLOOKUP(Main3WData12[[#This Row],[Admin Unit Name]],AdminUnits[],3,FALSE)","v":"Sud"},{"$f":"VLOOKUP(Main3WData12[[#This Row],[Admin Unit Name]],AdminUnits[],4,FALSE)","v":4},{"$f":"VLOOKUP(Main3WData12[[#This Row],[Sector]],Sectors[],2,FALSE)","v":8}]
[null,"Tearfund",{"$f":"INDEX(Organizations[],MATCH(Main3WData12[[#This Row],[Acronym]],AcronymList,0),1)","v":"Tearfund"},{"$f":"INDEX(Organizations[],MATCH(Main3WData12[[#This Row],[Acronym]],AcronymList,0),3)","v":"ONG Int."},"EHA","Regulier","Segou",{"$f":"VLOOKUP(Main3WData12[[#This Row],[Admin Unit Name]],AdminUnits[],2,FALSE)","v":"ML04"},{"$f":"VLOOKUP(Main3WData12[[#This Row],[Admin Unit Name]],AdminUnits[],3,FALSE)","v":"Sud"},{"$f":"VLOOKUP(Main3WData12[[#This Row],[Admin Unit Name]],AdminUnits[],4,FALSE)","v":4},{"$f":"VLOOKUP(Main3WData12[[#This Row],[Sector]],Sectors[],2,FALSE)","v":8}]
[null,"TBC",{"$f":"INDEX(Organizations[],MATCH(Main3WData12[[#This Row],[Acronym]],AcronymList,0),1)","v":"TBC"},{"$f":"INDEX(Organizations[],MATCH(Main3WData12[[#This Row],[Acronym]],AcronymList,0),3)","v":"ONG Nat."},"Protection","Regulier","Gao",{"$f":"VLOOKUP(Main3WData12[[#This Row],[Admin Unit Name]],AdminUnits[],2,FALSE)","v":"ML07"},{"$f":"VLOOKUP(Main3WData12[[#This Row],[Admin Unit Name]],AdminUnits[],3,FALSE)","v":"Nord"},{"$f":"VLOOKUP(Main3WData12[[#This Row],[Admin Unit Name]],AdminUnits[],4,FALSE)","v":7},{"$f":"VLOOKUP(Main3WData12[[#This Row],[Sector]],Sectors[],2,FALSE)","v":5}]
[null,"Tassaght",{"$f":"INDEX(Organizations[],MATCH(Main3WData12[[#This Row],[Acronym]],AcronymList,0),1)","v":"Tassaght"},{"$f":"INDEX(Organizations[],MATCH(Main3WData12[[#This Row],[Acronym]],AcronymList,0),3)","v":"ONG Nat."},"Sécurité alimentaire","Regulier","Gao",{"$f":"VLOOKUP(Main3WData12[[#This Row],[Admin Unit Name]],AdminUnits[],2,FALSE)","v":"ML07"},{"$f":"VLOOKUP(Main3WData12[[#This Row],[Admin Unit Name]],AdminUnits[],3,FALSE)","v":"Nord"},{"$f":"VLOOKUP(Main3WData12[[#This Row],[Admin Unit Name]],AdminUnits[],4,FALSE)","v":7},{"$f":"VLOOKUP(Main3WData12[[#This Row],[Sector]],Sectors[],2,FALSE)","v":7}]
[null,"Stop Sahel ",{"$f":"INDEX(Organizations[],MATCH(Main3WData12[[#This Row],[Acronym]],AcronymList,0),1)","v":{"$error":"#N/A"}},{"$f":"INDEX(Organizations[],MATCH(Main3WData12[[#This Row],[Acronym]],AcronymList,0),3)","v":{"$error":"#N/A"}},"Sécurité alimentaire","Regulier","Kayes",{"$f":"VLOOKUP(Main3WData12[[#This Row],[Admin Unit Name]],AdminUnits[],2,FALSE)","v":"ML01"},{"$f":"VLOOKUP(Main3WData12[[#This Row],[Admin Unit Name]],AdminUnits[],3,FALSE)","v":"Sud"},{"$f":"VLOOKUP(Main3WData12[[#This Row],[Admin Unit Name]],AdminUnits[],4,FALSE)","v":1},{"$f":"VLOOKUP(Main3WData12[[#This Row],[Sector]],Sectors[],2,FALSE)","v":7}]
[null,"Solidarité",{"$f":"INDEX(Organizations[],MATCH(Main3WData12[[#This Row],[Acronym]],AcronymList,0),1)","v":{"$error":"#N/A"}},{"$f":"INDEX(Organizations[],MATCH(Main3WData12[[#This Row],[Acronym]],AcronymList,0),3)","v":{"$error":"#N/A"}},"EHA","Regulier","Gao",{"$f":"VLOOKUP(Main3WData12[[#This Row],[Admin Unit Name]],AdminUnits[],2,FALSE)","v":"ML07"},{"$f":"VLOOKUP(Main3WData12[[#This Row],[Admin Unit Name]],AdminUnits[],3,FALSE)","v":"Nord"},{"$f":"VLOOKUP(Main3WData12[[#This Row],[Admin Unit Name]],AdminUnits[],4,FALSE)","v":7},{"$f":"VLOOKUP(Main3WData12[[#This Row],[Sector]],Sectors[],2,FALSE)","v":8}]
[null,"Solidarité",{"$f":"INDEX(Organizations[],MATCH(Main3WData12[[#This Row],[Acronym]],AcronymList,0),1)","v":{"$error":"#N/A"}},{"$f":"INDEX(Organizations[],MATCH(Main3WData12[[#This Row],[Acronym]],AcronymList,0),3)","v":{"$error":"#N/A"}},"EHA","Regulier","Kidal",{"$f":"VLOOKUP(Main3WData12[[#This Row],[Admin Unit Name]],AdminUnits[],2,FALSE)","v":"ML08"},{"$f":"VLOOKUP(Main3WData12[[#This Row],[Admin Unit Name]],AdminUnits[],3,FALSE)","v":"Nord"},{"$f":"VLOOKUP(Main3WData12[[#This Row],[Admin Unit Name]],AdminUnits[],4,FALSE)","v":8},{"$f":"VLOOKUP(Main3WData12[[#This Row],[Sector]],Sectors[],2,FALSE)","v":8}]
[null,"Solidarité",{"$f":"INDEX(Organizations[],MATCH(Main3WData12[[#This Row],[Acronym]],AcronymList,0),1)","v":{"$error":"#N/A"}},{"$f":"INDEX(Organizations[],MATCH(Main3WData12[[#This Row],[Acronym]],AcronymList,0),3)","v":{"$error":"#N/A"}},"Sécurité alimentaire","Regulier","Tombouctou",{"$f":"VLOOKUP(Main3WData12[[#This Row],[Admin Unit Name]],AdminUnits[],2,FALSE)","v":"ML06"},{"$f":"VLOOKUP(Main3WData12[[#This Row],[Admin Unit Name]],AdminUnits[],3,FALSE)","v":"Nord"},{"$f":"VLOOKUP(Main3WData12[[#This Row],[Admin Unit Name]],AdminUnits[],4,FALSE)","v":6},{"$f":"VLOOKUP(Main3WData12[[#This Row],[Sector]],Sectors[],2,FALSE)","v":7}]
[null,"Solidarité",{"$f":"INDEX(Organizations[],MATCH(Main3WData12[[#This Row],[Acronym]],AcronymList,0),1)","v":{"$error":"#N/A"}},{"$f":"INDEX(Organizations[],MATCH(Main3WData12[[#This Row],[Acronym]],AcronymList,0),3)","v":{"$error":"#N/A"}},"EHA","Regulier","Mopti",{"$f":"VLOOKUP(Main3WData12[[#This Row],[Admin Unit Name]],AdminUnits[],2,FALSE)","v":"ML05"},{"$f":"VLOOKUP(Main3WData12[[#This Row],[Admin Unit Name]],AdminUnits[],3,FALSE)","v":"Sud"},{"$f":"VLOOKUP(Main3WData12[[#This Row],[Admin Unit Name]],AdminUnits[],4,FALSE)","v":5},{"$f":"VLOOKUP(Main3WData12[[#This Row],[Sector]],Sectors[],2,FALSE)","v":8}]
[null,"Solidarité",{"$f":"INDEX(Organizations[],MATCH(Main3WData12[[#This Row],[Acronym]],AcronymList,0),1)","v":{"$error":"#N/A"}},{"$f":"INDEX(Organizations[],MATCH(Main3WData12[[#This Row],[Acronym]],AcronymList,0),3)","v":{"$error":"#N/A"}},"EHA","Regulier","Tombouctou",{"$f":"VLOOKUP(Main3WData12[[#This Row],[Admin Unit Name]],AdminUnits[],2,FALSE)","v":"ML06"},{"$f":"VLOOKUP(Main3WData12[[#This Row],[Admin Unit Name]],AdminUnits[],3,FALSE)","v":"Nord"},{"$f":"VLOOKUP(Main3WData12[[#This Row],[Admin Unit Name]],AdminUnits[],4,FALSE)","v":6},{"$f":"VLOOKUP(Main3WData12[[#This Row],[Sector]],Sectors[],2,FALSE)","v":8}]
[null,"SNV",{"$f":"INDEX(Organizations[],MATCH(Main3WData12[[#This Row],[Acronym]],AcronymList,0),1)","v":"Organisation Néerlandaise de Développement - Mali"},{"$f":"INDEX(Organizations[],MATCH(Main3WData12[[#This Row],[Acronym]],AcronymList,0),3)","v":"ONG Int."},"EHA","Regulier","Bamako",{"$f":"VLOOKUP(Main3WData12[[#This Row],[Admin Unit Name]],AdminUnits[],2,FALSE)","v":"ML09"},{"$f":"VLOOKUP(Main3WData12[[#This Row],[Admin Unit Name]],AdminUnits[],3,FALSE)","v":"Sud"},{"$f":"VLOOKUP(Main3WData12[[#This Row],[Admin Unit Name]],AdminUnits[],4,FALSE)","v":0},{"$f":"VLOOKUP(Main3WData12[[#This Row],[Sector]],Sectors[],2,FALSE)","v":8}]
[null,"SNV",{"$f":"INDEX(Organizations[],MATCH(Main3WData12[[#This Row],[Acronym]],AcronymList,0),1)","v":"Organisation Néerlandaise de Développement - Mali"},{"$f":"INDEX(Organizations[],MATCH(Main3WData12[[#This Row],[Acronym]],AcronymList,0),3)","v":"ONG Int."},"EHA","Regulier","Koulikoro",{"$f":"VLOOKUP(Main3WData12[[#This Row],[Admin Unit Name]],AdminUnits[],2,FALSE)","v":"ML02"},{"$f":"VLOOKUP(Main3WData12[[#This Row],[Admin Unit Name]],AdminUnits[],3,FALSE)","v":"Sud"},{"$f":"VLOOKUP(Main3WData12[[#This Row],[Admin Unit Name]],AdminUnits[],4,FALSE)","v":2},{"$f":"VLOOKUP(Main3WData12[[#This Row],[Sector]],Sectors[],2,FALSE)","v":8}]
[null,"SNV",{"$f":"INDEX(Organizations[],MATCH(Main3WData12[[#This Row],[Acronym]],AcronymList,0),1)","v":"Organisation Néerlandaise de Développement - Mali"},{"$f":"INDEX(Organizations[],MATCH(Main3WData12[[#This Row],[Acronym]],AcronymList,0),3)","v":"ONG Int."},"EHA","Regulier","Sikasso",{"$f":"VLOOKUP(Main3WData12[[#This Row],[Admin Unit Name]],AdminUnits[],2,FALSE)","v":"ML03"},{"$f":"VLOOKUP(Main3WData12[[#This Row],[Admin Unit Name]],AdminUnits[],3,FALSE)","v":"Sud"},{"$f":"VLOOKUP(Main3WData12[[#This Row],[Admin Unit Name]],AdminUnits[],4,FALSE)","v":3},{"$f":"VLOOKUP(Main3WData12[[#This Row],[Sector]],Sectors[],2,FALSE)","v":8}]
[null,"SINI SANUMAN",{"$f":"INDEX(Organizations[],MATCH(Main3WData12[[#This Row],[Acronym]],AcronymList,0),1)","v":"SINI SANUMAN"},{"$f":"INDEX(Organizations[],MATCH(Main3WData12[[#This Row],[Acronym]],AcronymList,0),3)","v":"ONG Nat."},"Protection","Regulier","Bamako",{"$f":"VLOOKUP(Main3WData12[[#This Row],[Admin Unit Name]],AdminUnits[],2,FALSE)","v":"ML09"},{"$f":"VLOOKUP(Main3WData12[[#This Row],[Admin Unit Name]],AdminUnits[],3,FALSE)","v":"Sud"},{"$f":"VLOOKUP(Main3WData12[[#This Row],[Admin Unit Name]],AdminUnits[],4,FALSE)","v":0},{"$f":"VLOOKUP(Main3WData12[[#This Row],[Sector]],Sectors[],2,FALSE)","v":5}]
[null,"Secours Islamique",{"$f":"INDEX(Organizations[],MATCH(Main3WData12[[#This Row],[Acronym]],AcronymList,0),1)","v":"Secours Islamique"},{"$f":"INDEX(Organizations[],MATCH(Main3WData12[[#This Row],[Acronym]],AcronymList,0),3)","v":"ONG Int."},"EHA","Regulier","Gao",{"$f":"VLOOKUP(Main3WData12[[#This Row],[Admin Unit Name]],AdminUnits[],2,FALSE)","v":"ML07"},{"$f":"VLOOKUP(Main3WData12[[#This Row],[Admin Unit Name]],AdminUnits[],3,FALSE)","v":"Nord"},{"$f":"VLOOKUP(Main3WData12[[#This Row],[Admin Unit Name]],AdminUnits[],4,FALSE)","v":7},{"$f":"VLOOKUP(Main3WData12[[#This Row],[Sector]],Sectors[],2,FALSE)","v":8}]
[null,"Save the Children",{"$f":"INDEX(Organizations[],MATCH(Main3WData12[[#This Row],[Acronym]],AcronymList,0),1)","v":"Save the Children"},{"$f":"INDEX(Organizations[],MATCH(Main3WData12[[#This Row],[Acronym]],AcronymList,0),3)","v":"ONG Int."},"Education","Regulier","Gao",{"$f":"VLOOKUP(Main3WData12[[#This Row],[Admin Unit Name]],AdminUnits[],2,FALSE)","v":"ML07"},{"$f":"VLOOKUP(Main3WData12[[#This Row],[Admin Unit Name]],AdminUnits[],3,FALSE)","v":"Nord"},{"$f":"VLOOKUP(Main3WData12[[#This Row],[Admin Unit Name]],AdminUnits[],4,FALSE)","v":7},{"$f":"VLOOKUP(Main3WData12[[#This Row],[Sector]],Sectors[],2,FALSE)","v":3}]
[null,"Save the Children",{"$f":"INDEX(Organizations[],MATCH(Main3WData12[[#This Row],[Acronym]],AcronymList,0),1)","v":"Save the Children"},{"$f":"INDEX(Organizations[],MATCH(Main3WData12[[#This Row],[Acronym]],AcronymList,0),3)","v":"ONG Int."},"Education","Regulier","Mopti",{"$f":"VLOOKUP(Main3WData12[[#This Row],[Admin Unit Name]],AdminUnits[],2,FALSE)","v":"ML05"},{"$f":"VLOOKUP(Main3WData12[[#This Row],[Admin Unit Name]],AdminUnits[],3,FALSE)","v":"Sud"},{"$f":"VLOOKUP(Main3WData12[[#This Row],[Admin Unit Name]],AdminUnits[],4,FALSE)","v":5},{"$f":"VLOOKUP(Main3WData12[[#This Row],[Sector]],Sectors[],2,FALSE)","v":3}]
[null,"Save the Children",{"$f":"INDEX(Organizations[],MATCH(Main3WData12[[#This Row],[Acronym]],AcronymList,0),1)","v":"Save the Children"},{"$f":"INDEX(Organizations[],MATCH(Main3WData12[[#This Row],[Acronym]],AcronymList,0),3)","v":"ONG Int."},"Education","Regulier","Segou",{"$f":"VLOOKUP(Main3WData12[[#This Row],[Admin Unit Name]],AdminUnits[],2,FALSE)","v":"ML04"},{"$f":"VLOOKUP(Main3WData12[[#This Row],[Admin Unit Name]],AdminUnits[],3,FALSE)","v":"Sud"},{"$f":"VLOOKUP(Main3WData12[[#This Row],[Admin Unit Name]],AdminUnits[],4,FALSE)","v":4},{"$f":"VLOOKUP(Main3WData12[[#This Row],[Sector]],Sectors[],2,FALSE)","v":3}]
[null,"Save the Children",{"$f":"INDEX(Organizations[],MATCH(Main3WData12[[#This Row],[Acronym]],AcronymList,0),1)","v":"Save the Children"},{"$f":"INDEX(Organizations[],MATCH(Main3WData12[[#This Row],[Acronym]],AcronymList,0),3)","v":"ONG Int."},"Education","Regulier","Bamako",{"$f":"VLOOKUP(Main3WData12[[#This Row],[Admin Unit Name]],AdminUnits[],2,FALSE)","v":"ML09"},{"$f":"VLOOKUP(Main3WData12[[#This Row],[Admin Unit Name]],AdminUnits[],3,FALSE)","v":"Sud"},{"$f":"VLOOKUP(Main3WData12[[#This Row],[Admin Unit Name]],AdminUnits[],4,FALSE)","v":0},{"$f":"VLOOKUP(Main3WData12[[#This Row],[Sector]],Sectors[],2,FALSE)","v":3}]
[null,"Save the Children",{"$f":"INDEX(Organizations[],MATCH(Main3WData12[[#This Row],[Acronym]],AcronymList,0),1)","v":"Save the Children"},{"$f":"INDEX(Organizations[],MATCH(Main3WData12[[#This Row],[Acronym]],AcronymList,0),3)","v":"ONG Int."},"Nutrition","Regulier","Gao",{"$f":"VLOOKUP(Main3WData12[[#This Row],[Admin Unit Name]],AdminUnits[],2,FALSE)","v":"ML07"},{"$f":"VLOOKUP(Main3WData12[[#This Row],[Admin Unit Name]],AdminUnits[],3,FALSE)","v":"Nord"},{"$f":"VLOOKUP(Main3WData12[[#This Row],[Admin Unit Name]],AdminUnits[],4,FALSE)","v":7},{"$f":"VLOOKUP(Main3WData12[[#This Row],[Sector]],Sectors[],2,FALSE)","v":4}]
[null,"Save the Children",{"$f":"INDEX(Organizations[],MATCH(Main3WData12[[#This Row],[Acronym]],AcronymList,0),1)","v":"Save the Children"},{"$f":"INDEX(Organizations[],MATCH(Main3WData12[[#This Row],[Acronym]],AcronymList,0),3)","v":"ONG Int."},"Nutrition","Regulier","Mopti",{"$f":"VLOOKUP(Main3WData12[[#This Row],[Admin Unit Name]],AdminUnits[],2,FALSE)","v":"ML05"},{"$f":"VLOOKUP(Main3WData12[[#This Row],[Admin Unit Name]],AdminUnits[],3,FALSE)","v":"Sud"},{"$f":"VLOOKUP(Main3WData12[[#This Row],[Admin Unit Name]],AdminUnits[],4,FALSE)","v":5},{"$f":"VLOOKUP(Main3WData12[[#This Row],[Sector]],Sectors[],2,FALSE)","v":4}]
[null,"Save the Children",{"$f":"INDEX(Organizations[],MATCH(Main3WData12[[#This Row],[Acronym]],AcronymList,0),1)","v":"Save the Children"},{"$f":"INDEX(Organizations[],MATCH(Main3WData12[[#This Row],[Acronym]],AcronymList,0),3)","v":"ONG Int."},"Nutrition","Regulier","Sikasso",{"$f":"VLOOKUP(Main3WData12[[#This Row],[Admin Unit Name]],AdminUnits[],2,FALSE)","v":"ML03"},{"$f":"VLOOKUP(Main3WData12[[#This Row],[Admin Unit Name]],AdminUnits[],3,FALSE)","v":"Sud"},{"$f":"VLOOKUP(Main3WData12[[#This Row],[Admin Unit Name]],AdminUnits[],4,FALSE)","v":3},{"$f":"VLOOKUP(Main3WData12[[#This Row],[Sector]],Sectors[],2,FALSE)","v":4}]
[null,"Save the Children",{"$f":"INDEX(Organizations[],MATCH(Main3WData12[[#This Row],[Acronym]],AcronymList,0),1)","v":"Save the Children"},{"$f":"INDEX(Organizations[],MATCH(Main3WData12[[#This Row],[Acronym]],AcronymList,0),3)","v":"ONG Int."},"Protection","Regulier","Kayes",{"$f":"VLOOKUP(Main3WData12[[#This Row],[Admin Unit Name]],AdminUnits[],2,FALSE)","v":"ML01"},{"$f":"VLOOKUP(Main3WData12[[#This Row],[Admin Unit Name]],AdminUnits[],3,FALSE)","v":"Sud"},{"$f":"VLOOKUP(Main3WData12[[#This Row],[Admin Unit Name]],AdminUnits[],4,FALSE)","v":1},{"$f":"VLOOKUP(Main3WData12[[#This Row],[Sector]],Sectors[],2,FALSE)","v":5}]
[null,"Save the Children",{"$f":"INDEX(Organizations[],MATCH(Main3WData12[[#This Row],[Acronym]],AcronymList,0),1)","v":"Save the Children"},{"$f":"INDEX(Organizations[],MATCH(Main3WData12[[#This Row],[Acronym]],AcronymList,0),3)","v":"ONG Int."},"Protection","Regulier","Mopti",{"$f":"VLOOKUP(Main3WData12[[#This Row],[Admin Unit Name]],AdminUnits[],2,FALSE)","v":"ML05"},{"$f":"VLOOKUP(Main3WData12[[#This Row],[Admin Unit Name]],AdminUnits[],3,FALSE)","v":"Sud"},{"$f":"VLOOKUP(Main3WData12[[#This Row],[Admin Unit Name]],AdminUnits[],4,FALSE)","v":5},{"$f":"VLOOKUP(Main3WData12[[#This Row],[Sector]],Sectors[],2,FALSE)","v":5}]
[null,"Save the Children",{"$f":"INDEX(Organizations[],MATCH(Main3WData12[[#This Row],[Acronym]],AcronymList,0),1)","v":"Save the Children"},{"$f":"INDEX(Organizations[],MATCH(Main3WData12[[#This Row],[Acronym]],AcronymList,0),3)","v":"ONG Int."},"Protection","Regulier","Sikasso",{"$f":"VLOOKUP(Main3WData12[[#This Row],[Admin Unit Name]],AdminUnits[],2,FALSE)","v":"ML03"},{"$f":"VLOOKUP(Main3WData12[[#This Row],[Admin Unit Name]],AdminUnits[],3,FALSE)","v":"Sud"},{"$f":"VLOOKUP(Main3WData12[[#This Row],[Admin Unit Name]],AdminUnits[],4,FALSE)","v":3},{"$f":"VLOOKUP(Main3WData12[[#This Row],[Sector]],Sectors[],2,FALSE)","v":5}]
[null,"Save the Children",{"$f":"INDEX(Organizations[],MATCH(Main3WData12[[#This Row],[Acronym]],AcronymList,0),1)","v":"Save the Children"},{"$f":"INDEX(Organizations[],MATCH(Main3WData12[[#This Row],[Acronym]],AcronymList,0),3)","v":"ONG Int."},"EHA","Regulier","Gao",{"$f":"VLOOKUP(Main3WData12[[#This Row],[Admin Unit Name]],AdminUnits[],2,FALSE)","v":"ML07"},{"$f":"VLOOKUP(Main3WData12[[#This Row],[Admin Unit Name]],AdminUnits[],3,FALSE)","v":"Nord"},{"$f":"VLOOKUP(Main3WData12[[#This Row],[Admin Unit Name]],AdminUnits[],4,FALSE)","v":7},{"$f":"VLOOKUP(Main3WData12[[#This Row],[Sector]],Sectors[],2,FALSE)","v":8}]
[null,"Save the Children",{"$f":"INDEX(Organizations[],MATCH(Main3WData12[[#This Row],[Acronym]],AcronymList,0),1)","v":"Save the Children"},{"$f":"INDEX(Organizations[],MATCH(Main3WData12[[#This Row],[Acronym]],AcronymList,0),3)","v":"ONG Int."},"Sécurité alimentaire","Regulier","Sikasso",{"$f":"VLOOKUP(Main3WData12[[#This Row],[Admin Unit Name]],AdminUnits[],2,FALSE)","v":"ML03"},{"$f":"VLOOKUP(Main3WData12[[#This Row],[Admin Unit Name]],AdminUnits[],3,FALSE)","v":"Sud"},{"$f":"VLOOKUP(Main3WData12[[#This Row],[Admin Unit Name]],AdminUnits[],4,FALSE)","v":3},{"$f":"VLOOKUP(Main3WData12[[#This Row],[Sector]],Sectors[],2,FALSE)","v":7}]
[null,"Save the Children",{"$f":"INDEX(Organizations[],MATCH(Main3WData12[[#This Row],[Acronym]],AcronymList,0),1)","v":"Save the Children"},{"$f":"INDEX(Organizations[],MATCH(Main3WData12[[#This Row],[Acronym]],AcronymList,0),3)","v":"ONG Int."},"Sécurité alimentaire","Regulier","Kayes",{"$f":"VLOOKUP(Main3WData12[[#This Row],[Admin Unit Name]],AdminUnits[],2,FALSE)","v":"ML01"},{"$f":"VLOOKUP(Main3WData12[[#This Row],[Admin Unit Name]],AdminUnits[],3,FALSE)","v":"Sud"},{"$f":"VLOOKUP(Main3WData12[[#This Row],[Admin Unit Name]],AdminUnits[],4,FALSE)","v":1},{"$f":"VLOOKUP(Main3WData12[[#This Row],[Sector]],Sectors[],2,FALSE)","v":7}]
[null,"Save the Children",{"$f":"INDEX(Organizations[],MATCH(Main3WData12[[#This Row],[Acronym]],AcronymList,0),1)","v":"Save the Children"},{"$f":"INDEX(Organizations[],MATCH(Main3WData12[[#This Row],[Acronym]],AcronymList,0),3)","v":"ONG Int."},"EHA","Regulier","Mopti",{"$f":"VLOOKUP(Main3WData12[[#This Row],[Admin Unit Name]],AdminUnits[],2,FALSE)","v":"ML05"},{"$f":"VLOOKUP(Main3WData12[[#This Row],[Admin Unit Name]],AdminUnits[],3,FALSE)","v":"Sud"},{"$f":"VLOOKUP(Main3WData12[[#This Row],[Admin Unit Name]],AdminUnits[],4,FALSE)","v":5},{"$f":"VLOOKUP(Main3WData12[[#This Row],[Sector]],Sectors[],2,FALSE)","v":8}]
[null,"Save the Children",{"$f":"INDEX(Organizations[],MATCH(Main3WData12[[#This Row],[Acronym]],AcronymList,0),1)","v":"Save the Children"},{"$f":"INDEX(Organizations[],MATCH(Main3WData12[[#This Row],[Acronym]],AcronymList,0),3)","v":"ONG Int."},"EHA","Regulier","Kayes",{"$f":"VLOOKUP(Main3WData12[[#This Row],[Admin Unit Name]],AdminUnits[],2,FALSE)","v":"ML01"},{"$f":"VLOOKUP(Main3WData12[[#This Row],[Admin Unit Name]],AdminUnits[],3,FALSE)","v":"Sud"},{"$f":"VLOOKUP(Main3WData12[[#This Row],[Admin Unit Name]],AdminUnits[],4,FALSE)","v":1},{"$f":"VLOOKUP(Main3WData12[[#This Row],[Sector]],Sectors[],2,FALSE)","v":8}]
[null,"Save the Children",{"$f":"INDEX(Organizations[],MATCH(Main3WData12[[#This Row],[Acronym]],AcronymList,0),1)","v":"Save the Children"},{"$f":"INDEX(Organizations[],MATCH(Main3WData12[[#This Row],[Acronym]],AcronymList,0),3)","v":"ONG Int."},"Sécurité alimentaire","Regulier","Kayes",{"$f":"VLOOKUP(Main3WData12[[#This Row],[Admin Unit Name]],AdminUnits[],2,FALSE)","v":"ML01"},{"$f":"VLOOKUP(Main3WData12[[#This Row],[Admin Unit Name]],AdminUnits[],3,FALSE)","v":"Sud"},{"$f":"VLOOKUP(Main3WData12[[#This Row],[Admin Unit Name]],AdminUnits[],4,FALSE)","v":1},{"$f":"VLOOKUP(Main3WData12[[#This Row],[Sector]],Sectors[],2,FALSE)","v":7}]
[null,"Samu Social Mali ",{"$f":"INDEX(Organizations[],MATCH(Main3WData12[[#This Row],[Acronym]],AcronymList,0),1)","v":"Samu Social Mali "},{"$f":"INDEX(Organizations[],MATCH(Main3WData12[[#This Row],[Acronym]],AcronymList,0),3)","v":"ONG Nat."},"Protection","Regulier","Bamako",{"$f":"VLOOKUP(Main3WData12[[#This Row],[Admin Unit Name]],AdminUnits[],2,FALSE)","v":"ML09"},{"$f":"VLOOKUP(Main3WData12[[#This Row],[Admin Unit Name]],AdminUnits[],3,FALSE)","v":"Sud"},{"$f":"VLOOKUP(Main3WData12[[#This Row],[Admin Unit Name]],AdminUnits[],4,FALSE)","v":0},{"$f":"VLOOKUP(Main3WData12[[#This Row],[Sector]],Sectors[],2,FALSE)","v":5}]
[null,"Samu Social Mali ",{"$f":"INDEX(Organizations[],MATCH(Main3WData12[[#This Row],[Acronym]],AcronymList,0),1)","v":"Samu Social Mali "},{"$f":"INDEX(Organizations[],MATCH(Main3WData12[[#This Row],[Acronym]],AcronymList,0),3)","v":"ONG Nat."},"Protection","Regulier","Sikasso",{"$f":"VLOOKUP(Main3WData12[[#This Row],[Admin Unit Name]],AdminUnits[],2,FALSE)","v":"ML03"},{"$f":"VLOOKUP(Main3WData12[[#This Row],[Admin Unit Name]],AdminUnits[],3,FALSE)","v":"Sud"},{"$f":"VLOOKUP(Main3WData12[[#This Row],[Admin Unit Name]],AdminUnits[],4,FALSE)","v":3},{"$f":"VLOOKUP(Main3WData12[[#This Row],[Sector]],Sectors[],2,FALSE)","v":5}]
[null,"Sahel Consult",{"$f":"INDEX(Organizations[],MATCH(Main3WData12[[#This Row],[Acronym]],AcronymList,0),1)","v":"Sahel Consult"},{"$f":"INDEX(Organizations[],MATCH(Main3WData12[[#This Row],[Acronym]],AcronymList,0),3)","v":"ONG Nat."},"Sécurité alimentaire","Regulier","Gao",{"$f":"VLOOKUP(Main3WData12[[#This Row],[Admin Unit Name]],AdminUnits[],2,FALSE)","v":"ML07"},{"$f":"VLOOKUP(Main3WData12[[#This Row],[Admin Unit Name]],AdminUnits[],3,FALSE)","v":"Nord"},{"$f":"VLOOKUP(Main3WData12[[#This Row],[Admin Unit Name]],AdminUnits[],4,FALSE)","v":7},{"$f":"VLOOKUP(Main3WData12[[#This Row],[Sector]],Sectors[],2,FALSE)","v":7}]
[null,"Sahel Consult",{"$f":"INDEX(Organizations[],MATCH(Main3WData12[[#This Row],[Acronym]],AcronymList,0),1)","v":"Sahel Consult"},{"$f":"INDEX(Organizations[],MATCH(Main3WData12[[#This Row],[Acronym]],AcronymList,0),3)","v":"ONG Nat."},"Sécurité alimentaire","Regulier","Tombouctou",{"$f":"VLOOKUP(Main3WData12[[#This Row],[Admin Unit Name]],AdminUnits[],2,FALSE)","v":"ML06"},{"$f":"VLOOKUP(Main3WData12[[#This Row],[Admin Unit Name]],AdminUnits[],3,FALSE)","v":"Nord"},{"$f":"VLOOKUP(Main3WData12[[#This Row],[Admin Unit Name]],AdminUnits[],4,FALSE)","v":6},{"$f":"VLOOKUP(Main3WData12[[#This Row],[Sector]],Sectors[],2,FALSE)","v":7}]
[null,"SADEVE",{"$f":"INDEX(Organizations[],MATCH(Main3WData12[[#This Row],[Acronym]],AcronymList,0),1)","v":"Santé Développement"},{"$f":"INDEX(Organizations[],MATCH(Main3WData12[[#This Row],[Acronym]],AcronymList,0),3)","v":"ONG Nat."},"Protection","Regulier","Sikasso",{"$f":"VLOOKUP(Main3WData12[[#This Row],[Admin Unit Name]],AdminUnits[],2,FALSE)","v":"ML03"},{"$f":"VLOOKUP(Main3WData12[[#This Row],[Admin Unit Name]],AdminUnits[],3,FALSE)","v":"Sud"},{"$f":"VLOOKUP(Main3WData12[[#This Row],[Admin Unit Name]],AdminUnits[],4,FALSE)","v":3},{"$f":"VLOOKUP(Main3WData12[[#This Row],[Sector]],Sectors[],2,FALSE)","v":5}]
[null,"SADEVE",{"$f":"INDEX(Organizations[],MATCH(Main3WData12[[#This Row],[Acronym]],AcronymList,0),1)","v":"Santé Développement"},{"$f":"INDEX(Organizations[],MATCH(Main3WData12[[#This Row],[Acronym]],AcronymList,0),3)","v":"ONG Nat."},"Protection","Regulier","Bamako",{"$f":"VLOOKUP(Main3WData12[[#This Row],[Admin Unit Name]],AdminUnits[],2,FALSE)","v":"ML09"},{"$f":"VLOOKUP(Main3WData12[[#This Row],[Admin Unit Name]],AdminUnits[],3,FALSE)","v":"Sud"},{"$f":"VLOOKUP(Main3WData12[[#This Row],[Admin Unit Name]],AdminUnits[],4,FALSE)","v":0},{"$f":"VLOOKUP(Main3WData12[[#This Row],[Sector]],Sectors[],2,FALSE)","v":5}]
[null,"SADEVE",{"$f":"INDEX(Organizations[],MATCH(Main3WData12[[#This Row],[Acronym]],AcronymList,0),1)","v":"Santé Développement"},{"$f":"INDEX(Organizations[],MATCH(Main3WData12[[#This Row],[Acronym]],AcronymList,0),3)","v":"ONG Nat."},"Protection","Regulier","Mopti",{"$f":"VLOOKUP(Main3WData12[[#This Row],[Admin Unit Name]],AdminUnits[],2,FALSE)","v":"ML05"},{"$f":"VLOOKUP(Main3WData12[[#This Row],[Admin Unit Name]],AdminUnits[],3,FALSE)","v":"Sud"},{"$f":"VLOOKUP(Main3WData12[[#This Row],[Admin Unit Name]],AdminUnits[],4,FALSE)","v":5},{"$f":"VLOOKUP(Main3WData12[[#This Row],[Sector]],Sectors[],2,FALSE)","v":5}]
[null,"Right to Play",{"$f":"INDEX(Organizations[],MATCH(Main3WData12[[#This Row],[Acronym]],AcronymList,0),1)","v":"Right to Play"},{"$f":"INDEX(Organizations[],MATCH(Main3WData12[[#This Row],[Acronym]],AcronymList,0),3)","v":"ONG Int."},"Protection","Regulier","Bamako",{"$f":"VLOOKUP(Main3WData12[[#This Row],[Admin Unit Name]],AdminUnits[],2,FALSE)","v":"ML09"},{"$f":"VLOOKUP(Main3WData12[[#This Row],[Admin Unit Name]],AdminUnits[],3,FALSE)","v":"Sud"},{"$f":"VLOOKUP(Main3WData12[[#This Row],[Admin Unit Name]],AdminUnits[],4,FALSE)","v":0},{"$f":"VLOOKUP(Main3WData12[[#This Row],[Sector]],Sectors[],2,FALSE)","v":5}]
[null,"Right to Play",{"$f":"INDEX(Organizations[],MATCH(Main3WData12[[#This Row],[Acronym]],AcronymList,0),1)","v":"Right to Play"},{"$f":"INDEX(Organizations[],MATCH(Main3WData12[[#This Row],[Acronym]],AcronymList,0),3)","v":"ONG Int."},"Protection","Regulier","Sikasso",{"$f":"VLOOKUP(Main3WData12[[#This Row],[Admin Unit Name]],AdminUnits[],2,FALSE)","v":"ML03"},{"$f":"VLOOKUP(Main3WData12[[#This Row],[Admin Unit Name]],AdminUnits[],3,FALSE)","v":"Sud"},{"$f":"VLOOKUP(Main3WData12[[#This Row],[Admin Unit Name]],AdminUnits[],4,FALSE)","v":3},{"$f":"VLOOKUP(Main3WData12[[#This Row],[Sector]],Sectors[],2,FALSE)","v":5}]
[null,"Reach Italia",{"$f":"INDEX(Organizations[],MATCH(Main3WData12[[#This Row],[Acronym]],AcronymList,0),1)","v":"Reach Italia"},{"$f":"INDEX(Organizations[],MATCH(Main3WData12[[#This Row],[Acronym]],AcronymList,0),3)","v":"ONG Int."},"Sécurité alimentaire","Regulier","Koulikoro",{"$f":"VLOOKUP(Main3WData12[[#This Row],[Admin Unit Name]],AdminUnits[],2,FALSE)","v":"ML02"},{"$f":"VLOOKUP(Main3WData12[[#This Row],[Admin Unit Name]],AdminUnits[],3,FALSE)","v":"Sud"},{"$f":"VLOOKUP(Main3WData12[[#This Row],[Admin Unit Name]],AdminUnits[],4,FALSE)","v":2},{"$f":"VLOOKUP(Main3WData12[[#This Row],[Sector]],Sectors[],2,FALSE)","v":7}]
[null,"PROTOS",{"$f":"INDEX(Organizations[],MATCH(Main3WData12[[#This Row],[Acronym]],AcronymList,0),1)","v":"PROTOS"},{"$f":"INDEX(Organizations[],MATCH(Main3WData12[[#This Row],[Acronym]],AcronymList,0),3)","v":"ONG Nat."},"EHA","Regulier","Bamako",{"$f":"VLOOKUP(Main3WData12[[#This Row],[Admin Unit Name]],AdminUnits[],2,FALSE)","v":"ML09"},{"$f":"VLOOKUP(Main3WData12[[#This Row],[Admin Unit Name]],AdminUnits[],3,FALSE)","v":"Sud"},{"$f":"VLOOKUP(Main3WData12[[#This Row],[Admin Unit Name]],AdminUnits[],4,FALSE)","v":0},{"$f":"VLOOKUP(Main3WData12[[#This Row],[Sector]],Sectors[],2,FALSE)","v":8}]
[null,"PROTOS",{"$f":"INDEX(Organizations[],MATCH(Main3WData12[[#This Row],[Acronym]],AcronymList,0),1)","v":"PROTOS"},{"$f":"INDEX(Organizations[],MATCH(Main3WData12[[#This Row],[Acronym]],AcronymList,0),3)","v":"ONG Nat."},"EHA","Regulier","Koulikoro",{"$f":"VLOOKUP(Main3WData12[[#This Row],[Admin Unit Name]],AdminUnits[],2,FALSE)","v":"ML02"},{"$f":"VLOOKUP(Main3WData12[[#This Row],[Admin Unit Name]],AdminUnits[],3,FALSE)","v":"Sud"},{"$f":"VLOOKUP(Main3WData12[[#This Row],[Admin Unit Name]],AdminUnits[],4,FALSE)","v":2},{"$f":"VLOOKUP(Main3WData12[[#This Row],[Sector]],Sectors[],2,FALSE)","v":8}]
[null,"PROTOS",{"$f":"INDEX(Organizations[],MATCH(Main3WData12[[#This Row],[Acronym]],AcronymList,0),1)","v":"PROTOS"},{"$f":"INDEX(Organizations[],MATCH(Main3WData12[[#This Row],[Acronym]],AcronymList,0),3)","v":"ONG Nat."},"EHA","Regulier","Mopti",{"$f":"VLOOKUP(Main3WData12[[#This Row],[Admin Unit Name]],AdminUnits[],2,FALSE)","v":"ML05"},{"$f":"VLOOKUP(Main3WData12[[#This Row],[Admin Unit Name]],AdminUnits[],3,FALSE)","v":"Sud"},{"$f":"VLOOKUP(Main3WData12[[#This Row],[Admin Unit Name]],AdminUnits[],4,FALSE)","v":5},{"$f":"VLOOKUP(Main3WData12[[#This Row],[Sector]],Sectors[],2,FALSE)","v":8}]
[null,"PLATEFORME REGIONALE DE RIZICULTEURS - MOPTI",{"$f":"INDEX(Organizations[],MATCH(Main3WData12[[#This Row],[Acronym]],AcronymList,0),1)","v":{"$error":"#N/A"}},{"$f":"INDEX(Organizations[],MATCH(Main3WData12[[#This Row],[Acronym]],AcronymList,0),3)","v":{"$error":"#N/A"}},"Sécurité alimentaire","Regulier","Mopti",{"$f":"VLOOKUP(Main3WData12[[#This Row],[Admin Unit Name]],AdminUnits[],2,FALSE)","v":"ML05"},{"$f":"VLOOKUP(Main3WData12[[#This Row],[Admin Unit Name]],AdminUnits[],3,FALSE)","v":"Sud"},{"$f":"VLOOKUP(Main3WData12[[#This Row],[Admin Unit Name]],AdminUnits[],4,FALSE)","v":5},{"$f":"VLOOKUP(Main3WData12[[#This Row],[Sector]],Sectors[],2,FALSE)","v":7}]
[null,"PLANETE URGENCE",{"$f":"INDEX(Organizations[],MATCH(Main3WData12[[#This Row],[Acronym]],AcronymList,0),1)","v":"PLANETE URGENCE"},{"$f":"INDEX(Organizations[],MATCH(Main3WData12[[#This Row],[Acronym]],AcronymList,0),3)","v":"ONG Int."},"Sécurité alimentaire","Regulier","Mopti",{"$f":"VLOOKUP(Main3WData12[[#This Row],[Admin Unit Name]],AdminUnits[],2,FALSE)","v":"ML05"},{"$f":"VLOOKUP(Main3WData12[[#This Row],[Admin Unit Name]],AdminUnits[],3,FALSE)","v":"Sud"},{"$f":"VLOOKUP(Main3WData12[[#This Row],[Admin Unit Name]],AdminUnits[],4,FALSE)","v":5},{"$f":"VLOOKUP(Main3WData12[[#This Row],[Sector]],Sectors[],2,FALSE)","v":7}]
[null,"Plan Mali",{"$f":"INDEX(Organizations[],MATCH(Main3WData12[[#This Row],[Acronym]],AcronymList,0),1)","v":"Plan Mali"},{"$f":"INDEX(Organizations[],MATCH(Main3WData12[[#This Row],[Acronym]],AcronymList,0),3)","v":"ONG Int."},"Education","Regulier","Mopti",{"$f":"VLOOKUP(Main3WData12[[#This Row],[Admin Unit Name]],AdminUnits[],2,FALSE)","v":"ML05"},{"$f":"VLOOKUP(Main3WData12[[#This Row],[Admin Unit Name]],AdminUnits[],3,FALSE)","v":"Sud"},{"$f":"VLOOKUP(Main3WData12[[#This Row],[Admin Unit Name]],AdminUnits[],4,FALSE)","v":5},{"$f":"VLOOKUP(Main3WData12[[#This Row],[Sector]],Sectors[],2,FALSE)","v":3}]
[null,"Plan Mali",{"$f":"INDEX(Organizations[],MATCH(Main3WData12[[#This Row],[Acronym]],AcronymList,0),1)","v":"Plan Mali"},{"$f":"INDEX(Organizations[],MATCH(Main3WData12[[#This Row],[Acronym]],AcronymList,0),3)","v":"ONG Int."},"Education","Regulier","Segou",{"$f":"VLOOKUP(Main3WData12[[#This Row],[Admin Unit Name]],AdminUnits[],2,FALSE)","v":"ML04"},{"$f":"VLOOKUP(Main3WData12[[#This Row],[Admin Unit Name]],AdminUnits[],3,FALSE)","v":"Sud"},{"$f":"VLOOKUP(Main3WData12[[#This Row],[Admin Unit Name]],AdminUnits[],4,FALSE)","v":4},{"$f":"VLOOKUP(Main3WData12[[#This Row],[Sector]],Sectors[],2,FALSE)","v":3}]
[null,"Plan Mali",{"$f":"INDEX(Organizations[],MATCH(Main3WData12[[#This Row],[Acronym]],AcronymList,0),1)","v":"Plan Mali"},{"$f":"INDEX(Organizations[],MATCH(Main3WData12[[#This Row],[Acronym]],AcronymList,0),3)","v":"ONG Int."},"Nutrition","Regulier","Kayes",{"$f":"VLOOKUP(Main3WData12[[#This Row],[Admin Unit Name]],AdminUnits[],2,FALSE)","v":"ML01"},{"$f":"VLOOKUP(Main3WData12[[#This Row],[Admin Unit Name]],AdminUnits[],3,FALSE)","v":"Sud"},{"$f":"VLOOKUP(Main3WData12[[#This Row],[Admin Unit Name]],AdminUnits[],4,FALSE)","v":1},{"$f":"VLOOKUP(Main3WData12[[#This Row],[Sector]],Sectors[],2,FALSE)","v":4}]
[null,"Plan Mali",{"$f":"INDEX(Organizations[],MATCH(Main3WData12[[#This Row],[Acronym]],AcronymList,0),1)","v":"Plan Mali"},{"$f":"INDEX(Organizations[],MATCH(Main3WData12[[#This Row],[Acronym]],AcronymList,0),3)","v":"ONG Int."},"Nutrition","Regulier","Koulikoro",{"$f":"VLOOKUP(Main3WData12[[#This Row],[Admin Unit Name]],AdminUnits[],2,FALSE)","v":"ML02"},{"$f":"VLOOKUP(Main3WData12[[#This Row],[Admin Unit Name]],AdminUnits[],3,FALSE)","v":"Sud"},{"$f":"VLOOKUP(Main3WData12[[#This Row],[Admin Unit Name]],AdminUnits[],4,FALSE)","v":2},{"$f":"VLOOKUP(Main3WData12[[#This Row],[Sector]],Sectors[],2,FALSE)","v":4}]
[null,"Plan Mali",{"$f":"INDEX(Organizations[],MATCH(Main3WData12[[#This Row],[Acronym]],AcronymList,0),1)","v":"Plan Mali"},{"$f":"INDEX(Organizations[],MATCH(Main3WData12[[#This Row],[Acronym]],AcronymList,0),3)","v":"ONG Int."},"Nutrition","Regulier","Segou",{"$f":"VLOOKUP(Main3WData12[[#This Row],[Admin Unit Name]],AdminUnits[],2,FALSE)","v":"ML04"},{"$f":"VLOOKUP(Main3WData12[[#This Row],[Admin Unit Name]],AdminUnits[],3,FALSE)","v":"Sud"},{"$f":"VLOOKUP(Main3WData12[[#This Row],[Admin Unit Name]],AdminUnits[],4,FALSE)","v":4},{"$f":"VLOOKUP(Main3WData12[[#This Row],[Sector]],Sectors[],2,FALSE)","v":4}]
[null,"Plan Mali",{"$f":"INDEX(Organizations[],MATCH(Main3WData12[[#This Row],[Acronym]],AcronymList,0),1)","v":"Plan Mali"},{"$f":"INDEX(Organizations[],MATCH(Main3WData12[[#This Row],[Acronym]],AcronymList,0),3)","v":"ONG Int."},"Protection","Regulier","Bamako",{"$f":"VLOOKUP(Main3WData12[[#This Row],[Admin Unit Name]],AdminUnits[],2,FALSE)","v":"ML09"},{"$f":"VLOOKUP(Main3WData12[[#This Row],[Admin Unit Name]],AdminUnits[],3,FALSE)","v":"Sud"},{"$f":"VLOOKUP(Main3WData12[[#This Row],[Admin Unit Name]],AdminUnits[],4,FALSE)","v":0},{"$f":"VLOOKUP(Main3WData12[[#This Row],[Sector]],Sectors[],2,FALSE)","v":5}]
[null,"Plan Mali",{"$f":"INDEX(Organizations[],MATCH(Main3WData12[[#This Row],[Acronym]],AcronymList,0),1)","v":"Plan Mali"},{"$f":"INDEX(Organizations[],MATCH(Main3WData12[[#This Row],[Acronym]],AcronymList,0),3)","v":"ONG Int."},"Protection","Regulier","Segou",{"$f":"VLOOKUP(Main3WData12[[#This Row],[Admin Unit Name]],AdminUnits[],2,FALSE)","v":"ML04"},{"$f":"VLOOKUP(Main3WData12[[#This Row],[Admin Unit Name]],AdminUnits[],3,FALSE)","v":"Sud"},{"$f":"VLOOKUP(Main3WData12[[#This Row],[Admin Unit Name]],AdminUnits[],4,FALSE)","v":4},{"$f":"VLOOKUP(Main3WData12[[#This Row],[Sector]],Sectors[],2,FALSE)","v":5}]
[null,"Plan Mali",{"$f":"INDEX(Organizations[],MATCH(Main3WData12[[#This Row],[Acronym]],AcronymList,0),1)","v":"Plan Mali"},{"$f":"INDEX(Organizations[],MATCH(Main3WData12[[#This Row],[Acronym]],AcronymList,0),3)","v":"ONG Int."},"EHA","Regulier","Koulikoro",{"$f":"VLOOKUP(Main3WData12[[#This Row],[Admin Unit Name]],AdminUnits[],2,FALSE)","v":"ML02"},{"$f":"VLOOKUP(Main3WData12[[#This Row],[Admin Unit Name]],AdminUnits[],3,FALSE)","v":"Sud"},{"$f":"VLOOKUP(Main3WData12[[#This Row],[Admin Unit Name]],AdminUnits[],4,FALSE)","v":2},{"$f":"VLOOKUP(Main3WData12[[#This Row],[Sector]],Sectors[],2,FALSE)","v":8}]
[null,"Plan Mali",{"$f":"INDEX(Organizations[],MATCH(Main3WData12[[#This Row],[Acronym]],AcronymList,0),1)","v":"Plan Mali"},{"$f":"INDEX(Organizations[],MATCH(Main3WData12[[#This Row],[Acronym]],AcronymList,0),3)","v":"ONG Int."},"EHA","Regulier","Mopti",{"$f":"VLOOKUP(Main3WData12[[#This Row],[Admin Unit Name]],AdminUnits[],2,FALSE)","v":"ML05"},{"$f":"VLOOKUP(Main3WData12[[#This Row],[Admin Unit Name]],AdminUnits[],3,FALSE)","v":"Sud"},{"$f":"VLOOKUP(Main3WData12[[#This Row],[Admin Unit Name]],AdminUnits[],4,FALSE)","v":5},{"$f":"VLOOKUP(Main3WData12[[#This Row],[Sector]],Sectors[],2,FALSE)","v":8}]
[null,"Plan Mali",{"$f":"INDEX(Organizations[],MATCH(Main3WData12[[#This Row],[Acronym]],AcronymList,0),1)","v":"Plan Mali"},{"$f":"INDEX(Organizations[],MATCH(Main3WData12[[#This Row],[Acronym]],AcronymList,0),3)","v":"ONG Int."},"EHA","Regulier","Segou",{"$f":"VLOOKUP(Main3WData12[[#This Row],[Admin Unit Name]],AdminUnits[],2,FALSE)","v":"ML04"},{"$f":"VLOOKUP(Main3WData12[[#This Row],[Admin Unit Name]],AdminUnits[],3,FALSE)","v":"Sud"},{"$f":"VLOOKUP(Main3WData12[[#This Row],[Admin Unit Name]],AdminUnits[],4,FALSE)","v":4},{"$f":"VLOOKUP(Main3WData12[[#This Row],[Sector]],Sectors[],2,FALSE)","v":8}]
[null,"Plan Mali",{"$f":"INDEX(Organizations[],MATCH(Main3WData12[[#This Row],[Acronym]],AcronymList,0),1)","v":"Plan Mali"},{"$f":"INDEX(Organizations[],MATCH(Main3WData12[[#This Row],[Acronym]],AcronymList,0),3)","v":"ONG Int."},"EHA","Regulier","Kayes",{"$f":"VLOOKUP(Main3WData12[[#This Row],[Admin Unit Name]],AdminUnits[],2,FALSE)","v":"ML01"},{"$f":"VLOOKUP(Main3WData12[[#This Row],[Admin Unit Name]],AdminUnits[],3,FALSE)","v":"Sud"},{"$f":"VLOOKUP(Main3WData12[[#This Row],[Admin Unit Name]],AdminUnits[],4,FALSE)","v":1},{"$f":"VLOOKUP(Main3WData12[[#This Row],[Sector]],Sectors[],2,FALSE)","v":8}]
[null,"OXFAM GB",{"$f":"INDEX(Organizations[],MATCH(Main3WData12[[#This Row],[Acronym]],AcronymList,0),1)","v":"OXFAM GB"},{"$f":"INDEX(Organizations[],MATCH(Main3WData12[[#This Row],[Acronym]],AcronymList,0),3)","v":"ONG Int."},"Protection","Regulier","Gao",{"$f":"VLOOKUP(Main3WData12[[#This Row],[Admin Unit Name]],AdminUnits[],2,FALSE)","v":"ML07"},{"$f":"VLOOKUP(Main3WData12[[#This Row],[Admin Unit Name]],AdminUnits[],3,FALSE)","v":"Nord"},{"$f":"VLOOKUP(Main3WData12[[#This Row],[Admin Unit Name]],AdminUnits[],4,FALSE)","v":7},{"$f":"VLOOKUP(Main3WData12[[#This Row],[Sector]],Sectors[],2,FALSE)","v":5}]
[null,"OXFAM GB",{"$f":"INDEX(Organizations[],MATCH(Main3WData12[[#This Row],[Acronym]],AcronymList,0),1)","v":"OXFAM GB"},{"$f":"INDEX(Organizations[],MATCH(Main3WData12[[#This Row],[Acronym]],AcronymList,0),3)","v":"ONG Int."},"Protection","Regulier","Kayes",{"$f":"VLOOKUP(Main3WData12[[#This Row],[Admin Unit Name]],AdminUnits[],2,FALSE)","v":"ML01"},{"$f":"VLOOKUP(Main3WData12[[#This Row],[Admin Unit Name]],AdminUnits[],3,FALSE)","v":"Sud"},{"$f":"VLOOKUP(Main3WData12[[#This Row],[Admin Unit Name]],AdminUnits[],4,FALSE)","v":1},{"$f":"VLOOKUP(Main3WData12[[#This Row],[Sector]],Sectors[],2,FALSE)","v":5}]
[null,"OXFAM GB",{"$f":"INDEX(Organizations[],MATCH(Main3WData12[[#This Row],[Acronym]],AcronymList,0),1)","v":"OXFAM GB"},{"$f":"INDEX(Organizations[],MATCH(Main3WData12[[#This Row],[Acronym]],AcronymList,0),3)","v":"ONG Int."},"Protection","Regulier","Bamako",{"$f":"VLOOKUP(Main3WData12[[#This Row],[Admin Unit Name]],AdminUnits[],2,FALSE)","v":"ML09"},{"$f":"VLOOKUP(Main3WData12[[#This Row],[Admin Unit Name]],AdminUnits[],3,FALSE)","v":"Sud"},{"$f":"VLOOKUP(Main3WData12[[#This Row],[Admin Unit Name]],AdminUnits[],4,FALSE)","v":0},{"$f":"VLOOKUP(Main3WData12[[#This Row],[Sector]],Sectors[],2,FALSE)","v":5}]
[null,"OXFAM GB",{"$f":"INDEX(Organizations[],MATCH(Main3WData12[[#This Row],[Acronym]],AcronymList,0),1)","v":"OXFAM GB"},{"$f":"INDEX(Organizations[],MATCH(Main3WData12[[#This Row],[Acronym]],AcronymList,0),3)","v":"ONG Int."},"Sécurité alimentaire","Regulier","Gao",{"$f":"VLOOKUP(Main3WData12[[#This Row],[Admin Unit Name]],AdminUnits[],2,FALSE)","v":"ML07"},{"$f":"VLOOKUP(Main3WData12[[#This Row],[Admin Unit Name]],AdminUnits[],3,FALSE)","v":"Nord"},{"$f":"VLOOKUP(Main3WData12[[#This Row],[Admin Unit Name]],AdminUnits[],4,FALSE)","v":7},{"$f":"VLOOKUP(Main3WData12[[#This Row],[Sector]],Sectors[],2,FALSE)","v":7}]
[null,"OXFAM GB",{"$f":"INDEX(Organizations[],MATCH(Main3WData12[[#This Row],[Acronym]],AcronymList,0),1)","v":"OXFAM GB"},{"$f":"INDEX(Organizations[],MATCH(Main3WData12[[#This Row],[Acronym]],AcronymList,0),3)","v":"ONG Int."},"EHA","Regulier","Gao",{"$f":"VLOOKUP(Main3WData12[[#This Row],[Admin Unit Name]],AdminUnits[],2,FALSE)","v":"ML07"},{"$f":"VLOOKUP(Main3WData12[[#This Row],[Admin Unit Name]],AdminUnits[],3,FALSE)","v":"Nord"},{"$f":"VLOOKUP(Main3WData12[[#This Row],[Admin Unit Name]],AdminUnits[],4,FALSE)","v":7},{"$f":"VLOOKUP(Main3WData12[[#This Row],[Sector]],Sectors[],2,FALSE)","v":8}]
[null,"OXFAM GB",{"$f":"INDEX(Organizations[],MATCH(Main3WData12[[#This Row],[Acronym]],AcronymList,0),1)","v":"OXFAM GB"},{"$f":"INDEX(Organizations[],MATCH(Main3WData12[[#This Row],[Acronym]],AcronymList,0),3)","v":"ONG Int."},"Sécurité alimentaire","Regulier","Sikasso",{"$f":"VLOOKUP(Main3WData12[[#This Row],[Admin Unit Name]],AdminUnits[],2,FALSE)","v":"ML03"},{"$f":"VLOOKUP(Main3WData12[[#This Row],[Admin Unit Name]],AdminUnits[],3,FALSE)","v":"Sud"},{"$f":"VLOOKUP(Main3WData12[[#This Row],[Admin Unit Name]],AdminUnits[],4,FALSE)","v":3},{"$f":"VLOOKUP(Main3WData12[[#This Row],[Sector]],Sectors[],2,FALSE)","v":7}]
[null,"OXFAM GB",{"$f":"INDEX(Organizations[],MATCH(Main3WData12[[#This Row],[Acronym]],AcronymList,0),1)","v":"OXFAM GB"},{"$f":"INDEX(Organizations[],MATCH(Main3WData12[[#This Row],[Acronym]],AcronymList,0),3)","v":"ONG Int."},"Sécurité alimentaire","Regulier","Kayes",{"$f":"VLOOKUP(Main3WData12[[#This Row],[Admin Unit Name]],AdminUnits[],2,FALSE)","v":"ML01"},{"$f":"VLOOKUP(Main3WData12[[#This Row],[Admin Unit Name]],AdminUnits[],3,FALSE)","v":"Sud"},{"$f":"VLOOKUP(Main3WData12[[#This Row],[Admin Unit Name]],AdminUnits[],4,FALSE)","v":1},{"$f":"VLOOKUP(Main3WData12[[#This Row],[Sector]],Sectors[],2,FALSE)","v":7}]
[null,"OXFAM GB",{"$f":"INDEX(Organizations[],MATCH(Main3WData12[[#This Row],[Acronym]],AcronymList,0),1)","v":"OXFAM GB"},{"$f":"INDEX(Organizations[],MATCH(Main3WData12[[#This Row],[Acronym]],AcronymList,0),3)","v":"ONG Int."},"EHA","Regulier","Kayes",{"$f":"VLOOKUP(Main3WData12[[#This Row],[Admin Unit Name]],AdminUnits[],2,FALSE)","v":"ML01"},{"$f":"VLOOKUP(Main3WData12[[#This Row],[Admin Unit Name]],AdminUnits[],3,FALSE)","v":"Sud"},{"$f":"VLOOKUP(Main3WData12[[#This Row],[Admin Unit Name]],AdminUnits[],4,FALSE)","v":1},{"$f":"VLOOKUP(Main3WData12[[#This Row],[Sector]],Sectors[],2,FALSE)","v":8}]
[null,"ONG TAOUSSA",{"$f":"INDEX(Organizations[],MATCH(Main3WData12[[#This Row],[Acronym]],AcronymList,0),1)","v":"ONG TAOUSSA"},{"$f":"INDEX(Organizations[],MATCH(Main3WData12[[#This Row],[Acronym]],AcronymList,0),3)","v":"ONG Nat."},"Protection","Regulier","Gao",{"$f":"VLOOKUP(Main3WData12[[#This Row],[Admin Unit Name]],AdminUnits[],2,FALSE)","v":"ML07"},{"$f":"VLOOKUP(Main3WData12[[#This Row],[Admin Unit Name]],AdminUnits[],3,FALSE)","v":"Nord"},{"$f":"VLOOKUP(Main3WData12[[#This Row],[Admin Unit Name]],AdminUnits[],4,FALSE)","v":7},{"$f":"VLOOKUP(Main3WData12[[#This Row],[Sector]],Sectors[],2,FALSE)","v":5}]
[null,"OMAES",{"$f":"INDEX(Organizations[],MATCH(Main3WData12[[#This Row],[Acronym]],AcronymList,0),1)","v":"Œuvre Malienne d'Aide à l'Enfance du Sahel"},{"$f":"INDEX(Organizations[],MATCH(Main3WData12[[#This Row],[Acronym]],AcronymList,0),3)","v":"ONG Nat."},"Sécurité alimentaire","Regulier","Tombouctou",{"$f":"VLOOKUP(Main3WData12[[#This Row],[Admin Unit Name]],AdminUnits[],2,FALSE)","v":"ML06"},{"$f":"VLOOKUP(Main3WData12[[#This Row],[Admin Unit Name]],AdminUnits[],3,FALSE)","v":"Nord"},{"$f":"VLOOKUP(Main3WData12[[#This Row],[Admin Unit Name]],AdminUnits[],4,FALSE)","v":6},{"$f":"VLOOKUP(Main3WData12[[#This Row],[Sector]],Sectors[],2,FALSE)","v":7}]
[null,"OGES",{"$f":"INDEX(Organizations[],MATCH(Main3WData12[[#This Row],[Acronym]],AcronymList,0),1)","v":"OGES"},{"$f":"INDEX(Organizations[],MATCH(Main3WData12[[#This Row],[Acronym]],AcronymList,0),3)","v":"ONG Nat."},"Sécurité alimentaire","Regulier","Mopti",{"$f":"VLOOKUP(Main3WData12[[#This Row],[Admin Unit Name]],AdminUnits[],2,FALSE)","v":"ML05"},{"$f":"VLOOKUP(Main3WData12[[#This Row],[Admin Unit Name]],AdminUnits[],3,FALSE)","v":"Sud"},{"$f":"VLOOKUP(Main3WData12[[#This Row],[Admin Unit Name]],AdminUnits[],4,FALSE)","v":5},{"$f":"VLOOKUP(Main3WData12[[#This Row],[Sector]],Sectors[],2,FALSE)","v":7}]
[null,"ODI SAHEL",{"$f":"INDEX(Organizations[],MATCH(Main3WData12[[#This Row],[Acronym]],AcronymList,0),1)","v":"Overseas Development institute-Sahel"},{"$f":"INDEX(Organizations[],MATCH(Main3WData12[[#This Row],[Acronym]],AcronymList,0),3)","v":"ONG Nat."},"Protection","Regulier","Mopti",{"$f":"VLOOKUP(Main3WData12[[#This Row],[Admin Unit Name]],AdminUnits[],2,FALSE)","v":"ML05"},{"$f":"VLOOKUP(Main3WData12[[#This Row],[Admin Unit Name]],AdminUnits[],3,FALSE)","v":"Sud"},{"$f":"VLOOKUP(Main3WData12[[#This Row],[Admin Unit Name]],AdminUnits[],4,FALSE)","v":5},{"$f":"VLOOKUP(Main3WData12[[#This Row],[Sector]],Sectors[],2,FALSE)","v":5}]
[null,"NCA",{"$f":"INDEX(Organizations[],MATCH(Main3WData12[[#This Row],[Acronym]],AcronymList,0),1)","v":"Norwegian Church Aid"},{"$f":"INDEX(Organizations[],MATCH(Main3WData12[[#This Row],[Acronym]],AcronymList,0),3)","v":"ONG Int."},"Sécurité alimentaire","Regulier","Kidal",{"$f":"VLOOKUP(Main3WData12[[#This Row],[Admin Unit Name]],AdminUnits[],2,FALSE)","v":"ML08"},{"$f":"VLOOKUP(Main3WData12[[#This Row],[Admin Unit Name]],AdminUnits[],3,FALSE)","v":"Nord"},{"$f":"VLOOKUP(Main3WData12[[#This Row],[Admin Unit Name]],AdminUnits[],4,FALSE)","v":8},{"$f":"VLOOKUP(Main3WData12[[#This Row],[Sector]],Sectors[],2,FALSE)","v":7}]
[null,"MSF",{"$f":"INDEX(Organizations[],MATCH(Main3WData12[[#This Row],[Acronym]],AcronymList,0),1)","v":"Médecins Sans Frontières"},{"$f":"INDEX(Organizations[],MATCH(Main3WData12[[#This Row],[Acronym]],AcronymList,0),3)","v":"ONG Int."},"Nutrition","Regulier","Mopti",{"$f":"VLOOKUP(Main3WData12[[#This Row],[Admin Unit Name]],AdminUnits[],2,FALSE)","v":"ML05"},{"$f":"VLOOKUP(Main3WData12[[#This Row],[Admin Unit Name]],AdminUnits[],3,FALSE)","v":"Sud"},{"$f":"VLOOKUP(Main3WData12[[#This Row],[Admin Unit Name]],AdminUnits[],4,FALSE)","v":5},{"$f":"VLOOKUP(Main3WData12[[#This Row],[Sector]],Sectors[],2,FALSE)","v":4}]
[null,"MSF",{"$f":"INDEX(Organizations[],MATCH(Main3WData12[[#This Row],[Acronym]],AcronymList,0),1)","v":"Médecins Sans Frontières"},{"$f":"INDEX(Organizations[],MATCH(Main3WData12[[#This Row],[Acronym]],AcronymList,0),3)","v":"ONG Int."},"Nutrition","Regulier","Sikasso",{"$f":"VLOOKUP(Main3WData12[[#This Row],[Admin Unit Name]],AdminUnits[],2,FALSE)","v":"ML03"},{"$f":"VLOOKUP(Main3WData12[[#This Row],[Admin Unit Name]],AdminUnits[],3,FALSE)","v":"Sud"},{"$f":"VLOOKUP(Main3WData12[[#This Row],[Admin Unit Name]],AdminUnits[],4,FALSE)","v":3},{"$f":"VLOOKUP(Main3WData12[[#This Row],[Sector]],Sectors[],2,FALSE)","v":4}]
[null,"MSF",{"$f":"INDEX(Organizations[],MATCH(Main3WData12[[#This Row],[Acronym]],AcronymList,0),1)","v":"Médecins Sans Frontières"},{"$f":"INDEX(Organizations[],MATCH(Main3WData12[[#This Row],[Acronym]],AcronymList,0),3)","v":"ONG Int."},"Nutrition","Regulier","Tombouctou",{"$f":"VLOOKUP(Main3WData12[[#This Row],[Admin Unit Name]],AdminUnits[],2,FALSE)","v":"ML06"},{"$f":"VLOOKUP(Main3WData12[[#This Row],[Admin Unit Name]],AdminUnits[],3,FALSE)","v":"Nord"},{"$f":"VLOOKUP(Main3WData12[[#This Row],[Admin Unit Name]],AdminUnits[],4,FALSE)","v":6},{"$f":"VLOOKUP(Main3WData12[[#This Row],[Sector]],Sectors[],2,FALSE)","v":4}]
[null,"Molibemo",{"$f":"INDEX(Organizations[],MATCH(Main3WData12[[#This Row],[Acronym]],AcronymList,0),1)","v":"Molibemo"},{"$f":"INDEX(Organizations[],MATCH(Main3WData12[[#This Row],[Acronym]],AcronymList,0),3)","v":"ONG Nat."},"Sécurité alimentaire","Regulier","Mopti",{"$f":"VLOOKUP(Main3WData12[[#This Row],[Admin Unit Name]],AdminUnits[],2,FALSE)","v":"ML05"},{"$f":"VLOOKUP(Main3WData12[[#This Row],[Admin Unit Name]],AdminUnits[],3,FALSE)","v":"Sud"},{"$f":"VLOOKUP(Main3WData12[[#This Row],[Admin Unit Name]],AdminUnits[],4,FALSE)","v":5},{"$f":"VLOOKUP(Main3WData12[[#This Row],[Sector]],Sectors[],2,FALSE)","v":7}]
[null,"MAH",{"$f":"INDEX(Organizations[],MATCH(Main3WData12[[#This Row],[Acronym]],AcronymList,0),1)","v":"Ministère de l'Action Humanitaire"},{"$f":"INDEX(Organizations[],MATCH(Main3WData12[[#This Row],[Acronym]],AcronymList,0),3)","v":"Gouvernement"},"Protection","Regulier","Gao",{"$f":"VLOOKUP(Main3WData12[[#This Row],[Admin Unit Name]],AdminUnits[],2,FALSE)","v":"ML07"},{"$f":"VLOOKUP(Main3WData12[[#This Row],[Admin Unit Name]],AdminUnits[],3,FALSE)","v":"Nord"},{"$f":"VLOOKUP(Main3WData12[[#This Row],[Admin Unit Name]],AdminUnits[],4,FALSE)","v":7},{"$f":"VLOOKUP(Main3WData12[[#This Row],[Sector]],Sectors[],2,FALSE)","v":5}]
[null,"MAH",{"$f":"INDEX(Organizations[],MATCH(Main3WData12[[#This Row],[Acronym]],AcronymList,0),1)","v":"Ministère de l'Action Humanitaire"},{"$f":"INDEX(Organizations[],MATCH(Main3WData12[[#This Row],[Acronym]],AcronymList,0),3)","v":"Gouvernement"},"Protection","Regulier","Kidal",{"$f":"VLOOKUP(Main3WData12[[#This Row],[Admin Unit Name]],AdminUnits[],2,FALSE)","v":"ML08"},{"$f":"VLOOKUP(Main3WData12[[#This Row],[Admin Unit Name]],AdminUnits[],3,FALSE)","v":"Nord"},{"$f":"VLOOKUP(Main3WData12[[#This Row],[Admin Unit Name]],AdminUnits[],4,FALSE)","v":8},{"$f":"VLOOKUP(Main3WData12[[#This Row],[Sector]],Sectors[],2,FALSE)","v":5}]
[null,"Mercy Corps",{"$f":"INDEX(Organizations[],MATCH(Main3WData12[[#This Row],[Acronym]],AcronymList,0),1)","v":"Mercy Corps"},{"$f":"INDEX(Organizations[],MATCH(Main3WData12[[#This Row],[Acronym]],AcronymList,0),3)","v":"ONG Int."},"EHA","Regulier","Gao",{"$f":"VLOOKUP(Main3WData12[[#This Row],[Admin Unit Name]],AdminUnits[],2,FALSE)","v":"ML07"},{"$f":"VLOOKUP(Main3WData12[[#This Row],[Admin Unit Name]],AdminUnits[],3,FALSE)","v":"Nord"},{"$f":"VLOOKUP(Main3WData12[[#This Row],[Admin Unit Name]],AdminUnits[],4,FALSE)","v":7},{"$f":"VLOOKUP(Main3WData12[[#This Row],[Sector]],Sectors[],2,FALSE)","v":8}]
[null,"Mercy Corps",{"$f":"INDEX(Organizations[],MATCH(Main3WData12[[#This Row],[Acronym]],AcronymList,0),1)","v":"Mercy Corps"},{"$f":"INDEX(Organizations[],MATCH(Main3WData12[[#This Row],[Acronym]],AcronymList,0),3)","v":"ONG Int."},"EHA","Regulier","Bamako",{"$f":"VLOOKUP(Main3WData12[[#This Row],[Admin Unit Name]],AdminUnits[],2,FALSE)","v":"ML09"},{"$f":"VLOOKUP(Main3WData12[[#This Row],[Admin Unit Name]],AdminUnits[],3,FALSE)","v":"Sud"},{"$f":"VLOOKUP(Main3WData12[[#This Row],[Admin Unit Name]],AdminUnits[],4,FALSE)","v":0},{"$f":"VLOOKUP(Main3WData12[[#This Row],[Sector]],Sectors[],2,FALSE)","v":8}]
[null,"MDM France",{"$f":"INDEX(Organizations[],MATCH(Main3WData12[[#This Row],[Acronym]],AcronymList,0),1)","v":"Médecins Du Monde France"},{"$f":"INDEX(Organizations[],MATCH(Main3WData12[[#This Row],[Acronym]],AcronymList,0),3)","v":"ONG Int."},"Nutrition","Regulier","Mopti",{"$f":"VLOOKUP(Main3WData12[[#This Row],[Admin Unit Name]],AdminUnits[],2,FALSE)","v":"ML05"},{"$f":"VLOOKUP(Main3WData12[[#This Row],[Admin Unit Name]],AdminUnits[],3,FALSE)","v":"Sud"},{"$f":"VLOOKUP(Main3WData12[[#This Row],[Admin Unit Name]],AdminUnits[],4,FALSE)","v":5},{"$f":"VLOOKUP(Main3WData12[[#This Row],[Sector]],Sectors[],2,FALSE)","v":4}]
[null,"MDM France",{"$f":"INDEX(Organizations[],MATCH(Main3WData12[[#This Row],[Acronym]],AcronymList,0),1)","v":"Médecins Du Monde France"},{"$f":"INDEX(Organizations[],MATCH(Main3WData12[[#This Row],[Acronym]],AcronymList,0),3)","v":"ONG Int."},"Abris et NFI","Regulier","Tombouctou",{"$f":"VLOOKUP(Main3WData12[[#This Row],[Admin Unit Name]],AdminUnits[],2,FALSE)","v":"ML06"},{"$f":"VLOOKUP(Main3WData12[[#This Row],[Admin Unit Name]],AdminUnits[],3,FALSE)","v":"Nord"},{"$f":"VLOOKUP(Main3WData12[[#This Row],[Admin Unit Name]],AdminUnits[],4,FALSE)","v":6},{"$f":"VLOOKUP(Main3WData12[[#This Row],[Sector]],Sectors[],2,FALSE)","v":1}]
[null,"MDM France",{"$f":"INDEX(Organizations[],MATCH(Main3WData12[[#This Row],[Acronym]],AcronymList,0),1)","v":"Médecins Du Monde France"},{"$f":"INDEX(Organizations[],MATCH(Main3WData12[[#This Row],[Acronym]],AcronymList,0),3)","v":"ONG Int."},"Abris et NFI","Regulier","Kidal",{"$f":"VLOOKUP(Main3WData12[[#This Row],[Admin Unit Name]],AdminUnits[],2,FALSE)","v":"ML08"},{"$f":"VLOOKUP(Main3WData12[[#This Row],[Admin Unit Name]],AdminUnits[],3,FALSE)","v":"Nord"},{"$f":"VLOOKUP(Main3WData12[[#This Row],[Admin Unit Name]],AdminUnits[],4,FALSE)","v":8},{"$f":"VLOOKUP(Main3WData12[[#This Row],[Sector]],Sectors[],2,FALSE)","v":1}]
[null,"MDM Belgique",{"$f":"INDEX(Organizations[],MATCH(Main3WData12[[#This Row],[Acronym]],AcronymList,0),1)","v":"Médecins Du Monde Belgique"},{"$f":"INDEX(Organizations[],MATCH(Main3WData12[[#This Row],[Acronym]],AcronymList,0),3)","v":"ONG Int."},"Abris et NFI","Regulier","Gao",{"$f":"VLOOKUP(Main3WData12[[#This Row],[Admin Unit Name]],AdminUnits[],2,FALSE)","v":"ML07"},{"$f":"VLOOKUP(Main3WData12[[#This Row],[Admin Unit Name]],AdminUnits[],3,FALSE)","v":"Nord"},{"$f":"VLOOKUP(Main3WData12[[#This Row],[Admin Unit Name]],AdminUnits[],4,FALSE)","v":7},{"$f":"VLOOKUP(Main3WData12[[#This Row],[Sector]],Sectors[],2,FALSE)","v":1}]
[null,"MDM Belgique",{"$f":"INDEX(Organizations[],MATCH(Main3WData12[[#This Row],[Acronym]],AcronymList,0),1)","v":"Médecins Du Monde Belgique"},{"$f":"INDEX(Organizations[],MATCH(Main3WData12[[#This Row],[Acronym]],AcronymList,0),3)","v":"ONG Int."},"Nutrition","Regulier","Gao",{"$f":"VLOOKUP(Main3WData12[[#This Row],[Admin Unit Name]],AdminUnits[],2,FALSE)","v":"ML07"},{"$f":"VLOOKUP(Main3WData12[[#This Row],[Admin Unit Name]],AdminUnits[],3,FALSE)","v":"Nord"},{"$f":"VLOOKUP(Main3WData12[[#This Row],[Admin Unit Name]],AdminUnits[],4,FALSE)","v":7},{"$f":"VLOOKUP(Main3WData12[[#This Row],[Sector]],Sectors[],2,FALSE)","v":4}]
[null,"MDM Belgique",{"$f":"INDEX(Organizations[],MATCH(Main3WData12[[#This Row],[Acronym]],AcronymList,0),1)","v":"Médecins Du Monde Belgique"},{"$f":"INDEX(Organizations[],MATCH(Main3WData12[[#This Row],[Acronym]],AcronymList,0),3)","v":"ONG Int."},"Protection","Regulier","Gao",{"$f":"VLOOKUP(Main3WData12[[#This Row],[Admin Unit Name]],AdminUnits[],2,FALSE)","v":"ML07"},{"$f":"VLOOKUP(Main3WData12[[#This Row],[Admin Unit Name]],AdminUnits[],3,FALSE)","v":"Nord"},{"$f":"VLOOKUP(Main3WData12[[#This Row],[Admin Unit Name]],AdminUnits[],4,FALSE)","v":7},{"$f":"VLOOKUP(Main3WData12[[#This Row],[Sector]],Sectors[],2,FALSE)","v":5}]
[null,"MDM Belgique",{"$f":"INDEX(Organizations[],MATCH(Main3WData12[[#This Row],[Acronym]],AcronymList,0),1)","v":"Médecins Du Monde Belgique"},{"$f":"INDEX(Organizations[],MATCH(Main3WData12[[#This Row],[Acronym]],AcronymList,0),3)","v":"ONG Int."},"Sécurité alimentaire","Regulier","Gao",{"$f":"VLOOKUP(Main3WData12[[#This Row],[Admin Unit Name]],AdminUnits[],2,FALSE)","v":"ML07"},{"$f":"VLOOKUP(Main3WData12[[#This Row],[Admin Unit Name]],AdminUnits[],3,FALSE)","v":"Nord"},{"$f":"VLOOKUP(Main3WData12[[#This Row],[Admin Unit Name]],AdminUnits[],4,FALSE)","v":7},{"$f":"VLOOKUP(Main3WData12[[#This Row],[Sector]],Sectors[],2,FALSE)","v":7}]
[null,"MDM Belgique",{"$f":"INDEX(Organizations[],MATCH(Main3WData12[[#This Row],[Acronym]],AcronymList,0),1)","v":"Médecins Du Monde Belgique"},{"$f":"INDEX(Organizations[],MATCH(Main3WData12[[#This Row],[Acronym]],AcronymList,0),3)","v":"ONG Int."},"Nutrition","Regulier","Kidal",{"$f":"VLOOKUP(Main3WData12[[#This Row],[Admin Unit Name]],AdminUnits[],2,FALSE)","v":"ML08"},{"$f":"VLOOKUP(Main3WData12[[#This Row],[Admin Unit Name]],AdminUnits[],3,FALSE)","v":"Nord"},{"$f":"VLOOKUP(Main3WData12[[#This Row],[Admin Unit Name]],AdminUnits[],4,FALSE)","v":8},{"$f":"VLOOKUP(Main3WData12[[#This Row],[Sector]],Sectors[],2,FALSE)","v":4}]
[null,"MDM Belgique",{"$f":"INDEX(Organizations[],MATCH(Main3WData12[[#This Row],[Acronym]],AcronymList,0),1)","v":"Médecins Du Monde Belgique"},{"$f":"INDEX(Organizations[],MATCH(Main3WData12[[#This Row],[Acronym]],AcronymList,0),3)","v":"ONG Int."},"Protection","Regulier","Kidal",{"$f":"VLOOKUP(Main3WData12[[#This Row],[Admin Unit Name]],AdminUnits[],2,FALSE)","v":"ML08"},{"$f":"VLOOKUP(Main3WData12[[#This Row],[Admin Unit Name]],AdminUnits[],3,FALSE)","v":"Nord"},{"$f":"VLOOKUP(Main3WData12[[#This Row],[Admin Unit Name]],AdminUnits[],4,FALSE)","v":8},{"$f":"VLOOKUP(Main3WData12[[#This Row],[Sector]],Sectors[],2,FALSE)","v":5}]
[null,"MDM Belgique",{"$f":"INDEX(Organizations[],MATCH(Main3WData12[[#This Row],[Acronym]],AcronymList,0),1)","v":"Médecins Du Monde Belgique"},{"$f":"INDEX(Organizations[],MATCH(Main3WData12[[#This Row],[Acronym]],AcronymList,0),3)","v":"ONG Int."},"Sécurité alimentaire","Regulier","Kidal",{"$f":"VLOOKUP(Main3WData12[[#This Row],[Admin Unit Name]],AdminUnits[],2,FALSE)","v":"ML08"},{"$f":"VLOOKUP(Main3WData12[[#This Row],[Admin Unit Name]],AdminUnits[],3,FALSE)","v":"Nord"},{"$f":"VLOOKUP(Main3WData12[[#This Row],[Admin Unit Name]],AdminUnits[],4,FALSE)","v":8},{"$f":"VLOOKUP(Main3WData12[[#This Row],[Sector]],Sectors[],2,FALSE)","v":7}]
[null,"MDM Belgique",{"$f":"INDEX(Organizations[],MATCH(Main3WData12[[#This Row],[Acronym]],AcronymList,0),1)","v":"Médecins Du Monde Belgique"},{"$f":"INDEX(Organizations[],MATCH(Main3WData12[[#This Row],[Acronym]],AcronymList,0),3)","v":"ONG Int."},"Protection","Regulier","Mopti",{"$f":"VLOOKUP(Main3WData12[[#This Row],[Admin Unit Name]],AdminUnits[],2,FALSE)","v":"ML05"},{"$f":"VLOOKUP(Main3WData12[[#This Row],[Admin Unit Name]],AdminUnits[],3,FALSE)","v":"Sud"},{"$f":"VLOOKUP(Main3WData12[[#This Row],[Admin Unit Name]],AdminUnits[],4,FALSE)","v":5},{"$f":"VLOOKUP(Main3WData12[[#This Row],[Sector]],Sectors[],2,FALSE)","v":5}]
[null,"JEKATAANIEN",{"$f":"INDEX(Organizations[],MATCH(Main3WData12[[#This Row],[Acronym]],AcronymList,0),1)","v":"JEKATAANIEN"},{"$f":"INDEX(Organizations[],MATCH(Main3WData12[[#This Row],[Acronym]],AcronymList,0),3)","v":"ONG Nat."},"Sécurité alimentaire","Regulier","Sikasso",{"$f":"VLOOKUP(Main3WData12[[#This Row],[Admin Unit Name]],AdminUnits[],2,FALSE)","v":"ML03"},{"$f":"VLOOKUP(Main3WData12[[#This Row],[Admin Unit Name]],AdminUnits[],3,FALSE)","v":"Sud"},{"$f":"VLOOKUP(Main3WData12[[#This Row],[Admin Unit Name]],AdminUnits[],4,FALSE)","v":3},{"$f":"VLOOKUP(Main3WData12[[#This Row],[Sector]],Sectors[],2,FALSE)","v":7}]
[null,"IR",{"$f":"INDEX(Organizations[],MATCH(Main3WData12[[#This Row],[Acronym]],AcronymList,0),1)","v":{"$error":"#N/A"}},{"$f":"INDEX(Organizations[],MATCH(Main3WData12[[#This Row],[Acronym]],AcronymList,0),3)","v":{"$error":"#N/A"}},"Protection","Regulier","Bamako",{"$f":"VLOOKUP(Main3WData12[[#This Row],[Admin Unit Name]],AdminUnits[],2,FALSE)","v":"ML09"},{"$f":"VLOOKUP(Main3WData12[[#This Row],[Admin Unit Name]],AdminUnits[],3,FALSE)","v":"Sud"},{"$f":"VLOOKUP(Main3WData12[[#This Row],[Admin Unit Name]],AdminUnits[],4,FALSE)","v":0},{"$f":"VLOOKUP(Main3WData12[[#This Row],[Sector]],Sectors[],2,FALSE)","v":5}]
[null,"IR",{"$f":"INDEX(Organizations[],MATCH(Main3WData12[[#This Row],[Acronym]],AcronymList,0),1)","v":{"$error":"#N/A"}},{"$f":"INDEX(Organizations[],MATCH(Main3WData12[[#This Row],[Acronym]],AcronymList,0),3)","v":{"$error":"#N/A"}},"Education","Regulier","Koulikoro",{"$f":"VLOOKUP(Main3WData12[[#This Row],[Admin Unit Name]],AdminUnits[],2,FALSE)","v":"ML02"},{"$f":"VLOOKUP(Main3WData12[[#This Row],[Admin Unit Name]],AdminUnits[],3,FALSE)","v":"Sud"},{"$f":"VLOOKUP(Main3WData12[[#This Row],[Admin Unit Name]],AdminUnits[],4,FALSE)","v":2},{"$f":"VLOOKUP(Main3WData12[[#This Row],[Sector]],Sectors[],2,FALSE)","v":3}]
[null,"IR",{"$f":"INDEX(Organizations[],MATCH(Main3WData12[[#This Row],[Acronym]],AcronymList,0),1)","v":{"$error":"#N/A"}},{"$f":"INDEX(Organizations[],MATCH(Main3WData12[[#This Row],[Acronym]],AcronymList,0),3)","v":{"$error":"#N/A"}},"Sécurité alimentaire","Regulier","Mopti",{"$f":"VLOOKUP(Main3WData12[[#This Row],[Admin Unit Name]],AdminUnits[],2,FALSE)","v":"ML05"},{"$f":"VLOOKUP(Main3WData12[[#This Row],[Admin Unit Name]],AdminUnits[],3,FALSE)","v":"Sud"},{"$f":"VLOOKUP(Main3WData12[[#This Row],[Admin Unit Name]],AdminUnits[],4,FALSE)","v":5},{"$f":"VLOOKUP(Main3WData12[[#This Row],[Sector]],Sectors[],2,FALSE)","v":7}]
[null,"IR",{"$f":"INDEX(Organizations[],MATCH(Main3WData12[[#This Row],[Acronym]],AcronymList,0),1)","v":{"$error":"#N/A"}},{"$f":"INDEX(Organizations[],MATCH(Main3WData12[[#This Row],[Acronym]],AcronymList,0),3)","v":{"$error":"#N/A"}},"EHA","Regulier","Koulikoro",{"$f":"VLOOKUP(Main3WData12[[#This Row],[Admin Unit Name]],AdminUnits[],2,FALSE)","v":"ML02"},{"$f":"VLOOKUP(Main3WData12[[#This Row],[Admin Unit Name]],AdminUnits[],3,FALSE)","v":"Sud"},{"$f":"VLOOKUP(Main3WData12[[#This Row],[Admin Unit Name]],AdminUnits[],4,FALSE)","v":2},{"$f":"VLOOKUP(Main3WData12[[#This Row],[Sector]],Sectors[],2,FALSE)","v":8}]
[null,"IR",{"$f":"INDEX(Organizations[],MATCH(Main3WData12[[#This Row],[Acronym]],AcronymList,0),1)","v":{"$error":"#N/A"}},{"$f":"INDEX(Organizations[],MATCH(Main3WData12[[#This Row],[Acronym]],AcronymList,0),3)","v":{"$error":"#N/A"}},"Sécurité alimentaire","Regulier","Tombouctou",{"$f":"VLOOKUP(Main3WData12[[#This Row],[Admin Unit Name]],AdminUnits[],2,FALSE)","v":"ML06"},{"$f":"VLOOKUP(Main3WData12[[#This Row],[Admin Unit Name]],AdminUnits[],3,FALSE)","v":"Nord"},{"$f":"VLOOKUP(Main3WData12[[#This Row],[Admin Unit Name]],AdminUnits[],4,FALSE)","v":6},{"$f":"VLOOKUP(Main3WData12[[#This Row],[Sector]],Sectors[],2,FALSE)","v":7}]
[null,"IR",{"$f":"INDEX(Organizations[],MATCH(Main3WData12[[#This Row],[Acronym]],AcronymList,0),1)","v":{"$error":"#N/A"}},{"$f":"INDEX(Organizations[],MATCH(Main3WData12[[#This Row],[Acronym]],AcronymList,0),3)","v":{"$error":"#N/A"}},"EHA","Regulier","Tombouctou",{"$f":"VLOOKUP(Main3WData12[[#This Row],[Admin Unit Name]],AdminUnits[],2,FALSE)","v":"ML06"},{"$f":"VLOOKUP(Main3WData12[[#This Row],[Admin Unit Name]],AdminUnits[],3,FALSE)","v":"Nord"},{"$f":"VLOOKUP(Main3WData12[[#This Row],[Admin Unit Name]],AdminUnits[],4,FALSE)","v":6},{"$f":"VLOOKUP(Main3WData12[[#This Row],[Sector]],Sectors[],2,FALSE)","v":8}]
[null,"IRC",{"$f":"INDEX(Organizations[],MATCH(Main3WData12[[#This Row],[Acronym]],AcronymList,0),1)","v":"International Rescue Committee"},{"$f":"INDEX(Organizations[],MATCH(Main3WData12[[#This Row],[Acronym]],AcronymList,0),3)","v":"ONG Int."},"Abris et NFI","Regulier","Gao",{"$f":"VLOOKUP(Main3WData12[[#This Row],[Admin Unit Name]],AdminUnits[],2,FALSE)","v":"ML07"},{"$f":"VLOOKUP(Main3WData12[[#This Row],[Admin Unit Name]],AdminUnits[],3,FALSE)","v":"Nord"},{"$f":"VLOOKUP(Main3WData12[[#This Row],[Admin Unit Name]],AdminUnits[],4,FALSE)","v":7},{"$f":"VLOOKUP(Main3WData12[[#This Row],[Sector]],Sectors[],2,FALSE)","v":1}]
[null,"IRC",{"$f":"INDEX(Organizations[],MATCH(Main3WData12[[#This Row],[Acronym]],AcronymList,0),1)","v":"International Rescue Committee"},{"$f":"INDEX(Organizations[],MATCH(Main3WData12[[#This Row],[Acronym]],AcronymList,0),3)","v":"ONG Int."},"Education","Regulier","Gao",{"$f":"VLOOKUP(Main3WData12[[#This Row],[Admin Unit Name]],AdminUnits[],2,FALSE)","v":"ML07"},{"$f":"VLOOKUP(Main3WData12[[#This Row],[Admin Unit Name]],AdminUnits[],3,FALSE)","v":"Nord"},{"$f":"VLOOKUP(Main3WData12[[#This Row],[Admin Unit Name]],AdminUnits[],4,FALSE)","v":7},{"$f":"VLOOKUP(Main3WData12[[#This Row],[Sector]],Sectors[],2,FALSE)","v":3}]
[null,"IRC",{"$f":"INDEX(Organizations[],MATCH(Main3WData12[[#This Row],[Acronym]],AcronymList,0),1)","v":"International Rescue Committee"},{"$f":"INDEX(Organizations[],MATCH(Main3WData12[[#This Row],[Acronym]],AcronymList,0),3)","v":"ONG Int."},"Protection","Regulier","Gao",{"$f":"VLOOKUP(Main3WData12[[#This Row],[Admin Unit Name]],AdminUnits[],2,FALSE)","v":"ML07"},{"$f":"VLOOKUP(Main3WData12[[#This Row],[Admin Unit Name]],AdminUnits[],3,FALSE)","v":"Nord"},{"$f":"VLOOKUP(Main3WData12[[#This Row],[Admin Unit Name]],AdminUnits[],4,FALSE)","v":7},{"$f":"VLOOKUP(Main3WData12[[#This Row],[Sector]],Sectors[],2,FALSE)","v":5}]
[null,"IRC",{"$f":"INDEX(Organizations[],MATCH(Main3WData12[[#This Row],[Acronym]],AcronymList,0),1)","v":"International Rescue Committee"},{"$f":"INDEX(Organizations[],MATCH(Main3WData12[[#This Row],[Acronym]],AcronymList,0),3)","v":"ONG Int."},"Education","Regulier","Koulikoro",{"$f":"VLOOKUP(Main3WData12[[#This Row],[Admin Unit Name]],AdminUnits[],2,FALSE)","v":"ML02"},{"$f":"VLOOKUP(Main3WData12[[#This Row],[Admin Unit Name]],AdminUnits[],3,FALSE)","v":"Sud"},{"$f":"VLOOKUP(Main3WData12[[#This Row],[Admin Unit Name]],AdminUnits[],4,FALSE)","v":2},{"$f":"VLOOKUP(Main3WData12[[#This Row],[Sector]],Sectors[],2,FALSE)","v":3}]
[null,"IRC",{"$f":"INDEX(Organizations[],MATCH(Main3WData12[[#This Row],[Acronym]],AcronymList,0),1)","v":"International Rescue Committee"},{"$f":"INDEX(Organizations[],MATCH(Main3WData12[[#This Row],[Acronym]],AcronymList,0),3)","v":"ONG Int."},"Nutrition","Regulier","Koulikoro",{"$f":"VLOOKUP(Main3WData12[[#This Row],[Admin Unit Name]],AdminUnits[],2,FALSE)","v":"ML02"},{"$f":"VLOOKUP(Main3WData12[[#This Row],[Admin Unit Name]],AdminUnits[],3,FALSE)","v":"Sud"},{"$f":"VLOOKUP(Main3WData12[[#This Row],[Admin Unit Name]],AdminUnits[],4,FALSE)","v":2},{"$f":"VLOOKUP(Main3WData12[[#This Row],[Sector]],Sectors[],2,FALSE)","v":4}]
[null,"IRC",{"$f":"INDEX(Organizations[],MATCH(Main3WData12[[#This Row],[Acronym]],AcronymList,0),1)","v":"International Rescue Committee"},{"$f":"INDEX(Organizations[],MATCH(Main3WData12[[#This Row],[Acronym]],AcronymList,0),3)","v":"ONG Int."},"Protection","Regulier","Bamako",{"$f":"VLOOKUP(Main3WData12[[#This Row],[Admin Unit Name]],AdminUnits[],2,FALSE)","v":"ML09"},{"$f":"VLOOKUP(Main3WData12[[#This Row],[Admin Unit Name]],AdminUnits[],3,FALSE)","v":"Sud"},{"$f":"VLOOKUP(Main3WData12[[#This Row],[Admin Unit Name]],AdminUnits[],4,FALSE)","v":0},{"$f":"VLOOKUP(Main3WData12[[#This Row],[Sector]],Sectors[],2,FALSE)","v":5}]
[null,"IRC",{"$f":"INDEX(Organizations[],MATCH(Main3WData12[[#This Row],[Acronym]],AcronymList,0),1)","v":"International Rescue Committee"},{"$f":"INDEX(Organizations[],MATCH(Main3WData12[[#This Row],[Acronym]],AcronymList,0),3)","v":"ONG Int."},"Protection","Regulier","Sikasso",{"$f":"VLOOKUP(Main3WData12[[#This Row],[Admin Unit Name]],AdminUnits[],2,FALSE)","v":"ML03"},{"$f":"VLOOKUP(Main3WData12[[#This Row],[Admin Unit Name]],AdminUnits[],3,FALSE)","v":"Sud"},{"$f":"VLOOKUP(Main3WData12[[#This Row],[Admin Unit Name]],AdminUnits[],4,FALSE)","v":3},{"$f":"VLOOKUP(Main3WData12[[#This Row],[Sector]],Sectors[],2,FALSE)","v":5}]
[null,"IRC",{"$f":"INDEX(Organizations[],MATCH(Main3WData12[[#This Row],[Acronym]],AcronymList,0),1)","v":"International Rescue Committee"},{"$f":"INDEX(Organizations[],MATCH(Main3WData12[[#This Row],[Acronym]],AcronymList,0),3)","v":"ONG Int."},"EHA","Regulier","Gao",{"$f":"VLOOKUP(Main3WData12[[#This Row],[Admin Unit Name]],AdminUnits[],2,FALSE)","v":"ML07"},{"$f":"VLOOKUP(Main3WData12[[#This Row],[Admin Unit Name]],AdminUnits[],3,FALSE)","v":"Nord"},{"$f":"VLOOKUP(Main3WData12[[#This Row],[Admin Unit Name]],AdminUnits[],4,FALSE)","v":7},{"$f":"VLOOKUP(Main3WData12[[#This Row],[Sector]],Sectors[],2,FALSE)","v":8}]
[null,"IRC",{"$f":"INDEX(Organizations[],MATCH(Main3WData12[[#This Row],[Acronym]],AcronymList,0),1)","v":"International Rescue Committee"},{"$f":"INDEX(Organizations[],MATCH(Main3WData12[[#This Row],[Acronym]],AcronymList,0),3)","v":"ONG Int."},"EHA","Regulier","Koulikoro",{"$f":"VLOOKUP(Main3WData12[[#This Row],[Admin Unit Name]],AdminUnits[],2,FALSE)","v":"ML02"},{"$f":"VLOOKUP(Main3WData12[[#This Row],[Admin Unit Name]],AdminUnits[],3,FALSE)","v":"Sud"},{"$f":"VLOOKUP(Main3WData12[[#This Row],[Admin Unit Name]],AdminUnits[],4,FALSE)","v":2},{"$f":"VLOOKUP(Main3WData12[[#This Row],[Sector]],Sectors[],2,FALSE)","v":8}]
[null,"Intervida",{"$f":"INDEX(Organizations[],MATCH(Main3WData12[[#This Row],[Acronym]],AcronymList,0),1)","v":"Intervida"},{"$f":"INDEX(Organizations[],MATCH(Main3WData12[[#This Row],[Acronym]],AcronymList,0),3)","v":"ONG Int."},"Education","Regulier","Segou",{"$f":"VLOOKUP(Main3WData12[[#This Row],[Admin Unit Name]],AdminUnits[],2,FALSE)","v":"ML04"},{"$f":"VLOOKUP(Main3WData12[[#This Row],[Admin Unit Name]],AdminUnits[],3,FALSE)","v":"Sud"},{"$f":"VLOOKUP(Main3WData12[[#This Row],[Admin Unit Name]],AdminUnits[],4,FALSE)","v":4},{"$f":"VLOOKUP(Main3WData12[[#This Row],[Sector]],Sectors[],2,FALSE)","v":3}]
[null,"Intersos",{"$f":"INDEX(Organizations[],MATCH(Main3WData12[[#This Row],[Acronym]],AcronymList,0),1)","v":"Intersos"},{"$f":"INDEX(Organizations[],MATCH(Main3WData12[[#This Row],[Acronym]],AcronymList,0),3)","v":"ONG Int."},"Protection","Regulier","Mopti",{"$f":"VLOOKUP(Main3WData12[[#This Row],[Admin Unit Name]],AdminUnits[],2,FALSE)","v":"ML05"},{"$f":"VLOOKUP(Main3WData12[[#This Row],[Admin Unit Name]],AdminUnits[],3,FALSE)","v":"Sud"},{"$f":"VLOOKUP(Main3WData12[[#This Row],[Admin Unit Name]],AdminUnits[],4,FALSE)","v":5},{"$f":"VLOOKUP(Main3WData12[[#This Row],[Sector]],Sectors[],2,FALSE)","v":5}]
[null,"Intersos",{"$f":"INDEX(Organizations[],MATCH(Main3WData12[[#This Row],[Acronym]],AcronymList,0),1)","v":"Intersos"},{"$f":"INDEX(Organizations[],MATCH(Main3WData12[[#This Row],[Acronym]],AcronymList,0),3)","v":"ONG Int."},"Abris et NFI","Regulier","Mopti",{"$f":"VLOOKUP(Main3WData12[[#This Row],[Admin Unit Name]],AdminUnits[],2,FALSE)","v":"ML05"},{"$f":"VLOOKUP(Main3WData12[[#This Row],[Admin Unit Name]],AdminUnits[],3,FALSE)","v":"Sud"},{"$f":"VLOOKUP(Main3WData12[[#This Row],[Admin Unit Name]],AdminUnits[],4,FALSE)","v":5},{"$f":"VLOOKUP(Main3WData12[[#This Row],[Sector]],Sectors[],2,FALSE)","v":1}]
[null,"IFRC",{"$f":"INDEX(Organizations[],MATCH(Main3WData12[[#This Row],[Acronym]],AcronymList,0),1)","v":"Federation Internationale de la Croix-Rouge"},{"$f":"INDEX(Organizations[],MATCH(Main3WData12[[#This Row],[Acronym]],AcronymList,0),3)","v":"Mouv. Croix-rouge"},"Sécurité alimentaire","Regulier","Koulikoro",{"$f":"VLOOKUP(Main3WData12[[#This Row],[Admin Unit Name]],AdminUnits[],2,FALSE)","v":"ML02"},{"$f":"VLOOKUP(Main3WData12[[#This Row],[Admin Unit Name]],AdminUnits[],3,FALSE)","v":"Sud"},{"$f":"VLOOKUP(Main3WData12[[#This Row],[Admin Unit Name]],AdminUnits[],4,FALSE)","v":2},{"$f":"VLOOKUP(Main3WData12[[#This Row],[Sector]],Sectors[],2,FALSE)","v":7}]
[null,"IFRC",{"$f":"INDEX(Organizations[],MATCH(Main3WData12[[#This Row],[Acronym]],AcronymList,0),1)","v":"Federation Internationale de la Croix-Rouge"},{"$f":"INDEX(Organizations[],MATCH(Main3WData12[[#This Row],[Acronym]],AcronymList,0),3)","v":"Mouv. Croix-rouge"},"Sécurité alimentaire","Regulier","Segou",{"$f":"VLOOKUP(Main3WData12[[#This Row],[Admin Unit Name]],AdminUnits[],2,FALSE)","v":"ML04"},{"$f":"VLOOKUP(Main3WData12[[#This Row],[Admin Unit Name]],AdminUnits[],3,FALSE)","v":"Sud"},{"$f":"VLOOKUP(Main3WData12[[#This Row],[Admin Unit Name]],AdminUnits[],4,FALSE)","v":4},{"$f":"VLOOKUP(Main3WData12[[#This Row],[Sector]],Sectors[],2,FALSE)","v":7}]
[null,"IFRC",{"$f":"INDEX(Organizations[],MATCH(Main3WData12[[#This Row],[Acronym]],AcronymList,0),1)","v":"Federation Internationale de la Croix-Rouge"},{"$f":"INDEX(Organizations[],MATCH(Main3WData12[[#This Row],[Acronym]],AcronymList,0),3)","v":"Mouv. Croix-rouge"},"Sécurité alimentaire","Regulier","Kayes",{"$f":"VLOOKUP(Main3WData12[[#This Row],[Admin Unit Name]],AdminUnits[],2,FALSE)","v":"ML01"},{"$f":"VLOOKUP(Main3WData12[[#This Row],[Admin Unit Name]],AdminUnits[],3,FALSE)","v":"Sud"},{"$f":"VLOOKUP(Main3WData12[[#This Row],[Admin Unit Name]],AdminUnits[],4,FALSE)","v":1},{"$f":"VLOOKUP(Main3WData12[[#This Row],[Sector]],Sectors[],2,FALSE)","v":7}]
[null,"ICCO",{"$f":"INDEX(Organizations[],MATCH(Main3WData12[[#This Row],[Acronym]],AcronymList,0),1)","v":"ICCO"},{"$f":"INDEX(Organizations[],MATCH(Main3WData12[[#This Row],[Acronym]],AcronymList,0),3)","v":"ONG Int."},"Sécurité alimentaire","Regulier","Mopti",{"$f":"VLOOKUP(Main3WData12[[#This Row],[Admin Unit Name]],AdminUnits[],2,FALSE)","v":"ML05"},{"$f":"VLOOKUP(Main3WData12[[#This Row],[Admin Unit Name]],AdminUnits[],3,FALSE)","v":"Sud"},{"$f":"VLOOKUP(Main3WData12[[#This Row],[Admin Unit Name]],AdminUnits[],4,FALSE)","v":5},{"$f":"VLOOKUP(Main3WData12[[#This Row],[Sector]],Sectors[],2,FALSE)","v":7}]
[null,"ICCO",{"$f":"INDEX(Organizations[],MATCH(Main3WData12[[#This Row],[Acronym]],AcronymList,0),1)","v":"ICCO"},{"$f":"INDEX(Organizations[],MATCH(Main3WData12[[#This Row],[Acronym]],AcronymList,0),3)","v":"ONG Int."},"Sécurité alimentaire","Regulier","Segou",{"$f":"VLOOKUP(Main3WData12[[#This Row],[Admin Unit Name]],AdminUnits[],2,FALSE)","v":"ML04"},{"$f":"VLOOKUP(Main3WData12[[#This Row],[Admin Unit Name]],AdminUnits[],3,FALSE)","v":"Sud"},{"$f":"VLOOKUP(Main3WData12[[#This Row],[Admin Unit Name]],AdminUnits[],4,FALSE)","v":4},{"$f":"VLOOKUP(Main3WData12[[#This Row],[Sector]],Sectors[],2,FALSE)","v":7}]
[null,"ICCO",{"$f":"INDEX(Organizations[],MATCH(Main3WData12[[#This Row],[Acronym]],AcronymList,0),1)","v":"ICCO"},{"$f":"INDEX(Organizations[],MATCH(Main3WData12[[#This Row],[Acronym]],AcronymList,0),3)","v":"ONG Int."},"Sécurité alimentaire","Regulier","Tombouctou",{"$f":"VLOOKUP(Main3WData12[[#This Row],[Admin Unit Name]],AdminUnits[],2,FALSE)","v":"ML06"},{"$f":"VLOOKUP(Main3WData12[[#This Row],[Admin Unit Name]],AdminUnits[],3,FALSE)","v":"Nord"},{"$f":"VLOOKUP(Main3WData12[[#This Row],[Admin Unit Name]],AdminUnits[],4,FALSE)","v":6},{"$f":"VLOOKUP(Main3WData12[[#This Row],[Sector]],Sectors[],2,FALSE)","v":7}]
[null,"HKI",{"$f":"INDEX(Organizations[],MATCH(Main3WData12[[#This Row],[Acronym]],AcronymList,0),1)","v":"Helen Keller International"},{"$f":"INDEX(Organizations[],MATCH(Main3WData12[[#This Row],[Acronym]],AcronymList,0),3)","v":"ONG Int."},"Nutrition","Regulier","Koulikoro",{"$f":"VLOOKUP(Main3WData12[[#This Row],[Admin Unit Name]],AdminUnits[],2,FALSE)","v":"ML02"},{"$f":"VLOOKUP(Main3WData12[[#This Row],[Admin Unit Name]],AdminUnits[],3,FALSE)","v":"Sud"},{"$f":"VLOOKUP(Main3WData12[[#This Row],[Admin Unit Name]],AdminUnits[],4,FALSE)","v":2},{"$f":"VLOOKUP(Main3WData12[[#This Row],[Sector]],Sectors[],2,FALSE)","v":4}]
[null,"HKI",{"$f":"INDEX(Organizations[],MATCH(Main3WData12[[#This Row],[Acronym]],AcronymList,0),1)","v":"Helen Keller International"},{"$f":"INDEX(Organizations[],MATCH(Main3WData12[[#This Row],[Acronym]],AcronymList,0),3)","v":"ONG Int."},"Nutrition","Regulier","Sikasso",{"$f":"VLOOKUP(Main3WData12[[#This Row],[Admin Unit Name]],AdminUnits[],2,FALSE)","v":"ML03"},{"$f":"VLOOKUP(Main3WData12[[#This Row],[Admin Unit Name]],AdminUnits[],3,FALSE)","v":"Sud"},{"$f":"VLOOKUP(Main3WData12[[#This Row],[Admin Unit Name]],AdminUnits[],4,FALSE)","v":3},{"$f":"VLOOKUP(Main3WData12[[#This Row],[Sector]],Sectors[],2,FALSE)","v":4}]
[null,"HI",{"$f":"INDEX(Organizations[],MATCH(Main3WData12[[#This Row],[Acronym]],AcronymList,0),1)","v":"Handicap International"},{"$f":"INDEX(Organizations[],MATCH(Main3WData12[[#This Row],[Acronym]],AcronymList,0),3)","v":"ONG Int."},"Protection","Regulier","Bamako",{"$f":"VLOOKUP(Main3WData12[[#This Row],[Admin Unit Name]],AdminUnits[],2,FALSE)","v":"ML09"},{"$f":"VLOOKUP(Main3WData12[[#This Row],[Admin Unit Name]],AdminUnits[],3,FALSE)","v":"Sud"},{"$f":"VLOOKUP(Main3WData12[[#This Row],[Admin Unit Name]],AdminUnits[],4,FALSE)","v":0},{"$f":"VLOOKUP(Main3WData12[[#This Row],[Sector]],Sectors[],2,FALSE)","v":5}]
[null,"HI",{"$f":"INDEX(Organizations[],MATCH(Main3WData12[[#This Row],[Acronym]],AcronymList,0),1)","v":"Handicap International"},{"$f":"INDEX(Organizations[],MATCH(Main3WData12[[#This Row],[Acronym]],AcronymList,0),3)","v":"ONG Int."},"Protection","Regulier","Mopti",{"$f":"VLOOKUP(Main3WData12[[#This Row],[Admin Unit Name]],AdminUnits[],2,FALSE)","v":"ML05"},{"$f":"VLOOKUP(Main3WData12[[#This Row],[Admin Unit Name]],AdminUnits[],3,FALSE)","v":"Sud"},{"$f":"VLOOKUP(Main3WData12[[#This Row],[Admin Unit Name]],AdminUnits[],4,FALSE)","v":5},{"$f":"VLOOKUP(Main3WData12[[#This Row],[Sector]],Sectors[],2,FALSE)","v":5}]
[null,"HI",{"$f":"INDEX(Organizations[],MATCH(Main3WData12[[#This Row],[Acronym]],AcronymList,0),1)","v":"Handicap International"},{"$f":"INDEX(Organizations[],MATCH(Main3WData12[[#This Row],[Acronym]],AcronymList,0),3)","v":"ONG Int."},"Protection","Regulier","Tombouctou",{"$f":"VLOOKUP(Main3WData12[[#This Row],[Admin Unit Name]],AdminUnits[],2,FALSE)","v":"ML06"},{"$f":"VLOOKUP(Main3WData12[[#This Row],[Admin Unit Name]],AdminUnits[],3,FALSE)","v":"Nord"},{"$f":"VLOOKUP(Main3WData12[[#This Row],[Admin Unit Name]],AdminUnits[],4,FALSE)","v":6},{"$f":"VLOOKUP(Main3WData12[[#This Row],[Sector]],Sectors[],2,FALSE)","v":5}]
[null,"HI",{"$f":"INDEX(Organizations[],MATCH(Main3WData12[[#This Row],[Acronym]],AcronymList,0),1)","v":"Handicap International"},{"$f":"INDEX(Organizations[],MATCH(Main3WData12[[#This Row],[Acronym]],AcronymList,0),3)","v":"ONG Int."},"Sécurité alimentaire","Regulier","Tombouctou",{"$f":"VLOOKUP(Main3WData12[[#This Row],[Admin Unit Name]],AdminUnits[],2,FALSE)","v":"ML06"},{"$f":"VLOOKUP(Main3WData12[[#This Row],[Admin Unit Name]],AdminUnits[],3,FALSE)","v":"Nord"},{"$f":"VLOOKUP(Main3WData12[[#This Row],[Admin Unit Name]],AdminUnits[],4,FALSE)","v":6},{"$f":"VLOOKUP(Main3WData12[[#This Row],[Sector]],Sectors[],2,FALSE)","v":7}]
[null,"HI",{"$f":"INDEX(Organizations[],MATCH(Main3WData12[[#This Row],[Acronym]],AcronymList,0),1)","v":"Handicap International"},{"$f":"INDEX(Organizations[],MATCH(Main3WData12[[#This Row],[Acronym]],AcronymList,0),3)","v":"ONG Int."},"EHA","Regulier","Tombouctou",{"$f":"VLOOKUP(Main3WData12[[#This Row],[Admin Unit Name]],AdminUnits[],2,FALSE)","v":"ML06"},{"$f":"VLOOKUP(Main3WData12[[#This Row],[Admin Unit Name]],AdminUnits[],3,FALSE)","v":"Nord"},{"$f":"VLOOKUP(Main3WData12[[#This Row],[Admin Unit Name]],AdminUnits[],4,FALSE)","v":6},{"$f":"VLOOKUP(Main3WData12[[#This Row],[Sector]],Sectors[],2,FALSE)","v":8}]
[null,"HI",{"$f":"INDEX(Organizations[],MATCH(Main3WData12[[#This Row],[Acronym]],AcronymList,0),1)","v":"Handicap International"},{"$f":"INDEX(Organizations[],MATCH(Main3WData12[[#This Row],[Acronym]],AcronymList,0),3)","v":"ONG Int."},"Nutrition","Regulier","Tombouctou",{"$f":"VLOOKUP(Main3WData12[[#This Row],[Admin Unit Name]],AdminUnits[],2,FALSE)","v":"ML06"},{"$f":"VLOOKUP(Main3WData12[[#This Row],[Admin Unit Name]],AdminUnits[],3,FALSE)","v":"Nord"},{"$f":"VLOOKUP(Main3WData12[[#This Row],[Admin Unit Name]],AdminUnits[],4,FALSE)","v":6},{"$f":"VLOOKUP(Main3WData12[[#This Row],[Sector]],Sectors[],2,FALSE)","v":4}]
[null,"HI",{"$f":"INDEX(Organizations[],MATCH(Main3WData12[[#This Row],[Acronym]],AcronymList,0),1)","v":"Handicap International"},{"$f":"INDEX(Organizations[],MATCH(Main3WData12[[#This Row],[Acronym]],AcronymList,0),3)","v":"ONG Int."},"Protection","Regulier","Gao",{"$f":"VLOOKUP(Main3WData12[[#This Row],[Admin Unit Name]],AdminUnits[],2,FALSE)","v":"ML07"},{"$f":"VLOOKUP(Main3WData12[[#This Row],[Admin Unit Name]],AdminUnits[],3,FALSE)","v":"Nord"},{"$f":"VLOOKUP(Main3WData12[[#This Row],[Admin Unit Name]],AdminUnits[],4,FALSE)","v":7},{"$f":"VLOOKUP(Main3WData12[[#This Row],[Sector]],Sectors[],2,FALSE)","v":5}]
[null,"HI",{"$f":"INDEX(Organizations[],MATCH(Main3WData12[[#This Row],[Acronym]],AcronymList,0),1)","v":"Handicap International"},{"$f":"INDEX(Organizations[],MATCH(Main3WData12[[#This Row],[Acronym]],AcronymList,0),3)","v":"ONG Int."},"Sécurité alimentaire","Regulier","Tombouctou",{"$f":"VLOOKUP(Main3WData12[[#This Row],[Admin Unit Name]],AdminUnits[],2,FALSE)","v":"ML06"},{"$f":"VLOOKUP(Main3WData12[[#This Row],[Admin Unit Name]],AdminUnits[],3,FALSE)","v":"Nord"},{"$f":"VLOOKUP(Main3WData12[[#This Row],[Admin Unit Name]],AdminUnits[],4,FALSE)","v":6},{"$f":"VLOOKUP(Main3WData12[[#This Row],[Sector]],Sectors[],2,FALSE)","v":7}]
[null,"GREFFA",{"$f":"INDEX(Organizations[],MATCH(Main3WData12[[#This Row],[Acronym]],AcronymList,0),1)","v":"GREFFA"},{"$f":"INDEX(Organizations[],MATCH(Main3WData12[[#This Row],[Acronym]],AcronymList,0),3)","v":"ONG Nat."},"Protection","Regulier","Gao",{"$f":"VLOOKUP(Main3WData12[[#This Row],[Admin Unit Name]],AdminUnits[],2,FALSE)","v":"ML07"},{"$f":"VLOOKUP(Main3WData12[[#This Row],[Admin Unit Name]],AdminUnits[],3,FALSE)","v":"Nord"},{"$f":"VLOOKUP(Main3WData12[[#This Row],[Admin Unit Name]],AdminUnits[],4,FALSE)","v":7},{"$f":"VLOOKUP(Main3WData12[[#This Row],[Sector]],Sectors[],2,FALSE)","v":5}]
[null,"GREFFA",{"$f":"INDEX(Organizations[],MATCH(Main3WData12[[#This Row],[Acronym]],AcronymList,0),1)","v":"GREFFA"},{"$f":"INDEX(Organizations[],MATCH(Main3WData12[[#This Row],[Acronym]],AcronymList,0),3)","v":"ONG Nat."},"Protection","Regulier","Bamako",{"$f":"VLOOKUP(Main3WData12[[#This Row],[Admin Unit Name]],AdminUnits[],2,FALSE)","v":"ML09"},{"$f":"VLOOKUP(Main3WData12[[#This Row],[Admin Unit Name]],AdminUnits[],3,FALSE)","v":"Sud"},{"$f":"VLOOKUP(Main3WData12[[#This Row],[Admin Unit Name]],AdminUnits[],4,FALSE)","v":0},{"$f":"VLOOKUP(Main3WData12[[#This Row],[Sector]],Sectors[],2,FALSE)","v":5}]
[null,"GREFFA",{"$f":"INDEX(Organizations[],MATCH(Main3WData12[[#This Row],[Acronym]],AcronymList,0),1)","v":"GREFFA"},{"$f":"INDEX(Organizations[],MATCH(Main3WData12[[#This Row],[Acronym]],AcronymList,0),3)","v":"ONG Nat."},"Protection","Regulier","Mopti",{"$f":"VLOOKUP(Main3WData12[[#This Row],[Admin Unit Name]],AdminUnits[],2,FALSE)","v":"ML05"},{"$f":"VLOOKUP(Main3WData12[[#This Row],[Admin Unit Name]],AdminUnits[],3,FALSE)","v":"Sud"},{"$f":"VLOOKUP(Main3WData12[[#This Row],[Admin Unit Name]],AdminUnits[],4,FALSE)","v":5},{"$f":"VLOOKUP(Main3WData12[[#This Row],[Sector]],Sectors[],2,FALSE)","v":5}]
[null,"GREFFA",{"$f":"INDEX(Organizations[],MATCH(Main3WData12[[#This Row],[Acronym]],AcronymList,0),1)","v":"GREFFA"},{"$f":"INDEX(Organizations[],MATCH(Main3WData12[[#This Row],[Acronym]],AcronymList,0),3)","v":"ONG Nat."},"Protection","Regulier","Kidal",{"$f":"VLOOKUP(Main3WData12[[#This Row],[Admin Unit Name]],AdminUnits[],2,FALSE)","v":"ML08"},{"$f":"VLOOKUP(Main3WData12[[#This Row],[Admin Unit Name]],AdminUnits[],3,FALSE)","v":"Nord"},{"$f":"VLOOKUP(Main3WData12[[#This Row],[Admin Unit Name]],AdminUnits[],4,FALSE)","v":8},{"$f":"VLOOKUP(Main3WData12[[#This Row],[Sector]],Sectors[],2,FALSE)","v":5}]
[null,"GRAT",{"$f":"INDEX(Organizations[],MATCH(Main3WData12[[#This Row],[Acronym]],AcronymList,0),1)","v":"GRAT"},{"$f":"INDEX(Organizations[],MATCH(Main3WData12[[#This Row],[Acronym]],AcronymList,0),3)","v":"ONG Nat."},"Sécurité alimentaire","Regulier","Mopti",{"$f":"VLOOKUP(Main3WData12[[#This Row],[Admin Unit Name]],AdminUnits[],2,FALSE)","v":"ML05"},{"$f":"VLOOKUP(Main3WData12[[#This Row],[Admin Unit Name]],AdminUnits[],3,FALSE)","v":"Sud"},{"$f":"VLOOKUP(Main3WData12[[#This Row],[Admin Unit Name]],AdminUnits[],4,FALSE)","v":5},{"$f":"VLOOKUP(Main3WData12[[#This Row],[Sector]],Sectors[],2,FALSE)","v":7}]
[null,"GRADECOM",{"$f":"INDEX(Organizations[],MATCH(Main3WData12[[#This Row],[Acronym]],AcronymList,0),1)","v":"GRADECOM"},{"$f":"INDEX(Organizations[],MATCH(Main3WData12[[#This Row],[Acronym]],AcronymList,0),3)","v":"ONG Int."},"Protection","Regulier","Kayes",{"$f":"VLOOKUP(Main3WData12[[#This Row],[Admin Unit Name]],AdminUnits[],2,FALSE)","v":"ML01"},{"$f":"VLOOKUP(Main3WData12[[#This Row],[Admin Unit Name]],AdminUnits[],3,FALSE)","v":"Sud"},{"$f":"VLOOKUP(Main3WData12[[#This Row],[Admin Unit Name]],AdminUnits[],4,FALSE)","v":1},{"$f":"VLOOKUP(Main3WData12[[#This Row],[Sector]],Sectors[],2,FALSE)","v":5}]
[null,"GRADECOM",{"$f":"INDEX(Organizations[],MATCH(Main3WData12[[#This Row],[Acronym]],AcronymList,0),1)","v":"GRADECOM"},{"$f":"INDEX(Organizations[],MATCH(Main3WData12[[#This Row],[Acronym]],AcronymList,0),3)","v":"ONG Int."},"Protection","Regulier","Mopti",{"$f":"VLOOKUP(Main3WData12[[#This Row],[Admin Unit Name]],AdminUnits[],2,FALSE)","v":"ML05"},{"$f":"VLOOKUP(Main3WData12[[#This Row],[Admin Unit Name]],AdminUnits[],3,FALSE)","v":"Sud"},{"$f":"VLOOKUP(Main3WData12[[#This Row],[Admin Unit Name]],AdminUnits[],4,FALSE)","v":5},{"$f":"VLOOKUP(Main3WData12[[#This Row],[Sector]],Sectors[],2,FALSE)","v":5}]
[null,"FCI -Mali",{"$f":"INDEX(Organizations[],MATCH(Main3WData12[[#This Row],[Acronym]],AcronymList,0),1)","v":{"$error":"#N/A"}},{"$f":"INDEX(Organizations[],MATCH(Main3WData12[[#This Row],[Acronym]],AcronymList,0),3)","v":{"$error":"#N/A"}},"Protection","Regulier","Mopti",{"$f":"VLOOKUP(Main3WData12[[#This Row],[Admin Unit Name]],AdminUnits[],2,FALSE)","v":"ML05"},{"$f":"VLOOKUP(Main3WData12[[#This Row],[Admin Unit Name]],AdminUnits[],3,FALSE)","v":"Sud"},{"$f":"VLOOKUP(Main3WData12[[#This Row],[Admin Unit Name]],AdminUnits[],4,FALSE)","v":5},{"$f":"VLOOKUP(Main3WData12[[#This Row],[Sector]],Sectors[],2,FALSE)","v":5}]
[null,"FAO",{"$f":"INDEX(Organizations[],MATCH(Main3WData12[[#This Row],[Acronym]],AcronymList,0),1)","v":"United Nations Food and Agriculture Organization"},{"$f":"INDEX(Organizations[],MATCH(Main3WData12[[#This Row],[Acronym]],AcronymList,0),3)","v":"UN"},"Sécurité alimentaire","Regulier","Koulikoro",{"$f":"VLOOKUP(Main3WData12[[#This Row],[Admin Unit Name]],AdminUnits[],2,FALSE)","v":"ML02"},{"$f":"VLOOKUP(Main3WData12[[#This Row],[Admin Unit Name]],AdminUnits[],3,FALSE)","v":"Sud"},{"$f":"VLOOKUP(Main3WData12[[#This Row],[Admin Unit Name]],AdminUnits[],4,FALSE)","v":2},{"$f":"VLOOKUP(Main3WData12[[#This Row],[Sector]],Sectors[],2,FALSE)","v":7}]
[null,"FAO",{"$f":"INDEX(Organizations[],MATCH(Main3WData12[[#This Row],[Acronym]],AcronymList,0),1)","v":"United Nations Food and Agriculture Organization"},{"$f":"INDEX(Organizations[],MATCH(Main3WData12[[#This Row],[Acronym]],AcronymList,0),3)","v":"UN"},"Sécurité alimentaire","Regulier","Mopti",{"$f":"VLOOKUP(Main3WData12[[#This Row],[Admin Unit Name]],AdminUnits[],2,FALSE)","v":"ML05"},{"$f":"VLOOKUP(Main3WData12[[#This Row],[Admin Unit Name]],AdminUnits[],3,FALSE)","v":"Sud"},{"$f":"VLOOKUP(Main3WData12[[#This Row],[Admin Unit Name]],AdminUnits[],4,FALSE)","v":5},{"$f":"VLOOKUP(Main3WData12[[#This Row],[Sector]],Sectors[],2,FALSE)","v":7}]
[null,"FAO",{"$f":"INDEX(Organizations[],MATCH(Main3WData12[[#This Row],[Acronym]],AcronymList,0),1)","v":"United Nations Food and Agriculture Organization"},{"$f":"INDEX(Organizations[],MATCH(Main3WData12[[#This Row],[Acronym]],AcronymList,0),3)","v":"UN"},"Sécurité alimentaire","Regulier","Segou",{"$f":"VLOOKUP(Main3WData12[[#This Row],[Admin Unit Name]],AdminUnits[],2,FALSE)","v":"ML04"},{"$f":"VLOOKUP(Main3WData12[[#This Row],[Admin Unit Name]],AdminUnits[],3,FALSE)","v":"Sud"},{"$f":"VLOOKUP(Main3WData12[[#This Row],[Admin Unit Name]],AdminUnits[],4,FALSE)","v":4},{"$f":"VLOOKUP(Main3WData12[[#This Row],[Sector]],Sectors[],2,FALSE)","v":7}]
[null,"FAO",{"$f":"INDEX(Organizations[],MATCH(Main3WData12[[#This Row],[Acronym]],AcronymList,0),1)","v":"United Nations Food and Agriculture Organization"},{"$f":"INDEX(Organizations[],MATCH(Main3WData12[[#This Row],[Acronym]],AcronymList,0),3)","v":"UN"},"Sécurité alimentaire","Regulier","Tombouctou",{"$f":"VLOOKUP(Main3WData12[[#This Row],[Admin Unit Name]],AdminUnits[],2,FALSE)","v":"ML06"},{"$f":"VLOOKUP(Main3WData12[[#This Row],[Admin Unit Name]],AdminUnits[],3,FALSE)","v":"Nord"},{"$f":"VLOOKUP(Main3WData12[[#This Row],[Admin Unit Name]],AdminUnits[],4,FALSE)","v":6},{"$f":"VLOOKUP(Main3WData12[[#This Row],[Sector]],Sectors[],2,FALSE)","v":7}]
[null,"ENDA MALI",{"$f":"INDEX(Organizations[],MATCH(Main3WData12[[#This Row],[Acronym]],AcronymList,0),1)","v":"ENDA MALI"},{"$f":"INDEX(Organizations[],MATCH(Main3WData12[[#This Row],[Acronym]],AcronymList,0),3)","v":"ONG Int."},"Protection","Regulier","Kayes",{"$f":"VLOOKUP(Main3WData12[[#This Row],[Admin Unit Name]],AdminUnits[],2,FALSE)","v":"ML01"},{"$f":"VLOOKUP(Main3WData12[[#This Row],[Admin Unit Name]],AdminUnits[],3,FALSE)","v":"Sud"},{"$f":"VLOOKUP(Main3WData12[[#This Row],[Admin Unit Name]],AdminUnits[],4,FALSE)","v":1},{"$f":"VLOOKUP(Main3WData12[[#This Row],[Sector]],Sectors[],2,FALSE)","v":5}]
[null,"ENDA MALI",{"$f":"INDEX(Organizations[],MATCH(Main3WData12[[#This Row],[Acronym]],AcronymList,0),1)","v":"ENDA MALI"},{"$f":"INDEX(Organizations[],MATCH(Main3WData12[[#This Row],[Acronym]],AcronymList,0),3)","v":"ONG Int."},"Protection","Regulier","Gao",{"$f":"VLOOKUP(Main3WData12[[#This Row],[Admin Unit Name]],AdminUnits[],2,FALSE)","v":"ML07"},{"$f":"VLOOKUP(Main3WData12[[#This Row],[Admin Unit Name]],AdminUnits[],3,FALSE)","v":"Nord"},{"$f":"VLOOKUP(Main3WData12[[#This Row],[Admin Unit Name]],AdminUnits[],4,FALSE)","v":7},{"$f":"VLOOKUP(Main3WData12[[#This Row],[Sector]],Sectors[],2,FALSE)","v":5}]
[null,"ENDA MALI",{"$f":"INDEX(Organizations[],MATCH(Main3WData12[[#This Row],[Acronym]],AcronymList,0),1)","v":"ENDA MALI"},{"$f":"INDEX(Organizations[],MATCH(Main3WData12[[#This Row],[Acronym]],AcronymList,0),3)","v":"ONG Int."},"Protection","Regulier","Mopti",{"$f":"VLOOKUP(Main3WData12[[#This Row],[Admin Unit Name]],AdminUnits[],2,FALSE)","v":"ML05"},{"$f":"VLOOKUP(Main3WData12[[#This Row],[Admin Unit Name]],AdminUnits[],3,FALSE)","v":"Sud"},{"$f":"VLOOKUP(Main3WData12[[#This Row],[Admin Unit Name]],AdminUnits[],4,FALSE)","v":5},{"$f":"VLOOKUP(Main3WData12[[#This Row],[Sector]],Sectors[],2,FALSE)","v":5}]
[null,"ENDA MALI",{"$f":"INDEX(Organizations[],MATCH(Main3WData12[[#This Row],[Acronym]],AcronymList,0),1)","v":"ENDA MALI"},{"$f":"INDEX(Organizations[],MATCH(Main3WData12[[#This Row],[Acronym]],AcronymList,0),3)","v":"ONG Int."},"Sécurité alimentaire","Regulier","Gao",{"$f":"VLOOKUP(Main3WData12[[#This Row],[Admin Unit Name]],AdminUnits[],2,FALSE)","v":"ML07"},{"$f":"VLOOKUP(Main3WData12[[#This Row],[Admin Unit Name]],AdminUnits[],3,FALSE)","v":"Nord"},{"$f":"VLOOKUP(Main3WData12[[#This Row],[Admin Unit Name]],AdminUnits[],4,FALSE)","v":7},{"$f":"VLOOKUP(Main3WData12[[#This Row],[Sector]],Sectors[],2,FALSE)","v":7}]
[null,"ENDA MALI",{"$f":"INDEX(Organizations[],MATCH(Main3WData12[[#This Row],[Acronym]],AcronymList,0),1)","v":"ENDA MALI"},{"$f":"INDEX(Organizations[],MATCH(Main3WData12[[#This Row],[Acronym]],AcronymList,0),3)","v":"ONG Int."},"Protection","Regulier","Bamako",{"$f":"VLOOKUP(Main3WData12[[#This Row],[Admin Unit Name]],AdminUnits[],2,FALSE)","v":"ML09"},{"$f":"VLOOKUP(Main3WData12[[#This Row],[Admin Unit Name]],AdminUnits[],3,FALSE)","v":"Sud"},{"$f":"VLOOKUP(Main3WData12[[#This Row],[Admin Unit Name]],AdminUnits[],4,FALSE)","v":0},{"$f":"VLOOKUP(Main3WData12[[#This Row],[Sector]],Sectors[],2,FALSE)","v":5}]
[null,"ENDA MALI",{"$f":"INDEX(Organizations[],MATCH(Main3WData12[[#This Row],[Acronym]],AcronymList,0),1)","v":"ENDA MALI"},{"$f":"INDEX(Organizations[],MATCH(Main3WData12[[#This Row],[Acronym]],AcronymList,0),3)","v":"ONG Int."},"Sécurité alimentaire","Regulier","Koulikoro",{"$f":"VLOOKUP(Main3WData12[[#This Row],[Admin Unit Name]],AdminUnits[],2,FALSE)","v":"ML02"},{"$f":"VLOOKUP(Main3WData12[[#This Row],[Admin Unit Name]],AdminUnits[],3,FALSE)","v":"Sud"},{"$f":"VLOOKUP(Main3WData12[[#This Row],[Admin Unit Name]],AdminUnits[],4,FALSE)","v":2},{"$f":"VLOOKUP(Main3WData12[[#This Row],[Sector]],Sectors[],2,FALSE)","v":7}]
[null,"ENDA MALI",{"$f":"INDEX(Organizations[],MATCH(Main3WData12[[#This Row],[Acronym]],AcronymList,0),1)","v":"ENDA MALI"},{"$f":"INDEX(Organizations[],MATCH(Main3WData12[[#This Row],[Acronym]],AcronymList,0),3)","v":"ONG Int."},"Sécurité alimentaire","Regulier","Mopti",{"$f":"VLOOKUP(Main3WData12[[#This Row],[Admin Unit Name]],AdminUnits[],2,FALSE)","v":"ML05"},{"$f":"VLOOKUP(Main3WData12[[#This Row],[Admin Unit Name]],AdminUnits[],3,FALSE)","v":"Sud"},{"$f":"VLOOKUP(Main3WData12[[#This Row],[Admin Unit Name]],AdminUnits[],4,FALSE)","v":5},{"$f":"VLOOKUP(Main3WData12[[#This Row],[Sector]],Sectors[],2,FALSE)","v":7}]
[null,"ENDA MALI",{"$f":"INDEX(Organizations[],MATCH(Main3WData12[[#This Row],[Acronym]],AcronymList,0),1)","v":"ENDA MALI"},{"$f":"INDEX(Organizations[],MATCH(Main3WData12[[#This Row],[Acronym]],AcronymList,0),3)","v":"ONG Int."},"Sécurité alimentaire","Regulier","Segou",{"$f":"VLOOKUP(Main3WData12[[#This Row],[Admin Unit Name]],AdminUnits[],2,FALSE)","v":"ML04"},{"$f":"VLOOKUP(Main3WData12[[#This Row],[Admin Unit Name]],AdminUnits[],3,FALSE)","v":"Sud"},{"$f":"VLOOKUP(Main3WData12[[#This Row],[Admin Unit Name]],AdminUnits[],4,FALSE)","v":4},{"$f":"VLOOKUP(Main3WData12[[#This Row],[Sector]],Sectors[],2,FALSE)","v":7}]
[null,"ENDA MALI",{"$f":"INDEX(Organizations[],MATCH(Main3WData12[[#This Row],[Acronym]],AcronymList,0),1)","v":"ENDA MALI"},{"$f":"INDEX(Organizations[],MATCH(Main3WData12[[#This Row],[Acronym]],AcronymList,0),3)","v":"ONG Int."},"Sécurité alimentaire","Regulier","Kayes",{"$f":"VLOOKUP(Main3WData12[[#This Row],[Admin Unit Name]],AdminUnits[],2,FALSE)","v":"ML01"},{"$f":"VLOOKUP(Main3WData12[[#This Row],[Admin Unit Name]],AdminUnits[],3,FALSE)","v":"Sud"},{"$f":"VLOOKUP(Main3WData12[[#This Row],[Admin Unit Name]],AdminUnits[],4,FALSE)","v":1},{"$f":"VLOOKUP(Main3WData12[[#This Row],[Sector]],Sectors[],2,FALSE)","v":7}]
[null,"Eau Vive",{"$f":"INDEX(Organizations[],MATCH(Main3WData12[[#This Row],[Acronym]],AcronymList,0),1)","v":"Eau Vive"},{"$f":"INDEX(Organizations[],MATCH(Main3WData12[[#This Row],[Acronym]],AcronymList,0),3)","v":"ONG Int."},"EHA","Regulier","Koulikoro",{"$f":"VLOOKUP(Main3WData12[[#This Row],[Admin Unit Name]],AdminUnits[],2,FALSE)","v":"ML02"},{"$f":"VLOOKUP(Main3WData12[[#This Row],[Admin Unit Name]],AdminUnits[],3,FALSE)","v":"Sud"},{"$f":"VLOOKUP(Main3WData12[[#This Row],[Admin Unit Name]],AdminUnits[],4,FALSE)","v":2},{"$f":"VLOOKUP(Main3WData12[[#This Row],[Sector]],Sectors[],2,FALSE)","v":8}]
[null,"Eau Vive",{"$f":"INDEX(Organizations[],MATCH(Main3WData12[[#This Row],[Acronym]],AcronymList,0),1)","v":"Eau Vive"},{"$f":"INDEX(Organizations[],MATCH(Main3WData12[[#This Row],[Acronym]],AcronymList,0),3)","v":"ONG Int."},"EHA","Regulier","Mopti",{"$f":"VLOOKUP(Main3WData12[[#This Row],[Admin Unit Name]],AdminUnits[],2,FALSE)","v":"ML05"},{"$f":"VLOOKUP(Main3WData12[[#This Row],[Admin Unit Name]],AdminUnits[],3,FALSE)","v":"Sud"},{"$f":"VLOOKUP(Main3WData12[[#This Row],[Admin Unit Name]],AdminUnits[],4,FALSE)","v":5},{"$f":"VLOOKUP(Main3WData12[[#This Row],[Sector]],Sectors[],2,FALSE)","v":8}]
[null,"DRC",{"$f":"INDEX(Organizations[],MATCH(Main3WData12[[#This Row],[Acronym]],AcronymList,0),1)","v":"Danish Refugee Council"},{"$f":"INDEX(Organizations[],MATCH(Main3WData12[[#This Row],[Acronym]],AcronymList,0),3)","v":"ONG Int."},"Protection","Regulier","Tombouctou",{"$f":"VLOOKUP(Main3WData12[[#This Row],[Admin Unit Name]],AdminUnits[],2,FALSE)","v":"ML06"},{"$f":"VLOOKUP(Main3WData12[[#This Row],[Admin Unit Name]],AdminUnits[],3,FALSE)","v":"Nord"},{"$f":"VLOOKUP(Main3WData12[[#This Row],[Admin Unit Name]],AdminUnits[],4,FALSE)","v":6},{"$f":"VLOOKUP(Main3WData12[[#This Row],[Sector]],Sectors[],2,FALSE)","v":5}]
[null,"DRC",{"$f":"INDEX(Organizations[],MATCH(Main3WData12[[#This Row],[Acronym]],AcronymList,0),1)","v":"Danish Refugee Council"},{"$f":"INDEX(Organizations[],MATCH(Main3WData12[[#This Row],[Acronym]],AcronymList,0),3)","v":"ONG Int."},"Protection","Regulier","Gao",{"$f":"VLOOKUP(Main3WData12[[#This Row],[Admin Unit Name]],AdminUnits[],2,FALSE)","v":"ML07"},{"$f":"VLOOKUP(Main3WData12[[#This Row],[Admin Unit Name]],AdminUnits[],3,FALSE)","v":"Nord"},{"$f":"VLOOKUP(Main3WData12[[#This Row],[Admin Unit Name]],AdminUnits[],4,FALSE)","v":7},{"$f":"VLOOKUP(Main3WData12[[#This Row],[Sector]],Sectors[],2,FALSE)","v":5}]
[null,"DRC",{"$f":"INDEX(Organizations[],MATCH(Main3WData12[[#This Row],[Acronym]],AcronymList,0),1)","v":"Danish Refugee Council"},{"$f":"INDEX(Organizations[],MATCH(Main3WData12[[#This Row],[Acronym]],AcronymList,0),3)","v":"ONG Int."},"Protection","Regulier","Mopti",{"$f":"VLOOKUP(Main3WData12[[#This Row],[Admin Unit Name]],AdminUnits[],2,FALSE)","v":"ML05"},{"$f":"VLOOKUP(Main3WData12[[#This Row],[Admin Unit Name]],AdminUnits[],3,FALSE)","v":"Sud"},{"$f":"VLOOKUP(Main3WData12[[#This Row],[Admin Unit Name]],AdminUnits[],4,FALSE)","v":5},{"$f":"VLOOKUP(Main3WData12[[#This Row],[Sector]],Sectors[],2,FALSE)","v":5}]
[null,"DRC",{"$f":"INDEX(Organizations[],MATCH(Main3WData12[[#This Row],[Acronym]],AcronymList,0),1)","v":"Danish Refugee Council"},{"$f":"INDEX(Organizations[],MATCH(Main3WData12[[#This Row],[Acronym]],AcronymList,0),3)","v":"ONG Int."},"Sécurité alimentaire","Regulier","Tombouctou",{"$f":"VLOOKUP(Main3WData12[[#This Row],[Admin Unit Name]],AdminUnits[],2,FALSE)","v":"ML06"},{"$f":"VLOOKUP(Main3WData12[[#This Row],[Admin Unit Name]],AdminUnits[],3,FALSE)","v":"Nord"},{"$f":"VLOOKUP(Main3WData12[[#This Row],[Admin Unit Name]],AdminUnits[],4,FALSE)","v":6},{"$f":"VLOOKUP(Main3WData12[[#This Row],[Sector]],Sectors[],2,FALSE)","v":7}]
[null,"DRC",{"$f":"INDEX(Organizations[],MATCH(Main3WData12[[#This Row],[Acronym]],AcronymList,0),1)","v":"Danish Refugee Council"},{"$f":"INDEX(Organizations[],MATCH(Main3WData12[[#This Row],[Acronym]],AcronymList,0),3)","v":"ONG Int."},"Sécurité alimentaire","Regulier","Gao",{"$f":"VLOOKUP(Main3WData12[[#This Row],[Admin Unit Name]],AdminUnits[],2,FALSE)","v":"ML07"},{"$f":"VLOOKUP(Main3WData12[[#This Row],[Admin Unit Name]],AdminUnits[],3,FALSE)","v":"Nord"},{"$f":"VLOOKUP(Main3WData12[[#This Row],[Admin Unit Name]],AdminUnits[],4,FALSE)","v":7},{"$f":"VLOOKUP(Main3WData12[[#This Row],[Sector]],Sectors[],2,FALSE)","v":7}]
[null,"DRC",{"$f":"INDEX(Organizations[],MATCH(Main3WData12[[#This Row],[Acronym]],AcronymList,0),1)","v":"Danish Refugee Council"},{"$f":"INDEX(Organizations[],MATCH(Main3WData12[[#This Row],[Acronym]],AcronymList,0),3)","v":"ONG Int."},"Sécurité alimentaire","Regulier","Mopti",{"$f":"VLOOKUP(Main3WData12[[#This Row],[Admin Unit Name]],AdminUnits[],2,FALSE)","v":"ML05"},{"$f":"VLOOKUP(Main3WData12[[#This Row],[Admin Unit Name]],AdminUnits[],3,FALSE)","v":"Sud"},{"$f":"VLOOKUP(Main3WData12[[#This Row],[Admin Unit Name]],AdminUnits[],4,FALSE)","v":5},{"$f":"VLOOKUP(Main3WData12[[#This Row],[Sector]],Sectors[],2,FALSE)","v":7}]
[null,"DRS",{"$f":"INDEX(Organizations[],MATCH(Main3WData12[[#This Row],[Acronym]],AcronymList,0),1)","v":"Direction Régionale de la Santé"},{"$f":"INDEX(Organizations[],MATCH(Main3WData12[[#This Row],[Acronym]],AcronymList,0),3)","v":"Gouvernement"},"Protection","Regulier","Kayes",{"$f":"VLOOKUP(Main3WData12[[#This Row],[Admin Unit Name]],AdminUnits[],2,FALSE)","v":"ML01"},{"$f":"VLOOKUP(Main3WData12[[#This Row],[Admin Unit Name]],AdminUnits[],3,FALSE)","v":"Sud"},{"$f":"VLOOKUP(Main3WData12[[#This Row],[Admin Unit Name]],AdminUnits[],4,FALSE)","v":1},{"$f":"VLOOKUP(Main3WData12[[#This Row],[Sector]],Sectors[],2,FALSE)","v":5}]
[null,"DRS",{"$f":"INDEX(Organizations[],MATCH(Main3WData12[[#This Row],[Acronym]],AcronymList,0),1)","v":"Direction Régionale de la Santé"},{"$f":"INDEX(Organizations[],MATCH(Main3WData12[[#This Row],[Acronym]],AcronymList,0),3)","v":"Gouvernement"},"Protection","Regulier","Bamako",{"$f":"VLOOKUP(Main3WData12[[#This Row],[Admin Unit Name]],AdminUnits[],2,FALSE)","v":"ML09"},{"$f":"VLOOKUP(Main3WData12[[#This Row],[Admin Unit Name]],AdminUnits[],3,FALSE)","v":"Sud"},{"$f":"VLOOKUP(Main3WData12[[#This Row],[Admin Unit Name]],AdminUnits[],4,FALSE)","v":0},{"$f":"VLOOKUP(Main3WData12[[#This Row],[Sector]],Sectors[],2,FALSE)","v":5}]
[null,"DRS",{"$f":"INDEX(Organizations[],MATCH(Main3WData12[[#This Row],[Acronym]],AcronymList,0),1)","v":"Direction Régionale de la Santé"},{"$f":"INDEX(Organizations[],MATCH(Main3WData12[[#This Row],[Acronym]],AcronymList,0),3)","v":"Gouvernement"},"Protection","Regulier","Koulikoro",{"$f":"VLOOKUP(Main3WData12[[#This Row],[Admin Unit Name]],AdminUnits[],2,FALSE)","v":"ML02"},{"$f":"VLOOKUP(Main3WData12[[#This Row],[Admin Unit Name]],AdminUnits[],3,FALSE)","v":"Sud"},{"$f":"VLOOKUP(Main3WData12[[#This Row],[Admin Unit Name]],AdminUnits[],4,FALSE)","v":2},{"$f":"VLOOKUP(Main3WData12[[#This Row],[Sector]],Sectors[],2,FALSE)","v":5}]
[null,"DRS",{"$f":"INDEX(Organizations[],MATCH(Main3WData12[[#This Row],[Acronym]],AcronymList,0),1)","v":"Direction Régionale de la Santé"},{"$f":"INDEX(Organizations[],MATCH(Main3WData12[[#This Row],[Acronym]],AcronymList,0),3)","v":"Gouvernement"},"Protection","Regulier","Segou",{"$f":"VLOOKUP(Main3WData12[[#This Row],[Admin Unit Name]],AdminUnits[],2,FALSE)","v":"ML04"},{"$f":"VLOOKUP(Main3WData12[[#This Row],[Admin Unit Name]],AdminUnits[],3,FALSE)","v":"Sud"},{"$f":"VLOOKUP(Main3WData12[[#This Row],[Admin Unit Name]],AdminUnits[],4,FALSE)","v":4},{"$f":"VLOOKUP(Main3WData12[[#This Row],[Sector]],Sectors[],2,FALSE)","v":5}]
[null,"DRS",{"$f":"INDEX(Organizations[],MATCH(Main3WData12[[#This Row],[Acronym]],AcronymList,0),1)","v":"Direction Régionale de la Santé"},{"$f":"INDEX(Organizations[],MATCH(Main3WData12[[#This Row],[Acronym]],AcronymList,0),3)","v":"Gouvernement"},"Protection","Regulier","Sikasso",{"$f":"VLOOKUP(Main3WData12[[#This Row],[Admin Unit Name]],AdminUnits[],2,FALSE)","v":"ML03"},{"$f":"VLOOKUP(Main3WData12[[#This Row],[Admin Unit Name]],AdminUnits[],3,FALSE)","v":"Sud"},{"$f":"VLOOKUP(Main3WData12[[#This Row],[Admin Unit Name]],AdminUnits[],4,FALSE)","v":3},{"$f":"VLOOKUP(Main3WData12[[#This Row],[Sector]],Sectors[],2,FALSE)","v":5}]
[null,"DNDS",{"$f":"INDEX(Organizations[],MATCH(Main3WData12[[#This Row],[Acronym]],AcronymList,0),1)","v":"Direction Nationale du Développement Social"},{"$f":"INDEX(Organizations[],MATCH(Main3WData12[[#This Row],[Acronym]],AcronymList,0),3)","v":"Gouvernement"},"Protection","Regulier","Kayes",{"$f":"VLOOKUP(Main3WData12[[#This Row],[Admin Unit Name]],AdminUnits[],2,FALSE)","v":"ML01"},{"$f":"VLOOKUP(Main3WData12[[#This Row],[Admin Unit Name]],AdminUnits[],3,FALSE)","v":"Sud"},{"$f":"VLOOKUP(Main3WData12[[#This Row],[Admin Unit Name]],AdminUnits[],4,FALSE)","v":1},{"$f":"VLOOKUP(Main3WData12[[#This Row],[Sector]],Sectors[],2,FALSE)","v":5}]
[null,"DNDS",{"$f":"INDEX(Organizations[],MATCH(Main3WData12[[#This Row],[Acronym]],AcronymList,0),1)","v":"Direction Nationale du Développement Social"},{"$f":"INDEX(Organizations[],MATCH(Main3WData12[[#This Row],[Acronym]],AcronymList,0),3)","v":"Gouvernement"},"Protection","Regulier","Bamako",{"$f":"VLOOKUP(Main3WData12[[#This Row],[Admin Unit Name]],AdminUnits[],2,FALSE)","v":"ML09"},{"$f":"VLOOKUP(Main3WData12[[#This Row],[Admin Unit Name]],AdminUnits[],3,FALSE)","v":"Sud"},{"$f":"VLOOKUP(Main3WData12[[#This Row],[Admin Unit Name]],AdminUnits[],4,FALSE)","v":0},{"$f":"VLOOKUP(Main3WData12[[#This Row],[Sector]],Sectors[],2,FALSE)","v":5}]
[null,"DNDS",{"$f":"INDEX(Organizations[],MATCH(Main3WData12[[#This Row],[Acronym]],AcronymList,0),1)","v":"Direction Nationale du Développement Social"},{"$f":"INDEX(Organizations[],MATCH(Main3WData12[[#This Row],[Acronym]],AcronymList,0),3)","v":"Gouvernement"},"Protection","Regulier","Mopti",{"$f":"VLOOKUP(Main3WData12[[#This Row],[Admin Unit Name]],AdminUnits[],2,FALSE)","v":"ML05"},{"$f":"VLOOKUP(Main3WData12[[#This Row],[Admin Unit Name]],AdminUnits[],3,FALSE)","v":"Sud"},{"$f":"VLOOKUP(Main3WData12[[#This Row],[Admin Unit Name]],AdminUnits[],4,FALSE)","v":5},{"$f":"VLOOKUP(Main3WData12[[#This Row],[Sector]],Sectors[],2,FALSE)","v":5}]
[null,"DNDS",{"$f":"INDEX(Organizations[],MATCH(Main3WData12[[#This Row],[Acronym]],AcronymList,0),1)","v":"Direction Nationale du Développement Social"},{"$f":"INDEX(Organizations[],MATCH(Main3WData12[[#This Row],[Acronym]],AcronymList,0),3)","v":"Gouvernement"},"Protection","Regulier","Sikasso",{"$f":"VLOOKUP(Main3WData12[[#This Row],[Admin Unit Name]],AdminUnits[],2,FALSE)","v":"ML03"},{"$f":"VLOOKUP(Main3WData12[[#This Row],[Admin Unit Name]],AdminUnits[],3,FALSE)","v":"Sud"},{"$f":"VLOOKUP(Main3WData12[[#This Row],[Admin Unit Name]],AdminUnits[],4,FALSE)","v":3},{"$f":"VLOOKUP(Main3WData12[[#This Row],[Sector]],Sectors[],2,FALSE)","v":5}]
[null,"DGPC",{"$f":"INDEX(Organizations[],MATCH(Main3WData12[[#This Row],[Acronym]],AcronymList,0),1)","v":"Direction Générale de la Protection Civile"},{"$f":"INDEX(Organizations[],MATCH(Main3WData12[[#This Row],[Acronym]],AcronymList,0),3)","v":"Gouvernement"},"Abris et NFI","Regulier","Kayes",{"$f":"VLOOKUP(Main3WData12[[#This Row],[Admin Unit Name]],AdminUnits[],2,FALSE)","v":"ML01"},{"$f":"VLOOKUP(Main3WData12[[#This Row],[Admin Unit Name]],AdminUnits[],3,FALSE)","v":"Sud"},{"$f":"VLOOKUP(Main3WData12[[#This Row],[Admin Unit Name]],AdminUnits[],4,FALSE)","v":1},{"$f":"VLOOKUP(Main3WData12[[#This Row],[Sector]],Sectors[],2,FALSE)","v":1}]
[null,"DGPC",{"$f":"INDEX(Organizations[],MATCH(Main3WData12[[#This Row],[Acronym]],AcronymList,0),1)","v":"Direction Générale de la Protection Civile"},{"$f":"INDEX(Organizations[],MATCH(Main3WData12[[#This Row],[Acronym]],AcronymList,0),3)","v":"Gouvernement"},"Abris et NFI","Regulier","Koulikoro",{"$f":"VLOOKUP(Main3WData12[[#This Row],[Admin Unit Name]],AdminUnits[],2,FALSE)","v":"ML02"},{"$f":"VLOOKUP(Main3WData12[[#This Row],[Admin Unit Name]],AdminUnits[],3,FALSE)","v":"Sud"},{"$f":"VLOOKUP(Main3WData12[[#This Row],[Admin Unit Name]],AdminUnits[],4,FALSE)","v":2},{"$f":"VLOOKUP(Main3WData12[[#This Row],[Sector]],Sectors[],2,FALSE)","v":1}]
[null,"DGPC",{"$f":"INDEX(Organizations[],MATCH(Main3WData12[[#This Row],[Acronym]],AcronymList,0),1)","v":"Direction Générale de la Protection Civile"},{"$f":"INDEX(Organizations[],MATCH(Main3WData12[[#This Row],[Acronym]],AcronymList,0),3)","v":"Gouvernement"},"Abris et NFI","Regulier","Mopti",{"$f":"VLOOKUP(Main3WData12[[#This Row],[Admin Unit Name]],AdminUnits[],2,FALSE)","v":"ML05"},{"$f":"VLOOKUP(Main3WData12[[#This Row],[Admin Unit Name]],AdminUnits[],3,FALSE)","v":"Sud"},{"$f":"VLOOKUP(Main3WData12[[#This Row],[Admin Unit Name]],AdminUnits[],4,FALSE)","v":5},{"$f":"VLOOKUP(Main3WData12[[#This Row],[Sector]],Sectors[],2,FALSE)","v":1}]
[null,"DGPC",{"$f":"INDEX(Organizations[],MATCH(Main3WData12[[#This Row],[Acronym]],AcronymList,0),1)","v":"Direction Générale de la Protection Civile"},{"$f":"INDEX(Organizations[],MATCH(Main3WData12[[#This Row],[Acronym]],AcronymList,0),3)","v":"Gouvernement"},"Abris et NFI","Regulier","Segou",{"$f":"VLOOKUP(Main3WData12[[#This Row],[Admin Unit Name]],AdminUnits[],2,FALSE)","v":"ML04"},{"$f":"VLOOKUP(Main3WData12[[#This Row],[Admin Unit Name]],AdminUnits[],3,FALSE)","v":"Sud"},{"$f":"VLOOKUP(Main3WData12[[#This Row],[Admin Unit Name]],AdminUnits[],4,FALSE)","v":4},{"$f":"VLOOKUP(Main3WData12[[#This Row],[Sector]],Sectors[],2,FALSE)","v":1}]
[null,"DGPC",{"$f":"INDEX(Organizations[],MATCH(Main3WData12[[#This Row],[Acronym]],AcronymList,0),1)","v":"Direction Générale de la Protection Civile"},{"$f":"INDEX(Organizations[],MATCH(Main3WData12[[#This Row],[Acronym]],AcronymList,0),3)","v":"Gouvernement"},"Abris et NFI","Regulier","Sikasso",{"$f":"VLOOKUP(Main3WData12[[#This Row],[Admin Unit Name]],AdminUnits[],2,FALSE)","v":"ML03"},{"$f":"VLOOKUP(Main3WData12[[#This Row],[Admin Unit Name]],AdminUnits[],3,FALSE)","v":"Sud"},{"$f":"VLOOKUP(Main3WData12[[#This Row],[Admin Unit Name]],AdminUnits[],4,FALSE)","v":3},{"$f":"VLOOKUP(Main3WData12[[#This Row],[Sector]],Sectors[],2,FALSE)","v":1}]
[null,"DGPC",{"$f":"INDEX(Organizations[],MATCH(Main3WData12[[#This Row],[Acronym]],AcronymList,0),1)","v":"Direction Générale de la Protection Civile"},{"$f":"INDEX(Organizations[],MATCH(Main3WData12[[#This Row],[Acronym]],AcronymList,0),3)","v":"Gouvernement"},"Protection","Regulier","Mopti",{"$f":"VLOOKUP(Main3WData12[[#This Row],[Admin Unit Name]],AdminUnits[],2,FALSE)","v":"ML05"},{"$f":"VLOOKUP(Main3WData12[[#This Row],[Admin Unit Name]],AdminUnits[],3,FALSE)","v":"Sud"},{"$f":"VLOOKUP(Main3WData12[[#This Row],[Admin Unit Name]],AdminUnits[],4,FALSE)","v":5},{"$f":"VLOOKUP(Main3WData12[[#This Row],[Sector]],Sectors[],2,FALSE)","v":5}]
[null,"DGPC",{"$f":"INDEX(Organizations[],MATCH(Main3WData12[[#This Row],[Acronym]],AcronymList,0),1)","v":"Direction Générale de la Protection Civile"},{"$f":"INDEX(Organizations[],MATCH(Main3WData12[[#This Row],[Acronym]],AcronymList,0),3)","v":"Gouvernement"},"Protection","Regulier","Kayes",{"$f":"VLOOKUP(Main3WData12[[#This Row],[Admin Unit Name]],AdminUnits[],2,FALSE)","v":"ML01"},{"$f":"VLOOKUP(Main3WData12[[#This Row],[Admin Unit Name]],AdminUnits[],3,FALSE)","v":"Sud"},{"$f":"VLOOKUP(Main3WData12[[#This Row],[Admin Unit Name]],AdminUnits[],4,FALSE)","v":1},{"$f":"VLOOKUP(Main3WData12[[#This Row],[Sector]],Sectors[],2,FALSE)","v":5}]
[null,"DGPC",{"$f":"INDEX(Organizations[],MATCH(Main3WData12[[#This Row],[Acronym]],AcronymList,0),1)","v":"Direction Générale de la Protection Civile"},{"$f":"INDEX(Organizations[],MATCH(Main3WData12[[#This Row],[Acronym]],AcronymList,0),3)","v":"Gouvernement"},"Protection","Regulier","Bamako",{"$f":"VLOOKUP(Main3WData12[[#This Row],[Admin Unit Name]],AdminUnits[],2,FALSE)","v":"ML09"},{"$f":"VLOOKUP(Main3WData12[[#This Row],[Admin Unit Name]],AdminUnits[],3,FALSE)","v":"Sud"},{"$f":"VLOOKUP(Main3WData12[[#This Row],[Admin Unit Name]],AdminUnits[],4,FALSE)","v":0},{"$f":"VLOOKUP(Main3WData12[[#This Row],[Sector]],Sectors[],2,FALSE)","v":5}]
[null,"DGPC",{"$f":"INDEX(Organizations[],MATCH(Main3WData12[[#This Row],[Acronym]],AcronymList,0),1)","v":"Direction Générale de la Protection Civile"},{"$f":"INDEX(Organizations[],MATCH(Main3WData12[[#This Row],[Acronym]],AcronymList,0),3)","v":"Gouvernement"},"Protection","Regulier","Segou",{"$f":"VLOOKUP(Main3WData12[[#This Row],[Admin Unit Name]],AdminUnits[],2,FALSE)","v":"ML04"},{"$f":"VLOOKUP(Main3WData12[[#This Row],[Admin Unit Name]],AdminUnits[],3,FALSE)","v":"Sud"},{"$f":"VLOOKUP(Main3WData12[[#This Row],[Admin Unit Name]],AdminUnits[],4,FALSE)","v":4},{"$f":"VLOOKUP(Main3WData12[[#This Row],[Sector]],Sectors[],2,FALSE)","v":5}]
[null,"DGPC",{"$f":"INDEX(Organizations[],MATCH(Main3WData12[[#This Row],[Acronym]],AcronymList,0),1)","v":"Direction Générale de la Protection Civile"},{"$f":"INDEX(Organizations[],MATCH(Main3WData12[[#This Row],[Acronym]],AcronymList,0),3)","v":"Gouvernement"},"EHA","Regulier","Bamako",{"$f":"VLOOKUP(Main3WData12[[#This Row],[Admin Unit Name]],AdminUnits[],2,FALSE)","v":"ML09"},{"$f":"VLOOKUP(Main3WData12[[#This Row],[Admin Unit Name]],AdminUnits[],3,FALSE)","v":"Sud"},{"$f":"VLOOKUP(Main3WData12[[#This Row],[Admin Unit Name]],AdminUnits[],4,FALSE)","v":0},{"$f":"VLOOKUP(Main3WData12[[#This Row],[Sector]],Sectors[],2,FALSE)","v":8}]
[null,"DGPC",{"$f":"INDEX(Organizations[],MATCH(Main3WData12[[#This Row],[Acronym]],AcronymList,0),1)","v":"Direction Générale de la Protection Civile"},{"$f":"INDEX(Organizations[],MATCH(Main3WData12[[#This Row],[Acronym]],AcronymList,0),3)","v":"Gouvernement"},"EHA","Regulier","Koulikoro",{"$f":"VLOOKUP(Main3WData12[[#This Row],[Admin Unit Name]],AdminUnits[],2,FALSE)","v":"ML02"},{"$f":"VLOOKUP(Main3WData12[[#This Row],[Admin Unit Name]],AdminUnits[],3,FALSE)","v":"Sud"},{"$f":"VLOOKUP(Main3WData12[[#This Row],[Admin Unit Name]],AdminUnits[],4,FALSE)","v":2},{"$f":"VLOOKUP(Main3WData12[[#This Row],[Sector]],Sectors[],2,FALSE)","v":8}]
[null,"DGPC",{"$f":"INDEX(Organizations[],MATCH(Main3WData12[[#This Row],[Acronym]],AcronymList,0),1)","v":"Direction Générale de la Protection Civile"},{"$f":"INDEX(Organizations[],MATCH(Main3WData12[[#This Row],[Acronym]],AcronymList,0),3)","v":"Gouvernement"},"EHA","Regulier","Mopti",{"$f":"VLOOKUP(Main3WData12[[#This Row],[Admin Unit Name]],AdminUnits[],2,FALSE)","v":"ML05"},{"$f":"VLOOKUP(Main3WData12[[#This Row],[Admin Unit Name]],AdminUnits[],3,FALSE)","v":"Sud"},{"$f":"VLOOKUP(Main3WData12[[#This Row],[Admin Unit Name]],AdminUnits[],4,FALSE)","v":5},{"$f":"VLOOKUP(Main3WData12[[#This Row],[Sector]],Sectors[],2,FALSE)","v":8}]
[null,"DGPC",{"$f":"INDEX(Organizations[],MATCH(Main3WData12[[#This Row],[Acronym]],AcronymList,0),1)","v":"Direction Générale de la Protection Civile"},{"$f":"INDEX(Organizations[],MATCH(Main3WData12[[#This Row],[Acronym]],AcronymList,0),3)","v":"Gouvernement"},"EHA","Regulier","Segou",{"$f":"VLOOKUP(Main3WData12[[#This Row],[Admin Unit Name]],AdminUnits[],2,FALSE)","v":"ML04"},{"$f":"VLOOKUP(Main3WData12[[#This Row],[Admin Unit Name]],AdminUnits[],3,FALSE)","v":"Sud"},{"$f":"VLOOKUP(Main3WData12[[#This Row],[Admin Unit Name]],AdminUnits[],4,FALSE)","v":4},{"$f":"VLOOKUP(Main3WData12[[#This Row],[Sector]],Sectors[],2,FALSE)","v":8}]
[null,"DGPC",{"$f":"INDEX(Organizations[],MATCH(Main3WData12[[#This Row],[Acronym]],AcronymList,0),1)","v":"Direction Générale de la Protection Civile"},{"$f":"INDEX(Organizations[],MATCH(Main3WData12[[#This Row],[Acronym]],AcronymList,0),3)","v":"Gouvernement"},"EHA","Regulier","Sikasso",{"$f":"VLOOKUP(Main3WData12[[#This Row],[Admin Unit Name]],AdminUnits[],2,FALSE)","v":"ML03"},{"$f":"VLOOKUP(Main3WData12[[#This Row],[Admin Unit Name]],AdminUnits[],3,FALSE)","v":"Sud"},{"$f":"VLOOKUP(Main3WData12[[#This Row],[Admin Unit Name]],AdminUnits[],4,FALSE)","v":3},{"$f":"VLOOKUP(Main3WData12[[#This Row],[Sector]],Sectors[],2,FALSE)","v":8}]
[null,"DGPC",{"$f":"INDEX(Organizations[],MATCH(Main3WData12[[#This Row],[Acronym]],AcronymList,0),1)","v":"Direction Générale de la Protection Civile"},{"$f":"INDEX(Organizations[],MATCH(Main3WData12[[#This Row],[Acronym]],AcronymList,0),3)","v":"Gouvernement"},"EHA","Regulier","Kayes",{"$f":"VLOOKUP(Main3WData12[[#This Row],[Admin Unit Name]],AdminUnits[],2,FALSE)","v":"ML01"},{"$f":"VLOOKUP(Main3WData12[[#This Row],[Admin Unit Name]],AdminUnits[],3,FALSE)","v":"Sud"},{"$f":"VLOOKUP(Main3WData12[[#This Row],[Admin Unit Name]],AdminUnits[],4,FALSE)","v":1},{"$f":"VLOOKUP(Main3WData12[[#This Row],[Sector]],Sectors[],2,FALSE)","v":8}]
[null,"CSPEEDA",{"$f":"INDEX(Organizations[],MATCH(Main3WData12[[#This Row],[Acronym]],AcronymList,0),1)","v":"CSPEEDA"},{"$f":"INDEX(Organizations[],MATCH(Main3WData12[[#This Row],[Acronym]],AcronymList,0),3)","v":"ONG Nat."},"Sécurité alimentaire","Regulier","Koulikoro",{"$f":"VLOOKUP(Main3WData12[[#This Row],[Admin Unit Name]],AdminUnits[],2,FALSE)","v":"ML02"},{"$f":"VLOOKUP(Main3WData12[[#This Row],[Admin Unit Name]],AdminUnits[],3,FALSE)","v":"Sud"},{"$f":"VLOOKUP(Main3WData12[[#This Row],[Admin Unit Name]],AdminUnits[],4,FALSE)","v":2},{"$f":"VLOOKUP(Main3WData12[[#This Row],[Sector]],Sectors[],2,FALSE)","v":7}]
[null,"CRT",{"$f":"INDEX(Organizations[],MATCH(Main3WData12[[#This Row],[Acronym]],AcronymList,0),1)","v":"CRT"},{"$f":"INDEX(Organizations[],MATCH(Main3WData12[[#This Row],[Acronym]],AcronymList,0),3)","v":"ONG Nat."},"Sécurité alimentaire","Regulier","Tombouctou",{"$f":"VLOOKUP(Main3WData12[[#This Row],[Admin Unit Name]],AdminUnits[],2,FALSE)","v":"ML06"},{"$f":"VLOOKUP(Main3WData12[[#This Row],[Admin Unit Name]],AdminUnits[],3,FALSE)","v":"Nord"},{"$f":"VLOOKUP(Main3WData12[[#This Row],[Admin Unit Name]],AdminUnits[],4,FALSE)","v":6},{"$f":"VLOOKUP(Main3WData12[[#This Row],[Sector]],Sectors[],2,FALSE)","v":7}]
[null,"CRS",{"$f":"INDEX(Organizations[],MATCH(Main3WData12[[#This Row],[Acronym]],AcronymList,0),1)","v":"Catholic Relief Services"},{"$f":"INDEX(Organizations[],MATCH(Main3WData12[[#This Row],[Acronym]],AcronymList,0),3)","v":"ONG Int."},"Abris et NFI","Regulier","Mopti",{"$f":"VLOOKUP(Main3WData12[[#This Row],[Admin Unit Name]],AdminUnits[],2,FALSE)","v":"ML05"},{"$f":"VLOOKUP(Main3WData12[[#This Row],[Admin Unit Name]],AdminUnits[],3,FALSE)","v":"Sud"},{"$f":"VLOOKUP(Main3WData12[[#This Row],[Admin Unit Name]],AdminUnits[],4,FALSE)","v":5},{"$f":"VLOOKUP(Main3WData12[[#This Row],[Sector]],Sectors[],2,FALSE)","v":1}]
[null,"CRS",{"$f":"INDEX(Organizations[],MATCH(Main3WData12[[#This Row],[Acronym]],AcronymList,0),1)","v":"Catholic Relief Services"},{"$f":"INDEX(Organizations[],MATCH(Main3WData12[[#This Row],[Acronym]],AcronymList,0),3)","v":"ONG Int."},"Education","Regulier","Koulikoro",{"$f":"VLOOKUP(Main3WData12[[#This Row],[Admin Unit Name]],AdminUnits[],2,FALSE)","v":"ML02"},{"$f":"VLOOKUP(Main3WData12[[#This Row],[Admin Unit Name]],AdminUnits[],3,FALSE)","v":"Sud"},{"$f":"VLOOKUP(Main3WData12[[#This Row],[Admin Unit Name]],AdminUnits[],4,FALSE)","v":2},{"$f":"VLOOKUP(Main3WData12[[#This Row],[Sector]],Sectors[],2,FALSE)","v":3}]
[null,"CRS",{"$f":"INDEX(Organizations[],MATCH(Main3WData12[[#This Row],[Acronym]],AcronymList,0),1)","v":"Catholic Relief Services"},{"$f":"INDEX(Organizations[],MATCH(Main3WData12[[#This Row],[Acronym]],AcronymList,0),3)","v":"ONG Int."},"Education","Regulier","Mopti",{"$f":"VLOOKUP(Main3WData12[[#This Row],[Admin Unit Name]],AdminUnits[],2,FALSE)","v":"ML05"},{"$f":"VLOOKUP(Main3WData12[[#This Row],[Admin Unit Name]],AdminUnits[],3,FALSE)","v":"Sud"},{"$f":"VLOOKUP(Main3WData12[[#This Row],[Admin Unit Name]],AdminUnits[],4,FALSE)","v":5},{"$f":"VLOOKUP(Main3WData12[[#This Row],[Sector]],Sectors[],2,FALSE)","v":3}]
[null,"CRS",{"$f":"INDEX(Organizations[],MATCH(Main3WData12[[#This Row],[Acronym]],AcronymList,0),1)","v":"Catholic Relief Services"},{"$f":"INDEX(Organizations[],MATCH(Main3WData12[[#This Row],[Acronym]],AcronymList,0),3)","v":"ONG Int."},"Nutrition","Regulier","Mopti",{"$f":"VLOOKUP(Main3WData12[[#This Row],[Admin Unit Name]],AdminUnits[],2,FALSE)","v":"ML05"},{"$f":"VLOOKUP(Main3WData12[[#This Row],[Admin Unit Name]],AdminUnits[],3,FALSE)","v":"Sud"},{"$f":"VLOOKUP(Main3WData12[[#This Row],[Admin Unit Name]],AdminUnits[],4,FALSE)","v":5},{"$f":"VLOOKUP(Main3WData12[[#This Row],[Sector]],Sectors[],2,FALSE)","v":4}]
[null,"CRS",{"$f":"INDEX(Organizations[],MATCH(Main3WData12[[#This Row],[Acronym]],AcronymList,0),1)","v":"Catholic Relief Services"},{"$f":"INDEX(Organizations[],MATCH(Main3WData12[[#This Row],[Acronym]],AcronymList,0),3)","v":"ONG Int."},"Protection","Regulier","Bamako",{"$f":"VLOOKUP(Main3WData12[[#This Row],[Admin Unit Name]],AdminUnits[],2,FALSE)","v":"ML09"},{"$f":"VLOOKUP(Main3WData12[[#This Row],[Admin Unit Name]],AdminUnits[],3,FALSE)","v":"Sud"},{"$f":"VLOOKUP(Main3WData12[[#This Row],[Admin Unit Name]],AdminUnits[],4,FALSE)","v":0},{"$f":"VLOOKUP(Main3WData12[[#This Row],[Sector]],Sectors[],2,FALSE)","v":5}]
[null,"CRS",{"$f":"INDEX(Organizations[],MATCH(Main3WData12[[#This Row],[Acronym]],AcronymList,0),1)","v":"Catholic Relief Services"},{"$f":"INDEX(Organizations[],MATCH(Main3WData12[[#This Row],[Acronym]],AcronymList,0),3)","v":"ONG Int."},"Sécurité alimentaire","Regulier","Bamako",{"$f":"VLOOKUP(Main3WData12[[#This Row],[Admin Unit Name]],AdminUnits[],2,FALSE)","v":"ML09"},{"$f":"VLOOKUP(Main3WData12[[#This Row],[Admin Unit Name]],AdminUnits[],3,FALSE)","v":"Sud"},{"$f":"VLOOKUP(Main3WData12[[#This Row],[Admin Unit Name]],AdminUnits[],4,FALSE)","v":0},{"$f":"VLOOKUP(Main3WData12[[#This Row],[Sector]],Sectors[],2,FALSE)","v":7}]
[null,"CRS",{"$f":"INDEX(Organizations[],MATCH(Main3WData12[[#This Row],[Acronym]],AcronymList,0),1)","v":"Catholic Relief Services"},{"$f":"INDEX(Organizations[],MATCH(Main3WData12[[#This Row],[Acronym]],AcronymList,0),3)","v":"ONG Int."},"Sécurité alimentaire","Regulier","Koulikoro",{"$f":"VLOOKUP(Main3WData12[[#This Row],[Admin Unit Name]],AdminUnits[],2,FALSE)","v":"ML02"},{"$f":"VLOOKUP(Main3WData12[[#This Row],[Admin Unit Name]],AdminUnits[],3,FALSE)","v":"Sud"},{"$f":"VLOOKUP(Main3WData12[[#This Row],[Admin Unit Name]],AdminUnits[],4,FALSE)","v":2},{"$f":"VLOOKUP(Main3WData12[[#This Row],[Sector]],Sectors[],2,FALSE)","v":7}]
[null,"CRS",{"$f":"INDEX(Organizations[],MATCH(Main3WData12[[#This Row],[Acronym]],AcronymList,0),1)","v":"Catholic Relief Services"},{"$f":"INDEX(Organizations[],MATCH(Main3WData12[[#This Row],[Acronym]],AcronymList,0),3)","v":"ONG Int."},"Sécurité alimentaire","Regulier","Segou",{"$f":"VLOOKUP(Main3WData12[[#This Row],[Admin Unit Name]],AdminUnits[],2,FALSE)","v":"ML04"},{"$f":"VLOOKUP(Main3WData12[[#This Row],[Admin Unit Name]],AdminUnits[],3,FALSE)","v":"Sud"},{"$f":"VLOOKUP(Main3WData12[[#This Row],[Admin Unit Name]],AdminUnits[],4,FALSE)","v":4},{"$f":"VLOOKUP(Main3WData12[[#This Row],[Sector]],Sectors[],2,FALSE)","v":7}]
[null,"CRS",{"$f":"INDEX(Organizations[],MATCH(Main3WData12[[#This Row],[Acronym]],AcronymList,0),1)","v":"Catholic Relief Services"},{"$f":"INDEX(Organizations[],MATCH(Main3WData12[[#This Row],[Acronym]],AcronymList,0),3)","v":"ONG Int."},"Sécurité alimentaire","Regulier","Sikasso",{"$f":"VLOOKUP(Main3WData12[[#This Row],[Admin Unit Name]],AdminUnits[],2,FALSE)","v":"ML03"},{"$f":"VLOOKUP(Main3WData12[[#This Row],[Admin Unit Name]],AdminUnits[],3,FALSE)","v":"Sud"},{"$f":"VLOOKUP(Main3WData12[[#This Row],[Admin Unit Name]],AdminUnits[],4,FALSE)","v":3},{"$f":"VLOOKUP(Main3WData12[[#This Row],[Sector]],Sectors[],2,FALSE)","v":7}]
[null,"CRS",{"$f":"INDEX(Organizations[],MATCH(Main3WData12[[#This Row],[Acronym]],AcronymList,0),1)","v":"Catholic Relief Services"},{"$f":"INDEX(Organizations[],MATCH(Main3WData12[[#This Row],[Acronym]],AcronymList,0),3)","v":"ONG Int."},"EHA","Regulier","Mopti",{"$f":"VLOOKUP(Main3WData12[[#This Row],[Admin Unit Name]],AdminUnits[],2,FALSE)","v":"ML05"},{"$f":"VLOOKUP(Main3WData12[[#This Row],[Admin Unit Name]],AdminUnits[],3,FALSE)","v":"Sud"},{"$f":"VLOOKUP(Main3WData12[[#This Row],[Admin Unit Name]],AdminUnits[],4,FALSE)","v":5},{"$f":"VLOOKUP(Main3WData12[[#This Row],[Sector]],Sectors[],2,FALSE)","v":8}]
[null,"CR-Mali",{"$f":"INDEX(Organizations[],MATCH(Main3WData12[[#This Row],[Acronym]],AcronymList,0),1)","v":"Croix-Rouge Mali"},{"$f":"INDEX(Organizations[],MATCH(Main3WData12[[#This Row],[Acronym]],AcronymList,0),3)","v":"Mouv. Croix-rouge"},"Abris et NFI","Regulier","Gao",{"$f":"VLOOKUP(Main3WData12[[#This Row],[Admin Unit Name]],AdminUnits[],2,FALSE)","v":"ML07"},{"$f":"VLOOKUP(Main3WData12[[#This Row],[Admin Unit Name]],AdminUnits[],3,FALSE)","v":"Nord"},{"$f":"VLOOKUP(Main3WData12[[#This Row],[Admin Unit Name]],AdminUnits[],4,FALSE)","v":7},{"$f":"VLOOKUP(Main3WData12[[#This Row],[Sector]],Sectors[],2,FALSE)","v":1}]
[null,"CR-Mali",{"$f":"INDEX(Organizations[],MATCH(Main3WData12[[#This Row],[Acronym]],AcronymList,0),1)","v":"Croix-Rouge Mali"},{"$f":"INDEX(Organizations[],MATCH(Main3WData12[[#This Row],[Acronym]],AcronymList,0),3)","v":"Mouv. Croix-rouge"},"Abris et NFI","Regulier","Bamako",{"$f":"VLOOKUP(Main3WData12[[#This Row],[Admin Unit Name]],AdminUnits[],2,FALSE)","v":"ML09"},{"$f":"VLOOKUP(Main3WData12[[#This Row],[Admin Unit Name]],AdminUnits[],3,FALSE)","v":"Sud"},{"$f":"VLOOKUP(Main3WData12[[#This Row],[Admin Unit Name]],AdminUnits[],4,FALSE)","v":0},{"$f":"VLOOKUP(Main3WData12[[#This Row],[Sector]],Sectors[],2,FALSE)","v":1}]
[null,"CR-Mali",{"$f":"INDEX(Organizations[],MATCH(Main3WData12[[#This Row],[Acronym]],AcronymList,0),1)","v":"Croix-Rouge Mali"},{"$f":"INDEX(Organizations[],MATCH(Main3WData12[[#This Row],[Acronym]],AcronymList,0),3)","v":"Mouv. Croix-rouge"},"Abris et NFI","Regulier","Mopti",{"$f":"VLOOKUP(Main3WData12[[#This Row],[Admin Unit Name]],AdminUnits[],2,FALSE)","v":"ML05"},{"$f":"VLOOKUP(Main3WData12[[#This Row],[Admin Unit Name]],AdminUnits[],3,FALSE)","v":"Sud"},{"$f":"VLOOKUP(Main3WData12[[#This Row],[Admin Unit Name]],AdminUnits[],4,FALSE)","v":5},{"$f":"VLOOKUP(Main3WData12[[#This Row],[Sector]],Sectors[],2,FALSE)","v":1}]
[null,"CR-Mali",{"$f":"INDEX(Organizations[],MATCH(Main3WData12[[#This Row],[Acronym]],AcronymList,0),1)","v":"Croix-Rouge Mali"},{"$f":"INDEX(Organizations[],MATCH(Main3WData12[[#This Row],[Acronym]],AcronymList,0),3)","v":"Mouv. Croix-rouge"},"Abris et NFI","Regulier","Kidal",{"$f":"VLOOKUP(Main3WData12[[#This Row],[Admin Unit Name]],AdminUnits[],2,FALSE)","v":"ML08"},{"$f":"VLOOKUP(Main3WData12[[#This Row],[Admin Unit Name]],AdminUnits[],3,FALSE)","v":"Nord"},{"$f":"VLOOKUP(Main3WData12[[#This Row],[Admin Unit Name]],AdminUnits[],4,FALSE)","v":8},{"$f":"VLOOKUP(Main3WData12[[#This Row],[Sector]],Sectors[],2,FALSE)","v":1}]
[null,"CR-Mali",{"$f":"INDEX(Organizations[],MATCH(Main3WData12[[#This Row],[Acronym]],AcronymList,0),1)","v":"Croix-Rouge Mali"},{"$f":"INDEX(Organizations[],MATCH(Main3WData12[[#This Row],[Acronym]],AcronymList,0),3)","v":"Mouv. Croix-rouge"},"EHA","Regulier","Bamako",{"$f":"VLOOKUP(Main3WData12[[#This Row],[Admin Unit Name]],AdminUnits[],2,FALSE)","v":"ML09"},{"$f":"VLOOKUP(Main3WData12[[#This Row],[Admin Unit Name]],AdminUnits[],3,FALSE)","v":"Sud"},{"$f":"VLOOKUP(Main3WData12[[#This Row],[Admin Unit Name]],AdminUnits[],4,FALSE)","v":0},{"$f":"VLOOKUP(Main3WData12[[#This Row],[Sector]],Sectors[],2,FALSE)","v":8}]
[null,"CR-Mali",{"$f":"INDEX(Organizations[],MATCH(Main3WData12[[#This Row],[Acronym]],AcronymList,0),1)","v":"Croix-Rouge Mali"},{"$f":"INDEX(Organizations[],MATCH(Main3WData12[[#This Row],[Acronym]],AcronymList,0),3)","v":"Mouv. Croix-rouge"},"EHA","Regulier","Segou",{"$f":"VLOOKUP(Main3WData12[[#This Row],[Admin Unit Name]],AdminUnits[],2,FALSE)","v":"ML04"},{"$f":"VLOOKUP(Main3WData12[[#This Row],[Admin Unit Name]],AdminUnits[],3,FALSE)","v":"Sud"},{"$f":"VLOOKUP(Main3WData12[[#This Row],[Admin Unit Name]],AdminUnits[],4,FALSE)","v":4},{"$f":"VLOOKUP(Main3WData12[[#This Row],[Sector]],Sectors[],2,FALSE)","v":8}]
[null,"CR-Mali",{"$f":"INDEX(Organizations[],MATCH(Main3WData12[[#This Row],[Acronym]],AcronymList,0),1)","v":"Croix-Rouge Mali"},{"$f":"INDEX(Organizations[],MATCH(Main3WData12[[#This Row],[Acronym]],AcronymList,0),3)","v":"Mouv. Croix-rouge"},"EHA","Regulier","Kayes",{"$f":"VLOOKUP(Main3WData12[[#This Row],[Admin Unit Name]],AdminUnits[],2,FALSE)","v":"ML01"},{"$f":"VLOOKUP(Main3WData12[[#This Row],[Admin Unit Name]],AdminUnits[],3,FALSE)","v":"Sud"},{"$f":"VLOOKUP(Main3WData12[[#This Row],[Admin Unit Name]],AdminUnits[],4,FALSE)","v":1},{"$f":"VLOOKUP(Main3WData12[[#This Row],[Sector]],Sectors[],2,FALSE)","v":8}]
[null,"CR-Mali",{"$f":"INDEX(Organizations[],MATCH(Main3WData12[[#This Row],[Acronym]],AcronymList,0),1)","v":"Croix-Rouge Mali"},{"$f":"INDEX(Organizations[],MATCH(Main3WData12[[#This Row],[Acronym]],AcronymList,0),3)","v":"Mouv. Croix-rouge"},"Nutrition","Regulier","Kayes",{"$f":"VLOOKUP(Main3WData12[[#This Row],[Admin Unit Name]],AdminUnits[],2,FALSE)","v":"ML01"},{"$f":"VLOOKUP(Main3WData12[[#This Row],[Admin Unit Name]],AdminUnits[],3,FALSE)","v":"Sud"},{"$f":"VLOOKUP(Main3WData12[[#This Row],[Admin Unit Name]],AdminUnits[],4,FALSE)","v":1},{"$f":"VLOOKUP(Main3WData12[[#This Row],[Sector]],Sectors[],2,FALSE)","v":4}]
[null,"CR-Mali",{"$f":"INDEX(Organizations[],MATCH(Main3WData12[[#This Row],[Acronym]],AcronymList,0),1)","v":"Croix-Rouge Mali"},{"$f":"INDEX(Organizations[],MATCH(Main3WData12[[#This Row],[Acronym]],AcronymList,0),3)","v":"Mouv. Croix-rouge"},"Nutrition","Regulier","Koulikoro",{"$f":"VLOOKUP(Main3WData12[[#This Row],[Admin Unit Name]],AdminUnits[],2,FALSE)","v":"ML02"},{"$f":"VLOOKUP(Main3WData12[[#This Row],[Admin Unit Name]],AdminUnits[],3,FALSE)","v":"Sud"},{"$f":"VLOOKUP(Main3WData12[[#This Row],[Admin Unit Name]],AdminUnits[],4,FALSE)","v":2},{"$f":"VLOOKUP(Main3WData12[[#This Row],[Sector]],Sectors[],2,FALSE)","v":4}]
[null,"CR-Mali",{"$f":"INDEX(Organizations[],MATCH(Main3WData12[[#This Row],[Acronym]],AcronymList,0),1)","v":"Croix-Rouge Mali"},{"$f":"INDEX(Organizations[],MATCH(Main3WData12[[#This Row],[Acronym]],AcronymList,0),3)","v":"Mouv. Croix-rouge"},"Nutrition","Regulier","Bamako",{"$f":"VLOOKUP(Main3WData12[[#This Row],[Admin Unit Name]],AdminUnits[],2,FALSE)","v":"ML09"},{"$f":"VLOOKUP(Main3WData12[[#This Row],[Admin Unit Name]],AdminUnits[],3,FALSE)","v":"Sud"},{"$f":"VLOOKUP(Main3WData12[[#This Row],[Admin Unit Name]],AdminUnits[],4,FALSE)","v":0},{"$f":"VLOOKUP(Main3WData12[[#This Row],[Sector]],Sectors[],2,FALSE)","v":4}]
[null,"CR-Mali",{"$f":"INDEX(Organizations[],MATCH(Main3WData12[[#This Row],[Acronym]],AcronymList,0),1)","v":"Croix-Rouge Mali"},{"$f":"INDEX(Organizations[],MATCH(Main3WData12[[#This Row],[Acronym]],AcronymList,0),3)","v":"Mouv. Croix-rouge"},"Sécurité alimentaire","Regulier","Kayes",{"$f":"VLOOKUP(Main3WData12[[#This Row],[Admin Unit Name]],AdminUnits[],2,FALSE)","v":"ML01"},{"$f":"VLOOKUP(Main3WData12[[#This Row],[Admin Unit Name]],AdminUnits[],3,FALSE)","v":"Sud"},{"$f":"VLOOKUP(Main3WData12[[#This Row],[Admin Unit Name]],AdminUnits[],4,FALSE)","v":1},{"$f":"VLOOKUP(Main3WData12[[#This Row],[Sector]],Sectors[],2,FALSE)","v":7}]
[null,"CR-Mali",{"$f":"INDEX(Organizations[],MATCH(Main3WData12[[#This Row],[Acronym]],AcronymList,0),1)","v":"Croix-Rouge Mali"},{"$f":"INDEX(Organizations[],MATCH(Main3WData12[[#This Row],[Acronym]],AcronymList,0),3)","v":"Mouv. Croix-rouge"},"Protection","Regulier","Kayes",{"$f":"VLOOKUP(Main3WData12[[#This Row],[Admin Unit Name]],AdminUnits[],2,FALSE)","v":"ML01"},{"$f":"VLOOKUP(Main3WData12[[#This Row],[Admin Unit Name]],AdminUnits[],3,FALSE)","v":"Sud"},{"$f":"VLOOKUP(Main3WData12[[#This Row],[Admin Unit Name]],AdminUnits[],4,FALSE)","v":1},{"$f":"VLOOKUP(Main3WData12[[#This Row],[Sector]],Sectors[],2,FALSE)","v":5}]
[null,"CR-Mali",{"$f":"INDEX(Organizations[],MATCH(Main3WData12[[#This Row],[Acronym]],AcronymList,0),1)","v":"Croix-Rouge Mali"},{"$f":"INDEX(Organizations[],MATCH(Main3WData12[[#This Row],[Acronym]],AcronymList,0),3)","v":"Mouv. Croix-rouge"},"Sécurité alimentaire","Regulier","Segou",{"$f":"VLOOKUP(Main3WData12[[#This Row],[Admin Unit Name]],AdminUnits[],2,FALSE)","v":"ML04"},{"$f":"VLOOKUP(Main3WData12[[#This Row],[Admin Unit Name]],AdminUnits[],3,FALSE)","v":"Sud"},{"$f":"VLOOKUP(Main3WData12[[#This Row],[Admin Unit Name]],AdminUnits[],4,FALSE)","v":4},{"$f":"VLOOKUP(Main3WData12[[#This Row],[Sector]],Sectors[],2,FALSE)","v":7}]
[null,"CR-Mali",{"$f":"INDEX(Organizations[],MATCH(Main3WData12[[#This Row],[Acronym]],AcronymList,0),1)","v":"Croix-Rouge Mali"},{"$f":"INDEX(Organizations[],MATCH(Main3WData12[[#This Row],[Acronym]],AcronymList,0),3)","v":"Mouv. Croix-rouge"},"Sécurité alimentaire","Regulier","Mopti",{"$f":"VLOOKUP(Main3WData12[[#This Row],[Admin Unit Name]],AdminUnits[],2,FALSE)","v":"ML05"},{"$f":"VLOOKUP(Main3WData12[[#This Row],[Admin Unit Name]],AdminUnits[],3,FALSE)","v":"Sud"},{"$f":"VLOOKUP(Main3WData12[[#This Row],[Admin Unit Name]],AdminUnits[],4,FALSE)","v":5},{"$f":"VLOOKUP(Main3WData12[[#This Row],[Sector]],Sectors[],2,FALSE)","v":7}]
[null,"CR-Mali",{"$f":"INDEX(Organizations[],MATCH(Main3WData12[[#This Row],[Acronym]],AcronymList,0),1)","v":"Croix-Rouge Mali"},{"$f":"INDEX(Organizations[],MATCH(Main3WData12[[#This Row],[Acronym]],AcronymList,0),3)","v":"Mouv. Croix-rouge"},"Sécurité alimentaire","Regulier","Tombouctou",{"$f":"VLOOKUP(Main3WData12[[#This Row],[Admin Unit Name]],AdminUnits[],2,FALSE)","v":"ML06"},{"$f":"VLOOKUP(Main3WData12[[#This Row],[Admin Unit Name]],AdminUnits[],3,FALSE)","v":"Nord"},{"$f":"VLOOKUP(Main3WData12[[#This Row],[Admin Unit Name]],AdminUnits[],4,FALSE)","v":6},{"$f":"VLOOKUP(Main3WData12[[#This Row],[Sector]],Sectors[],2,FALSE)","v":7}]
[null,"CR-Suisse",{"$f":"INDEX(Organizations[],MATCH(Main3WData12[[#This Row],[Acronym]],AcronymList,0),1)","v":"Croix Rouge Suisse"},{"$f":"INDEX(Organizations[],MATCH(Main3WData12[[#This Row],[Acronym]],AcronymList,0),3)","v":"Mouv. Croix-rouge"},"Abris et NFI","Regulier","Mopti",{"$f":"VLOOKUP(Main3WData12[[#This Row],[Admin Unit Name]],AdminUnits[],2,FALSE)","v":"ML05"},{"$f":"VLOOKUP(Main3WData12[[#This Row],[Admin Unit Name]],AdminUnits[],3,FALSE)","v":"Sud"},{"$f":"VLOOKUP(Main3WData12[[#This Row],[Admin Unit Name]],AdminUnits[],4,FALSE)","v":5},{"$f":"VLOOKUP(Main3WData12[[#This Row],[Sector]],Sectors[],2,FALSE)","v":1}]
[null,"CR-France",{"$f":"INDEX(Organizations[],MATCH(Main3WData12[[#This Row],[Acronym]],AcronymList,0),1)","v":"Croix Rouge France"},{"$f":"INDEX(Organizations[],MATCH(Main3WData12[[#This Row],[Acronym]],AcronymList,0),3)","v":"Mouv. Croix-rouge"},"Nutrition","Regulier","Kayes",{"$f":"VLOOKUP(Main3WData12[[#This Row],[Admin Unit Name]],AdminUnits[],2,FALSE)","v":"ML01"},{"$f":"VLOOKUP(Main3WData12[[#This Row],[Admin Unit Name]],AdminUnits[],3,FALSE)","v":"Sud"},{"$f":"VLOOKUP(Main3WData12[[#This Row],[Admin Unit Name]],AdminUnits[],4,FALSE)","v":1},{"$f":"VLOOKUP(Main3WData12[[#This Row],[Sector]],Sectors[],2,FALSE)","v":4}]
[null,"CR-France",{"$f":"INDEX(Organizations[],MATCH(Main3WData12[[#This Row],[Acronym]],AcronymList,0),1)","v":"Croix Rouge France"},{"$f":"INDEX(Organizations[],MATCH(Main3WData12[[#This Row],[Acronym]],AcronymList,0),3)","v":"Mouv. Croix-rouge"},"Nutrition","Regulier","Bamako",{"$f":"VLOOKUP(Main3WData12[[#This Row],[Admin Unit Name]],AdminUnits[],2,FALSE)","v":"ML09"},{"$f":"VLOOKUP(Main3WData12[[#This Row],[Admin Unit Name]],AdminUnits[],3,FALSE)","v":"Sud"},{"$f":"VLOOKUP(Main3WData12[[#This Row],[Admin Unit Name]],AdminUnits[],4,FALSE)","v":0},{"$f":"VLOOKUP(Main3WData12[[#This Row],[Sector]],Sectors[],2,FALSE)","v":4}]
[null,"CR-France",{"$f":"INDEX(Organizations[],MATCH(Main3WData12[[#This Row],[Acronym]],AcronymList,0),1)","v":"Croix Rouge France"},{"$f":"INDEX(Organizations[],MATCH(Main3WData12[[#This Row],[Acronym]],AcronymList,0),3)","v":"Mouv. Croix-rouge"},"EHA","Regulier","Bamako",{"$f":"VLOOKUP(Main3WData12[[#This Row],[Admin Unit Name]],AdminUnits[],2,FALSE)","v":"ML09"},{"$f":"VLOOKUP(Main3WData12[[#This Row],[Admin Unit Name]],AdminUnits[],3,FALSE)","v":"Sud"},{"$f":"VLOOKUP(Main3WData12[[#This Row],[Admin Unit Name]],AdminUnits[],4,FALSE)","v":0},{"$f":"VLOOKUP(Main3WData12[[#This Row],[Sector]],Sectors[],2,FALSE)","v":8}]
[null,"CR-France",{"$f":"INDEX(Organizations[],MATCH(Main3WData12[[#This Row],[Acronym]],AcronymList,0),1)","v":"Croix Rouge France"},{"$f":"INDEX(Organizations[],MATCH(Main3WData12[[#This Row],[Acronym]],AcronymList,0),3)","v":"Mouv. Croix-rouge"},"EHA","Regulier","Segou",{"$f":"VLOOKUP(Main3WData12[[#This Row],[Admin Unit Name]],AdminUnits[],2,FALSE)","v":"ML04"},{"$f":"VLOOKUP(Main3WData12[[#This Row],[Admin Unit Name]],AdminUnits[],3,FALSE)","v":"Sud"},{"$f":"VLOOKUP(Main3WData12[[#This Row],[Admin Unit Name]],AdminUnits[],4,FALSE)","v":4},{"$f":"VLOOKUP(Main3WData12[[#This Row],[Sector]],Sectors[],2,FALSE)","v":8}]
[null,"CR-France",{"$f":"INDEX(Organizations[],MATCH(Main3WData12[[#This Row],[Acronym]],AcronymList,0),1)","v":"Croix Rouge France"},{"$f":"INDEX(Organizations[],MATCH(Main3WData12[[#This Row],[Acronym]],AcronymList,0),3)","v":"Mouv. Croix-rouge"},"EHA","Regulier","Kayes",{"$f":"VLOOKUP(Main3WData12[[#This Row],[Admin Unit Name]],AdminUnits[],2,FALSE)","v":"ML01"},{"$f":"VLOOKUP(Main3WData12[[#This Row],[Admin Unit Name]],AdminUnits[],3,FALSE)","v":"Sud"},{"$f":"VLOOKUP(Main3WData12[[#This Row],[Admin Unit Name]],AdminUnits[],4,FALSE)","v":1},{"$f":"VLOOKUP(Main3WData12[[#This Row],[Sector]],Sectors[],2,FALSE)","v":8}]
[null,"CR-Danemark",{"$f":"INDEX(Organizations[],MATCH(Main3WData12[[#This Row],[Acronym]],AcronymList,0),1)","v":"Croix Rouge Danemark"},{"$f":"INDEX(Organizations[],MATCH(Main3WData12[[#This Row],[Acronym]],AcronymList,0),3)","v":"Mouv. Croix-rouge"},"Abris et NFI","Regulier","Mopti",{"$f":"VLOOKUP(Main3WData12[[#This Row],[Admin Unit Name]],AdminUnits[],2,FALSE)","v":"ML05"},{"$f":"VLOOKUP(Main3WData12[[#This Row],[Admin Unit Name]],AdminUnits[],3,FALSE)","v":"Sud"},{"$f":"VLOOKUP(Main3WData12[[#This Row],[Admin Unit Name]],AdminUnits[],4,FALSE)","v":5},{"$f":"VLOOKUP(Main3WData12[[#This Row],[Sector]],Sectors[],2,FALSE)","v":1}]
[null,"CR-Belgique",{"$f":"INDEX(Organizations[],MATCH(Main3WData12[[#This Row],[Acronym]],AcronymList,0),1)","v":"Croix Rouge Belgique"},{"$f":"INDEX(Organizations[],MATCH(Main3WData12[[#This Row],[Acronym]],AcronymList,0),3)","v":"Mouv. Croix-rouge"},"Abris et NFI","Regulier","Mopti",{"$f":"VLOOKUP(Main3WData12[[#This Row],[Admin Unit Name]],AdminUnits[],2,FALSE)","v":"ML05"},{"$f":"VLOOKUP(Main3WData12[[#This Row],[Admin Unit Name]],AdminUnits[],3,FALSE)","v":"Sud"},{"$f":"VLOOKUP(Main3WData12[[#This Row],[Admin Unit Name]],AdminUnits[],4,FALSE)","v":5},{"$f":"VLOOKUP(Main3WData12[[#This Row],[Sector]],Sectors[],2,FALSE)","v":1}]
[null,"CR-Belgique",{"$f":"INDEX(Organizations[],MATCH(Main3WData12[[#This Row],[Acronym]],AcronymList,0),1)","v":"Croix Rouge Belgique"},{"$f":"INDEX(Organizations[],MATCH(Main3WData12[[#This Row],[Acronym]],AcronymList,0),3)","v":"Mouv. Croix-rouge"},"Nutrition","Regulier","Kayes",{"$f":"VLOOKUP(Main3WData12[[#This Row],[Admin Unit Name]],AdminUnits[],2,FALSE)","v":"ML01"},{"$f":"VLOOKUP(Main3WData12[[#This Row],[Admin Unit Name]],AdminUnits[],3,FALSE)","v":"Sud"},{"$f":"VLOOKUP(Main3WData12[[#This Row],[Admin Unit Name]],AdminUnits[],4,FALSE)","v":1},{"$f":"VLOOKUP(Main3WData12[[#This Row],[Sector]],Sectors[],2,FALSE)","v":4}]
[null,"CR-Belgique",{"$f":"INDEX(Organizations[],MATCH(Main3WData12[[#This Row],[Acronym]],AcronymList,0),1)","v":"Croix Rouge Belgique"},{"$f":"INDEX(Organizations[],MATCH(Main3WData12[[#This Row],[Acronym]],AcronymList,0),3)","v":"Mouv. Croix-rouge"},"Nutrition","Regulier","Koulikoro",{"$f":"VLOOKUP(Main3WData12[[#This Row],[Admin Unit Name]],AdminUnits[],2,FALSE)","v":"ML02"},{"$f":"VLOOKUP(Main3WData12[[#This Row],[Admin Unit Name]],AdminUnits[],3,FALSE)","v":"Sud"},{"$f":"VLOOKUP(Main3WData12[[#This Row],[Admin Unit Name]],AdminUnits[],4,FALSE)","v":2},{"$f":"VLOOKUP(Main3WData12[[#This Row],[Sector]],Sectors[],2,FALSE)","v":4}]
[null,"Cri de Cœur",{"$f":"INDEX(Organizations[],MATCH(Main3WData12[[#This Row],[Acronym]],AcronymList,0),1)","v":"Cri de Cœur"},{"$f":"INDEX(Organizations[],MATCH(Main3WData12[[#This Row],[Acronym]],AcronymList,0),3)","v":"ONG Nat."},"Protection","Regulier","Gao",{"$f":"VLOOKUP(Main3WData12[[#This Row],[Admin Unit Name]],AdminUnits[],2,FALSE)","v":"ML07"},{"$f":"VLOOKUP(Main3WData12[[#This Row],[Admin Unit Name]],AdminUnits[],3,FALSE)","v":"Nord"},{"$f":"VLOOKUP(Main3WData12[[#This Row],[Admin Unit Name]],AdminUnits[],4,FALSE)","v":7},{"$f":"VLOOKUP(Main3WData12[[#This Row],[Sector]],Sectors[],2,FALSE)","v":5}]
[null,"Cri de Cœur",{"$f":"INDEX(Organizations[],MATCH(Main3WData12[[#This Row],[Acronym]],AcronymList,0),1)","v":"Cri de Cœur"},{"$f":"INDEX(Organizations[],MATCH(Main3WData12[[#This Row],[Acronym]],AcronymList,0),3)","v":"ONG Nat."},"Protection","Regulier","Mopti",{"$f":"VLOOKUP(Main3WData12[[#This Row],[Admin Unit Name]],AdminUnits[],2,FALSE)","v":"ML05"},{"$f":"VLOOKUP(Main3WData12[[#This Row],[Admin Unit Name]],AdminUnits[],3,FALSE)","v":"Sud"},{"$f":"VLOOKUP(Main3WData12[[#This Row],[Admin Unit Name]],AdminUnits[],4,FALSE)","v":5},{"$f":"VLOOKUP(Main3WData12[[#This Row],[Sector]],Sectors[],2,FALSE)","v":5}]
[null,"Cri de Cœur",{"$f":"INDEX(Organizations[],MATCH(Main3WData12[[#This Row],[Acronym]],AcronymList,0),1)","v":"Cri de Cœur"},{"$f":"INDEX(Organizations[],MATCH(Main3WData12[[#This Row],[Acronym]],AcronymList,0),3)","v":"ONG Nat."},"Protection","Regulier","Kidal",{"$f":"VLOOKUP(Main3WData12[[#This Row],[Admin Unit Name]],AdminUnits[],2,FALSE)","v":"ML08"},{"$f":"VLOOKUP(Main3WData12[[#This Row],[Admin Unit Name]],AdminUnits[],3,FALSE)","v":"Nord"},{"$f":"VLOOKUP(Main3WData12[[#This Row],[Admin Unit Name]],AdminUnits[],4,FALSE)","v":8},{"$f":"VLOOKUP(Main3WData12[[#This Row],[Sector]],Sectors[],2,FALSE)","v":5}]
[null,"COOPI",{"$f":"INDEX(Organizations[],MATCH(Main3WData12[[#This Row],[Acronym]],AcronymList,0),1)","v":"COOPI"},{"$f":"INDEX(Organizations[],MATCH(Main3WData12[[#This Row],[Acronym]],AcronymList,0),3)","v":"ONG Int."},"Nutrition","Regulier","Segou",{"$f":"VLOOKUP(Main3WData12[[#This Row],[Admin Unit Name]],AdminUnits[],2,FALSE)","v":"ML04"},{"$f":"VLOOKUP(Main3WData12[[#This Row],[Admin Unit Name]],AdminUnits[],3,FALSE)","v":"Sud"},{"$f":"VLOOKUP(Main3WData12[[#This Row],[Admin Unit Name]],AdminUnits[],4,FALSE)","v":4},{"$f":"VLOOKUP(Main3WData12[[#This Row],[Sector]],Sectors[],2,FALSE)","v":4}]
[null,"Cooperacció",{"$f":"INDEX(Organizations[],MATCH(Main3WData12[[#This Row],[Acronym]],AcronymList,0),1)","v":"Cooperacción"},{"$f":"INDEX(Organizations[],MATCH(Main3WData12[[#This Row],[Acronym]],AcronymList,0),3)","v":"ONG Int."},"Protection","Regulier","Kayes",{"$f":"VLOOKUP(Main3WData12[[#This Row],[Admin Unit Name]],AdminUnits[],2,FALSE)","v":"ML01"},{"$f":"VLOOKUP(Main3WData12[[#This Row],[Admin Unit Name]],AdminUnits[],3,FALSE)","v":"Sud"},{"$f":"VLOOKUP(Main3WData12[[#This Row],[Admin Unit Name]],AdminUnits[],4,FALSE)","v":1},{"$f":"VLOOKUP(Main3WData12[[#This Row],[Sector]],Sectors[],2,FALSE)","v":5}]
[null,"Cooperacció",{"$f":"INDEX(Organizations[],MATCH(Main3WData12[[#This Row],[Acronym]],AcronymList,0),1)","v":"Cooperacción"},{"$f":"INDEX(Organizations[],MATCH(Main3WData12[[#This Row],[Acronym]],AcronymList,0),3)","v":"ONG Int."},"Protection","Regulier","Mopti",{"$f":"VLOOKUP(Main3WData12[[#This Row],[Admin Unit Name]],AdminUnits[],2,FALSE)","v":"ML05"},{"$f":"VLOOKUP(Main3WData12[[#This Row],[Admin Unit Name]],AdminUnits[],3,FALSE)","v":"Sud"},{"$f":"VLOOKUP(Main3WData12[[#This Row],[Admin Unit Name]],AdminUnits[],4,FALSE)","v":5},{"$f":"VLOOKUP(Main3WData12[[#This Row],[Sector]],Sectors[],2,FALSE)","v":5}]
[null,"CNLTE",{"$f":"INDEX(Organizations[],MATCH(Main3WData12[[#This Row],[Acronym]],AcronymList,0),1)","v":"CNLTE"},{"$f":"INDEX(Organizations[],MATCH(Main3WData12[[#This Row],[Acronym]],AcronymList,0),3)","v":"ONG Nat."},"Protection","Regulier","Kayes",{"$f":"VLOOKUP(Main3WData12[[#This Row],[Admin Unit Name]],AdminUnits[],2,FALSE)","v":"ML01"},{"$f":"VLOOKUP(Main3WData12[[#This Row],[Admin Unit Name]],AdminUnits[],3,FALSE)","v":"Sud"},{"$f":"VLOOKUP(Main3WData12[[#This Row],[Admin Unit Name]],AdminUnits[],4,FALSE)","v":1},{"$f":"VLOOKUP(Main3WData12[[#This Row],[Sector]],Sectors[],2,FALSE)","v":5}]
[null,"CNLTE",{"$f":"INDEX(Organizations[],MATCH(Main3WData12[[#This Row],[Acronym]],AcronymList,0),1)","v":"CNLTE"},{"$f":"INDEX(Organizations[],MATCH(Main3WData12[[#This Row],[Acronym]],AcronymList,0),3)","v":"ONG Nat."},"Protection","Regulier","Mopti",{"$f":"VLOOKUP(Main3WData12[[#This Row],[Admin Unit Name]],AdminUnits[],2,FALSE)","v":"ML05"},{"$f":"VLOOKUP(Main3WData12[[#This Row],[Admin Unit Name]],AdminUnits[],3,FALSE)","v":"Sud"},{"$f":"VLOOKUP(Main3WData12[[#This Row],[Admin Unit Name]],AdminUnits[],4,FALSE)","v":5},{"$f":"VLOOKUP(Main3WData12[[#This Row],[Sector]],Sectors[],2,FALSE)","v":5}]
[null,"CNLTE",{"$f":"INDEX(Organizations[],MATCH(Main3WData12[[#This Row],[Acronym]],AcronymList,0),1)","v":"CNLTE"},{"$f":"INDEX(Organizations[],MATCH(Main3WData12[[#This Row],[Acronym]],AcronymList,0),3)","v":"ONG Nat."},"Protection","Regulier","Sikasso",{"$f":"VLOOKUP(Main3WData12[[#This Row],[Admin Unit Name]],AdminUnits[],2,FALSE)","v":"ML03"},{"$f":"VLOOKUP(Main3WData12[[#This Row],[Admin Unit Name]],AdminUnits[],3,FALSE)","v":"Sud"},{"$f":"VLOOKUP(Main3WData12[[#This Row],[Admin Unit Name]],AdminUnits[],4,FALSE)","v":3},{"$f":"VLOOKUP(Main3WData12[[#This Row],[Sector]],Sectors[],2,FALSE)","v":5}]
[null,"CISV",{"$f":"INDEX(Organizations[],MATCH(Main3WData12[[#This Row],[Acronym]],AcronymList,0),1)","v":"Comunità Impegno Servizio Volontariato"},{"$f":"INDEX(Organizations[],MATCH(Main3WData12[[#This Row],[Acronym]],AcronymList,0),3)","v":"ONG Nat."},"Sécurité alimentaire","Regulier","Koulikoro",{"$f":"VLOOKUP(Main3WData12[[#This Row],[Admin Unit Name]],AdminUnits[],2,FALSE)","v":"ML02"},{"$f":"VLOOKUP(Main3WData12[[#This Row],[Admin Unit Name]],AdminUnits[],3,FALSE)","v":"Sud"},{"$f":"VLOOKUP(Main3WData12[[#This Row],[Admin Unit Name]],AdminUnits[],4,FALSE)","v":2},{"$f":"VLOOKUP(Main3WData12[[#This Row],[Sector]],Sectors[],2,FALSE)","v":7}]
[null,"CISV",{"$f":"INDEX(Organizations[],MATCH(Main3WData12[[#This Row],[Acronym]],AcronymList,0),1)","v":"Comunità Impegno Servizio Volontariato"},{"$f":"INDEX(Organizations[],MATCH(Main3WData12[[#This Row],[Acronym]],AcronymList,0),3)","v":"ONG Nat."},"Sécurité alimentaire","Regulier","Mopti",{"$f":"VLOOKUP(Main3WData12[[#This Row],[Admin Unit Name]],AdminUnits[],2,FALSE)","v":"ML05"},{"$f":"VLOOKUP(Main3WData12[[#This Row],[Admin Unit Name]],AdminUnits[],3,FALSE)","v":"Sud"},{"$f":"VLOOKUP(Main3WData12[[#This Row],[Admin Unit Name]],AdminUnits[],4,FALSE)","v":5},{"$f":"VLOOKUP(Main3WData12[[#This Row],[Sector]],Sectors[],2,FALSE)","v":7}]
[null,"CISV",{"$f":"INDEX(Organizations[],MATCH(Main3WData12[[#This Row],[Acronym]],AcronymList,0),1)","v":"Comunità Impegno Servizio Volontariato"},{"$f":"INDEX(Organizations[],MATCH(Main3WData12[[#This Row],[Acronym]],AcronymList,0),3)","v":"ONG Nat."},"Sécurité alimentaire","Regulier","Segou",{"$f":"VLOOKUP(Main3WData12[[#This Row],[Admin Unit Name]],AdminUnits[],2,FALSE)","v":"ML04"},{"$f":"VLOOKUP(Main3WData12[[#This Row],[Admin Unit Name]],AdminUnits[],3,FALSE)","v":"Sud"},{"$f":"VLOOKUP(Main3WData12[[#This Row],[Admin Unit Name]],AdminUnits[],4,FALSE)","v":4},{"$f":"VLOOKUP(Main3WData12[[#This Row],[Sector]],Sectors[],2,FALSE)","v":7}]
[null,"CICR",{"$f":"INDEX(Organizations[],MATCH(Main3WData12[[#This Row],[Acronym]],AcronymList,0),1)","v":"Comite international de la croix rouge"},{"$f":"INDEX(Organizations[],MATCH(Main3WData12[[#This Row],[Acronym]],AcronymList,0),3)","v":"ONG Int."},"Abris et NFI","Regulier","Mopti",{"$f":"VLOOKUP(Main3WData12[[#This Row],[Admin Unit Name]],AdminUnits[],2,FALSE)","v":"ML05"},{"$f":"VLOOKUP(Main3WData12[[#This Row],[Admin Unit Name]],AdminUnits[],3,FALSE)","v":"Sud"},{"$f":"VLOOKUP(Main3WData12[[#This Row],[Admin Unit Name]],AdminUnits[],4,FALSE)","v":5},{"$f":"VLOOKUP(Main3WData12[[#This Row],[Sector]],Sectors[],2,FALSE)","v":1}]
[null,"CICR",{"$f":"INDEX(Organizations[],MATCH(Main3WData12[[#This Row],[Acronym]],AcronymList,0),1)","v":"Comite international de la croix rouge"},{"$f":"INDEX(Organizations[],MATCH(Main3WData12[[#This Row],[Acronym]],AcronymList,0),3)","v":"ONG Int."},"Sécurité alimentaire","Regulier","Gao",{"$f":"VLOOKUP(Main3WData12[[#This Row],[Admin Unit Name]],AdminUnits[],2,FALSE)","v":"ML07"},{"$f":"VLOOKUP(Main3WData12[[#This Row],[Admin Unit Name]],AdminUnits[],3,FALSE)","v":"Nord"},{"$f":"VLOOKUP(Main3WData12[[#This Row],[Admin Unit Name]],AdminUnits[],4,FALSE)","v":7},{"$f":"VLOOKUP(Main3WData12[[#This Row],[Sector]],Sectors[],2,FALSE)","v":7}]
[null,"CICR",{"$f":"INDEX(Organizations[],MATCH(Main3WData12[[#This Row],[Acronym]],AcronymList,0),1)","v":"Comite international de la croix rouge"},{"$f":"INDEX(Organizations[],MATCH(Main3WData12[[#This Row],[Acronym]],AcronymList,0),3)","v":"ONG Int."},"EHA","Regulier","Gao",{"$f":"VLOOKUP(Main3WData12[[#This Row],[Admin Unit Name]],AdminUnits[],2,FALSE)","v":"ML07"},{"$f":"VLOOKUP(Main3WData12[[#This Row],[Admin Unit Name]],AdminUnits[],3,FALSE)","v":"Nord"},{"$f":"VLOOKUP(Main3WData12[[#This Row],[Admin Unit Name]],AdminUnits[],4,FALSE)","v":7},{"$f":"VLOOKUP(Main3WData12[[#This Row],[Sector]],Sectors[],2,FALSE)","v":8}]
[null,"CICR",{"$f":"INDEX(Organizations[],MATCH(Main3WData12[[#This Row],[Acronym]],AcronymList,0),1)","v":"Comite international de la croix rouge"},{"$f":"INDEX(Organizations[],MATCH(Main3WData12[[#This Row],[Acronym]],AcronymList,0),3)","v":"ONG Int."},"Sécurité alimentaire","Regulier","Kidal",{"$f":"VLOOKUP(Main3WData12[[#This Row],[Admin Unit Name]],AdminUnits[],2,FALSE)","v":"ML08"},{"$f":"VLOOKUP(Main3WData12[[#This Row],[Admin Unit Name]],AdminUnits[],3,FALSE)","v":"Nord"},{"$f":"VLOOKUP(Main3WData12[[#This Row],[Admin Unit Name]],AdminUnits[],4,FALSE)","v":8},{"$f":"VLOOKUP(Main3WData12[[#This Row],[Sector]],Sectors[],2,FALSE)","v":7}]
[null,"CICR",{"$f":"INDEX(Organizations[],MATCH(Main3WData12[[#This Row],[Acronym]],AcronymList,0),1)","v":"Comite international de la croix rouge"},{"$f":"INDEX(Organizations[],MATCH(Main3WData12[[#This Row],[Acronym]],AcronymList,0),3)","v":"ONG Int."},"EHA","Regulier","Kidal",{"$f":"VLOOKUP(Main3WData12[[#This Row],[Admin Unit Name]],AdminUnits[],2,FALSE)","v":"ML08"},{"$f":"VLOOKUP(Main3WData12[[#This Row],[Admin Unit Name]],AdminUnits[],3,FALSE)","v":"Nord"},{"$f":"VLOOKUP(Main3WData12[[#This Row],[Admin Unit Name]],AdminUnits[],4,FALSE)","v":8},{"$f":"VLOOKUP(Main3WData12[[#This Row],[Sector]],Sectors[],2,FALSE)","v":8}]
[null,"CICR",{"$f":"INDEX(Organizations[],MATCH(Main3WData12[[#This Row],[Acronym]],AcronymList,0),1)","v":"Comite international de la croix rouge"},{"$f":"INDEX(Organizations[],MATCH(Main3WData12[[#This Row],[Acronym]],AcronymList,0),3)","v":"ONG Int."},"Sécurité alimentaire","Regulier","Mopti",{"$f":"VLOOKUP(Main3WData12[[#This Row],[Admin Unit Name]],AdminUnits[],2,FALSE)","v":"ML05"},{"$f":"VLOOKUP(Main3WData12[[#This Row],[Admin Unit Name]],AdminUnits[],3,FALSE)","v":"Sud"},{"$f":"VLOOKUP(Main3WData12[[#This Row],[Admin Unit Name]],AdminUnits[],4,FALSE)","v":5},{"$f":"VLOOKUP(Main3WData12[[#This Row],[Sector]],Sectors[],2,FALSE)","v":7}]
[null,"CICR",{"$f":"INDEX(Organizations[],MATCH(Main3WData12[[#This Row],[Acronym]],AcronymList,0),1)","v":"Comite international de la croix rouge"},{"$f":"INDEX(Organizations[],MATCH(Main3WData12[[#This Row],[Acronym]],AcronymList,0),3)","v":"ONG Int."},"Sécurité alimentaire","Regulier","Tombouctou",{"$f":"VLOOKUP(Main3WData12[[#This Row],[Admin Unit Name]],AdminUnits[],2,FALSE)","v":"ML06"},{"$f":"VLOOKUP(Main3WData12[[#This Row],[Admin Unit Name]],AdminUnits[],3,FALSE)","v":"Nord"},{"$f":"VLOOKUP(Main3WData12[[#This Row],[Admin Unit Name]],AdminUnits[],4,FALSE)","v":6},{"$f":"VLOOKUP(Main3WData12[[#This Row],[Sector]],Sectors[],2,FALSE)","v":7}]
[null,"CICR",{"$f":"INDEX(Organizations[],MATCH(Main3WData12[[#This Row],[Acronym]],AcronymList,0),1)","v":"Comite international de la croix rouge"},{"$f":"INDEX(Organizations[],MATCH(Main3WData12[[#This Row],[Acronym]],AcronymList,0),3)","v":"ONG Int."},"EHA","Regulier","Kayes",{"$f":"VLOOKUP(Main3WData12[[#This Row],[Admin Unit Name]],AdminUnits[],2,FALSE)","v":"ML01"},{"$f":"VLOOKUP(Main3WData12[[#This Row],[Admin Unit Name]],AdminUnits[],3,FALSE)","v":"Sud"},{"$f":"VLOOKUP(Main3WData12[[#This Row],[Admin Unit Name]],AdminUnits[],4,FALSE)","v":1},{"$f":"VLOOKUP(Main3WData12[[#This Row],[Sector]],Sectors[],2,FALSE)","v":8}]
[null,"CICR",{"$f":"INDEX(Organizations[],MATCH(Main3WData12[[#This Row],[Acronym]],AcronymList,0),1)","v":"Comite international de la croix rouge"},{"$f":"INDEX(Organizations[],MATCH(Main3WData12[[#This Row],[Acronym]],AcronymList,0),3)","v":"ONG Int."},"EHA","Regulier","Mopti",{"$f":"VLOOKUP(Main3WData12[[#This Row],[Admin Unit Name]],AdminUnits[],2,FALSE)","v":"ML05"},{"$f":"VLOOKUP(Main3WData12[[#This Row],[Admin Unit Name]],AdminUnits[],3,FALSE)","v":"Sud"},{"$f":"VLOOKUP(Main3WData12[[#This Row],[Admin Unit Name]],AdminUnits[],4,FALSE)","v":5},{"$f":"VLOOKUP(Main3WData12[[#This Row],[Sector]],Sectors[],2,FALSE)","v":8}]
[null,"Centre Djoliba",{"$f":"INDEX(Organizations[],MATCH(Main3WData12[[#This Row],[Acronym]],AcronymList,0),1)","v":"Centre Djoliba"},{"$f":"INDEX(Organizations[],MATCH(Main3WData12[[#This Row],[Acronym]],AcronymList,0),3)","v":"ONG Nat."},"Protection","Regulier","Bamako",{"$f":"VLOOKUP(Main3WData12[[#This Row],[Admin Unit Name]],AdminUnits[],2,FALSE)","v":"ML09"},{"$f":"VLOOKUP(Main3WData12[[#This Row],[Admin Unit Name]],AdminUnits[],3,FALSE)","v":"Sud"},{"$f":"VLOOKUP(Main3WData12[[#This Row],[Admin Unit Name]],AdminUnits[],4,FALSE)","v":0},{"$f":"VLOOKUP(Main3WData12[[#This Row],[Sector]],Sectors[],2,FALSE)","v":5}]
[null,"Centre Djoliba",{"$f":"INDEX(Organizations[],MATCH(Main3WData12[[#This Row],[Acronym]],AcronymList,0),1)","v":"Centre Djoliba"},{"$f":"INDEX(Organizations[],MATCH(Main3WData12[[#This Row],[Acronym]],AcronymList,0),3)","v":"ONG Nat."},"Protection","Regulier","Segou",{"$f":"VLOOKUP(Main3WData12[[#This Row],[Admin Unit Name]],AdminUnits[],2,FALSE)","v":"ML04"},{"$f":"VLOOKUP(Main3WData12[[#This Row],[Admin Unit Name]],AdminUnits[],3,FALSE)","v":"Sud"},{"$f":"VLOOKUP(Main3WData12[[#This Row],[Admin Unit Name]],AdminUnits[],4,FALSE)","v":4},{"$f":"VLOOKUP(Main3WData12[[#This Row],[Sector]],Sectors[],2,FALSE)","v":5}]
[null,"Caritas",{"$f":"INDEX(Organizations[],MATCH(Main3WData12[[#This Row],[Acronym]],AcronymList,0),1)","v":"CARITAS Mali"},{"$f":"INDEX(Organizations[],MATCH(Main3WData12[[#This Row],[Acronym]],AcronymList,0),3)","v":"ONG Int."},"Sécurité alimentaire","Regulier","Segou",{"$f":"VLOOKUP(Main3WData12[[#This Row],[Admin Unit Name]],AdminUnits[],2,FALSE)","v":"ML04"},{"$f":"VLOOKUP(Main3WData12[[#This Row],[Admin Unit Name]],AdminUnits[],3,FALSE)","v":"Sud"},{"$f":"VLOOKUP(Main3WData12[[#This Row],[Admin Unit Name]],AdminUnits[],4,FALSE)","v":4},{"$f":"VLOOKUP(Main3WData12[[#This Row],[Sector]],Sectors[],2,FALSE)","v":7}]
[null,"Caritas",{"$f":"INDEX(Organizations[],MATCH(Main3WData12[[#This Row],[Acronym]],AcronymList,0),1)","v":"CARITAS Mali"},{"$f":"INDEX(Organizations[],MATCH(Main3WData12[[#This Row],[Acronym]],AcronymList,0),3)","v":"ONG Int."},"Sécurité alimentaire","Regulier","Mopti",{"$f":"VLOOKUP(Main3WData12[[#This Row],[Admin Unit Name]],AdminUnits[],2,FALSE)","v":"ML05"},{"$f":"VLOOKUP(Main3WData12[[#This Row],[Admin Unit Name]],AdminUnits[],3,FALSE)","v":"Sud"},{"$f":"VLOOKUP(Main3WData12[[#This Row],[Admin Unit Name]],AdminUnits[],4,FALSE)","v":5},{"$f":"VLOOKUP(Main3WData12[[#This Row],[Sector]],Sectors[],2,FALSE)","v":7}]
[null,"CARE",{"$f":"INDEX(Organizations[],MATCH(Main3WData12[[#This Row],[Acronym]],AcronymList,0),1)","v":{"$error":"#N/A"}},{"$f":"INDEX(Organizations[],MATCH(Main3WData12[[#This Row],[Acronym]],AcronymList,0),3)","v":{"$error":"#N/A"}},"Sécurité alimentaire","Regulier","Segou",{"$f":"VLOOKUP(Main3WData12[[#This Row],[Admin Unit Name]],AdminUnits[],2,FALSE)","v":"ML04"},{"$f":"VLOOKUP(Main3WData12[[#This Row],[Admin Unit Name]],AdminUnits[],3,FALSE)","v":"Sud"},{"$f":"VLOOKUP(Main3WData12[[#This Row],[Admin Unit Name]],AdminUnits[],4,FALSE)","v":4},{"$f":"VLOOKUP(Main3WData12[[#This Row],[Sector]],Sectors[],2,FALSE)","v":7}]
[null,"CARE",{"$f":"INDEX(Organizations[],MATCH(Main3WData12[[#This Row],[Acronym]],AcronymList,0),1)","v":{"$error":"#N/A"}},{"$f":"INDEX(Organizations[],MATCH(Main3WData12[[#This Row],[Acronym]],AcronymList,0),3)","v":{"$error":"#N/A"}},"Abris et NFI","Regulier","Mopti",{"$f":"VLOOKUP(Main3WData12[[#This Row],[Admin Unit Name]],AdminUnits[],2,FALSE)","v":"ML05"},{"$f":"VLOOKUP(Main3WData12[[#This Row],[Admin Unit Name]],AdminUnits[],3,FALSE)","v":"Sud"},{"$f":"VLOOKUP(Main3WData12[[#This Row],[Admin Unit Name]],AdminUnits[],4,FALSE)","v":5},{"$f":"VLOOKUP(Main3WData12[[#This Row],[Sector]],Sectors[],2,FALSE)","v":1}]
[null,"CARE",{"$f":"INDEX(Organizations[],MATCH(Main3WData12[[#This Row],[Acronym]],AcronymList,0),1)","v":{"$error":"#N/A"}},{"$f":"INDEX(Organizations[],MATCH(Main3WData12[[#This Row],[Acronym]],AcronymList,0),3)","v":{"$error":"#N/A"}},"Protection","Regulier","Mopti",{"$f":"VLOOKUP(Main3WData12[[#This Row],[Admin Unit Name]],AdminUnits[],2,FALSE)","v":"ML05"},{"$f":"VLOOKUP(Main3WData12[[#This Row],[Admin Unit Name]],AdminUnits[],3,FALSE)","v":"Sud"},{"$f":"VLOOKUP(Main3WData12[[#This Row],[Admin Unit Name]],AdminUnits[],4,FALSE)","v":5},{"$f":"VLOOKUP(Main3WData12[[#This Row],[Sector]],Sectors[],2,FALSE)","v":5}]
[null,"CARE",{"$f":"INDEX(Organizations[],MATCH(Main3WData12[[#This Row],[Acronym]],AcronymList,0),1)","v":{"$error":"#N/A"}},{"$f":"INDEX(Organizations[],MATCH(Main3WData12[[#This Row],[Acronym]],AcronymList,0),3)","v":{"$error":"#N/A"}},"Nutrition","Regulier","Tombouctou",{"$f":"VLOOKUP(Main3WData12[[#This Row],[Admin Unit Name]],AdminUnits[],2,FALSE)","v":"ML06"},{"$f":"VLOOKUP(Main3WData12[[#This Row],[Admin Unit Name]],AdminUnits[],3,FALSE)","v":"Nord"},{"$f":"VLOOKUP(Main3WData12[[#This Row],[Admin Unit Name]],AdminUnits[],4,FALSE)","v":6},{"$f":"VLOOKUP(Main3WData12[[#This Row],[Sector]],Sectors[],2,FALSE)","v":4}]
[null,"CARE",{"$f":"INDEX(Organizations[],MATCH(Main3WData12[[#This Row],[Acronym]],AcronymList,0),1)","v":{"$error":"#N/A"}},{"$f":"INDEX(Organizations[],MATCH(Main3WData12[[#This Row],[Acronym]],AcronymList,0),3)","v":{"$error":"#N/A"}},"Protection","Regulier","Tombouctou",{"$f":"VLOOKUP(Main3WData12[[#This Row],[Admin Unit Name]],AdminUnits[],2,FALSE)","v":"ML06"},{"$f":"VLOOKUP(Main3WData12[[#This Row],[Admin Unit Name]],AdminUnits[],3,FALSE)","v":"Nord"},{"$f":"VLOOKUP(Main3WData12[[#This Row],[Admin Unit Name]],AdminUnits[],4,FALSE)","v":6},{"$f":"VLOOKUP(Main3WData12[[#This Row],[Sector]],Sectors[],2,FALSE)","v":5}]
[null,"CARE",{"$f":"INDEX(Organizations[],MATCH(Main3WData12[[#This Row],[Acronym]],AcronymList,0),1)","v":{"$error":"#N/A"}},{"$f":"INDEX(Organizations[],MATCH(Main3WData12[[#This Row],[Acronym]],AcronymList,0),3)","v":{"$error":"#N/A"}},"Sécurité alimentaire","Regulier","Koulikoro",{"$f":"VLOOKUP(Main3WData12[[#This Row],[Admin Unit Name]],AdminUnits[],2,FALSE)","v":"ML02"},{"$f":"VLOOKUP(Main3WData12[[#This Row],[Admin Unit Name]],AdminUnits[],3,FALSE)","v":"Sud"},{"$f":"VLOOKUP(Main3WData12[[#This Row],[Admin Unit Name]],AdminUnits[],4,FALSE)","v":2},{"$f":"VLOOKUP(Main3WData12[[#This Row],[Sector]],Sectors[],2,FALSE)","v":7}]
[null,"CARE",{"$f":"INDEX(Organizations[],MATCH(Main3WData12[[#This Row],[Acronym]],AcronymList,0),1)","v":{"$error":"#N/A"}},{"$f":"INDEX(Organizations[],MATCH(Main3WData12[[#This Row],[Acronym]],AcronymList,0),3)","v":{"$error":"#N/A"}},"Sécurité alimentaire","Regulier","Mopti",{"$f":"VLOOKUP(Main3WData12[[#This Row],[Admin Unit Name]],AdminUnits[],2,FALSE)","v":"ML05"},{"$f":"VLOOKUP(Main3WData12[[#This Row],[Admin Unit Name]],AdminUnits[],3,FALSE)","v":"Sud"},{"$f":"VLOOKUP(Main3WData12[[#This Row],[Admin Unit Name]],AdminUnits[],4,FALSE)","v":5},{"$f":"VLOOKUP(Main3WData12[[#This Row],[Sector]],Sectors[],2,FALSE)","v":7}]
[null,"CARE",{"$f":"INDEX(Organizations[],MATCH(Main3WData12[[#This Row],[Acronym]],AcronymList,0),1)","v":{"$error":"#N/A"}},{"$f":"INDEX(Organizations[],MATCH(Main3WData12[[#This Row],[Acronym]],AcronymList,0),3)","v":{"$error":"#N/A"}},"EHA","Regulier","Mopti",{"$f":"VLOOKUP(Main3WData12[[#This Row],[Admin Unit Name]],AdminUnits[],2,FALSE)","v":"ML05"},{"$f":"VLOOKUP(Main3WData12[[#This Row],[Admin Unit Name]],AdminUnits[],3,FALSE)","v":"Sud"},{"$f":"VLOOKUP(Main3WData12[[#This Row],[Admin Unit Name]],AdminUnits[],4,FALSE)","v":5},{"$f":"VLOOKUP(Main3WData12[[#This Row],[Sector]],Sectors[],2,FALSE)","v":8}]
[null,"CARE",{"$f":"INDEX(Organizations[],MATCH(Main3WData12[[#This Row],[Acronym]],AcronymList,0),1)","v":{"$error":"#N/A"}},{"$f":"INDEX(Organizations[],MATCH(Main3WData12[[#This Row],[Acronym]],AcronymList,0),3)","v":{"$error":"#N/A"}},"EHA","Regulier","Segou",{"$f":"VLOOKUP(Main3WData12[[#This Row],[Admin Unit Name]],AdminUnits[],2,FALSE)","v":"ML04"},{"$f":"VLOOKUP(Main3WData12[[#This Row],[Admin Unit Name]],AdminUnits[],3,FALSE)","v":"Sud"},{"$f":"VLOOKUP(Main3WData12[[#This Row],[Admin Unit Name]],AdminUnits[],4,FALSE)","v":4},{"$f":"VLOOKUP(Main3WData12[[#This Row],[Sector]],Sectors[],2,FALSE)","v":8}]
[null,"CARE",{"$f":"INDEX(Organizations[],MATCH(Main3WData12[[#This Row],[Acronym]],AcronymList,0),1)","v":{"$error":"#N/A"}},{"$f":"INDEX(Organizations[],MATCH(Main3WData12[[#This Row],[Acronym]],AcronymList,0),3)","v":{"$error":"#N/A"}},"Sécurité alimentaire","Regulier","Tombouctou",{"$f":"VLOOKUP(Main3WData12[[#This Row],[Admin Unit Name]],AdminUnits[],2,FALSE)","v":"ML06"},{"$f":"VLOOKUP(Main3WData12[[#This Row],[Admin Unit Name]],AdminUnits[],3,FALSE)","v":"Nord"},{"$f":"VLOOKUP(Main3WData12[[#This Row],[Admin Unit Name]],AdminUnits[],4,FALSE)","v":6},{"$f":"VLOOKUP(Main3WData12[[#This Row],[Sector]],Sectors[],2,FALSE)","v":7}]
[null,"CARE",{"$f":"INDEX(Organizations[],MATCH(Main3WData12[[#This Row],[Acronym]],AcronymList,0),1)","v":{"$error":"#N/A"}},{"$f":"INDEX(Organizations[],MATCH(Main3WData12[[#This Row],[Acronym]],AcronymList,0),3)","v":{"$error":"#N/A"}},"EHA","Regulier","Tombouctou",{"$f":"VLOOKUP(Main3WData12[[#This Row],[Admin Unit Name]],AdminUnits[],2,FALSE)","v":"ML06"},{"$f":"VLOOKUP(Main3WData12[[#This Row],[Admin Unit Name]],AdminUnits[],3,FALSE)","v":"Nord"},{"$f":"VLOOKUP(Main3WData12[[#This Row],[Admin Unit Name]],AdminUnits[],4,FALSE)","v":6},{"$f":"VLOOKUP(Main3WData12[[#This Row],[Sector]],Sectors[],2,FALSE)","v":8}]
[null,"CAES",{"$f":"INDEX(Organizations[],MATCH(Main3WData12[[#This Row],[Acronym]],AcronymList,0),1)","v":"CAES"},{"$f":"INDEX(Organizations[],MATCH(Main3WData12[[#This Row],[Acronym]],AcronymList,0),3)","v":"ONG Nat."},"Sécurité alimentaire","Regulier","Segou",{"$f":"VLOOKUP(Main3WData12[[#This Row],[Admin Unit Name]],AdminUnits[],2,FALSE)","v":"ML04"},{"$f":"VLOOKUP(Main3WData12[[#This Row],[Admin Unit Name]],AdminUnits[],3,FALSE)","v":"Sud"},{"$f":"VLOOKUP(Main3WData12[[#This Row],[Admin Unit Name]],AdminUnits[],4,FALSE)","v":4},{"$f":"VLOOKUP(Main3WData12[[#This Row],[Sector]],Sectors[],2,FALSE)","v":7}]
[null,"BØRNEfonden",{"$f":"INDEX(Organizations[],MATCH(Main3WData12[[#This Row],[Acronym]],AcronymList,0),1)","v":"BØRNEfonden"},{"$f":"INDEX(Organizations[],MATCH(Main3WData12[[#This Row],[Acronym]],AcronymList,0),3)","v":"ONG Int."},"Nutrition","Regulier","Koulikoro",{"$f":"VLOOKUP(Main3WData12[[#This Row],[Admin Unit Name]],AdminUnits[],2,FALSE)","v":"ML02"},{"$f":"VLOOKUP(Main3WData12[[#This Row],[Admin Unit Name]],AdminUnits[],3,FALSE)","v":"Sud"},{"$f":"VLOOKUP(Main3WData12[[#This Row],[Admin Unit Name]],AdminUnits[],4,FALSE)","v":2},{"$f":"VLOOKUP(Main3WData12[[#This Row],[Sector]],Sectors[],2,FALSE)","v":4}]
[null,"BØRNEfonden",{"$f":"INDEX(Organizations[],MATCH(Main3WData12[[#This Row],[Acronym]],AcronymList,0),1)","v":"BØRNEfonden"},{"$f":"INDEX(Organizations[],MATCH(Main3WData12[[#This Row],[Acronym]],AcronymList,0),3)","v":"ONG Int."},"Nutrition","Regulier","Sikasso",{"$f":"VLOOKUP(Main3WData12[[#This Row],[Admin Unit Name]],AdminUnits[],2,FALSE)","v":"ML03"},{"$f":"VLOOKUP(Main3WData12[[#This Row],[Admin Unit Name]],AdminUnits[],3,FALSE)","v":"Sud"},{"$f":"VLOOKUP(Main3WData12[[#This Row],[Admin Unit Name]],AdminUnits[],4,FALSE)","v":3},{"$f":"VLOOKUP(Main3WData12[[#This Row],[Sector]],Sectors[],2,FALSE)","v":4}]
[null,"BNCE",{"$f":"INDEX(Organizations[],MATCH(Main3WData12[[#This Row],[Acronym]],AcronymList,0),1)","v":"Bureau National Catholique pour l'Enfance"},{"$f":"INDEX(Organizations[],MATCH(Main3WData12[[#This Row],[Acronym]],AcronymList,0),3)","v":"ONG Nat."},"Protection","Regulier","Bamako",{"$f":"VLOOKUP(Main3WData12[[#This Row],[Admin Unit Name]],AdminUnits[],2,FALSE)","v":"ML09"},{"$f":"VLOOKUP(Main3WData12[[#This Row],[Admin Unit Name]],AdminUnits[],3,FALSE)","v":"Sud"},{"$f":"VLOOKUP(Main3WData12[[#This Row],[Admin Unit Name]],AdminUnits[],4,FALSE)","v":0},{"$f":"VLOOKUP(Main3WData12[[#This Row],[Sector]],Sectors[],2,FALSE)","v":5}]
[null,"BNCE",{"$f":"INDEX(Organizations[],MATCH(Main3WData12[[#This Row],[Acronym]],AcronymList,0),1)","v":"Bureau National Catholique pour l'Enfance"},{"$f":"INDEX(Organizations[],MATCH(Main3WData12[[#This Row],[Acronym]],AcronymList,0),3)","v":"ONG Nat."},"Protection","Regulier","Mopti",{"$f":"VLOOKUP(Main3WData12[[#This Row],[Admin Unit Name]],AdminUnits[],2,FALSE)","v":"ML05"},{"$f":"VLOOKUP(Main3WData12[[#This Row],[Admin Unit Name]],AdminUnits[],3,FALSE)","v":"Sud"},{"$f":"VLOOKUP(Main3WData12[[#This Row],[Admin Unit Name]],AdminUnits[],4,FALSE)","v":5},{"$f":"VLOOKUP(Main3WData12[[#This Row],[Sector]],Sectors[],2,FALSE)","v":5}]
[null,"BNCE",{"$f":"INDEX(Organizations[],MATCH(Main3WData12[[#This Row],[Acronym]],AcronymList,0),1)","v":"Bureau National Catholique pour l'Enfance"},{"$f":"INDEX(Organizations[],MATCH(Main3WData12[[#This Row],[Acronym]],AcronymList,0),3)","v":"ONG Nat."},"Protection","Regulier","Sikasso",{"$f":"VLOOKUP(Main3WData12[[#This Row],[Admin Unit Name]],AdminUnits[],2,FALSE)","v":"ML03"},{"$f":"VLOOKUP(Main3WData12[[#This Row],[Admin Unit Name]],AdminUnits[],3,FALSE)","v":"Sud"},{"$f":"VLOOKUP(Main3WData12[[#This Row],[Admin Unit Name]],AdminUnits[],4,FALSE)","v":3},{"$f":"VLOOKUP(Main3WData12[[#This Row],[Sector]],Sectors[],2,FALSE)","v":5}]
[null,"AVSF",{"$f":"INDEX(Organizations[],MATCH(Main3WData12[[#This Row],[Acronym]],AcronymList,0),1)","v":"Agronomes et Vétérinaires Sans Frontières"},{"$f":"INDEX(Organizations[],MATCH(Main3WData12[[#This Row],[Acronym]],AcronymList,0),3)","v":"ONG Int."},"Abris et NFI","Regulier","Mopti",{"$f":"VLOOKUP(Main3WData12[[#This Row],[Admin Unit Name]],AdminUnits[],2,FALSE)","v":"ML05"},{"$f":"VLOOKUP(Main3WData12[[#This Row],[Admin Unit Name]],AdminUnits[],3,FALSE)","v":"Sud"},{"$f":"VLOOKUP(Main3WData12[[#This Row],[Admin Unit Name]],AdminUnits[],4,FALSE)","v":5},{"$f":"VLOOKUP(Main3WData12[[#This Row],[Sector]],Sectors[],2,FALSE)","v":1}]
[null,"AVSF",{"$f":"INDEX(Organizations[],MATCH(Main3WData12[[#This Row],[Acronym]],AcronymList,0),1)","v":"Agronomes et Vétérinaires Sans Frontières"},{"$f":"INDEX(Organizations[],MATCH(Main3WData12[[#This Row],[Acronym]],AcronymList,0),3)","v":"ONG Int."},"Nutrition","Regulier","Gao",{"$f":"VLOOKUP(Main3WData12[[#This Row],[Admin Unit Name]],AdminUnits[],2,FALSE)","v":"ML07"},{"$f":"VLOOKUP(Main3WData12[[#This Row],[Admin Unit Name]],AdminUnits[],3,FALSE)","v":"Nord"},{"$f":"VLOOKUP(Main3WData12[[#This Row],[Admin Unit Name]],AdminUnits[],4,FALSE)","v":7},{"$f":"VLOOKUP(Main3WData12[[#This Row],[Sector]],Sectors[],2,FALSE)","v":4}]
[null,"AVSF",{"$f":"INDEX(Organizations[],MATCH(Main3WData12[[#This Row],[Acronym]],AcronymList,0),1)","v":"Agronomes et Vétérinaires Sans Frontières"},{"$f":"INDEX(Organizations[],MATCH(Main3WData12[[#This Row],[Acronym]],AcronymList,0),3)","v":"ONG Int."},"Sécurité alimentaire","Regulier","Gao",{"$f":"VLOOKUP(Main3WData12[[#This Row],[Admin Unit Name]],AdminUnits[],2,FALSE)","v":"ML07"},{"$f":"VLOOKUP(Main3WData12[[#This Row],[Admin Unit Name]],AdminUnits[],3,FALSE)","v":"Nord"},{"$f":"VLOOKUP(Main3WData12[[#This Row],[Admin Unit Name]],AdminUnits[],4,FALSE)","v":7},{"$f":"VLOOKUP(Main3WData12[[#This Row],[Sector]],Sectors[],2,FALSE)","v":7}]
[null,"AVSF",{"$f":"INDEX(Organizations[],MATCH(Main3WData12[[#This Row],[Acronym]],AcronymList,0),1)","v":"Agronomes et Vétérinaires Sans Frontières"},{"$f":"INDEX(Organizations[],MATCH(Main3WData12[[#This Row],[Acronym]],AcronymList,0),3)","v":"ONG Int."},"Abris et NFI","Regulier","Tombouctou",{"$f":"VLOOKUP(Main3WData12[[#This Row],[Admin Unit Name]],AdminUnits[],2,FALSE)","v":"ML06"},{"$f":"VLOOKUP(Main3WData12[[#This Row],[Admin Unit Name]],AdminUnits[],3,FALSE)","v":"Nord"},{"$f":"VLOOKUP(Main3WData12[[#This Row],[Admin Unit Name]],AdminUnits[],4,FALSE)","v":6},{"$f":"VLOOKUP(Main3WData12[[#This Row],[Sector]],Sectors[],2,FALSE)","v":1}]
[null,"AVSF",{"$f":"INDEX(Organizations[],MATCH(Main3WData12[[#This Row],[Acronym]],AcronymList,0),1)","v":"Agronomes et Vétérinaires Sans Frontières"},{"$f":"INDEX(Organizations[],MATCH(Main3WData12[[#This Row],[Acronym]],AcronymList,0),3)","v":"ONG Int."},"Nutrition","Regulier","Tombouctou",{"$f":"VLOOKUP(Main3WData12[[#This Row],[Admin Unit Name]],AdminUnits[],2,FALSE)","v":"ML06"},{"$f":"VLOOKUP(Main3WData12[[#This Row],[Admin Unit Name]],AdminUnits[],3,FALSE)","v":"Nord"},{"$f":"VLOOKUP(Main3WData12[[#This Row],[Admin Unit Name]],AdminUnits[],4,FALSE)","v":6},{"$f":"VLOOKUP(Main3WData12[[#This Row],[Sector]],Sectors[],2,FALSE)","v":4}]
[null,"AVSF",{"$f":"INDEX(Organizations[],MATCH(Main3WData12[[#This Row],[Acronym]],AcronymList,0),1)","v":"Agronomes et Vétérinaires Sans Frontières"},{"$f":"INDEX(Organizations[],MATCH(Main3WData12[[#This Row],[Acronym]],AcronymList,0),3)","v":"ONG Int."},"Sécurité alimentaire","Regulier","Mopti",{"$f":"VLOOKUP(Main3WData12[[#This Row],[Admin Unit Name]],AdminUnits[],2,FALSE)","v":"ML05"},{"$f":"VLOOKUP(Main3WData12[[#This Row],[Admin Unit Name]],AdminUnits[],3,FALSE)","v":"Sud"},{"$f":"VLOOKUP(Main3WData12[[#This Row],[Admin Unit Name]],AdminUnits[],4,FALSE)","v":5},{"$f":"VLOOKUP(Main3WData12[[#This Row],[Sector]],Sectors[],2,FALSE)","v":7}]
[null,"AVSF",{"$f":"INDEX(Organizations[],MATCH(Main3WData12[[#This Row],[Acronym]],AcronymList,0),1)","v":"Agronomes et Vétérinaires Sans Frontières"},{"$f":"INDEX(Organizations[],MATCH(Main3WData12[[#This Row],[Acronym]],AcronymList,0),3)","v":"ONG Int."},"Sécurité alimentaire","Regulier","Kayes",{"$f":"VLOOKUP(Main3WData12[[#This Row],[Admin Unit Name]],AdminUnits[],2,FALSE)","v":"ML01"},{"$f":"VLOOKUP(Main3WData12[[#This Row],[Admin Unit Name]],AdminUnits[],3,FALSE)","v":"Sud"},{"$f":"VLOOKUP(Main3WData12[[#This Row],[Admin Unit Name]],AdminUnits[],4,FALSE)","v":1},{"$f":"VLOOKUP(Main3WData12[[#This Row],[Sector]],Sectors[],2,FALSE)","v":7}]
[null,"AVSF",{"$f":"INDEX(Organizations[],MATCH(Main3WData12[[#This Row],[Acronym]],AcronymList,0),1)","v":"Agronomes et Vétérinaires Sans Frontières"},{"$f":"INDEX(Organizations[],MATCH(Main3WData12[[#This Row],[Acronym]],AcronymList,0),3)","v":"ONG Int."},"Sécurité alimentaire","Regulier","Tombouctou",{"$f":"VLOOKUP(Main3WData12[[#This Row],[Admin Unit Name]],AdminUnits[],2,FALSE)","v":"ML06"},{"$f":"VLOOKUP(Main3WData12[[#This Row],[Admin Unit Name]],AdminUnits[],3,FALSE)","v":"Nord"},{"$f":"VLOOKUP(Main3WData12[[#This Row],[Admin Unit Name]],AdminUnits[],4,FALSE)","v":6},{"$f":"VLOOKUP(Main3WData12[[#This Row],[Sector]],Sectors[],2,FALSE)","v":7}]
[null,"AVSF",{"$f":"INDEX(Organizations[],MATCH(Main3WData12[[#This Row],[Acronym]],AcronymList,0),1)","v":"Agronomes et Vétérinaires Sans Frontières"},{"$f":"INDEX(Organizations[],MATCH(Main3WData12[[#This Row],[Acronym]],AcronymList,0),3)","v":"ONG Int."},"EHA","Regulier","Tombouctou",{"$f":"VLOOKUP(Main3WData12[[#This Row],[Admin Unit Name]],AdminUnits[],2,FALSE)","v":"ML06"},{"$f":"VLOOKUP(Main3WData12[[#This Row],[Admin Unit Name]],AdminUnits[],3,FALSE)","v":"Nord"},{"$f":"VLOOKUP(Main3WData12[[#This Row],[Admin Unit Name]],AdminUnits[],4,FALSE)","v":6},{"$f":"VLOOKUP(Main3WData12[[#This Row],[Sector]],Sectors[],2,FALSE)","v":8}]
[null,"AVSF",{"$f":"INDEX(Organizations[],MATCH(Main3WData12[[#This Row],[Acronym]],AcronymList,0),1)","v":"Agronomes et Vétérinaires Sans Frontières"},{"$f":"INDEX(Organizations[],MATCH(Main3WData12[[#This Row],[Acronym]],AcronymList,0),3)","v":"ONG Int."},"EHA","Regulier","Mopti",{"$f":"VLOOKUP(Main3WData12[[#This Row],[Admin Unit Name]],AdminUnits[],2,FALSE)","v":"ML05"},{"$f":"VLOOKUP(Main3WData12[[#This Row],[Admin Unit Name]],AdminUnits[],3,FALSE)","v":"Sud"},{"$f":"VLOOKUP(Main3WData12[[#This Row],[Admin Unit Name]],AdminUnits[],4,FALSE)","v":5},{"$f":"VLOOKUP(Main3WData12[[#This Row],[Sector]],Sectors[],2,FALSE)","v":8}]
[null,"AV.E.S",{"$f":"INDEX(Organizations[],MATCH(Main3WData12[[#This Row],[Acronym]],AcronymList,0),1)","v":{"$error":"#N/A"}},{"$f":"INDEX(Organizations[],MATCH(Main3WData12[[#This Row],[Acronym]],AcronymList,0),3)","v":{"$error":"#N/A"}},"Protection","Regulier","Mopti",{"$f":"VLOOKUP(Main3WData12[[#This Row],[Admin Unit Name]],AdminUnits[],2,FALSE)","v":"ML05"},{"$f":"VLOOKUP(Main3WData12[[#This Row],[Admin Unit Name]],AdminUnits[],3,FALSE)","v":"Sud"},{"$f":"VLOOKUP(Main3WData12[[#This Row],[Admin Unit Name]],AdminUnits[],4,FALSE)","v":5},{"$f":"VLOOKUP(Main3WData12[[#This Row],[Sector]],Sectors[],2,FALSE)","v":5}]
[null,"ASSAFE",{"$f":"INDEX(Organizations[],MATCH(Main3WData12[[#This Row],[Acronym]],AcronymList,0),1)","v":"ASSAFE"},{"$f":"INDEX(Organizations[],MATCH(Main3WData12[[#This Row],[Acronym]],AcronymList,0),3)","v":"ONG Nat."},"Protection","Regulier","Segou",{"$f":"VLOOKUP(Main3WData12[[#This Row],[Admin Unit Name]],AdminUnits[],2,FALSE)","v":"ML04"},{"$f":"VLOOKUP(Main3WData12[[#This Row],[Admin Unit Name]],AdminUnits[],3,FALSE)","v":"Sud"},{"$f":"VLOOKUP(Main3WData12[[#This Row],[Admin Unit Name]],AdminUnits[],4,FALSE)","v":4},{"$f":"VLOOKUP(Main3WData12[[#This Row],[Sector]],Sectors[],2,FALSE)","v":5}]
[null,"ASDAP",{"$f":"INDEX(Organizations[],MATCH(Main3WData12[[#This Row],[Acronym]],AcronymList,0),1)","v":"Association pour le Soutien du Développement des Activités de Population"},{"$f":"INDEX(Organizations[],MATCH(Main3WData12[[#This Row],[Acronym]],AcronymList,0),3)","v":"ONG Nat."},"Nutrition","Regulier","Mopti",{"$f":"VLOOKUP(Main3WData12[[#This Row],[Admin Unit Name]],AdminUnits[],2,FALSE)","v":"ML05"},{"$f":"VLOOKUP(Main3WData12[[#This Row],[Admin Unit Name]],AdminUnits[],3,FALSE)","v":"Sud"},{"$f":"VLOOKUP(Main3WData12[[#This Row],[Admin Unit Name]],AdminUnits[],4,FALSE)","v":5},{"$f":"VLOOKUP(Main3WData12[[#This Row],[Sector]],Sectors[],2,FALSE)","v":4}]
[null,"ASDAP",{"$f":"INDEX(Organizations[],MATCH(Main3WData12[[#This Row],[Acronym]],AcronymList,0),1)","v":"Association pour le Soutien du Développement des Activités de Population"},{"$f":"INDEX(Organizations[],MATCH(Main3WData12[[#This Row],[Acronym]],AcronymList,0),3)","v":"ONG Nat."},"Nutrition","Regulier","Segou",{"$f":"VLOOKUP(Main3WData12[[#This Row],[Admin Unit Name]],AdminUnits[],2,FALSE)","v":"ML04"},{"$f":"VLOOKUP(Main3WData12[[#This Row],[Admin Unit Name]],AdminUnits[],3,FALSE)","v":"Sud"},{"$f":"VLOOKUP(Main3WData12[[#This Row],[Admin Unit Name]],AdminUnits[],4,FALSE)","v":4},{"$f":"VLOOKUP(Main3WData12[[#This Row],[Sector]],Sectors[],2,FALSE)","v":4}]
[null,"ASDAP",{"$f":"INDEX(Organizations[],MATCH(Main3WData12[[#This Row],[Acronym]],AcronymList,0),1)","v":"Association pour le Soutien du Développement des Activités de Population"},{"$f":"INDEX(Organizations[],MATCH(Main3WData12[[#This Row],[Acronym]],AcronymList,0),3)","v":"ONG Nat."},"Nutrition","Regulier","Sikasso",{"$f":"VLOOKUP(Main3WData12[[#This Row],[Admin Unit Name]],AdminUnits[],2,FALSE)","v":"ML03"},{"$f":"VLOOKUP(Main3WData12[[#This Row],[Admin Unit Name]],AdminUnits[],3,FALSE)","v":"Sud"},{"$f":"VLOOKUP(Main3WData12[[#This Row],[Admin Unit Name]],AdminUnits[],4,FALSE)","v":3},{"$f":"VLOOKUP(Main3WData12[[#This Row],[Sector]],Sectors[],2,FALSE)","v":4}]
[null,"APDF",{"$f":"INDEX(Organizations[],MATCH(Main3WData12[[#This Row],[Acronym]],AcronymList,0),1)","v":"APDF"},{"$f":"INDEX(Organizations[],MATCH(Main3WData12[[#This Row],[Acronym]],AcronymList,0),3)","v":"ONG Nat."},"Protection","Regulier","Mopti",{"$f":"VLOOKUP(Main3WData12[[#This Row],[Admin Unit Name]],AdminUnits[],2,FALSE)","v":"ML05"},{"$f":"VLOOKUP(Main3WData12[[#This Row],[Admin Unit Name]],AdminUnits[],3,FALSE)","v":"Sud"},{"$f":"VLOOKUP(Main3WData12[[#This Row],[Admin Unit Name]],AdminUnits[],4,FALSE)","v":5},{"$f":"VLOOKUP(Main3WData12[[#This Row],[Sector]],Sectors[],2,FALSE)","v":5}]
[null,"APADL",{"$f":"INDEX(Organizations[],MATCH(Main3WData12[[#This Row],[Acronym]],AcronymList,0),1)","v":"Association pour la promotion et l'appui au développement local "},{"$f":"INDEX(Organizations[],MATCH(Main3WData12[[#This Row],[Acronym]],AcronymList,0),3)","v":"ONG Nat."},"Sécurité alimentaire","Regulier","Tombouctou",{"$f":"VLOOKUP(Main3WData12[[#This Row],[Admin Unit Name]],AdminUnits[],2,FALSE)","v":"ML06"},{"$f":"VLOOKUP(Main3WData12[[#This Row],[Admin Unit Name]],AdminUnits[],3,FALSE)","v":"Nord"},{"$f":"VLOOKUP(Main3WData12[[#This Row],[Admin Unit Name]],AdminUnits[],4,FALSE)","v":6},{"$f":"VLOOKUP(Main3WData12[[#This Row],[Sector]],Sectors[],2,FALSE)","v":7}]
[null,"AOPP - FEBEVIM",{"$f":"INDEX(Organizations[],MATCH(Main3WData12[[#This Row],[Acronym]],AcronymList,0),1)","v":{"$error":"#N/A"}},{"$f":"INDEX(Organizations[],MATCH(Main3WData12[[#This Row],[Acronym]],AcronymList,0),3)","v":{"$error":"#N/A"}},"Sécurité alimentaire","Regulier","Mopti",{"$f":"VLOOKUP(Main3WData12[[#This Row],[Admin Unit Name]],AdminUnits[],2,FALSE)","v":"ML05"},{"$f":"VLOOKUP(Main3WData12[[#This Row],[Admin Unit Name]],AdminUnits[],3,FALSE)","v":"Sud"},{"$f":"VLOOKUP(Main3WData12[[#This Row],[Admin Unit Name]],AdminUnits[],4,FALSE)","v":5},{"$f":"VLOOKUP(Main3WData12[[#This Row],[Sector]],Sectors[],2,FALSE)","v":7}]
[null,"AMSS",{"$f":"INDEX(Organizations[],MATCH(Main3WData12[[#This Row],[Acronym]],AcronymList,0),1)","v":"Association Malienne pour la Survie au Sahel"},{"$f":"INDEX(Organizations[],MATCH(Main3WData12[[#This Row],[Acronym]],AcronymList,0),3)","v":"ONG Nat."},"Sécurité alimentaire","Regulier","Tombouctou",{"$f":"VLOOKUP(Main3WData12[[#This Row],[Admin Unit Name]],AdminUnits[],2,FALSE)","v":"ML06"},{"$f":"VLOOKUP(Main3WData12[[#This Row],[Admin Unit Name]],AdminUnits[],3,FALSE)","v":"Nord"},{"$f":"VLOOKUP(Main3WData12[[#This Row],[Admin Unit Name]],AdminUnits[],4,FALSE)","v":6},{"$f":"VLOOKUP(Main3WData12[[#This Row],[Sector]],Sectors[],2,FALSE)","v":7}]
[null,"AMSOPT",{"$f":"INDEX(Organizations[],MATCH(Main3WData12[[#This Row],[Acronym]],AcronymList,0),1)","v":"AMSOPT"},{"$f":"INDEX(Organizations[],MATCH(Main3WData12[[#This Row],[Acronym]],AcronymList,0),3)","v":"ONG Nat."},"Protection","Regulier","Bamako",{"$f":"VLOOKUP(Main3WData12[[#This Row],[Admin Unit Name]],AdminUnits[],2,FALSE)","v":"ML09"},{"$f":"VLOOKUP(Main3WData12[[#This Row],[Admin Unit Name]],AdminUnits[],3,FALSE)","v":"Sud"},{"$f":"VLOOKUP(Main3WData12[[#This Row],[Admin Unit Name]],AdminUnits[],4,FALSE)","v":0},{"$f":"VLOOKUP(Main3WData12[[#This Row],[Sector]],Sectors[],2,FALSE)","v":5}]
[null,"AMSOPT",{"$f":"INDEX(Organizations[],MATCH(Main3WData12[[#This Row],[Acronym]],AcronymList,0),1)","v":"AMSOPT"},{"$f":"INDEX(Organizations[],MATCH(Main3WData12[[#This Row],[Acronym]],AcronymList,0),3)","v":"ONG Nat."},"Protection","Regulier","Mopti",{"$f":"VLOOKUP(Main3WData12[[#This Row],[Admin Unit Name]],AdminUnits[],2,FALSE)","v":"ML05"},{"$f":"VLOOKUP(Main3WData12[[#This Row],[Admin Unit Name]],AdminUnits[],3,FALSE)","v":"Sud"},{"$f":"VLOOKUP(Main3WData12[[#This Row],[Admin Unit Name]],AdminUnits[],4,FALSE)","v":5},{"$f":"VLOOKUP(Main3WData12[[#This Row],[Sector]],Sectors[],2,FALSE)","v":5}]
[null,"AMSOPT",{"$f":"INDEX(Organizations[],MATCH(Main3WData12[[#This Row],[Acronym]],AcronymList,0),1)","v":"AMSOPT"},{"$f":"INDEX(Organizations[],MATCH(Main3WData12[[#This Row],[Acronym]],AcronymList,0),3)","v":"ONG Nat."},"Protection","Regulier","Kayes",{"$f":"VLOOKUP(Main3WData12[[#This Row],[Admin Unit Name]],AdminUnits[],2,FALSE)","v":"ML01"},{"$f":"VLOOKUP(Main3WData12[[#This Row],[Admin Unit Name]],AdminUnits[],3,FALSE)","v":"Sud"},{"$f":"VLOOKUP(Main3WData12[[#This Row],[Admin Unit Name]],AdminUnits[],4,FALSE)","v":1},{"$f":"VLOOKUP(Main3WData12[[#This Row],[Sector]],Sectors[],2,FALSE)","v":5}]
[null,"AMPRODE Sahel",{"$f":"INDEX(Organizations[],MATCH(Main3WData12[[#This Row],[Acronym]],AcronymList,0),1)","v":"AMPRODE Sahel"},{"$f":"INDEX(Organizations[],MATCH(Main3WData12[[#This Row],[Acronym]],AcronymList,0),3)","v":"ONG Nat."},"Protection","Regulier","Bamako",{"$f":"VLOOKUP(Main3WData12[[#This Row],[Admin Unit Name]],AdminUnits[],2,FALSE)","v":"ML09"},{"$f":"VLOOKUP(Main3WData12[[#This Row],[Admin Unit Name]],AdminUnits[],3,FALSE)","v":"Sud"},{"$f":"VLOOKUP(Main3WData12[[#This Row],[Admin Unit Name]],AdminUnits[],4,FALSE)","v":0},{"$f":"VLOOKUP(Main3WData12[[#This Row],[Sector]],Sectors[],2,FALSE)","v":5}]
[null,"AMPRODE SAHEL",{"$f":"INDEX(Organizations[],MATCH(Main3WData12[[#This Row],[Acronym]],AcronymList,0),1)","v":"AMPRODE Sahel"},{"$f":"INDEX(Organizations[],MATCH(Main3WData12[[#This Row],[Acronym]],AcronymList,0),3)","v":"ONG Nat."},"Protection","Regulier","Mopti",{"$f":"VLOOKUP(Main3WData12[[#This Row],[Admin Unit Name]],AdminUnits[],2,FALSE)","v":"ML05"},{"$f":"VLOOKUP(Main3WData12[[#This Row],[Admin Unit Name]],AdminUnits[],3,FALSE)","v":"Sud"},{"$f":"VLOOKUP(Main3WData12[[#This Row],[Admin Unit Name]],AdminUnits[],4,FALSE)","v":5},{"$f":"VLOOKUP(Main3WData12[[#This Row],[Sector]],Sectors[],2,FALSE)","v":5}]
[null,"AMAPROS",{"$f":"INDEX(Organizations[],MATCH(Main3WData12[[#This Row],[Acronym]],AcronymList,0),1)","v":"Association Malienne pour la Promotion du Sahel"},{"$f":"INDEX(Organizations[],MATCH(Main3WData12[[#This Row],[Acronym]],AcronymList,0),3)","v":"ONG Nat."},"Protection","Regulier","Kayes",{"$f":"VLOOKUP(Main3WData12[[#This Row],[Admin Unit Name]],AdminUnits[],2,FALSE)","v":"ML01"},{"$f":"VLOOKUP(Main3WData12[[#This Row],[Admin Unit Name]],AdminUnits[],3,FALSE)","v":"Sud"},{"$f":"VLOOKUP(Main3WData12[[#This Row],[Admin Unit Name]],AdminUnits[],4,FALSE)","v":1},{"$f":"VLOOKUP(Main3WData12[[#This Row],[Sector]],Sectors[],2,FALSE)","v":5}]
[null,"AMAPROS",{"$f":"INDEX(Organizations[],MATCH(Main3WData12[[#This Row],[Acronym]],AcronymList,0),1)","v":"Association Malienne pour la Promotion du Sahel"},{"$f":"INDEX(Organizations[],MATCH(Main3WData12[[#This Row],[Acronym]],AcronymList,0),3)","v":"ONG Nat."},"Protection","Regulier","Mopti",{"$f":"VLOOKUP(Main3WData12[[#This Row],[Admin Unit Name]],AdminUnits[],2,FALSE)","v":"ML05"},{"$f":"VLOOKUP(Main3WData12[[#This Row],[Admin Unit Name]],AdminUnits[],3,FALSE)","v":"Sud"},{"$f":"VLOOKUP(Main3WData12[[#This Row],[Admin Unit Name]],AdminUnits[],4,FALSE)","v":5},{"$f":"VLOOKUP(Main3WData12[[#This Row],[Sector]],Sectors[],2,FALSE)","v":5}]
[null,"ALPHALOG",{"$f":"INDEX(Organizations[],MATCH(Main3WData12[[#This Row],[Acronym]],AcronymList,0),1)","v":"ALPHALOG"},{"$f":"INDEX(Organizations[],MATCH(Main3WData12[[#This Row],[Acronym]],AcronymList,0),3)","v":"ONG Nat."},"Protection","Regulier","Kayes",{"$f":"VLOOKUP(Main3WData12[[#This Row],[Admin Unit Name]],AdminUnits[],2,FALSE)","v":"ML01"},{"$f":"VLOOKUP(Main3WData12[[#This Row],[Admin Unit Name]],AdminUnits[],3,FALSE)","v":"Sud"},{"$f":"VLOOKUP(Main3WData12[[#This Row],[Admin Unit Name]],AdminUnits[],4,FALSE)","v":1},{"$f":"VLOOKUP(Main3WData12[[#This Row],[Sector]],Sectors[],2,FALSE)","v":5}]
[null,"ALPHALOG",{"$f":"INDEX(Organizations[],MATCH(Main3WData12[[#This Row],[Acronym]],AcronymList,0),1)","v":"ALPHALOG"},{"$f":"INDEX(Organizations[],MATCH(Main3WData12[[#This Row],[Acronym]],AcronymList,0),3)","v":"ONG Nat."},"Protection","Regulier","Mopti",{"$f":"VLOOKUP(Main3WData12[[#This Row],[Admin Unit Name]],AdminUnits[],2,FALSE)","v":"ML05"},{"$f":"VLOOKUP(Main3WData12[[#This Row],[Admin Unit Name]],AdminUnits[],3,FALSE)","v":"Sud"},{"$f":"VLOOKUP(Main3WData12[[#This Row],[Admin Unit Name]],AdminUnits[],4,FALSE)","v":5},{"$f":"VLOOKUP(Main3WData12[[#This Row],[Sector]],Sectors[],2,FALSE)","v":5}]
[null,"Alphalog",{"$f":"INDEX(Organizations[],MATCH(Main3WData12[[#This Row],[Acronym]],AcronymList,0),1)","v":"ALPHALOG"},{"$f":"INDEX(Organizations[],MATCH(Main3WData12[[#This Row],[Acronym]],AcronymList,0),3)","v":"ONG Nat."},"Sécurité alimentaire","Regulier","Segou",{"$f":"VLOOKUP(Main3WData12[[#This Row],[Admin Unit Name]],AdminUnits[],2,FALSE)","v":"ML04"},{"$f":"VLOOKUP(Main3WData12[[#This Row],[Admin Unit Name]],AdminUnits[],3,FALSE)","v":"Sud"},{"$f":"VLOOKUP(Main3WData12[[#This Row],[Admin Unit Name]],AdminUnits[],4,FALSE)","v":4},{"$f":"VLOOKUP(Main3WData12[[#This Row],[Sector]],Sectors[],2,FALSE)","v":7}]
[null,"ALIMA",{"$f":"INDEX(Organizations[],MATCH(Main3WData12[[#This Row],[Acronym]],AcronymList,0),1)","v":"Alliance Internationale for Medical Action"},{"$f":"INDEX(Organizations[],MATCH(Main3WData12[[#This Row],[Acronym]],AcronymList,0),3)","v":"ONG Int."},"Nutrition","Regulier","Koulikoro",{"$f":"VLOOKUP(Main3WData12[[#This Row],[Admin Unit Name]],AdminUnits[],2,FALSE)","v":"ML02"},{"$f":"VLOOKUP(Main3WData12[[#This Row],[Admin Unit Name]],AdminUnits[],3,FALSE)","v":"Sud"},{"$f":"VLOOKUP(Main3WData12[[#This Row],[Admin Unit Name]],AdminUnits[],4,FALSE)","v":2},{"$f":"VLOOKUP(Main3WData12[[#This Row],[Sector]],Sectors[],2,FALSE)","v":4}]
[null,"ALIMA",{"$f":"INDEX(Organizations[],MATCH(Main3WData12[[#This Row],[Acronym]],AcronymList,0),1)","v":"Alliance Internationale for Medical Action"},{"$f":"INDEX(Organizations[],MATCH(Main3WData12[[#This Row],[Acronym]],AcronymList,0),3)","v":"ONG Int."},"Abris et NFI","Regulier","Tombouctou",{"$f":"VLOOKUP(Main3WData12[[#This Row],[Admin Unit Name]],AdminUnits[],2,FALSE)","v":"ML06"},{"$f":"VLOOKUP(Main3WData12[[#This Row],[Admin Unit Name]],AdminUnits[],3,FALSE)","v":"Nord"},{"$f":"VLOOKUP(Main3WData12[[#This Row],[Admin Unit Name]],AdminUnits[],4,FALSE)","v":6},{"$f":"VLOOKUP(Main3WData12[[#This Row],[Sector]],Sectors[],2,FALSE)","v":1}]
[null,"ALIMA",{"$f":"INDEX(Organizations[],MATCH(Main3WData12[[#This Row],[Acronym]],AcronymList,0),1)","v":"Alliance Internationale for Medical Action"},{"$f":"INDEX(Organizations[],MATCH(Main3WData12[[#This Row],[Acronym]],AcronymList,0),3)","v":"ONG Int."},"Nutrition","Regulier","Tombouctou",{"$f":"VLOOKUP(Main3WData12[[#This Row],[Admin Unit Name]],AdminUnits[],2,FALSE)","v":"ML06"},{"$f":"VLOOKUP(Main3WData12[[#This Row],[Admin Unit Name]],AdminUnits[],3,FALSE)","v":"Nord"},{"$f":"VLOOKUP(Main3WData12[[#This Row],[Admin Unit Name]],AdminUnits[],4,FALSE)","v":6},{"$f":"VLOOKUP(Main3WData12[[#This Row],[Sector]],Sectors[],2,FALSE)","v":4}]
[null,"AKF",{"$f":"INDEX(Organizations[],MATCH(Main3WData12[[#This Row],[Acronym]],AcronymList,0),1)","v":"Aga Khan Foundation"},{"$f":"INDEX(Organizations[],MATCH(Main3WData12[[#This Row],[Acronym]],AcronymList,0),3)","v":"Fondation"},"Education","Regulier","Mopti",{"$f":"VLOOKUP(Main3WData12[[#This Row],[Admin Unit Name]],AdminUnits[],2,FALSE)","v":"ML05"},{"$f":"VLOOKUP(Main3WData12[[#This Row],[Admin Unit Name]],AdminUnits[],3,FALSE)","v":"Sud"},{"$f":"VLOOKUP(Main3WData12[[#This Row],[Admin Unit Name]],AdminUnits[],4,FALSE)","v":5},{"$f":"VLOOKUP(Main3WData12[[#This Row],[Sector]],Sectors[],2,FALSE)","v":3}]
[null,"AKF",{"$f":"INDEX(Organizations[],MATCH(Main3WData12[[#This Row],[Acronym]],AcronymList,0),1)","v":"Aga Khan Foundation"},{"$f":"INDEX(Organizations[],MATCH(Main3WData12[[#This Row],[Acronym]],AcronymList,0),3)","v":"Fondation"},"Sécurité alimentaire","Regulier","Mopti",{"$f":"VLOOKUP(Main3WData12[[#This Row],[Admin Unit Name]],AdminUnits[],2,FALSE)","v":"ML05"},{"$f":"VLOOKUP(Main3WData12[[#This Row],[Admin Unit Name]],AdminUnits[],3,FALSE)","v":"Sud"},{"$f":"VLOOKUP(Main3WData12[[#This Row],[Admin Unit Name]],AdminUnits[],4,FALSE)","v":5},{"$f":"VLOOKUP(Main3WData12[[#This Row],[Sector]],Sectors[],2,FALSE)","v":7}]
[null,"AKF",{"$f":"INDEX(Organizations[],MATCH(Main3WData12[[#This Row],[Acronym]],AcronymList,0),1)","v":"Aga Khan Foundation"},{"$f":"INDEX(Organizations[],MATCH(Main3WData12[[#This Row],[Acronym]],AcronymList,0),3)","v":"Fondation"},"Sécurité alimentaire","Regulier","Tombouctou",{"$f":"VLOOKUP(Main3WData12[[#This Row],[Admin Unit Name]],AdminUnits[],2,FALSE)","v":"ML06"},{"$f":"VLOOKUP(Main3WData12[[#This Row],[Admin Unit Name]],AdminUnits[],3,FALSE)","v":"Nord"},{"$f":"VLOOKUP(Main3WData12[[#This Row],[Admin Unit Name]],AdminUnits[],4,FALSE)","v":6},{"$f":"VLOOKUP(Main3WData12[[#This Row],[Sector]],Sectors[],2,FALSE)","v":7}]
[null,"Aidemet",{"$f":"INDEX(Organizations[],MATCH(Main3WData12[[#This Row],[Acronym]],AcronymList,0),1)","v":"Aide au Développement de la Médecine Traditionnelle"},{"$f":"INDEX(Organizations[],MATCH(Main3WData12[[#This Row],[Acronym]],AcronymList,0),3)","v":"ONG Nat."},"EHA","Regulier","Mopti",{"$f":"VLOOKUP(Main3WData12[[#This Row],[Admin Unit Name]],AdminUnits[],2,FALSE)","v":"ML05"},{"$f":"VLOOKUP(Main3WData12[[#This Row],[Admin Unit Name]],AdminUnits[],3,FALSE)","v":"Sud"},{"$f":"VLOOKUP(Main3WData12[[#This Row],[Admin Unit Name]],AdminUnits[],4,FALSE)","v":5},{"$f":"VLOOKUP(Main3WData12[[#This Row],[Sector]],Sectors[],2,FALSE)","v":8}]
[null,"Aidemet",{"$f":"INDEX(Organizations[],MATCH(Main3WData12[[#This Row],[Acronym]],AcronymList,0),1)","v":"Aide au Développement de la Médecine Traditionnelle"},{"$f":"INDEX(Organizations[],MATCH(Main3WData12[[#This Row],[Acronym]],AcronymList,0),3)","v":"ONG Nat."},"EHA","Regulier","Segou",{"$f":"VLOOKUP(Main3WData12[[#This Row],[Admin Unit Name]],AdminUnits[],2,FALSE)","v":"ML04"},{"$f":"VLOOKUP(Main3WData12[[#This Row],[Admin Unit Name]],AdminUnits[],3,FALSE)","v":"Sud"},{"$f":"VLOOKUP(Main3WData12[[#This Row],[Admin Unit Name]],AdminUnits[],4,FALSE)","v":4},{"$f":"VLOOKUP(Main3WData12[[#This Row],[Sector]],Sectors[],2,FALSE)","v":8}]
[null,"Aidemet",{"$f":"INDEX(Organizations[],MATCH(Main3WData12[[#This Row],[Acronym]],AcronymList,0),1)","v":"Aide au Développement de la Médecine Traditionnelle"},{"$f":"INDEX(Organizations[],MATCH(Main3WData12[[#This Row],[Acronym]],AcronymList,0),3)","v":"ONG Nat."},"EHA","Regulier","Kayes",{"$f":"VLOOKUP(Main3WData12[[#This Row],[Admin Unit Name]],AdminUnits[],2,FALSE)","v":"ML01"},{"$f":"VLOOKUP(Main3WData12[[#This Row],[Admin Unit Name]],AdminUnits[],3,FALSE)","v":"Sud"},{"$f":"VLOOKUP(Main3WData12[[#This Row],[Admin Unit Name]],AdminUnits[],4,FALSE)","v":1},{"$f":"VLOOKUP(Main3WData12[[#This Row],[Sector]],Sectors[],2,FALSE)","v":8}]
[null,"AFRICARE",{"$f":"INDEX(Organizations[],MATCH(Main3WData12[[#This Row],[Acronym]],AcronymList,0),1)","v":"AFRICARE"},{"$f":"INDEX(Organizations[],MATCH(Main3WData12[[#This Row],[Acronym]],AcronymList,0),3)","v":"ONG Int."},"Sécurité alimentaire","Regulier","Koulikoro",{"$f":"VLOOKUP(Main3WData12[[#This Row],[Admin Unit Name]],AdminUnits[],2,FALSE)","v":"ML02"},{"$f":"VLOOKUP(Main3WData12[[#This Row],[Admin Unit Name]],AdminUnits[],3,FALSE)","v":"Sud"},{"$f":"VLOOKUP(Main3WData12[[#This Row],[Admin Unit Name]],AdminUnits[],4,FALSE)","v":2},{"$f":"VLOOKUP(Main3WData12[[#This Row],[Sector]],Sectors[],2,FALSE)","v":7}]
[null,"AFRICARE",{"$f":"INDEX(Organizations[],MATCH(Main3WData12[[#This Row],[Acronym]],AcronymList,0),1)","v":"AFRICARE"},{"$f":"INDEX(Organizations[],MATCH(Main3WData12[[#This Row],[Acronym]],AcronymList,0),3)","v":"ONG Int."},"Sécurité alimentaire","Regulier","Tombouctou",{"$f":"VLOOKUP(Main3WData12[[#This Row],[Admin Unit Name]],AdminUnits[],2,FALSE)","v":"ML06"},{"$f":"VLOOKUP(Main3WData12[[#This Row],[Admin Unit Name]],AdminUnits[],3,FALSE)","v":"Nord"},{"$f":"VLOOKUP(Main3WData12[[#This Row],[Admin Unit Name]],AdminUnits[],4,FALSE)","v":6},{"$f":"VLOOKUP(Main3WData12[[#This Row],[Sector]],Sectors[],2,FALSE)","v":7}]
[null,"AFRICARE",{"$f":"INDEX(Organizations[],MATCH(Main3WData12[[#This Row],[Acronym]],AcronymList,0),1)","v":"AFRICARE"},{"$f":"INDEX(Organizations[],MATCH(Main3WData12[[#This Row],[Acronym]],AcronymList,0),3)","v":"ONG Int."},"Sécurité alimentaire","Regulier","Kayes",{"$f":"VLOOKUP(Main3WData12[[#This Row],[Admin Unit Name]],AdminUnits[],2,FALSE)","v":"ML01"},{"$f":"VLOOKUP(Main3WData12[[#This Row],[Admin Unit Name]],AdminUnits[],3,FALSE)","v":"Sud"},{"$f":"VLOOKUP(Main3WData12[[#This Row],[Admin Unit Name]],AdminUnits[],4,FALSE)","v":1},{"$f":"VLOOKUP(Main3WData12[[#This Row],[Sector]],Sectors[],2,FALSE)","v":7}]
[null,"AED",{"$f":"INDEX(Organizations[],MATCH(Main3WData12[[#This Row],[Acronym]],AcronymList,0),1)","v":"AED"},{"$f":"INDEX(Organizations[],MATCH(Main3WData12[[#This Row],[Acronym]],AcronymList,0),3)","v":"ONG Nat."},"Sécurité alimentaire","Regulier","Segou",{"$f":"VLOOKUP(Main3WData12[[#This Row],[Admin Unit Name]],AdminUnits[],2,FALSE)","v":"ML04"},{"$f":"VLOOKUP(Main3WData12[[#This Row],[Admin Unit Name]],AdminUnits[],3,FALSE)","v":"Sud"},{"$f":"VLOOKUP(Main3WData12[[#This Row],[Admin Unit Name]],AdminUnits[],4,FALSE)","v":4},{"$f":"VLOOKUP(Main3WData12[[#This Row],[Sector]],Sectors[],2,FALSE)","v":7}]
[null,"ADR",{"$f":"INDEX(Organizations[],MATCH(Main3WData12[[#This Row],[Acronym]],AcronymList,0),1)","v":"ADR"},{"$f":"INDEX(Organizations[],MATCH(Main3WData12[[#This Row],[Acronym]],AcronymList,0),3)","v":"ONG Nat."},"Sécurité alimentaire","Regulier","Kayes",{"$f":"VLOOKUP(Main3WData12[[#This Row],[Admin Unit Name]],AdminUnits[],2,FALSE)","v":"ML01"},{"$f":"VLOOKUP(Main3WData12[[#This Row],[Admin Unit Name]],AdminUnits[],3,FALSE)","v":"Sud"},{"$f":"VLOOKUP(Main3WData12[[#This Row],[Admin Unit Name]],AdminUnits[],4,FALSE)","v":1},{"$f":"VLOOKUP(Main3WData12[[#This Row],[Sector]],Sectors[],2,FALSE)","v":7}]
[null,"ADG",{"$f":"INDEX(Organizations[],MATCH(Main3WData12[[#This Row],[Acronym]],AcronymList,0),1)","v":"ADG"},{"$f":"INDEX(Organizations[],MATCH(Main3WData12[[#This Row],[Acronym]],AcronymList,0),3)","v":"ONG Nat."},"Sécurité alimentaire","Regulier","Kayes",{"$f":"VLOOKUP(Main3WData12[[#This Row],[Admin Unit Name]],AdminUnits[],2,FALSE)","v":"ML01"},{"$f":"VLOOKUP(Main3WData12[[#This Row],[Admin Unit Name]],AdminUnits[],3,FALSE)","v":"Sud"},{"$f":"VLOOKUP(Main3WData12[[#This Row],[Admin Unit Name]],AdminUnits[],4,FALSE)","v":1},{"$f":"VLOOKUP(Main3WData12[[#This Row],[Sector]],Sectors[],2,FALSE)","v":7}]
[null,"ACTED",{"$f":"INDEX(Organizations[],MATCH(Main3WData12[[#This Row],[Acronym]],AcronymList,0),1)","v":"Agence d'aide à la coopération technique et au développement"},{"$f":"INDEX(Organizations[],MATCH(Main3WData12[[#This Row],[Acronym]],AcronymList,0),3)","v":"ONG Int."},"Abris et NFI","Regulier","Bamako",{"$f":"VLOOKUP(Main3WData12[[#This Row],[Admin Unit Name]],AdminUnits[],2,FALSE)","v":"ML09"},{"$f":"VLOOKUP(Main3WData12[[#This Row],[Admin Unit Name]],AdminUnits[],3,FALSE)","v":"Sud"},{"$f":"VLOOKUP(Main3WData12[[#This Row],[Admin Unit Name]],AdminUnits[],4,FALSE)","v":0},{"$f":"VLOOKUP(Main3WData12[[#This Row],[Sector]],Sectors[],2,FALSE)","v":1}]
[null,"ACTED",{"$f":"INDEX(Organizations[],MATCH(Main3WData12[[#This Row],[Acronym]],AcronymList,0),1)","v":"Agence d'aide à la coopération technique et au développement"},{"$f":"INDEX(Organizations[],MATCH(Main3WData12[[#This Row],[Acronym]],AcronymList,0),3)","v":"ONG Int."},"Abris et NFI","Regulier","Koulikoro",{"$f":"VLOOKUP(Main3WData12[[#This Row],[Admin Unit Name]],AdminUnits[],2,FALSE)","v":"ML02"},{"$f":"VLOOKUP(Main3WData12[[#This Row],[Admin Unit Name]],AdminUnits[],3,FALSE)","v":"Sud"},{"$f":"VLOOKUP(Main3WData12[[#This Row],[Admin Unit Name]],AdminUnits[],4,FALSE)","v":2},{"$f":"VLOOKUP(Main3WData12[[#This Row],[Sector]],Sectors[],2,FALSE)","v":1}]
[null,"ACTED",{"$f":"INDEX(Organizations[],MATCH(Main3WData12[[#This Row],[Acronym]],AcronymList,0),1)","v":"Agence d'aide à la coopération technique et au développement"},{"$f":"INDEX(Organizations[],MATCH(Main3WData12[[#This Row],[Acronym]],AcronymList,0),3)","v":"ONG Int."},"Abris et NFI","Regulier","Segou",{"$f":"VLOOKUP(Main3WData12[[#This Row],[Admin Unit Name]],AdminUnits[],2,FALSE)","v":"ML04"},{"$f":"VLOOKUP(Main3WData12[[#This Row],[Admin Unit Name]],AdminUnits[],3,FALSE)","v":"Sud"},{"$f":"VLOOKUP(Main3WData12[[#This Row],[Admin Unit Name]],AdminUnits[],4,FALSE)","v":4},{"$f":"VLOOKUP(Main3WData12[[#This Row],[Sector]],Sectors[],2,FALSE)","v":1}]
[null,"ACTED",{"$f":"INDEX(Organizations[],MATCH(Main3WData12[[#This Row],[Acronym]],AcronymList,0),1)","v":"Agence d'aide à la coopération technique et au développement"},{"$f":"INDEX(Organizations[],MATCH(Main3WData12[[#This Row],[Acronym]],AcronymList,0),3)","v":"ONG Int."},"Protection","Regulier","Kayes",{"$f":"VLOOKUP(Main3WData12[[#This Row],[Admin Unit Name]],AdminUnits[],2,FALSE)","v":"ML01"},{"$f":"VLOOKUP(Main3WData12[[#This Row],[Admin Unit Name]],AdminUnits[],3,FALSE)","v":"Sud"},{"$f":"VLOOKUP(Main3WData12[[#This Row],[Admin Unit Name]],AdminUnits[],4,FALSE)","v":1},{"$f":"VLOOKUP(Main3WData12[[#This Row],[Sector]],Sectors[],2,FALSE)","v":5}]
[null,"ACTED",{"$f":"INDEX(Organizations[],MATCH(Main3WData12[[#This Row],[Acronym]],AcronymList,0),1)","v":"Agence d'aide à la coopération technique et au développement"},{"$f":"INDEX(Organizations[],MATCH(Main3WData12[[#This Row],[Acronym]],AcronymList,0),3)","v":"ONG Int."},"Protection","Regulier","Bamako",{"$f":"VLOOKUP(Main3WData12[[#This Row],[Admin Unit Name]],AdminUnits[],2,FALSE)","v":"ML09"},{"$f":"VLOOKUP(Main3WData12[[#This Row],[Admin Unit Name]],AdminUnits[],3,FALSE)","v":"Sud"},{"$f":"VLOOKUP(Main3WData12[[#This Row],[Admin Unit Name]],AdminUnits[],4,FALSE)","v":0},{"$f":"VLOOKUP(Main3WData12[[#This Row],[Sector]],Sectors[],2,FALSE)","v":5}]
[null,"ACTED",{"$f":"INDEX(Organizations[],MATCH(Main3WData12[[#This Row],[Acronym]],AcronymList,0),1)","v":"Agence d'aide à la coopération technique et au développement"},{"$f":"INDEX(Organizations[],MATCH(Main3WData12[[#This Row],[Acronym]],AcronymList,0),3)","v":"ONG Int."},"Sécurité alimentaire","Regulier","Gao",{"$f":"VLOOKUP(Main3WData12[[#This Row],[Admin Unit Name]],AdminUnits[],2,FALSE)","v":"ML07"},{"$f":"VLOOKUP(Main3WData12[[#This Row],[Admin Unit Name]],AdminUnits[],3,FALSE)","v":"Nord"},{"$f":"VLOOKUP(Main3WData12[[#This Row],[Admin Unit Name]],AdminUnits[],4,FALSE)","v":7},{"$f":"VLOOKUP(Main3WData12[[#This Row],[Sector]],Sectors[],2,FALSE)","v":7}]
[null,"ACTED",{"$f":"INDEX(Organizations[],MATCH(Main3WData12[[#This Row],[Acronym]],AcronymList,0),1)","v":"Agence d'aide à la coopération technique et au développement"},{"$f":"INDEX(Organizations[],MATCH(Main3WData12[[#This Row],[Acronym]],AcronymList,0),3)","v":"ONG Int."},"Sécurité alimentaire","Regulier","Bamako",{"$f":"VLOOKUP(Main3WData12[[#This Row],[Admin Unit Name]],AdminUnits[],2,FALSE)","v":"ML09"},{"$f":"VLOOKUP(Main3WData12[[#This Row],[Admin Unit Name]],AdminUnits[],3,FALSE)","v":"Sud"},{"$f":"VLOOKUP(Main3WData12[[#This Row],[Admin Unit Name]],AdminUnits[],4,FALSE)","v":0},{"$f":"VLOOKUP(Main3WData12[[#This Row],[Sector]],Sectors[],2,FALSE)","v":7}]
[null,"ACTED",{"$f":"INDEX(Organizations[],MATCH(Main3WData12[[#This Row],[Acronym]],AcronymList,0),1)","v":"Agence d'aide à la coopération technique et au développement"},{"$f":"INDEX(Organizations[],MATCH(Main3WData12[[#This Row],[Acronym]],AcronymList,0),3)","v":"ONG Int."},"Sécurité alimentaire","Regulier","Koulikoro",{"$f":"VLOOKUP(Main3WData12[[#This Row],[Admin Unit Name]],AdminUnits[],2,FALSE)","v":"ML02"},{"$f":"VLOOKUP(Main3WData12[[#This Row],[Admin Unit Name]],AdminUnits[],3,FALSE)","v":"Sud"},{"$f":"VLOOKUP(Main3WData12[[#This Row],[Admin Unit Name]],AdminUnits[],4,FALSE)","v":2},{"$f":"VLOOKUP(Main3WData12[[#This Row],[Sector]],Sectors[],2,FALSE)","v":7}]
[null,"ACTED",{"$f":"INDEX(Organizations[],MATCH(Main3WData12[[#This Row],[Acronym]],AcronymList,0),1)","v":"Agence d'aide à la coopération technique et au développement"},{"$f":"INDEX(Organizations[],MATCH(Main3WData12[[#This Row],[Acronym]],AcronymList,0),3)","v":"ONG Int."},"EHA","Regulier","Segou",{"$f":"VLOOKUP(Main3WData12[[#This Row],[Admin Unit Name]],AdminUnits[],2,FALSE)","v":"ML04"},{"$f":"VLOOKUP(Main3WData12[[#This Row],[Admin Unit Name]],AdminUnits[],3,FALSE)","v":"Sud"},{"$f":"VLOOKUP(Main3WData12[[#This Row],[Admin Unit Name]],AdminUnits[],4,FALSE)","v":4},{"$f":"VLOOKUP(Main3WData12[[#This Row],[Sector]],Sectors[],2,FALSE)","v":8}]
[null,"ACTED",{"$f":"INDEX(Organizations[],MATCH(Main3WData12[[#This Row],[Acronym]],AcronymList,0),1)","v":"Agence d'aide à la coopération technique et au développement"},{"$f":"INDEX(Organizations[],MATCH(Main3WData12[[#This Row],[Acronym]],AcronymList,0),3)","v":"ONG Int."},"EHA","Regulier","Bamako",{"$f":"VLOOKUP(Main3WData12[[#This Row],[Admin Unit Name]],AdminUnits[],2,FALSE)","v":"ML09"},{"$f":"VLOOKUP(Main3WData12[[#This Row],[Admin Unit Name]],AdminUnits[],3,FALSE)","v":"Sud"},{"$f":"VLOOKUP(Main3WData12[[#This Row],[Admin Unit Name]],AdminUnits[],4,FALSE)","v":0},{"$f":"VLOOKUP(Main3WData12[[#This Row],[Sector]],Sectors[],2,FALSE)","v":8}]
[null,"ACF – Espagne",{"$f":"INDEX(Organizations[],MATCH(Main3WData12[[#This Row],[Acronym]],AcronymList,0),1)","v":"Action contre la faim Espagne"},{"$f":"INDEX(Organizations[],MATCH(Main3WData12[[#This Row],[Acronym]],AcronymList,0),3)","v":"ONG Int."},"Nutrition","Regulier","Gao",{"$f":"VLOOKUP(Main3WData12[[#This Row],[Admin Unit Name]],AdminUnits[],2,FALSE)","v":"ML07"},{"$f":"VLOOKUP(Main3WData12[[#This Row],[Admin Unit Name]],AdminUnits[],3,FALSE)","v":"Nord"},{"$f":"VLOOKUP(Main3WData12[[#This Row],[Admin Unit Name]],AdminUnits[],4,FALSE)","v":7},{"$f":"VLOOKUP(Main3WData12[[#This Row],[Sector]],Sectors[],2,FALSE)","v":4}]
[null,"ACF – Espagne",{"$f":"INDEX(Organizations[],MATCH(Main3WData12[[#This Row],[Acronym]],AcronymList,0),1)","v":"Action contre la faim Espagne"},{"$f":"INDEX(Organizations[],MATCH(Main3WData12[[#This Row],[Acronym]],AcronymList,0),3)","v":"ONG Int."},"Nutrition","Regulier","Bamako",{"$f":"VLOOKUP(Main3WData12[[#This Row],[Admin Unit Name]],AdminUnits[],2,FALSE)","v":"ML09"},{"$f":"VLOOKUP(Main3WData12[[#This Row],[Admin Unit Name]],AdminUnits[],3,FALSE)","v":"Sud"},{"$f":"VLOOKUP(Main3WData12[[#This Row],[Admin Unit Name]],AdminUnits[],4,FALSE)","v":0},{"$f":"VLOOKUP(Main3WData12[[#This Row],[Sector]],Sectors[],2,FALSE)","v":4}]
[null,"ACF – Espagne",{"$f":"INDEX(Organizations[],MATCH(Main3WData12[[#This Row],[Acronym]],AcronymList,0),1)","v":"Action contre la faim Espagne"},{"$f":"INDEX(Organizations[],MATCH(Main3WData12[[#This Row],[Acronym]],AcronymList,0),3)","v":"ONG Int."},"Nutrition","Regulier","Kayes",{"$f":"VLOOKUP(Main3WData12[[#This Row],[Admin Unit Name]],AdminUnits[],2,FALSE)","v":"ML01"},{"$f":"VLOOKUP(Main3WData12[[#This Row],[Admin Unit Name]],AdminUnits[],3,FALSE)","v":"Sud"},{"$f":"VLOOKUP(Main3WData12[[#This Row],[Admin Unit Name]],AdminUnits[],4,FALSE)","v":1},{"$f":"VLOOKUP(Main3WData12[[#This Row],[Sector]],Sectors[],2,FALSE)","v":4}]
[null,"ACF – Espagne",{"$f":"INDEX(Organizations[],MATCH(Main3WData12[[#This Row],[Acronym]],AcronymList,0),1)","v":"Action contre la faim Espagne"},{"$f":"INDEX(Organizations[],MATCH(Main3WData12[[#This Row],[Acronym]],AcronymList,0),3)","v":"ONG Int."},"Sécurité alimentaire","Regulier","Gao",{"$f":"VLOOKUP(Main3WData12[[#This Row],[Admin Unit Name]],AdminUnits[],2,FALSE)","v":"ML07"},{"$f":"VLOOKUP(Main3WData12[[#This Row],[Admin Unit Name]],AdminUnits[],3,FALSE)","v":"Nord"},{"$f":"VLOOKUP(Main3WData12[[#This Row],[Admin Unit Name]],AdminUnits[],4,FALSE)","v":7},{"$f":"VLOOKUP(Main3WData12[[#This Row],[Sector]],Sectors[],2,FALSE)","v":7}]
[null,"ACF – Espagne",{"$f":"INDEX(Organizations[],MATCH(Main3WData12[[#This Row],[Acronym]],AcronymList,0),1)","v":"Action contre la faim Espagne"},{"$f":"INDEX(Organizations[],MATCH(Main3WData12[[#This Row],[Acronym]],AcronymList,0),3)","v":"ONG Int."},"EHA","Regulier","Gao",{"$f":"VLOOKUP(Main3WData12[[#This Row],[Admin Unit Name]],AdminUnits[],2,FALSE)","v":"ML07"},{"$f":"VLOOKUP(Main3WData12[[#This Row],[Admin Unit Name]],AdminUnits[],3,FALSE)","v":"Nord"},{"$f":"VLOOKUP(Main3WData12[[#This Row],[Admin Unit Name]],AdminUnits[],4,FALSE)","v":7},{"$f":"VLOOKUP(Main3WData12[[#This Row],[Sector]],Sectors[],2,FALSE)","v":8}]
[null,"ACF – Espagne",{"$f":"INDEX(Organizations[],MATCH(Main3WData12[[#This Row],[Acronym]],AcronymList,0),1)","v":"Action contre la faim Espagne"},{"$f":"INDEX(Organizations[],MATCH(Main3WData12[[#This Row],[Acronym]],AcronymList,0),3)","v":"ONG Int."},"Sécurité alimentaire","Regulier","Koulikoro",{"$f":"VLOOKUP(Main3WData12[[#This Row],[Admin Unit Name]],AdminUnits[],2,FALSE)","v":"ML02"},{"$f":"VLOOKUP(Main3WData12[[#This Row],[Admin Unit Name]],AdminUnits[],3,FALSE)","v":"Sud"},{"$f":"VLOOKUP(Main3WData12[[#This Row],[Admin Unit Name]],AdminUnits[],4,FALSE)","v":2},{"$f":"VLOOKUP(Main3WData12[[#This Row],[Sector]],Sectors[],2,FALSE)","v":7}]
[null,"ACF – Espagne",{"$f":"INDEX(Organizations[],MATCH(Main3WData12[[#This Row],[Acronym]],AcronymList,0),1)","v":"Action contre la faim Espagne"},{"$f":"INDEX(Organizations[],MATCH(Main3WData12[[#This Row],[Acronym]],AcronymList,0),3)","v":"ONG Int."},"Sécurité alimentaire","Regulier","Kayes",{"$f":"VLOOKUP(Main3WData12[[#This Row],[Admin Unit Name]],AdminUnits[],2,FALSE)","v":"ML01"},{"$f":"VLOOKUP(Main3WData12[[#This Row],[Admin Unit Name]],AdminUnits[],3,FALSE)","v":"Sud"},{"$f":"VLOOKUP(Main3WData12[[#This Row],[Admin Unit Name]],AdminUnits[],4,FALSE)","v":1},{"$f":"VLOOKUP(Main3WData12[[#This Row],[Sector]],Sectors[],2,FALSE)","v":7}]
[null,"ACF – Espagne",{"$f":"INDEX(Organizations[],MATCH(Main3WData12[[#This Row],[Acronym]],AcronymList,0),1)","v":"Action contre la faim Espagne"},{"$f":"INDEX(Organizations[],MATCH(Main3WData12[[#This Row],[Acronym]],AcronymList,0),3)","v":"ONG Int."},"EHA","Regulier","Bamako",{"$f":"VLOOKUP(Main3WData12[[#This Row],[Admin Unit Name]],AdminUnits[],2,FALSE)","v":"ML09"},{"$f":"VLOOKUP(Main3WData12[[#This Row],[Admin Unit Name]],AdminUnits[],3,FALSE)","v":"Sud"},{"$f":"VLOOKUP(Main3WData12[[#This Row],[Admin Unit Name]],AdminUnits[],4,FALSE)","v":0},{"$f":"VLOOKUP(Main3WData12[[#This Row],[Sector]],Sectors[],2,FALSE)","v":8}]
[null,"ACF – Espagne",{"$f":"INDEX(Organizations[],MATCH(Main3WData12[[#This Row],[Acronym]],AcronymList,0),1)","v":"Action contre la faim Espagne"},{"$f":"INDEX(Organizations[],MATCH(Main3WData12[[#This Row],[Acronym]],AcronymList,0),3)","v":"ONG Int."},"EHA","Regulier","Koulikoro",{"$f":"VLOOKUP(Main3WData12[[#This Row],[Admin Unit Name]],AdminUnits[],2,FALSE)","v":"ML02"},{"$f":"VLOOKUP(Main3WData12[[#This Row],[Admin Unit Name]],AdminUnits[],3,FALSE)","v":"Sud"},{"$f":"VLOOKUP(Main3WData12[[#This Row],[Admin Unit Name]],AdminUnits[],4,FALSE)","v":2},{"$f":"VLOOKUP(Main3WData12[[#This Row],[Sector]],Sectors[],2,FALSE)","v":8}]
[null,"AAVNU",{"$f":"INDEX(Organizations[],MATCH(Main3WData12[[#This Row],[Acronym]],AcronymList,0),1)","v":"Association des Anciens Volontaires des Nations Unies"},{"$f":"INDEX(Organizations[],MATCH(Main3WData12[[#This Row],[Acronym]],AcronymList,0),3)","v":"ONG Nat."},"Protection","Regulier","Bamako",{"$f":"VLOOKUP(Main3WData12[[#This Row],[Admin Unit Name]],AdminUnits[],2,FALSE)","v":"ML09"},{"$f":"VLOOKUP(Main3WData12[[#This Row],[Admin Unit Name]],AdminUnits[],3,FALSE)","v":"Sud"},{"$f":"VLOOKUP(Main3WData12[[#This Row],[Admin Unit Name]],AdminUnits[],4,FALSE)","v":0},{"$f":"VLOOKUP(Main3WData12[[#This Row],[Sector]],Sectors[],2,FALSE)","v":5}]
[null,"AAVNU",{"$f":"INDEX(Organizations[],MATCH(Main3WData12[[#This Row],[Acronym]],AcronymList,0),1)","v":"Association des Anciens Volontaires des Nations Unies"},{"$f":"INDEX(Organizations[],MATCH(Main3WData12[[#This Row],[Acronym]],AcronymList,0),3)","v":"ONG Nat."},"Protection","Regulier","Sikasso",{"$f":"VLOOKUP(Main3WData12[[#This Row],[Admin Unit Name]],AdminUnits[],2,FALSE)","v":"ML03"},{"$f":"VLOOKUP(Main3WData12[[#This Row],[Admin Unit Name]],AdminUnits[],3,FALSE)","v":"Sud"},{"$f":"VLOOKUP(Main3WData12[[#This Row],[Admin Unit Name]],AdminUnits[],4,FALSE)","v":3},{"$f":"VLOOKUP(Main3WData12[[#This Row],[Sector]],Sectors[],2,FALSE)","v":5}]
[null,"ENDA MALI",{"$f":"INDEX(Organizations[],MATCH(Main3WData12[[#This Row],[Acronym]],AcronymList,0),1)","v":"ENDA MALI"},{"$f":"INDEX(Organizations[],MATCH(Main3WData12[[#This Row],[Acronym]],AcronymList,0),3)","v":"ONG Int."},"Protection","Regulier","Segou",{"$f":"VLOOKUP(Main3WData12[[#This Row],[Admin Unit Name]],AdminUnits[],2,FALSE)","v":"ML04"},{"$f":"VLOOKUP(Main3WData12[[#This Row],[Admin Unit Name]],AdminUnits[],3,FALSE)","v":"Sud"},{"$f":"VLOOKUP(Main3WData12[[#This Row],[Admin Unit Name]],AdminUnits[],4,FALSE)","v":4},{"$f":"VLOOKUP(Main3WData12[[#This Row],[Sector]],Sectors[],2,FALSE)","v":5}]
[null,"SADEVE",{"$f":"INDEX(Organizations[],MATCH(Main3WData12[[#This Row],[Acronym]],AcronymList,0),1)","v":"Santé Développement"},{"$f":"INDEX(Organizations[],MATCH(Main3WData12[[#This Row],[Acronym]],AcronymList,0),3)","v":"ONG Nat."},"Nutrition","Regulier","Tombouctou",{"$f":"VLOOKUP(Main3WData12[[#This Row],[Admin Unit Name]],AdminUnits[],2,FALSE)","v":"ML06"},{"$f":"VLOOKUP(Main3WData12[[#This Row],[Admin Unit Name]],AdminUnits[],3,FALSE)","v":"Nord"},{"$f":"VLOOKUP(Main3WData12[[#This Row],[Admin Unit Name]],AdminUnits[],4,FALSE)","v":6},{"$f":"VLOOKUP(Main3WData12[[#This Row],[Sector]],Sectors[],2,FALSE)","v":4}]
[null,"Plan Mali",{"$f":"INDEX(Organizations[],MATCH(Main3WData12[[#This Row],[Acronym]],AcronymList,0),1)","v":"Plan Mali"},{"$f":"INDEX(Organizations[],MATCH(Main3WData12[[#This Row],[Acronym]],AcronymList,0),3)","v":"ONG Int."},"Protection","Regulier","Tombouctou",{"$f":"VLOOKUP(Main3WData12[[#This Row],[Admin Unit Name]],AdminUnits[],2,FALSE)","v":"ML06"},{"$f":"VLOOKUP(Main3WData12[[#This Row],[Admin Unit Name]],AdminUnits[],3,FALSE)","v":"Nord"},{"$f":"VLOOKUP(Main3WData12[[#This Row],[Admin Unit Name]],AdminUnits[],4,FALSE)","v":6},{"$f":"VLOOKUP(Main3WData12[[#This Row],[Sector]],Sectors[],2,FALSE)","v":5}]
[null,"UNHCR",{"$f":"INDEX(Organizations[],MATCH(Main3WData12[[#This Row],[Acronym]],AcronymList,0),1)","v":"Haut Commissariat des Nations Unies pour les réfugiés"},{"$f":"INDEX(Organizations[],MATCH(Main3WData12[[#This Row],[Acronym]],AcronymList,0),3)","v":"UN"},"Protection","Regulier","Tombouctou",{"$f":"VLOOKUP(Main3WData12[[#This Row],[Admin Unit Name]],AdminUnits[],2,FALSE)","v":"ML06"},{"$f":"VLOOKUP(Main3WData12[[#This Row],[Admin Unit Name]],AdminUnits[],3,FALSE)","v":"Nord"},{"$f":"VLOOKUP(Main3WData12[[#This Row],[Admin Unit Name]],AdminUnits[],4,FALSE)","v":6},{"$f":"VLOOKUP(Main3WData12[[#This Row],[Sector]],Sectors[],2,FALSE)","v":5}]
[null,"ARDIL",{"$f":"INDEX(Organizations[],MATCH(Main3WData12[[#This Row],[Acronym]],AcronymList,0),1)","v":"ARDIL"},{"$f":"INDEX(Organizations[],MATCH(Main3WData12[[#This Row],[Acronym]],AcronymList,0),3)","v":"ONG Nat."},"Sécurité alimentaire","Regulier","Tombouctou",{"$f":"VLOOKUP(Main3WData12[[#This Row],[Admin Unit Name]],AdminUnits[],2,FALSE)","v":"ML06"},{"$f":"VLOOKUP(Main3WData12[[#This Row],[Admin Unit Name]],AdminUnits[],3,FALSE)","v":"Nord"},{"$f":"VLOOKUP(Main3WData12[[#This Row],[Admin Unit Name]],AdminUnits[],4,FALSE)","v":6},{"$f":"VLOOKUP(Main3WData12[[#This Row],[Sector]],Sectors[],2,FALSE)","v":7}]
[null,"WHH",{"$f":"INDEX(Organizations[],MATCH(Main3WData12[[#This Row],[Acronym]],AcronymList,0),1)","v":{"$error":"#N/A"}},{"$f":"INDEX(Organizations[],MATCH(Main3WData12[[#This Row],[Acronym]],AcronymList,0),3)","v":{"$error":"#N/A"}},"Abris et NFI","Regulier","Tombouctou",{"$f":"VLOOKUP(Main3WData12[[#This Row],[Admin Unit Name]],AdminUnits[],2,FALSE)","v":"ML06"},{"$f":"VLOOKUP(Main3WData12[[#This Row],[Admin Unit Name]],AdminUnits[],3,FALSE)","v":"Nord"},{"$f":"VLOOKUP(Main3WData12[[#This Row],[Admin Unit Name]],AdminUnits[],4,FALSE)","v":6},{"$f":"VLOOKUP(Main3WData12[[#This Row],[Sector]],Sectors[],2,FALSE)","v":1}]
[null,"Plan Mali",{"$f":"INDEX(Organizations[],MATCH(Main3WData12[[#This Row],[Acronym]],AcronymList,0),1)","v":"Plan Mali"},{"$f":"INDEX(Organizations[],MATCH(Main3WData12[[#This Row],[Acronym]],AcronymList,0),3)","v":"ONG Int."},"Education","Regulier","Tombouctou",{"$f":"VLOOKUP(Main3WData12[[#This Row],[Admin Unit Name]],AdminUnits[],2,FALSE)","v":"ML06"},{"$f":"VLOOKUP(Main3WData12[[#This Row],[Admin Unit Name]],AdminUnits[],3,FALSE)","v":"Nord"},{"$f":"VLOOKUP(Main3WData12[[#This Row],[Admin Unit Name]],AdminUnits[],4,FALSE)","v":6},{"$f":"VLOOKUP(Main3WData12[[#This Row],[Sector]],Sectors[],2,FALSE)","v":3}]
[null,"UNICEF",{"$f":"INDEX(Organizations[],MATCH(Main3WData12[[#This Row],[Acronym]],AcronymList,0),1)","v":"Fonds des Nations Unies pour l'Enfance"},{"$f":"INDEX(Organizations[],MATCH(Main3WData12[[#This Row],[Acronym]],AcronymList,0),3)","v":"UN"},"Abris et NFI","Regulier","Kayes",{"$f":"VLOOKUP(Main3WData12[[#This Row],[Admin Unit Name]],AdminUnits[],2,FALSE)","v":"ML01"},{"$f":"VLOOKUP(Main3WData12[[#This Row],[Admin Unit Name]],AdminUnits[],3,FALSE)","v":"Sud"},{"$f":"VLOOKUP(Main3WData12[[#This Row],[Admin Unit Name]],AdminUnits[],4,FALSE)","v":1},{"$f":"VLOOKUP(Main3WData12[[#This Row],[Sector]],Sectors[],2,FALSE)","v":1}]
[null,"UNICEF",{"$f":"INDEX(Organizations[],MATCH(Main3WData12[[#This Row],[Acronym]],AcronymList,0),1)","v":"Fonds des Nations Unies pour l'Enfance"},{"$f":"INDEX(Organizations[],MATCH(Main3WData12[[#This Row],[Acronym]],AcronymList,0),3)","v":"UN"},"Abris et NFI","Regulier","Segou",{"$f":"VLOOKUP(Main3WData12[[#This Row],[Admin Unit Name]],AdminUnits[],2,FALSE)","v":"ML04"},{"$f":"VLOOKUP(Main3WData12[[#This Row],[Admin Unit Name]],AdminUnits[],3,FALSE)","v":"Sud"},{"$f":"VLOOKUP(Main3WData12[[#This Row],[Admin Unit Name]],AdminUnits[],4,FALSE)","v":4},{"$f":"VLOOKUP(Main3WData12[[#This Row],[Sector]],Sectors[],2,FALSE)","v":1}]
[null,"UNICEF",{"$f":"INDEX(Organizations[],MATCH(Main3WData12[[#This Row],[Acronym]],AcronymList,0),1)","v":"Fonds des Nations Unies pour l'Enfance"},{"$f":"INDEX(Organizations[],MATCH(Main3WData12[[#This Row],[Acronym]],AcronymList,0),3)","v":"UN"},"Abris et NFI","Regulier","Gao",{"$f":"VLOOKUP(Main3WData12[[#This Row],[Admin Unit Name]],AdminUnits[],2,FALSE)","v":"ML07"},{"$f":"VLOOKUP(Main3WData12[[#This Row],[Admin Unit Name]],AdminUnits[],3,FALSE)","v":"Nord"},{"$f":"VLOOKUP(Main3WData12[[#This Row],[Admin Unit Name]],AdminUnits[],4,FALSE)","v":7},{"$f":"VLOOKUP(Main3WData12[[#This Row],[Sector]],Sectors[],2,FALSE)","v":1}]
[null,"UNICEF",{"$f":"INDEX(Organizations[],MATCH(Main3WData12[[#This Row],[Acronym]],AcronymList,0),1)","v":"Fonds des Nations Unies pour l'Enfance"},{"$f":"INDEX(Organizations[],MATCH(Main3WData12[[#This Row],[Acronym]],AcronymList,0),3)","v":"UN"},"Abris et NFI","Regulier","Mopti",{"$f":"VLOOKUP(Main3WData12[[#This Row],[Admin Unit Name]],AdminUnits[],2,FALSE)","v":"ML05"},{"$f":"VLOOKUP(Main3WData12[[#This Row],[Admin Unit Name]],AdminUnits[],3,FALSE)","v":"Sud"},{"$f":"VLOOKUP(Main3WData12[[#This Row],[Admin Unit Name]],AdminUnits[],4,FALSE)","v":5},{"$f":"VLOOKUP(Main3WData12[[#This Row],[Sector]],Sectors[],2,FALSE)","v":1}]
[null,"UNICEF",{"$f":"INDEX(Organizations[],MATCH(Main3WData12[[#This Row],[Acronym]],AcronymList,0),1)","v":"Fonds des Nations Unies pour l'Enfance"},{"$f":"INDEX(Organizations[],MATCH(Main3WData12[[#This Row],[Acronym]],AcronymList,0),3)","v":"UN"},"Abris et NFI","Regulier","Koulikoro",{"$f":"VLOOKUP(Main3WData12[[#This Row],[Admin Unit Name]],AdminUnits[],2,FALSE)","v":"ML02"},{"$f":"VLOOKUP(Main3WData12[[#This Row],[Admin Unit Name]],AdminUnits[],3,FALSE)","v":"Sud"},{"$f":"VLOOKUP(Main3WData12[[#This Row],[Admin Unit Name]],AdminUnits[],4,FALSE)","v":2},{"$f":"VLOOKUP(Main3WData12[[#This Row],[Sector]],Sectors[],2,FALSE)","v":1}]
[null,"UNICEF",{"$f":"INDEX(Organizations[],MATCH(Main3WData12[[#This Row],[Acronym]],AcronymList,0),1)","v":"Fonds des Nations Unies pour l'Enfance"},{"$f":"INDEX(Organizations[],MATCH(Main3WData12[[#This Row],[Acronym]],AcronymList,0),3)","v":"UN"},"Abris et NFI","Regulier","Sikasso",{"$f":"VLOOKUP(Main3WData12[[#This Row],[Admin Unit Name]],AdminUnits[],2,FALSE)","v":"ML03"},{"$f":"VLOOKUP(Main3WData12[[#This Row],[Admin Unit Name]],AdminUnits[],3,FALSE)","v":"Sud"},{"$f":"VLOOKUP(Main3WData12[[#This Row],[Admin Unit Name]],AdminUnits[],4,FALSE)","v":3},{"$f":"VLOOKUP(Main3WData12[[#This Row],[Sector]],Sectors[],2,FALSE)","v":1}]
[null,"UNICEF",{"$f":"INDEX(Organizations[],MATCH(Main3WData12[[#This Row],[Acronym]],AcronymList,0),1)","v":"Fonds des Nations Unies pour l'Enfance"},{"$f":"INDEX(Organizations[],MATCH(Main3WData12[[#This Row],[Acronym]],AcronymList,0),3)","v":"UN"},"Education","Regulier","Gao",{"$f":"VLOOKUP(Main3WData12[[#This Row],[Admin Unit Name]],AdminUnits[],2,FALSE)","v":"ML07"},{"$f":"VLOOKUP(Main3WData12[[#This Row],[Admin Unit Name]],AdminUnits[],3,FALSE)","v":"Nord"},{"$f":"VLOOKUP(Main3WData12[[#This Row],[Admin Unit Name]],AdminUnits[],4,FALSE)","v":7},{"$f":"VLOOKUP(Main3WData12[[#This Row],[Sector]],Sectors[],2,FALSE)","v":3}]
[null,"UNICEF",{"$f":"INDEX(Organizations[],MATCH(Main3WData12[[#This Row],[Acronym]],AcronymList,0),1)","v":"Fonds des Nations Unies pour l'Enfance"},{"$f":"INDEX(Organizations[],MATCH(Main3WData12[[#This Row],[Acronym]],AcronymList,0),3)","v":"UN"},"Education","Regulier","Bamako",{"$f":"VLOOKUP(Main3WData12[[#This Row],[Admin Unit Name]],AdminUnits[],2,FALSE)","v":"ML09"},{"$f":"VLOOKUP(Main3WData12[[#This Row],[Admin Unit Name]],AdminUnits[],3,FALSE)","v":"Sud"},{"$f":"VLOOKUP(Main3WData12[[#This Row],[Admin Unit Name]],AdminUnits[],4,FALSE)","v":0},{"$f":"VLOOKUP(Main3WData12[[#This Row],[Sector]],Sectors[],2,FALSE)","v":3}]
[null,"UNICEF",{"$f":"INDEX(Organizations[],MATCH(Main3WData12[[#This Row],[Acronym]],AcronymList,0),1)","v":"Fonds des Nations Unies pour l'Enfance"},{"$f":"INDEX(Organizations[],MATCH(Main3WData12[[#This Row],[Acronym]],AcronymList,0),3)","v":"UN"},"Education","Regulier","Koulikoro",{"$f":"VLOOKUP(Main3WData12[[#This Row],[Admin Unit Name]],AdminUnits[],2,FALSE)","v":"ML02"},{"$f":"VLOOKUP(Main3WData12[[#This Row],[Admin Unit Name]],AdminUnits[],3,FALSE)","v":"Sud"},{"$f":"VLOOKUP(Main3WData12[[#This Row],[Admin Unit Name]],AdminUnits[],4,FALSE)","v":2},{"$f":"VLOOKUP(Main3WData12[[#This Row],[Sector]],Sectors[],2,FALSE)","v":3}]
[null,"UNICEF",{"$f":"INDEX(Organizations[],MATCH(Main3WData12[[#This Row],[Acronym]],AcronymList,0),1)","v":"Fonds des Nations Unies pour l'Enfance"},{"$f":"INDEX(Organizations[],MATCH(Main3WData12[[#This Row],[Acronym]],AcronymList,0),3)","v":"UN"},"Education","Regulier","Mopti",{"$f":"VLOOKUP(Main3WData12[[#This Row],[Admin Unit Name]],AdminUnits[],2,FALSE)","v":"ML05"},{"$f":"VLOOKUP(Main3WData12[[#This Row],[Admin Unit Name]],AdminUnits[],3,FALSE)","v":"Sud"},{"$f":"VLOOKUP(Main3WData12[[#This Row],[Admin Unit Name]],AdminUnits[],4,FALSE)","v":5},{"$f":"VLOOKUP(Main3WData12[[#This Row],[Sector]],Sectors[],2,FALSE)","v":3}]
[null,"UNICEF",{"$f":"INDEX(Organizations[],MATCH(Main3WData12[[#This Row],[Acronym]],AcronymList,0),1)","v":"Fonds des Nations Unies pour l'Enfance"},{"$f":"INDEX(Organizations[],MATCH(Main3WData12[[#This Row],[Acronym]],AcronymList,0),3)","v":"UN"},"Protection","Regulier","Gao",{"$f":"VLOOKUP(Main3WData12[[#This Row],[Admin Unit Name]],AdminUnits[],2,FALSE)","v":"ML07"},{"$f":"VLOOKUP(Main3WData12[[#This Row],[Admin Unit Name]],AdminUnits[],3,FALSE)","v":"Nord"},{"$f":"VLOOKUP(Main3WData12[[#This Row],[Admin Unit Name]],AdminUnits[],4,FALSE)","v":7},{"$f":"VLOOKUP(Main3WData12[[#This Row],[Sector]],Sectors[],2,FALSE)","v":5}]
[null,"UNICEF",{"$f":"INDEX(Organizations[],MATCH(Main3WData12[[#This Row],[Acronym]],AcronymList,0),1)","v":"Fonds des Nations Unies pour l'Enfance"},{"$f":"INDEX(Organizations[],MATCH(Main3WData12[[#This Row],[Acronym]],AcronymList,0),3)","v":"UN"},"Protection","Regulier","Kayes",{"$f":"VLOOKUP(Main3WData12[[#This Row],[Admin Unit Name]],AdminUnits[],2,FALSE)","v":"ML01"},{"$f":"VLOOKUP(Main3WData12[[#This Row],[Admin Unit Name]],AdminUnits[],3,FALSE)","v":"Sud"},{"$f":"VLOOKUP(Main3WData12[[#This Row],[Admin Unit Name]],AdminUnits[],4,FALSE)","v":1},{"$f":"VLOOKUP(Main3WData12[[#This Row],[Sector]],Sectors[],2,FALSE)","v":5}]
[null,"UNICEF",{"$f":"INDEX(Organizations[],MATCH(Main3WData12[[#This Row],[Acronym]],AcronymList,0),1)","v":"Fonds des Nations Unies pour l'Enfance"},{"$f":"INDEX(Organizations[],MATCH(Main3WData12[[#This Row],[Acronym]],AcronymList,0),3)","v":"UN"},"Protection","Regulier","Segou",{"$f":"VLOOKUP(Main3WData12[[#This Row],[Admin Unit Name]],AdminUnits[],2,FALSE)","v":"ML04"},{"$f":"VLOOKUP(Main3WData12[[#This Row],[Admin Unit Name]],AdminUnits[],3,FALSE)","v":"Sud"},{"$f":"VLOOKUP(Main3WData12[[#This Row],[Admin Unit Name]],AdminUnits[],4,FALSE)","v":4},{"$f":"VLOOKUP(Main3WData12[[#This Row],[Sector]],Sectors[],2,FALSE)","v":5}]
[null,"UNICEF",{"$f":"INDEX(Organizations[],MATCH(Main3WData12[[#This Row],[Acronym]],AcronymList,0),1)","v":"Fonds des Nations Unies pour l'Enfance"},{"$f":"INDEX(Organizations[],MATCH(Main3WData12[[#This Row],[Acronym]],AcronymList,0),3)","v":"UN"},"Protection","Regulier","Mopti",{"$f":"VLOOKUP(Main3WData12[[#This Row],[Admin Unit Name]],AdminUnits[],2,FALSE)","v":"ML05"},{"$f":"VLOOKUP(Main3WData12[[#This Row],[Admin Unit Name]],AdminUnits[],3,FALSE)","v":"Sud"},{"$f":"VLOOKUP(Main3WData12[[#This Row],[Admin Unit Name]],AdminUnits[],4,FALSE)","v":5},{"$f":"VLOOKUP(Main3WData12[[#This Row],[Sector]],Sectors[],2,FALSE)","v":5}]
[null,"UNICEF",{"$f":"INDEX(Organizations[],MATCH(Main3WData12[[#This Row],[Acronym]],AcronymList,0),1)","v":"Fonds des Nations Unies pour l'Enfance"},{"$f":"INDEX(Organizations[],MATCH(Main3WData12[[#This Row],[Acronym]],AcronymList,0),3)","v":"UN"},"Protection","Regulier","Bamako",{"$f":"VLOOKUP(Main3WData12[[#This Row],[Admin Unit Name]],AdminUnits[],2,FALSE)","v":"ML09"},{"$f":"VLOOKUP(Main3WData12[[#This Row],[Admin Unit Name]],AdminUnits[],3,FALSE)","v":"Sud"},{"$f":"VLOOKUP(Main3WData12[[#This Row],[Admin Unit Name]],AdminUnits[],4,FALSE)","v":0},{"$f":"VLOOKUP(Main3WData12[[#This Row],[Sector]],Sectors[],2,FALSE)","v":5}]
[null,"UNICEF",{"$f":"INDEX(Organizations[],MATCH(Main3WData12[[#This Row],[Acronym]],AcronymList,0),1)","v":"Fonds des Nations Unies pour l'Enfance"},{"$f":"INDEX(Organizations[],MATCH(Main3WData12[[#This Row],[Acronym]],AcronymList,0),3)","v":"UN"},"Protection","Regulier","Sikasso",{"$f":"VLOOKUP(Main3WData12[[#This Row],[Admin Unit Name]],AdminUnits[],2,FALSE)","v":"ML03"},{"$f":"VLOOKUP(Main3WData12[[#This Row],[Admin Unit Name]],AdminUnits[],3,FALSE)","v":"Sud"},{"$f":"VLOOKUP(Main3WData12[[#This Row],[Admin Unit Name]],AdminUnits[],4,FALSE)","v":3},{"$f":"VLOOKUP(Main3WData12[[#This Row],[Sector]],Sectors[],2,FALSE)","v":5}]
[null,"UNICEF",{"$f":"INDEX(Organizations[],MATCH(Main3WData12[[#This Row],[Acronym]],AcronymList,0),1)","v":"Fonds des Nations Unies pour l'Enfance"},{"$f":"INDEX(Organizations[],MATCH(Main3WData12[[#This Row],[Acronym]],AcronymList,0),3)","v":"UN"},"Abris et NFI","Regulier","Tombouctou",{"$f":"VLOOKUP(Main3WData12[[#This Row],[Admin Unit Name]],AdminUnits[],2,FALSE)","v":"ML06"},{"$f":"VLOOKUP(Main3WData12[[#This Row],[Admin Unit Name]],AdminUnits[],3,FALSE)","v":"Nord"},{"$f":"VLOOKUP(Main3WData12[[#This Row],[Admin Unit Name]],AdminUnits[],4,FALSE)","v":6},{"$f":"VLOOKUP(Main3WData12[[#This Row],[Sector]],Sectors[],2,FALSE)","v":1}]
[null,"UNICEF",{"$f":"INDEX(Organizations[],MATCH(Main3WData12[[#This Row],[Acronym]],AcronymList,0),1)","v":"Fonds des Nations Unies pour l'Enfance"},{"$f":"INDEX(Organizations[],MATCH(Main3WData12[[#This Row],[Acronym]],AcronymList,0),3)","v":"UN"},"Education","Regulier","Tombouctou",{"$f":"VLOOKUP(Main3WData12[[#This Row],[Admin Unit Name]],AdminUnits[],2,FALSE)","v":"ML06"},{"$f":"VLOOKUP(Main3WData12[[#This Row],[Admin Unit Name]],AdminUnits[],3,FALSE)","v":"Nord"},{"$f":"VLOOKUP(Main3WData12[[#This Row],[Admin Unit Name]],AdminUnits[],4,FALSE)","v":6},{"$f":"VLOOKUP(Main3WData12[[#This Row],[Sector]],Sectors[],2,FALSE)","v":3}]
[null,"UNICEF",{"$f":"INDEX(Organizations[],MATCH(Main3WData12[[#This Row],[Acronym]],AcronymList,0),1)","v":"Fonds des Nations Unies pour l'Enfance"},{"$f":"INDEX(Organizations[],MATCH(Main3WData12[[#This Row],[Acronym]],AcronymList,0),3)","v":"UN"},"Protection","Regulier","Tombouctou",{"$f":"VLOOKUP(Main3WData12[[#This Row],[Admin Unit Name]],AdminUnits[],2,FALSE)","v":"ML06"},{"$f":"VLOOKUP(Main3WData12[[#This Row],[Admin Unit Name]],AdminUnits[],3,FALSE)","v":"Nord"},{"$f":"VLOOKUP(Main3WData12[[#This Row],[Admin Unit Name]],AdminUnits[],4,FALSE)","v":6},{"$f":"VLOOKUP(Main3WData12[[#This Row],[Sector]],Sectors[],2,FALSE)","v":5}]
[null,"UNICEF",{"$f":"INDEX(Organizations[],MATCH(Main3WData12[[#This Row],[Acronym]],AcronymList,0),1)","v":"Fonds des Nations Unies pour l'Enfance"},{"$f":"INDEX(Organizations[],MATCH(Main3WData12[[#This Row],[Acronym]],AcronymList,0),3)","v":"UN"},"EHA","Regulier","Segou",{"$f":"VLOOKUP(Main3WData12[[#This Row],[Admin Unit Name]],AdminUnits[],2,FALSE)","v":"ML04"},{"$f":"VLOOKUP(Main3WData12[[#This Row],[Admin Unit Name]],AdminUnits[],3,FALSE)","v":"Sud"},{"$f":"VLOOKUP(Main3WData12[[#This Row],[Admin Unit Name]],AdminUnits[],4,FALSE)","v":4},{"$f":"VLOOKUP(Main3WData12[[#This Row],[Sector]],Sectors[],2,FALSE)","v":8}]
[null,"UNICEF",{"$f":"INDEX(Organizations[],MATCH(Main3WData12[[#This Row],[Acronym]],AcronymList,0),1)","v":"Fonds des Nations Unies pour l'Enfance"},{"$f":"INDEX(Organizations[],MATCH(Main3WData12[[#This Row],[Acronym]],AcronymList,0),3)","v":"UN"},"EHA","Regulier","Mopti",{"$f":"VLOOKUP(Main3WData12[[#This Row],[Admin Unit Name]],AdminUnits[],2,FALSE)","v":"ML05"},{"$f":"VLOOKUP(Main3WData12[[#This Row],[Admin Unit Name]],AdminUnits[],3,FALSE)","v":"Sud"},{"$f":"VLOOKUP(Main3WData12[[#This Row],[Admin Unit Name]],AdminUnits[],4,FALSE)","v":5},{"$f":"VLOOKUP(Main3WData12[[#This Row],[Sector]],Sectors[],2,FALSE)","v":8}]
[null,"UNICEF",{"$f":"INDEX(Organizations[],MATCH(Main3WData12[[#This Row],[Acronym]],AcronymList,0),1)","v":"Fonds des Nations Unies pour l'Enfance"},{"$f":"INDEX(Organizations[],MATCH(Main3WData12[[#This Row],[Acronym]],AcronymList,0),3)","v":"UN"},"Abris et NFI","Regulier","Kidal",{"$f":"VLOOKUP(Main3WData12[[#This Row],[Admin Unit Name]],AdminUnits[],2,FALSE)","v":"ML08"},{"$f":"VLOOKUP(Main3WData12[[#This Row],[Admin Unit Name]],AdminUnits[],3,FALSE)","v":"Nord"},{"$f":"VLOOKUP(Main3WData12[[#This Row],[Admin Unit Name]],AdminUnits[],4,FALSE)","v":8},{"$f":"VLOOKUP(Main3WData12[[#This Row],[Sector]],Sectors[],2,FALSE)","v":1}]
[null,"UNICEF",{"$f":"INDEX(Organizations[],MATCH(Main3WData12[[#This Row],[Acronym]],AcronymList,0),1)","v":"Fonds des Nations Unies pour l'Enfance"},{"$f":"INDEX(Organizations[],MATCH(Main3WData12[[#This Row],[Acronym]],AcronymList,0),3)","v":"UN"},"Protection","Regulier","Kidal",{"$f":"VLOOKUP(Main3WData12[[#This Row],[Admin Unit Name]],AdminUnits[],2,FALSE)","v":"ML08"},{"$f":"VLOOKUP(Main3WData12[[#This Row],[Admin Unit Name]],AdminUnits[],3,FALSE)","v":"Nord"},{"$f":"VLOOKUP(Main3WData12[[#This Row],[Admin Unit Name]],AdminUnits[],4,FALSE)","v":8},{"$f":"VLOOKUP(Main3WData12[[#This Row],[Sector]],Sectors[],2,FALSE)","v":5}]
[null,"UNICEF",{"$f":"INDEX(Organizations[],MATCH(Main3WData12[[#This Row],[Acronym]],AcronymList,0),1)","v":"Fonds des Nations Unies pour l'Enfance"},{"$f":"INDEX(Organizations[],MATCH(Main3WData12[[#This Row],[Acronym]],AcronymList,0),3)","v":"UN"},"Education","Regulier","Segou",{"$f":"VLOOKUP(Main3WData12[[#This Row],[Admin Unit Name]],AdminUnits[],2,FALSE)","v":"ML04"},{"$f":"VLOOKUP(Main3WData12[[#This Row],[Admin Unit Name]],AdminUnits[],3,FALSE)","v":"Sud"},{"$f":"VLOOKUP(Main3WData12[[#This Row],[Admin Unit Name]],AdminUnits[],4,FALSE)","v":4},{"$f":"VLOOKUP(Main3WData12[[#This Row],[Sector]],Sectors[],2,FALSE)","v":3}]
[null,"UNHCR",{"$f":"INDEX(Organizations[],MATCH(Main3WData12[[#This Row],[Acronym]],AcronymList,0),1)","v":"Haut Commissariat des Nations Unies pour les réfugiés"},{"$f":"INDEX(Organizations[],MATCH(Main3WData12[[#This Row],[Acronym]],AcronymList,0),3)","v":"UN"},"Protection","Regulier","Mopti",{"$f":"VLOOKUP(Main3WData12[[#This Row],[Admin Unit Name]],AdminUnits[],2,FALSE)","v":"ML05"},{"$f":"VLOOKUP(Main3WData12[[#This Row],[Admin Unit Name]],AdminUnits[],3,FALSE)","v":"Sud"},{"$f":"VLOOKUP(Main3WData12[[#This Row],[Admin Unit Name]],AdminUnits[],4,FALSE)","v":5},{"$f":"VLOOKUP(Main3WData12[[#This Row],[Sector]],Sectors[],2,FALSE)","v":5}]
[null,"UNHCR",{"$f":"INDEX(Organizations[],MATCH(Main3WData12[[#This Row],[Acronym]],AcronymList,0),1)","v":"Haut Commissariat des Nations Unies pour les réfugiés"},{"$f":"INDEX(Organizations[],MATCH(Main3WData12[[#This Row],[Acronym]],AcronymList,0),3)","v":"UN"},"Abris et NFI","Regulier","Mopti",{"$f":"VLOOKUP(Main3WData12[[#This Row],[Admin Unit Name]],AdminUnits[],2,FALSE)","v":"ML05"},{"$f":"VLOOKUP(Main3WData12[[#This Row],[Admin Unit Name]],AdminUnits[],3,FALSE)","v":"Sud"},{"$f":"VLOOKUP(Main3WData12[[#This Row],[Admin Unit Name]],AdminUnits[],4,FALSE)","v":5},{"$f":"VLOOKUP(Main3WData12[[#This Row],[Sector]],Sectors[],2,FALSE)","v":1}]
[null,"UNHCR",{"$f":"INDEX(Organizations[],MATCH(Main3WData12[[#This Row],[Acronym]],AcronymList,0),1)","v":"Haut Commissariat des Nations Unies pour les réfugiés"},{"$f":"INDEX(Organizations[],MATCH(Main3WData12[[#This Row],[Acronym]],AcronymList,0),3)","v":"UN"},"Protection","Regulier","Bamako",{"$f":"VLOOKUP(Main3WData12[[#This Row],[Admin Unit Name]],AdminUnits[],2,FALSE)","v":"ML09"},{"$f":"VLOOKUP(Main3WData12[[#This Row],[Admin Unit Name]],AdminUnits[],3,FALSE)","v":"Sud"},{"$f":"VLOOKUP(Main3WData12[[#This Row],[Admin Unit Name]],AdminUnits[],4,FALSE)","v":0},{"$f":"VLOOKUP(Main3WData12[[#This Row],[Sector]],Sectors[],2,FALSE)","v":5}]
[null,"UNHCR",{"$f":"INDEX(Organizations[],MATCH(Main3WData12[[#This Row],[Acronym]],AcronymList,0),1)","v":"Haut Commissariat des Nations Unies pour les réfugiés"},{"$f":"INDEX(Organizations[],MATCH(Main3WData12[[#This Row],[Acronym]],AcronymList,0),3)","v":"UN"},"Protection","Regulier","Sikasso",{"$f":"VLOOKUP(Main3WData12[[#This Row],[Admin Unit Name]],AdminUnits[],2,FALSE)","v":"ML03"},{"$f":"VLOOKUP(Main3WData12[[#This Row],[Admin Unit Name]],AdminUnits[],3,FALSE)","v":"Sud"},{"$f":"VLOOKUP(Main3WData12[[#This Row],[Admin Unit Name]],AdminUnits[],4,FALSE)","v":3},{"$f":"VLOOKUP(Main3WData12[[#This Row],[Sector]],Sectors[],2,FALSE)","v":5}]
[null,"UNHCR",{"$f":"INDEX(Organizations[],MATCH(Main3WData12[[#This Row],[Acronym]],AcronymList,0),1)","v":"Haut Commissariat des Nations Unies pour les réfugiés"},{"$f":"INDEX(Organizations[],MATCH(Main3WData12[[#This Row],[Acronym]],AcronymList,0),3)","v":"UN"},"Protection","Regulier","Kayes",{"$f":"VLOOKUP(Main3WData12[[#This Row],[Admin Unit Name]],AdminUnits[],2,FALSE)","v":"ML01"},{"$f":"VLOOKUP(Main3WData12[[#This Row],[Admin Unit Name]],AdminUnits[],3,FALSE)","v":"Sud"},{"$f":"VLOOKUP(Main3WData12[[#This Row],[Admin Unit Name]],AdminUnits[],4,FALSE)","v":1},{"$f":"VLOOKUP(Main3WData12[[#This Row],[Sector]],Sectors[],2,FALSE)","v":5}]
[null,"UNFPA",{"$f":"INDEX(Organizations[],MATCH(Main3WData12[[#This Row],[Acronym]],AcronymList,0),1)","v":"Fonds des Nations Unies pour la Population"},{"$f":"INDEX(Organizations[],MATCH(Main3WData12[[#This Row],[Acronym]],AcronymList,0),3)","v":"UN"},"Protection","Regulier","Gao",{"$f":"VLOOKUP(Main3WData12[[#This Row],[Admin Unit Name]],AdminUnits[],2,FALSE)","v":"ML07"},{"$f":"VLOOKUP(Main3WData12[[#This Row],[Admin Unit Name]],AdminUnits[],3,FALSE)","v":"Nord"},{"$f":"VLOOKUP(Main3WData12[[#This Row],[Admin Unit Name]],AdminUnits[],4,FALSE)","v":7},{"$f":"VLOOKUP(Main3WData12[[#This Row],[Sector]],Sectors[],2,FALSE)","v":5}]
[null,"UNFPA",{"$f":"INDEX(Organizations[],MATCH(Main3WData12[[#This Row],[Acronym]],AcronymList,0),1)","v":"Fonds des Nations Unies pour la Population"},{"$f":"INDEX(Organizations[],MATCH(Main3WData12[[#This Row],[Acronym]],AcronymList,0),3)","v":"UN"},"Protection","Regulier","Kayes",{"$f":"VLOOKUP(Main3WData12[[#This Row],[Admin Unit Name]],AdminUnits[],2,FALSE)","v":"ML01"},{"$f":"VLOOKUP(Main3WData12[[#This Row],[Admin Unit Name]],AdminUnits[],3,FALSE)","v":"Sud"},{"$f":"VLOOKUP(Main3WData12[[#This Row],[Admin Unit Name]],AdminUnits[],4,FALSE)","v":1},{"$f":"VLOOKUP(Main3WData12[[#This Row],[Sector]],Sectors[],2,FALSE)","v":5}]
[null,"UNFPA",{"$f":"INDEX(Organizations[],MATCH(Main3WData12[[#This Row],[Acronym]],AcronymList,0),1)","v":"Fonds des Nations Unies pour la Population"},{"$f":"INDEX(Organizations[],MATCH(Main3WData12[[#This Row],[Acronym]],AcronymList,0),3)","v":"UN"},"Protection","Regulier","Bamako",{"$f":"VLOOKUP(Main3WData12[[#This Row],[Admin Unit Name]],AdminUnits[],2,FALSE)","v":"ML09"},{"$f":"VLOOKUP(Main3WData12[[#This Row],[Admin Unit Name]],AdminUnits[],3,FALSE)","v":"Sud"},{"$f":"VLOOKUP(Main3WData12[[#This Row],[Admin Unit Name]],AdminUnits[],4,FALSE)","v":0},{"$f":"VLOOKUP(Main3WData12[[#This Row],[Sector]],Sectors[],2,FALSE)","v":5}]
[null,"UNFPA",{"$f":"INDEX(Organizations[],MATCH(Main3WData12[[#This Row],[Acronym]],AcronymList,0),1)","v":"Fonds des Nations Unies pour la Population"},{"$f":"INDEX(Organizations[],MATCH(Main3WData12[[#This Row],[Acronym]],AcronymList,0),3)","v":"UN"},"Protection","Regulier","Mopti",{"$f":"VLOOKUP(Main3WData12[[#This Row],[Admin Unit Name]],AdminUnits[],2,FALSE)","v":"ML05"},{"$f":"VLOOKUP(Main3WData12[[#This Row],[Admin Unit Name]],AdminUnits[],3,FALSE)","v":"Sud"},{"$f":"VLOOKUP(Main3WData12[[#This Row],[Admin Unit Name]],AdminUnits[],4,FALSE)","v":5},{"$f":"VLOOKUP(Main3WData12[[#This Row],[Sector]],Sectors[],2,FALSE)","v":5}]
[null,"UNFPA",{"$f":"INDEX(Organizations[],MATCH(Main3WData12[[#This Row],[Acronym]],AcronymList,0),1)","v":"Fonds des Nations Unies pour la Population"},{"$f":"INDEX(Organizations[],MATCH(Main3WData12[[#This Row],[Acronym]],AcronymList,0),3)","v":"UN"},"Protection","Regulier","Koulikoro",{"$f":"VLOOKUP(Main3WData12[[#This Row],[Admin Unit Name]],AdminUnits[],2,FALSE)","v":"ML02"},{"$f":"VLOOKUP(Main3WData12[[#This Row],[Admin Unit Name]],AdminUnits[],3,FALSE)","v":"Sud"},{"$f":"VLOOKUP(Main3WData12[[#This Row],[Admin Unit Name]],AdminUnits[],4,FALSE)","v":2},{"$f":"VLOOKUP(Main3WData12[[#This Row],[Sector]],Sectors[],2,FALSE)","v":5}]
[null,"UNFPA",{"$f":"INDEX(Organizations[],MATCH(Main3WData12[[#This Row],[Acronym]],AcronymList,0),1)","v":"Fonds des Nations Unies pour la Population"},{"$f":"INDEX(Organizations[],MATCH(Main3WData12[[#This Row],[Acronym]],AcronymList,0),3)","v":"UN"},"Protection","Regulier","Segou",{"$f":"VLOOKUP(Main3WData12[[#This Row],[Admin Unit Name]],AdminUnits[],2,FALSE)","v":"ML04"},{"$f":"VLOOKUP(Main3WData12[[#This Row],[Admin Unit Name]],AdminUnits[],3,FALSE)","v":"Sud"},{"$f":"VLOOKUP(Main3WData12[[#This Row],[Admin Unit Name]],AdminUnits[],4,FALSE)","v":4},{"$f":"VLOOKUP(Main3WData12[[#This Row],[Sector]],Sectors[],2,FALSE)","v":5}]
[null,"UNFPA",{"$f":"INDEX(Organizations[],MATCH(Main3WData12[[#This Row],[Acronym]],AcronymList,0),1)","v":"Fonds des Nations Unies pour la Population"},{"$f":"INDEX(Organizations[],MATCH(Main3WData12[[#This Row],[Acronym]],AcronymList,0),3)","v":"UN"},"Protection","Regulier","Sikasso",{"$f":"VLOOKUP(Main3WData12[[#This Row],[Admin Unit Name]],AdminUnits[],2,FALSE)","v":"ML03"},{"$f":"VLOOKUP(Main3WData12[[#This Row],[Admin Unit Name]],AdminUnits[],3,FALSE)","v":"Sud"},{"$f":"VLOOKUP(Main3WData12[[#This Row],[Admin Unit Name]],AdminUnits[],4,FALSE)","v":3},{"$f":"VLOOKUP(Main3WData12[[#This Row],[Sector]],Sectors[],2,FALSE)","v":5}]
[null,"UNFPA",{"$f":"INDEX(Organizations[],MATCH(Main3WData12[[#This Row],[Acronym]],AcronymList,0),1)","v":"Fonds des Nations Unies pour la Population"},{"$f":"INDEX(Organizations[],MATCH(Main3WData12[[#This Row],[Acronym]],AcronymList,0),3)","v":"UN"},"Protection","Regulier","Tombouctou",{"$f":"VLOOKUP(Main3WData12[[#This Row],[Admin Unit Name]],AdminUnits[],2,FALSE)","v":"ML06"},{"$f":"VLOOKUP(Main3WData12[[#This Row],[Admin Unit Name]],AdminUnits[],3,FALSE)","v":"Nord"},{"$f":"VLOOKUP(Main3WData12[[#This Row],[Admin Unit Name]],AdminUnits[],4,FALSE)","v":6},{"$f":"VLOOKUP(Main3WData12[[#This Row],[Sector]],Sectors[],2,FALSE)","v":5}]
[null,"UNFPA",{"$f":"INDEX(Organizations[],MATCH(Main3WData12[[#This Row],[Acronym]],AcronymList,0),1)","v":"Fonds des Nations Unies pour la Population"},{"$f":"INDEX(Organizations[],MATCH(Main3WData12[[#This Row],[Acronym]],AcronymList,0),3)","v":"UN"},"Protection","Regulier","Kidal",{"$f":"VLOOKUP(Main3WData12[[#This Row],[Admin Unit Name]],AdminUnits[],2,FALSE)","v":"ML08"},{"$f":"VLOOKUP(Main3WData12[[#This Row],[Admin Unit Name]],AdminUnits[],3,FALSE)","v":"Nord"},{"$f":"VLOOKUP(Main3WData12[[#This Row],[Admin Unit Name]],AdminUnits[],4,FALSE)","v":8},{"$f":"VLOOKUP(Main3WData12[[#This Row],[Sector]],Sectors[],2,FALSE)","v":5}]
[null,"PAM",{"$f":"INDEX(Organizations[],MATCH(Main3WData12[[#This Row],[Acronym]],AcronymList,0),1)","v":"Programme Alimentaire Mondial"},{"$f":"INDEX(Organizations[],MATCH(Main3WData12[[#This Row],[Acronym]],AcronymList,0),3)","v":"UN"},"Education","Regulier","Gao",{"$f":"VLOOKUP(Main3WData12[[#This Row],[Admin Unit Name]],AdminUnits[],2,FALSE)","v":"ML07"},{"$f":"VLOOKUP(Main3WData12[[#This Row],[Admin Unit Name]],AdminUnits[],3,FALSE)","v":"Nord"},{"$f":"VLOOKUP(Main3WData12[[#This Row],[Admin Unit Name]],AdminUnits[],4,FALSE)","v":7},{"$f":"VLOOKUP(Main3WData12[[#This Row],[Sector]],Sectors[],2,FALSE)","v":3}]
[null,"PAM",{"$f":"INDEX(Organizations[],MATCH(Main3WData12[[#This Row],[Acronym]],AcronymList,0),1)","v":"Programme Alimentaire Mondial"},{"$f":"INDEX(Organizations[],MATCH(Main3WData12[[#This Row],[Acronym]],AcronymList,0),3)","v":"UN"},"Education","Regulier","Kayes",{"$f":"VLOOKUP(Main3WData12[[#This Row],[Admin Unit Name]],AdminUnits[],2,FALSE)","v":"ML01"},{"$f":"VLOOKUP(Main3WData12[[#This Row],[Admin Unit Name]],AdminUnits[],3,FALSE)","v":"Sud"},{"$f":"VLOOKUP(Main3WData12[[#This Row],[Admin Unit Name]],AdminUnits[],4,FALSE)","v":1},{"$f":"VLOOKUP(Main3WData12[[#This Row],[Sector]],Sectors[],2,FALSE)","v":3}]
[null,"PAM",{"$f":"INDEX(Organizations[],MATCH(Main3WData12[[#This Row],[Acronym]],AcronymList,0),1)","v":"Programme Alimentaire Mondial"},{"$f":"INDEX(Organizations[],MATCH(Main3WData12[[#This Row],[Acronym]],AcronymList,0),3)","v":"UN"},"Education","Regulier","Koulikoro",{"$f":"VLOOKUP(Main3WData12[[#This Row],[Admin Unit Name]],AdminUnits[],2,FALSE)","v":"ML02"},{"$f":"VLOOKUP(Main3WData12[[#This Row],[Admin Unit Name]],AdminUnits[],3,FALSE)","v":"Sud"},{"$f":"VLOOKUP(Main3WData12[[#This Row],[Admin Unit Name]],AdminUnits[],4,FALSE)","v":2},{"$f":"VLOOKUP(Main3WData12[[#This Row],[Sector]],Sectors[],2,FALSE)","v":3}]
[null,"PAM",{"$f":"INDEX(Organizations[],MATCH(Main3WData12[[#This Row],[Acronym]],AcronymList,0),1)","v":"Programme Alimentaire Mondial"},{"$f":"INDEX(Organizations[],MATCH(Main3WData12[[#This Row],[Acronym]],AcronymList,0),3)","v":"UN"},"Education","Regulier","Mopti",{"$f":"VLOOKUP(Main3WData12[[#This Row],[Admin Unit Name]],AdminUnits[],2,FALSE)","v":"ML05"},{"$f":"VLOOKUP(Main3WData12[[#This Row],[Admin Unit Name]],AdminUnits[],3,FALSE)","v":"Sud"},{"$f":"VLOOKUP(Main3WData12[[#This Row],[Admin Unit Name]],AdminUnits[],4,FALSE)","v":5},{"$f":"VLOOKUP(Main3WData12[[#This Row],[Sector]],Sectors[],2,FALSE)","v":3}]
[null,"PAM",{"$f":"INDEX(Organizations[],MATCH(Main3WData12[[#This Row],[Acronym]],AcronymList,0),1)","v":"Programme Alimentaire Mondial"},{"$f":"INDEX(Organizations[],MATCH(Main3WData12[[#This Row],[Acronym]],AcronymList,0),3)","v":"UN"},"Télécom.  d'urgence","Regulier","Bamako",{"$f":"VLOOKUP(Main3WData12[[#This Row],[Admin Unit Name]],AdminUnits[],2,FALSE)","v":"ML09"},{"$f":"VLOOKUP(Main3WData12[[#This Row],[Admin Unit Name]],AdminUnits[],3,FALSE)","v":"Sud"},{"$f":"VLOOKUP(Main3WData12[[#This Row],[Admin Unit Name]],AdminUnits[],4,FALSE)","v":0},{"$f":"VLOOKUP(Main3WData12[[#This Row],[Sector]],Sectors[],2,FALSE)","v":{"$error":"#N/A"}}]
[null,"PAM",{"$f":"INDEX(Organizations[],MATCH(Main3WData12[[#This Row],[Acronym]],AcronymList,0),1)","v":"Programme Alimentaire Mondial"},{"$f":"INDEX(Organizations[],MATCH(Main3WData12[[#This Row],[Acronym]],AcronymList,0),3)","v":"UN"},"Télécom.  d'urgence","Regulier","Mopti",{"$f":"VLOOKUP(Main3WData12[[#This Row],[Admin Unit Name]],AdminUnits[],2,FALSE)","v":"ML05"},{"$f":"VLOOKUP(Main3WData12[[#This Row],[Admin Unit Name]],AdminUnits[],3,FALSE)","v":"Sud"},{"$f":"VLOOKUP(Main3WData12[[#This Row],[Admin Unit Name]],AdminUnits[],4,FALSE)","v":5},{"$f":"VLOOKUP(Main3WData12[[#This Row],[Sector]],Sectors[],2,FALSE)","v":{"$error":"#N/A"}}]
[null,"PAM",{"$f":"INDEX(Organizations[],MATCH(Main3WData12[[#This Row],[Acronym]],AcronymList,0),1)","v":"Programme Alimentaire Mondial"},{"$f":"INDEX(Organizations[],MATCH(Main3WData12[[#This Row],[Acronym]],AcronymList,0),3)","v":"UN"},"Protection","Regulier","Kayes",{"$f":"VLOOKUP(Main3WData12[[#This Row],[Admin Unit Name]],AdminUnits[],2,FALSE)","v":"ML01"},{"$f":"VLOOKUP(Main3WData12[[#This Row],[Admin Unit Name]],AdminUnits[],3,FALSE)","v":"Sud"},{"$f":"VLOOKUP(Main3WData12[[#This Row],[Admin Unit Name]],AdminUnits[],4,FALSE)","v":1},{"$f":"VLOOKUP(Main3WData12[[#This Row],[Sector]],Sectors[],2,FALSE)","v":5}]
[null,"PAM",{"$f":"INDEX(Organizations[],MATCH(Main3WData12[[#This Row],[Acronym]],AcronymList,0),1)","v":"Programme Alimentaire Mondial"},{"$f":"INDEX(Organizations[],MATCH(Main3WData12[[#This Row],[Acronym]],AcronymList,0),3)","v":"UN"},"Sécurité alimentaire","Regulier","Gao",{"$f":"VLOOKUP(Main3WData12[[#This Row],[Admin Unit Name]],AdminUnits[],2,FALSE)","v":"ML07"},{"$f":"VLOOKUP(Main3WData12[[#This Row],[Admin Unit Name]],AdminUnits[],3,FALSE)","v":"Nord"},{"$f":"VLOOKUP(Main3WData12[[#This Row],[Admin Unit Name]],AdminUnits[],4,FALSE)","v":7},{"$f":"VLOOKUP(Main3WData12[[#This Row],[Sector]],Sectors[],2,FALSE)","v":7}]
[null,"PAM",{"$f":"INDEX(Organizations[],MATCH(Main3WData12[[#This Row],[Acronym]],AcronymList,0),1)","v":"Programme Alimentaire Mondial"},{"$f":"INDEX(Organizations[],MATCH(Main3WData12[[#This Row],[Acronym]],AcronymList,0),3)","v":"UN"},"Sécurité alimentaire","Regulier","Bamako",{"$f":"VLOOKUP(Main3WData12[[#This Row],[Admin Unit Name]],AdminUnits[],2,FALSE)","v":"ML09"},{"$f":"VLOOKUP(Main3WData12[[#This Row],[Admin Unit Name]],AdminUnits[],3,FALSE)","v":"Sud"},{"$f":"VLOOKUP(Main3WData12[[#This Row],[Admin Unit Name]],AdminUnits[],4,FALSE)","v":0},{"$f":"VLOOKUP(Main3WData12[[#This Row],[Sector]],Sectors[],2,FALSE)","v":7}]
[null,"PAM",{"$f":"INDEX(Organizations[],MATCH(Main3WData12[[#This Row],[Acronym]],AcronymList,0),1)","v":"Programme Alimentaire Mondial"},{"$f":"INDEX(Organizations[],MATCH(Main3WData12[[#This Row],[Acronym]],AcronymList,0),3)","v":"UN"},"Sécurité alimentaire","Regulier","Koulikoro",{"$f":"VLOOKUP(Main3WData12[[#This Row],[Admin Unit Name]],AdminUnits[],2,FALSE)","v":"ML02"},{"$f":"VLOOKUP(Main3WData12[[#This Row],[Admin Unit Name]],AdminUnits[],3,FALSE)","v":"Sud"},{"$f":"VLOOKUP(Main3WData12[[#This Row],[Admin Unit Name]],AdminUnits[],4,FALSE)","v":2},{"$f":"VLOOKUP(Main3WData12[[#This Row],[Sector]],Sectors[],2,FALSE)","v":7}]
[null,"PAM",{"$f":"INDEX(Organizations[],MATCH(Main3WData12[[#This Row],[Acronym]],AcronymList,0),1)","v":"Programme Alimentaire Mondial"},{"$f":"INDEX(Organizations[],MATCH(Main3WData12[[#This Row],[Acronym]],AcronymList,0),3)","v":"UN"},"Sécurité alimentaire","Regulier","Mopti",{"$f":"VLOOKUP(Main3WData12[[#This Row],[Admin Unit Name]],AdminUnits[],2,FALSE)","v":"ML05"},{"$f":"VLOOKUP(Main3WData12[[#This Row],[Admin Unit Name]],AdminUnits[],3,FALSE)","v":"Sud"},{"$f":"VLOOKUP(Main3WData12[[#This Row],[Admin Unit Name]],AdminUnits[],4,FALSE)","v":5},{"$f":"VLOOKUP(Main3WData12[[#This Row],[Sector]],Sectors[],2,FALSE)","v":7}]
[null,"PAM",{"$f":"INDEX(Organizations[],MATCH(Main3WData12[[#This Row],[Acronym]],AcronymList,0),1)","v":"Programme Alimentaire Mondial"},{"$f":"INDEX(Organizations[],MATCH(Main3WData12[[#This Row],[Acronym]],AcronymList,0),3)","v":"UN"},"Sécurité alimentaire","Regulier","Segou",{"$f":"VLOOKUP(Main3WData12[[#This Row],[Admin Unit Name]],AdminUnits[],2,FALSE)","v":"ML04"},{"$f":"VLOOKUP(Main3WData12[[#This Row],[Admin Unit Name]],AdminUnits[],3,FALSE)","v":"Sud"},{"$f":"VLOOKUP(Main3WData12[[#This Row],[Admin Unit Name]],AdminUnits[],4,FALSE)","v":4},{"$f":"VLOOKUP(Main3WData12[[#This Row],[Sector]],Sectors[],2,FALSE)","v":7}]
[null,"PAM",{"$f":"INDEX(Organizations[],MATCH(Main3WData12[[#This Row],[Acronym]],AcronymList,0),1)","v":"Programme Alimentaire Mondial"},{"$f":"INDEX(Organizations[],MATCH(Main3WData12[[#This Row],[Acronym]],AcronymList,0),3)","v":"UN"},"Sécurité alimentaire","Regulier","Sikasso",{"$f":"VLOOKUP(Main3WData12[[#This Row],[Admin Unit Name]],AdminUnits[],2,FALSE)","v":"ML03"},{"$f":"VLOOKUP(Main3WData12[[#This Row],[Admin Unit Name]],AdminUnits[],3,FALSE)","v":"Sud"},{"$f":"VLOOKUP(Main3WData12[[#This Row],[Admin Unit Name]],AdminUnits[],4,FALSE)","v":3},{"$f":"VLOOKUP(Main3WData12[[#This Row],[Sector]],Sectors[],2,FALSE)","v":7}]
[null,"PAM",{"$f":"INDEX(Organizations[],MATCH(Main3WData12[[#This Row],[Acronym]],AcronymList,0),1)","v":"Programme Alimentaire Mondial"},{"$f":"INDEX(Organizations[],MATCH(Main3WData12[[#This Row],[Acronym]],AcronymList,0),3)","v":"UN"},"Sécurité alimentaire","Regulier","Kayes",{"$f":"VLOOKUP(Main3WData12[[#This Row],[Admin Unit Name]],AdminUnits[],2,FALSE)","v":"ML01"},{"$f":"VLOOKUP(Main3WData12[[#This Row],[Admin Unit Name]],AdminUnits[],3,FALSE)","v":"Sud"},{"$f":"VLOOKUP(Main3WData12[[#This Row],[Admin Unit Name]],AdminUnits[],4,FALSE)","v":1},{"$f":"VLOOKUP(Main3WData12[[#This Row],[Sector]],Sectors[],2,FALSE)","v":7}]
[null,"PAM",{"$f":"INDEX(Organizations[],MATCH(Main3WData12[[#This Row],[Acronym]],AcronymList,0),1)","v":"Programme Alimentaire Mondial"},{"$f":"INDEX(Organizations[],MATCH(Main3WData12[[#This Row],[Acronym]],AcronymList,0),3)","v":"UN"},"Sécurité alimentaire","Regulier","Tombouctou",{"$f":"VLOOKUP(Main3WData12[[#This Row],[Admin Unit Name]],AdminUnits[],2,FALSE)","v":"ML06"},{"$f":"VLOOKUP(Main3WData12[[#This Row],[Admin Unit Name]],AdminUnits[],3,FALSE)","v":"Nord"},{"$f":"VLOOKUP(Main3WData12[[#This Row],[Admin Unit Name]],AdminUnits[],4,FALSE)","v":6},{"$f":"VLOOKUP(Main3WData12[[#This Row],[Sector]],Sectors[],2,FALSE)","v":7}]
[null,"PAM",{"$f":"INDEX(Organizations[],MATCH(Main3WData12[[#This Row],[Acronym]],AcronymList,0),1)","v":"Programme Alimentaire Mondial"},{"$f":"INDEX(Organizations[],MATCH(Main3WData12[[#This Row],[Acronym]],AcronymList,0),3)","v":"UN"},"Sécurité alimentaire","Regulier","Kidal",{"$f":"VLOOKUP(Main3WData12[[#This Row],[Admin Unit Name]],AdminUnits[],2,FALSE)","v":"ML08"},{"$f":"VLOOKUP(Main3WData12[[#This Row],[Admin Unit Name]],AdminUnits[],3,FALSE)","v":"Nord"},{"$f":"VLOOKUP(Main3WData12[[#This Row],[Admin Unit Name]],AdminUnits[],4,FALSE)","v":8},{"$f":"VLOOKUP(Main3WData12[[#This Row],[Sector]],Sectors[],2,FALSE)","v":7}]
[null,"ONUFEMME",{"$f":"INDEX(Organizations[],MATCH(Main3WData12[[#This Row],[Acronym]],AcronymList,0),1)","v":"ONUFEMME"},{"$f":"INDEX(Organizations[],MATCH(Main3WData12[[#This Row],[Acronym]],AcronymList,0),3)","v":"UN"},"Protection","Regulier","Gao",{"$f":"VLOOKUP(Main3WData12[[#This Row],[Admin Unit Name]],AdminUnits[],2,FALSE)","v":"ML07"},{"$f":"VLOOKUP(Main3WData12[[#This Row],[Admin Unit Name]],AdminUnits[],3,FALSE)","v":"Nord"},{"$f":"VLOOKUP(Main3WData12[[#This Row],[Admin Unit Name]],AdminUnits[],4,FALSE)","v":7},{"$f":"VLOOKUP(Main3WData12[[#This Row],[Sector]],Sectors[],2,FALSE)","v":5}]
[null,"ONUFEMME",{"$f":"INDEX(Organizations[],MATCH(Main3WData12[[#This Row],[Acronym]],AcronymList,0),1)","v":"ONUFEMME"},{"$f":"INDEX(Organizations[],MATCH(Main3WData12[[#This Row],[Acronym]],AcronymList,0),3)","v":"UN"},"Protection","Regulier","Bamako",{"$f":"VLOOKUP(Main3WData12[[#This Row],[Admin Unit Name]],AdminUnits[],2,FALSE)","v":"ML09"},{"$f":"VLOOKUP(Main3WData12[[#This Row],[Admin Unit Name]],AdminUnits[],3,FALSE)","v":"Sud"},{"$f":"VLOOKUP(Main3WData12[[#This Row],[Admin Unit Name]],AdminUnits[],4,FALSE)","v":0},{"$f":"VLOOKUP(Main3WData12[[#This Row],[Sector]],Sectors[],2,FALSE)","v":5}]
[null,"ONUFEMME",{"$f":"INDEX(Organizations[],MATCH(Main3WData12[[#This Row],[Acronym]],AcronymList,0),1)","v":"ONUFEMME"},{"$f":"INDEX(Organizations[],MATCH(Main3WData12[[#This Row],[Acronym]],AcronymList,0),3)","v":"UN"},"Protection","Regulier","Mopti",{"$f":"VLOOKUP(Main3WData12[[#This Row],[Admin Unit Name]],AdminUnits[],2,FALSE)","v":"ML05"},{"$f":"VLOOKUP(Main3WData12[[#This Row],[Admin Unit Name]],AdminUnits[],3,FALSE)","v":"Sud"},{"$f":"VLOOKUP(Main3WData12[[#This Row],[Admin Unit Name]],AdminUnits[],4,FALSE)","v":5},{"$f":"VLOOKUP(Main3WData12[[#This Row],[Sector]],Sectors[],2,FALSE)","v":5}]
[null,"ONUFEMME",{"$f":"INDEX(Organizations[],MATCH(Main3WData12[[#This Row],[Acronym]],AcronymList,0),1)","v":"ONUFEMME"},{"$f":"INDEX(Organizations[],MATCH(Main3WData12[[#This Row],[Acronym]],AcronymList,0),3)","v":"UN"},"Protection","Regulier","Tombouctou",{"$f":"VLOOKUP(Main3WData12[[#This Row],[Admin Unit Name]],AdminUnits[],2,FALSE)","v":"ML06"},{"$f":"VLOOKUP(Main3WData12[[#This Row],[Admin Unit Name]],AdminUnits[],3,FALSE)","v":"Nord"},{"$f":"VLOOKUP(Main3WData12[[#This Row],[Admin Unit Name]],AdminUnits[],4,FALSE)","v":6},{"$f":"VLOOKUP(Main3WData12[[#This Row],[Sector]],Sectors[],2,FALSE)","v":5}]
[null,"ONUFEMME",{"$f":"INDEX(Organizations[],MATCH(Main3WData12[[#This Row],[Acronym]],AcronymList,0),1)","v":"ONUFEMME"},{"$f":"INDEX(Organizations[],MATCH(Main3WData12[[#This Row],[Acronym]],AcronymList,0),3)","v":"UN"},"Sécurité alimentaire","Regulier","Koulikoro",{"$f":"VLOOKUP(Main3WData12[[#This Row],[Admin Unit Name]],AdminUnits[],2,FALSE)","v":"ML02"},{"$f":"VLOOKUP(Main3WData12[[#This Row],[Admin Unit Name]],AdminUnits[],3,FALSE)","v":"Sud"},{"$f":"VLOOKUP(Main3WData12[[#This Row],[Admin Unit Name]],AdminUnits[],4,FALSE)","v":2},{"$f":"VLOOKUP(Main3WData12[[#This Row],[Sector]],Sectors[],2,FALSE)","v":7}]
[null,"ONUFEMME",{"$f":"INDEX(Organizations[],MATCH(Main3WData12[[#This Row],[Acronym]],AcronymList,0),1)","v":"ONUFEMME"},{"$f":"INDEX(Organizations[],MATCH(Main3WData12[[#This Row],[Acronym]],AcronymList,0),3)","v":"UN"},"Sécurité alimentaire","Regulier","Mopti",{"$f":"VLOOKUP(Main3WData12[[#This Row],[Admin Unit Name]],AdminUnits[],2,FALSE)","v":"ML05"},{"$f":"VLOOKUP(Main3WData12[[#This Row],[Admin Unit Name]],AdminUnits[],3,FALSE)","v":"Sud"},{"$f":"VLOOKUP(Main3WData12[[#This Row],[Admin Unit Name]],AdminUnits[],4,FALSE)","v":5},{"$f":"VLOOKUP(Main3WData12[[#This Row],[Sector]],Sectors[],2,FALSE)","v":7}]
[null,"ONUFEMME",{"$f":"INDEX(Organizations[],MATCH(Main3WData12[[#This Row],[Acronym]],AcronymList,0),1)","v":"ONUFEMME"},{"$f":"INDEX(Organizations[],MATCH(Main3WData12[[#This Row],[Acronym]],AcronymList,0),3)","v":"UN"},"Sécurité alimentaire","Regulier","Segou",{"$f":"VLOOKUP(Main3WData12[[#This Row],[Admin Unit Name]],AdminUnits[],2,FALSE)","v":"ML04"},{"$f":"VLOOKUP(Main3WData12[[#This Row],[Admin Unit Name]],AdminUnits[],3,FALSE)","v":"Sud"},{"$f":"VLOOKUP(Main3WData12[[#This Row],[Admin Unit Name]],AdminUnits[],4,FALSE)","v":4},{"$f":"VLOOKUP(Main3WData12[[#This Row],[Sector]],Sectors[],2,FALSE)","v":7}]
[null,"ONUFEMME",{"$f":"INDEX(Organizations[],MATCH(Main3WData12[[#This Row],[Acronym]],AcronymList,0),1)","v":"ONUFEMME"},{"$f":"INDEX(Organizations[],MATCH(Main3WData12[[#This Row],[Acronym]],AcronymList,0),3)","v":"UN"},"Protection","Regulier","Kidal",{"$f":"VLOOKUP(Main3WData12[[#This Row],[Admin Unit Name]],AdminUnits[],2,FALSE)","v":"ML08"},{"$f":"VLOOKUP(Main3WData12[[#This Row],[Admin Unit Name]],AdminUnits[],3,FALSE)","v":"Nord"},{"$f":"VLOOKUP(Main3WData12[[#This Row],[Admin Unit Name]],AdminUnits[],4,FALSE)","v":8},{"$f":"VLOOKUP(Main3WData12[[#This Row],[Sector]],Sectors[],2,FALSE)","v":5}]
[null,"OMS",{"$f":"INDEX(Organizations[],MATCH(Main3WData12[[#This Row],[Acronym]],AcronymList,0),1)","v":"Organisation Mondiale de la Sante"},{"$f":"INDEX(Organizations[],MATCH(Main3WData12[[#This Row],[Acronym]],AcronymList,0),3)","v":"UN"},"EHA","Regulier","Segou",{"$f":"VLOOKUP(Main3WData12[[#This Row],[Admin Unit Name]],AdminUnits[],2,FALSE)","v":"ML04"},{"$f":"VLOOKUP(Main3WData12[[#This Row],[Admin Unit Name]],AdminUnits[],3,FALSE)","v":"Sud"},{"$f":"VLOOKUP(Main3WData12[[#This Row],[Admin Unit Name]],AdminUnits[],4,FALSE)","v":4},{"$f":"VLOOKUP(Main3WData12[[#This Row],[Sector]],Sectors[],2,FALSE)","v":8}]
[null,"OIM",{"$f":"INDEX(Organizations[],MATCH(Main3WData12[[#This Row],[Acronym]],AcronymList,0),1)","v":"Organisation Internationale pour les Migrations"},{"$f":"INDEX(Organizations[],MATCH(Main3WData12[[#This Row],[Acronym]],AcronymList,0),3)","v":"Org Int."},"Abris et NFI","Regulier","Bamako",{"$f":"VLOOKUP(Main3WData12[[#This Row],[Admin Unit Name]],AdminUnits[],2,FALSE)","v":"ML09"},{"$f":"VLOOKUP(Main3WData12[[#This Row],[Admin Unit Name]],AdminUnits[],3,FALSE)","v":"Sud"},{"$f":"VLOOKUP(Main3WData12[[#This Row],[Admin Unit Name]],AdminUnits[],4,FALSE)","v":0},{"$f":"VLOOKUP(Main3WData12[[#This Row],[Sector]],Sectors[],2,FALSE)","v":1}]
[null,"OIM",{"$f":"INDEX(Organizations[],MATCH(Main3WData12[[#This Row],[Acronym]],AcronymList,0),1)","v":"Organisation Internationale pour les Migrations"},{"$f":"INDEX(Organizations[],MATCH(Main3WData12[[#This Row],[Acronym]],AcronymList,0),3)","v":"Org Int."},"Protection","Regulier","Bamako",{"$f":"VLOOKUP(Main3WData12[[#This Row],[Admin Unit Name]],AdminUnits[],2,FALSE)","v":"ML09"},{"$f":"VLOOKUP(Main3WData12[[#This Row],[Admin Unit Name]],AdminUnits[],3,FALSE)","v":"Sud"},{"$f":"VLOOKUP(Main3WData12[[#This Row],[Admin Unit Name]],AdminUnits[],4,FALSE)","v":0},{"$f":"VLOOKUP(Main3WData12[[#This Row],[Sector]],Sectors[],2,FALSE)","v":5}]
[null,"OIM",{"$f":"INDEX(Organizations[],MATCH(Main3WData12[[#This Row],[Acronym]],AcronymList,0),1)","v":"Organisation Internationale pour les Migrations"},{"$f":"INDEX(Organizations[],MATCH(Main3WData12[[#This Row],[Acronym]],AcronymList,0),3)","v":"Org Int."},"Protection","Regulier","Mopti",{"$f":"VLOOKUP(Main3WData12[[#This Row],[Admin Unit Name]],AdminUnits[],2,FALSE)","v":"ML05"},{"$f":"VLOOKUP(Main3WData12[[#This Row],[Admin Unit Name]],AdminUnits[],3,FALSE)","v":"Sud"},{"$f":"VLOOKUP(Main3WData12[[#This Row],[Admin Unit Name]],AdminUnits[],4,FALSE)","v":5},{"$f":"VLOOKUP(Main3WData12[[#This Row],[Sector]],Sectors[],2,FALSE)","v":5}]
[null,"OIM",{"$f":"INDEX(Organizations[],MATCH(Main3WData12[[#This Row],[Acronym]],AcronymList,0),1)","v":"Organisation Internationale pour les Migrations"},{"$f":"INDEX(Organizations[],MATCH(Main3WData12[[#This Row],[Acronym]],AcronymList,0),3)","v":"Org Int."},"EHA","Regulier","Bamako",{"$f":"VLOOKUP(Main3WData12[[#This Row],[Admin Unit Name]],AdminUnits[],2,FALSE)","v":"ML09"},{"$f":"VLOOKUP(Main3WData12[[#This Row],[Admin Unit Name]],AdminUnits[],3,FALSE)","v":"Sud"},{"$f":"VLOOKUP(Main3WData12[[#This Row],[Admin Unit Name]],AdminUnits[],4,FALSE)","v":0},{"$f":"VLOOKUP(Main3WData12[[#This Row],[Sector]],Sectors[],2,FALSE)","v":8}]
[null,"BIT",{"$f":"INDEX(Organizations[],MATCH(Main3WData12[[#This Row],[Acronym]],AcronymList,0),1)","v":"Bureau international de travail"},{"$f":"INDEX(Organizations[],MATCH(Main3WData12[[#This Row],[Acronym]],AcronymList,0),3)","v":"Org Int."},"Protection","Regulier","Kayes",{"$f":"VLOOKUP(Main3WData12[[#This Row],[Admin Unit Name]],AdminUnits[],2,FALSE)","v":"ML01"},{"$f":"VLOOKUP(Main3WData12[[#This Row],[Admin Unit Name]],AdminUnits[],3,FALSE)","v":"Sud"},{"$f":"VLOOKUP(Main3WData12[[#This Row],[Admin Unit Name]],AdminUnits[],4,FALSE)","v":1},{"$f":"VLOOKUP(Main3WData12[[#This Row],[Sector]],Sectors[],2,FALSE)","v":5}]
[null,"BIT",{"$f":"INDEX(Organizations[],MATCH(Main3WData12[[#This Row],[Acronym]],AcronymList,0),1)","v":"Bureau international de travail"},{"$f":"INDEX(Organizations[],MATCH(Main3WData12[[#This Row],[Acronym]],AcronymList,0),3)","v":"Org Int."},"Protection","Regulier","Mopti",{"$f":"VLOOKUP(Main3WData12[[#This Row],[Admin Unit Name]],AdminUnits[],2,FALSE)","v":"ML05"},{"$f":"VLOOKUP(Main3WData12[[#This Row],[Admin Unit Name]],AdminUnits[],3,FALSE)","v":"Sud"},{"$f":"VLOOKUP(Main3WData12[[#This Row],[Admin Unit Name]],AdminUnits[],4,FALSE)","v":5},{"$f":"VLOOKUP(Main3WData12[[#This Row],[Sector]],Sectors[],2,FALSE)","v":5}]
[null,"BIT",{"$f":"INDEX(Organizations[],MATCH(Main3WData12[[#This Row],[Acronym]],AcronymList,0),1)","v":"Bureau international de travail"},{"$f":"INDEX(Organizations[],MATCH(Main3WData12[[#This Row],[Acronym]],AcronymList,0),3)","v":"Org Int."},"Protection","Regulier","Bamako",{"$f":"VLOOKUP(Main3WData12[[#This Row],[Admin Unit Name]],AdminUnits[],2,FALSE)","v":"ML09"},{"$f":"VLOOKUP(Main3WData12[[#This Row],[Admin Unit Name]],AdminUnits[],3,FALSE)","v":"Sud"},{"$f":"VLOOKUP(Main3WData12[[#This Row],[Admin Unit Name]],AdminUnits[],4,FALSE)","v":0},{"$f":"VLOOKUP(Main3WData12[[#This Row],[Sector]],Sectors[],2,FALSE)","v":5}]
[null,"BIT",{"$f":"INDEX(Organizations[],MATCH(Main3WData12[[#This Row],[Acronym]],AcronymList,0),1)","v":"Bureau international de travail"},{"$f":"INDEX(Organizations[],MATCH(Main3WData12[[#This Row],[Acronym]],AcronymList,0),3)","v":"Org Int."},"Protection","Regulier","Sikasso",{"$f":"VLOOKUP(Main3WData12[[#This Row],[Admin Unit Name]],AdminUnits[],2,FALSE)","v":"ML03"},{"$f":"VLOOKUP(Main3WData12[[#This Row],[Admin Unit Name]],AdminUnits[],3,FALSE)","v":"Sud"},{"$f":"VLOOKUP(Main3WData12[[#This Row],[Admin Unit Name]],AdminUnits[],4,FALSE)","v":3},{"$f":"VLOOKUP(Main3WData12[[#This Row],[Sector]],Sectors[],2,FALSE)","v":5}]
[null,"OCHA",{"$f":"INDEX(Organizations[],MATCH(Main3WData12[[#This Row],[Acronym]],AcronymList,0),1)","v":"Bureau de coordination des affaires humanitaires"},{"$f":"INDEX(Organizations[],MATCH(Main3WData12[[#This Row],[Acronym]],AcronymList,0),3)","v":"UN"},"Coordination","Regulier","Kayes",{"$f":"VLOOKUP(Main3WData12[[#This Row],[Admin Unit Name]],AdminUnits[],2,FALSE)","v":"ML01"},{"$f":"VLOOKUP(Main3WData12[[#This Row],[Admin Unit Name]],AdminUnits[],3,FALSE)","v":"Sud"},{"$f":"VLOOKUP(Main3WData12[[#This Row],[Admin Unit Name]],AdminUnits[],4,FALSE)","v":1},{"$f":"VLOOKUP(Main3WData12[[#This Row],[Sector]],Sectors[],2,FALSE)","v":2}]
[null,"OCHA",{"$f":"INDEX(Organizations[],MATCH(Main3WData12[[#This Row],[Acronym]],AcronymList,0),1)","v":"Bureau de coordination des affaires humanitaires"},{"$f":"INDEX(Organizations[],MATCH(Main3WData12[[#This Row],[Acronym]],AcronymList,0),3)","v":"UN"},"Coordination","Regulier","Mopti",{"$f":"VLOOKUP(Main3WData12[[#This Row],[Admin Unit Name]],AdminUnits[],2,FALSE)","v":"ML05"},{"$f":"VLOOKUP(Main3WData12[[#This Row],[Admin Unit Name]],AdminUnits[],3,FALSE)","v":"Sud"},{"$f":"VLOOKUP(Main3WData12[[#This Row],[Admin Unit Name]],AdminUnits[],4,FALSE)","v":5},{"$f":"VLOOKUP(Main3WData12[[#This Row],[Sector]],Sectors[],2,FALSE)","v":2}]
[null,"OCHA",{"$f":"INDEX(Organizations[],MATCH(Main3WData12[[#This Row],[Acronym]],AcronymList,0),1)","v":"Bureau de coordination des affaires humanitaires"},{"$f":"INDEX(Organizations[],MATCH(Main3WData12[[#This Row],[Acronym]],AcronymList,0),3)","v":"UN"},"Coordination","Regulier","Tombouctou",{"$f":"VLOOKUP(Main3WData12[[#This Row],[Admin Unit Name]],AdminUnits[],2,FALSE)","v":"ML06"},{"$f":"VLOOKUP(Main3WData12[[#This Row],[Admin Unit Name]],AdminUnits[],3,FALSE)","v":"Nord"},{"$f":"VLOOKUP(Main3WData12[[#This Row],[Admin Unit Name]],AdminUnits[],4,FALSE)","v":6},{"$f":"VLOOKUP(Main3WData12[[#This Row],[Sector]],Sectors[],2,FALSE)","v":2}]
[null,"OCHA",{"$f":"INDEX(Organizations[],MATCH(Main3WData12[[#This Row],[Acronym]],AcronymList,0),1)","v":"Bureau de coordination des affaires humanitaires"},{"$f":"INDEX(Organizations[],MATCH(Main3WData12[[#This Row],[Acronym]],AcronymList,0),3)","v":"UN"},"Coordination","Regulier","Gao",{"$f":"VLOOKUP(Main3WData12[[#This Row],[Admin Unit Name]],AdminUnits[],2,FALSE)","v":"ML07"},{"$f":"VLOOKUP(Main3WData12[[#This Row],[Admin Unit Name]],AdminUnits[],3,FALSE)","v":"Nord"},{"$f":"VLOOKUP(Main3WData12[[#This Row],[Admin Unit Name]],AdminUnits[],4,FALSE)","v":7},{"$f":"VLOOKUP(Main3WData12[[#This Row],[Sector]],Sectors[],2,FALSE)","v":2}]
[null,"OCHA",{"$f":"INDEX(Organizations[],MATCH(Main3WData12[[#This Row],[Acronym]],AcronymList,0),1)","v":"Bureau de coordination des affaires humanitaires"},{"$f":"INDEX(Organizations[],MATCH(Main3WData12[[#This Row],[Acronym]],AcronymList,0),3)","v":"UN"},"Coordination","Regulier","Bamako",{"$f":"VLOOKUP(Main3WData12[[#This Row],[Admin Unit Name]],AdminUnits[],2,FALSE)","v":"ML09"},{"$f":"VLOOKUP(Main3WData12[[#This Row],[Admin Unit Name]],AdminUnits[],3,FALSE)","v":"Sud"},{"$f":"VLOOKUP(Main3WData12[[#This Row],[Admin Unit Name]],AdminUnits[],4,FALSE)","v":0},{"$f":"VLOOKUP(Main3WData12[[#This Row],[Sector]],Sectors[],2,FALSE)","v":2}]
[null,"PAM",{"$f":"INDEX(Organizations[],MATCH(Main3WData12[[#This Row],[Acronym]],AcronymList,0),1)","v":"Programme Alimentaire Mondial"},{"$f":"INDEX(Organizations[],MATCH(Main3WData12[[#This Row],[Acronym]],AcronymList,0),3)","v":"UN"},"Logistique","Regulier","Bamako",{"$f":"VLOOKUP(Main3WData12[[#This Row],[Admin Unit Name]],AdminUnits[],2,FALSE)","v":"ML09"},{"$f":"VLOOKUP(Main3WData12[[#This Row],[Admin Unit Name]],AdminUnits[],3,FALSE)","v":"Sud"},{"$f":"VLOOKUP(Main3WData12[[#This Row],[Admin Unit Name]],AdminUnits[],4,FALSE)","v":0},{"$f":"VLOOKUP(Main3WData12[[#This Row],[Sector]],Sectors[],2,FALSE)","v":{"$error":"#N/A"}}]
[null,"PAM",{"$f":"INDEX(Organizations[],MATCH(Main3WData12[[#This Row],[Acronym]],AcronymList,0),1)","v":"Programme Alimentaire Mondial"},{"$f":"INDEX(Organizations[],MATCH(Main3WData12[[#This Row],[Acronym]],AcronymList,0),3)","v":"UN"},"Logistique","Regulier","Mopti",{"$f":"VLOOKUP(Main3WData12[[#This Row],[Admin Unit Name]],AdminUnits[],2,FALSE)","v":"ML05"},{"$f":"VLOOKUP(Main3WData12[[#This Row],[Admin Unit Name]],AdminUnits[],3,FALSE)","v":"Sud"},{"$f":"VLOOKUP(Main3WData12[[#This Row],[Admin Unit Name]],AdminUnits[],4,FALSE)","v":5},{"$f":"VLOOKUP(Main3WData12[[#This Row],[Sector]],Sectors[],2,FALSE)","v":{"$error":"#N/A"}}]
[null,"MDM France",{"$f":"INDEX(Organizations[],MATCH(Main3WData12[[#This Row],[Acronym]],AcronymList,0),1)","v":"Médecins Du Monde France"},{"$f":"INDEX(Organizations[],MATCH(Main3WData12[[#This Row],[Acronym]],AcronymList,0),3)","v":"ONG Int."},"Santé","Regulier","Bamako",{"$f":"VLOOKUP(Main3WData12[[#This Row],[Admin Unit Name]],AdminUnits[],2,FALSE)","v":"ML09"},{"$f":"VLOOKUP(Main3WData12[[#This Row],[Admin Unit Name]],AdminUnits[],3,FALSE)","v":"Sud"},{"$f":"VLOOKUP(Main3WData12[[#This Row],[Admin Unit Name]],AdminUnits[],4,FALSE)","v":0},{"$f":"VLOOKUP(Main3WData12[[#This Row],[Sector]],Sectors[],2,FALSE)","v":6}]
[null,"OIM",{"$f":"INDEX(Organizations[],MATCH(Main3WData12[[#This Row],[Acronym]],AcronymList,0),1)","v":"Organisation Internationale pour les Migrations"},{"$f":"INDEX(Organizations[],MATCH(Main3WData12[[#This Row],[Acronym]],AcronymList,0),3)","v":"Org Int."},"Santé","Regulier","Bamako",{"$f":"VLOOKUP(Main3WData12[[#This Row],[Admin Unit Name]],AdminUnits[],2,FALSE)","v":"ML09"},{"$f":"VLOOKUP(Main3WData12[[#This Row],[Admin Unit Name]],AdminUnits[],3,FALSE)","v":"Sud"},{"$f":"VLOOKUP(Main3WData12[[#This Row],[Admin Unit Name]],AdminUnits[],4,FALSE)","v":0},{"$f":"VLOOKUP(Main3WData12[[#This Row],[Sector]],Sectors[],2,FALSE)","v":6}]
[null,"Santé Diabète",{"$f":"INDEX(Organizations[],MATCH(Main3WData12[[#This Row],[Acronym]],AcronymList,0),1)","v":"Santé Diabète"},{"$f":"INDEX(Organizations[],MATCH(Main3WData12[[#This Row],[Acronym]],AcronymList,0),3)","v":"ONG Nat."},"Santé","Regulier","Bamako",{"$f":"VLOOKUP(Main3WData12[[#This Row],[Admin Unit Name]],AdminUnits[],2,FALSE)","v":"ML09"},{"$f":"VLOOKUP(Main3WData12[[#This Row],[Admin Unit Name]],AdminUnits[],3,FALSE)","v":"Sud"},{"$f":"VLOOKUP(Main3WData12[[#This Row],[Admin Unit Name]],AdminUnits[],4,FALSE)","v":0},{"$f":"VLOOKUP(Main3WData12[[#This Row],[Sector]],Sectors[],2,FALSE)","v":6}]
[null,"CARE Mali",{"$f":"INDEX(Organizations[],MATCH(Main3WData12[[#This Row],[Acronym]],AcronymList,0),1)","v":"CARE Interntional Mali"},{"$f":"INDEX(Organizations[],MATCH(Main3WData12[[#This Row],[Acronym]],AcronymList,0),3)","v":"ONG Int."},"Santé","Regulier","Segou",{"$f":"VLOOKUP(Main3WData12[[#This Row],[Admin Unit Name]],AdminUnits[],2,FALSE)","v":"ML04"},{"$f":"VLOOKUP(Main3WData12[[#This Row],[Admin Unit Name]],AdminUnits[],3,FALSE)","v":"Sud"},{"$f":"VLOOKUP(Main3WData12[[#This Row],[Admin Unit Name]],AdminUnits[],4,FALSE)","v":4},{"$f":"VLOOKUP(Main3WData12[[#This Row],[Sector]],Sectors[],2,FALSE)","v":6}]
[null,"WV",{"$f":"INDEX(Organizations[],MATCH(Main3WData12[[#This Row],[Acronym]],AcronymList,0),1)","v":{"$error":"#N/A"}},{"$f":"INDEX(Organizations[],MATCH(Main3WData12[[#This Row],[Acronym]],AcronymList,0),3)","v":{"$error":"#N/A"}},"Santé","Regulier","Segou",{"$f":"VLOOKUP(Main3WData12[[#This Row],[Admin Unit Name]],AdminUnits[],2,FALSE)","v":"ML04"},{"$f":"VLOOKUP(Main3WData12[[#This Row],[Admin Unit Name]],AdminUnits[],3,FALSE)","v":"Sud"},{"$f":"VLOOKUP(Main3WData12[[#This Row],[Admin Unit Name]],AdminUnits[],4,FALSE)","v":4},{"$f":"VLOOKUP(Main3WData12[[#This Row],[Sector]],Sectors[],2,FALSE)","v":6}]
[null,"Fondation Intervida",{"$f":"INDEX(Organizations[],MATCH(Main3WData12[[#This Row],[Acronym]],AcronymList,0),1)","v":"Fondation Intervida"},{"$f":"INDEX(Organizations[],MATCH(Main3WData12[[#This Row],[Acronym]],AcronymList,0),3)","v":"Fondation"},"Santé","Regulier","Segou",{"$f":"VLOOKUP(Main3WData12[[#This Row],[Admin Unit Name]],AdminUnits[],2,FALSE)","v":"ML04"},{"$f":"VLOOKUP(Main3WData12[[#This Row],[Admin Unit Name]],AdminUnits[],3,FALSE)","v":"Sud"},{"$f":"VLOOKUP(Main3WData12[[#This Row],[Admin Unit Name]],AdminUnits[],4,FALSE)","v":4},{"$f":"VLOOKUP(Main3WData12[[#This Row],[Sector]],Sectors[],2,FALSE)","v":6}]
[null,"Fondation Novartis",{"$f":"INDEX(Organizations[],MATCH(Main3WData12[[#This Row],[Acronym]],AcronymList,0),1)","v":"Fondation Novartis"},{"$f":"INDEX(Organizations[],MATCH(Main3WData12[[#This Row],[Acronym]],AcronymList,0),3)","v":"Fondation"},"Santé","Regulier","Segou",{"$f":"VLOOKUP(Main3WData12[[#This Row],[Admin Unit Name]],AdminUnits[],2,FALSE)","v":"ML04"},{"$f":"VLOOKUP(Main3WData12[[#This Row],[Admin Unit Name]],AdminUnits[],3,FALSE)","v":"Sud"},{"$f":"VLOOKUP(Main3WData12[[#This Row],[Admin Unit Name]],AdminUnits[],4,FALSE)","v":4},{"$f":"VLOOKUP(Main3WData12[[#This Row],[Sector]],Sectors[],2,FALSE)","v":6}]
[null,"MSI",{"$f":"INDEX(Organizations[],MATCH(Main3WData12[[#This Row],[Acronym]],AcronymList,0),1)","v":"Marie Stopes International"},{"$f":"INDEX(Organizations[],MATCH(Main3WData12[[#This Row],[Acronym]],AcronymList,0),3)","v":"ONG Int."},"Santé","Regulier","Segou",{"$f":"VLOOKUP(Main3WData12[[#This Row],[Admin Unit Name]],AdminUnits[],2,FALSE)","v":"ML04"},{"$f":"VLOOKUP(Main3WData12[[#This Row],[Admin Unit Name]],AdminUnits[],3,FALSE)","v":"Sud"},{"$f":"VLOOKUP(Main3WData12[[#This Row],[Admin Unit Name]],AdminUnits[],4,FALSE)","v":4},{"$f":"VLOOKUP(Main3WData12[[#This Row],[Sector]],Sectors[],2,FALSE)","v":6}]
[null,"PSI",{"$f":"INDEX(Organizations[],MATCH(Main3WData12[[#This Row],[Acronym]],AcronymList,0),1)","v":"Population Services International"},{"$f":"INDEX(Organizations[],MATCH(Main3WData12[[#This Row],[Acronym]],AcronymList,0),3)","v":"ONG Int."},"Santé","Regulier","Segou",{"$f":"VLOOKUP(Main3WData12[[#This Row],[Admin Unit Name]],AdminUnits[],2,FALSE)","v":"ML04"},{"$f":"VLOOKUP(Main3WData12[[#This Row],[Admin Unit Name]],AdminUnits[],3,FALSE)","v":"Sud"},{"$f":"VLOOKUP(Main3WData12[[#This Row],[Admin Unit Name]],AdminUnits[],4,FALSE)","v":4},{"$f":"VLOOKUP(Main3WData12[[#This Row],[Sector]],Sectors[],2,FALSE)","v":6}]
[null,"Caritas",{"$f":"INDEX(Organizations[],MATCH(Main3WData12[[#This Row],[Acronym]],AcronymList,0),1)","v":"CARITAS Mali"},{"$f":"INDEX(Organizations[],MATCH(Main3WData12[[#This Row],[Acronym]],AcronymList,0),3)","v":"ONG Int."},"Santé","Regulier","Segou",{"$f":"VLOOKUP(Main3WData12[[#This Row],[Admin Unit Name]],AdminUnits[],2,FALSE)","v":"ML04"},{"$f":"VLOOKUP(Main3WData12[[#This Row],[Admin Unit Name]],AdminUnits[],3,FALSE)","v":"Sud"},{"$f":"VLOOKUP(Main3WData12[[#This Row],[Admin Unit Name]],AdminUnits[],4,FALSE)","v":4},{"$f":"VLOOKUP(Main3WData12[[#This Row],[Sector]],Sectors[],2,FALSE)","v":6}]
[null,"Lux Dev.",{"$f":"INDEX(Organizations[],MATCH(Main3WData12[[#This Row],[Acronym]],AcronymList,0),1)","v":"Lux Developpement"},{"$f":"INDEX(Organizations[],MATCH(Main3WData12[[#This Row],[Acronym]],AcronymList,0),3)","v":"ONG Int."},"Santé","Regulier","Segou",{"$f":"VLOOKUP(Main3WData12[[#This Row],[Admin Unit Name]],AdminUnits[],2,FALSE)","v":"ML04"},{"$f":"VLOOKUP(Main3WData12[[#This Row],[Admin Unit Name]],AdminUnits[],3,FALSE)","v":"Sud"},{"$f":"VLOOKUP(Main3WData12[[#This Row],[Admin Unit Name]],AdminUnits[],4,FALSE)","v":4},{"$f":"VLOOKUP(Main3WData12[[#This Row],[Sector]],Sectors[],2,FALSE)","v":6}]
[null,"MSF",{"$f":"INDEX(Organizations[],MATCH(Main3WData12[[#This Row],[Acronym]],AcronymList,0),1)","v":"Médecins Sans Frontières"},{"$f":"INDEX(Organizations[],MATCH(Main3WData12[[#This Row],[Acronym]],AcronymList,0),3)","v":"ONG Int."},"Santé","Regulier","Mopti",{"$f":"VLOOKUP(Main3WData12[[#This Row],[Admin Unit Name]],AdminUnits[],2,FALSE)","v":"ML05"},{"$f":"VLOOKUP(Main3WData12[[#This Row],[Admin Unit Name]],AdminUnits[],3,FALSE)","v":"Sud"},{"$f":"VLOOKUP(Main3WData12[[#This Row],[Admin Unit Name]],AdminUnits[],4,FALSE)","v":5},{"$f":"VLOOKUP(Main3WData12[[#This Row],[Sector]],Sectors[],2,FALSE)","v":6}]
[null,"MDM France",{"$f":"INDEX(Organizations[],MATCH(Main3WData12[[#This Row],[Acronym]],AcronymList,0),1)","v":"Médecins Du Monde France"},{"$f":"INDEX(Organizations[],MATCH(Main3WData12[[#This Row],[Acronym]],AcronymList,0),3)","v":"ONG Int."},"Santé","Regulier","Mopti",{"$f":"VLOOKUP(Main3WData12[[#This Row],[Admin Unit Name]],AdminUnits[],2,FALSE)","v":"ML05"},{"$f":"VLOOKUP(Main3WData12[[#This Row],[Admin Unit Name]],AdminUnits[],3,FALSE)","v":"Sud"},{"$f":"VLOOKUP(Main3WData12[[#This Row],[Admin Unit Name]],AdminUnits[],4,FALSE)","v":5},{"$f":"VLOOKUP(Main3WData12[[#This Row],[Sector]],Sectors[],2,FALSE)","v":6}]
[null,"HI",{"$f":"INDEX(Organizations[],MATCH(Main3WData12[[#This Row],[Acronym]],AcronymList,0),1)","v":"Handicap International"},{"$f":"INDEX(Organizations[],MATCH(Main3WData12[[#This Row],[Acronym]],AcronymList,0),3)","v":"ONG Int."},"Santé","Regulier","Mopti",{"$f":"VLOOKUP(Main3WData12[[#This Row],[Admin Unit Name]],AdminUnits[],2,FALSE)","v":"ML05"},{"$f":"VLOOKUP(Main3WData12[[#This Row],[Admin Unit Name]],AdminUnits[],3,FALSE)","v":"Sud"},{"$f":"VLOOKUP(Main3WData12[[#This Row],[Admin Unit Name]],AdminUnits[],4,FALSE)","v":5},{"$f":"VLOOKUP(Main3WData12[[#This Row],[Sector]],Sectors[],2,FALSE)","v":6}]
[null,"OIM",{"$f":"INDEX(Organizations[],MATCH(Main3WData12[[#This Row],[Acronym]],AcronymList,0),1)","v":"Organisation Internationale pour les Migrations"},{"$f":"INDEX(Organizations[],MATCH(Main3WData12[[#This Row],[Acronym]],AcronymList,0),3)","v":"Org Int."},"Santé","Regulier","Mopti",{"$f":"VLOOKUP(Main3WData12[[#This Row],[Admin Unit Name]],AdminUnits[],2,FALSE)","v":"ML05"},{"$f":"VLOOKUP(Main3WData12[[#This Row],[Admin Unit Name]],AdminUnits[],3,FALSE)","v":"Sud"},{"$f":"VLOOKUP(Main3WData12[[#This Row],[Admin Unit Name]],AdminUnits[],4,FALSE)","v":5},{"$f":"VLOOKUP(Main3WData12[[#This Row],[Sector]],Sectors[],2,FALSE)","v":6}]
[null,"Santé Diabète",{"$f":"INDEX(Organizations[],MATCH(Main3WData12[[#This Row],[Acronym]],AcronymList,0),1)","v":"Santé Diabète"},{"$f":"INDEX(Organizations[],MATCH(Main3WData12[[#This Row],[Acronym]],AcronymList,0),3)","v":"ONG Nat."},"Santé","Regulier","Mopti",{"$f":"VLOOKUP(Main3WData12[[#This Row],[Admin Unit Name]],AdminUnits[],2,FALSE)","v":"ML05"},{"$f":"VLOOKUP(Main3WData12[[#This Row],[Admin Unit Name]],AdminUnits[],3,FALSE)","v":"Sud"},{"$f":"VLOOKUP(Main3WData12[[#This Row],[Admin Unit Name]],AdminUnits[],4,FALSE)","v":5},{"$f":"VLOOKUP(Main3WData12[[#This Row],[Sector]],Sectors[],2,FALSE)","v":6}]
[null,"Plan Mali",{"$f":"INDEX(Organizations[],MATCH(Main3WData12[[#This Row],[Acronym]],AcronymList,0),1)","v":"Plan Mali"},{"$f":"INDEX(Organizations[],MATCH(Main3WData12[[#This Row],[Acronym]],AcronymList,0),3)","v":"ONG Int."},"Santé","Regulier","Mopti",{"$f":"VLOOKUP(Main3WData12[[#This Row],[Admin Unit Name]],AdminUnits[],2,FALSE)","v":"ML05"},{"$f":"VLOOKUP(Main3WData12[[#This Row],[Admin Unit Name]],AdminUnits[],3,FALSE)","v":"Sud"},{"$f":"VLOOKUP(Main3WData12[[#This Row],[Admin Unit Name]],AdminUnits[],4,FALSE)","v":5},{"$f":"VLOOKUP(Main3WData12[[#This Row],[Sector]],Sectors[],2,FALSE)","v":6}]
[null,"ASDAP",{"$f":"INDEX(Organizations[],MATCH(Main3WData12[[#This Row],[Acronym]],AcronymList,0),1)","v":"Association pour le Soutien du Développement des Activités de Population"},{"$f":"INDEX(Organizations[],MATCH(Main3WData12[[#This Row],[Acronym]],AcronymList,0),3)","v":"ONG Nat."},"Santé","Regulier","Mopti",{"$f":"VLOOKUP(Main3WData12[[#This Row],[Admin Unit Name]],AdminUnits[],2,FALSE)","v":"ML05"},{"$f":"VLOOKUP(Main3WData12[[#This Row],[Admin Unit Name]],AdminUnits[],3,FALSE)","v":"Sud"},{"$f":"VLOOKUP(Main3WData12[[#This Row],[Admin Unit Name]],AdminUnits[],4,FALSE)","v":5},{"$f":"VLOOKUP(Main3WData12[[#This Row],[Sector]],Sectors[],2,FALSE)","v":6}]
[null,"FIDA",{"$f":"INDEX(Organizations[],MATCH(Main3WData12[[#This Row],[Acronym]],AcronymList,0),1)","v":"Fonds international de développement agricole"},{"$f":"INDEX(Organizations[],MATCH(Main3WData12[[#This Row],[Acronym]],AcronymList,0),3)","v":"UN"},"Santé","Regulier","Tombouctou",{"$f":"VLOOKUP(Main3WData12[[#This Row],[Admin Unit Name]],AdminUnits[],2,FALSE)","v":"ML06"},{"$f":"VLOOKUP(Main3WData12[[#This Row],[Admin Unit Name]],AdminUnits[],3,FALSE)","v":"Nord"},{"$f":"VLOOKUP(Main3WData12[[#This Row],[Admin Unit Name]],AdminUnits[],4,FALSE)","v":6},{"$f":"VLOOKUP(Main3WData12[[#This Row],[Sector]],Sectors[],2,FALSE)","v":6}]
[null,"AMCP",{"$f":"INDEX(Organizations[],MATCH(Main3WData12[[#This Row],[Acronym]],AcronymList,0),1)","v":"ALLIANCE MEDICALE CONTRE LE PALUDISME"},{"$f":"INDEX(Organizations[],MATCH(Main3WData12[[#This Row],[Acronym]],AcronymList,0),3)","v":"ONG Int."},"Santé","Regulier","Tombouctou",{"$f":"VLOOKUP(Main3WData12[[#This Row],[Admin Unit Name]],AdminUnits[],2,FALSE)","v":"ML06"},{"$f":"VLOOKUP(Main3WData12[[#This Row],[Admin Unit Name]],AdminUnits[],3,FALSE)","v":"Nord"},{"$f":"VLOOKUP(Main3WData12[[#This Row],[Admin Unit Name]],AdminUnits[],4,FALSE)","v":6},{"$f":"VLOOKUP(Main3WData12[[#This Row],[Sector]],Sectors[],2,FALSE)","v":6}]
[null,"SMARA",{"$f":"INDEX(Organizations[],MATCH(Main3WData12[[#This Row],[Acronym]],AcronymList,0),1)","v":"SMARA"},{"$f":"INDEX(Organizations[],MATCH(Main3WData12[[#This Row],[Acronym]],AcronymList,0),3)","v":"ONG Int."},"Santé","Regulier","Tombouctou",{"$f":"VLOOKUP(Main3WData12[[#This Row],[Admin Unit Name]],AdminUnits[],2,FALSE)","v":"ML06"},{"$f":"VLOOKUP(Main3WData12[[#This Row],[Admin Unit Name]],AdminUnits[],3,FALSE)","v":"Nord"},{"$f":"VLOOKUP(Main3WData12[[#This Row],[Admin Unit Name]],AdminUnits[],4,FALSE)","v":6},{"$f":"VLOOKUP(Main3WData12[[#This Row],[Sector]],Sectors[],2,FALSE)","v":6}]
[null,"OMS",{"$f":"INDEX(Organizations[],MATCH(Main3WData12[[#This Row],[Acronym]],AcronymList,0),1)","v":"Organisation Mondiale de la Sante"},{"$f":"INDEX(Organizations[],MATCH(Main3WData12[[#This Row],[Acronym]],AcronymList,0),3)","v":"UN"},"Santé","Regulier","Tombouctou",{"$f":"VLOOKUP(Main3WData12[[#This Row],[Admin Unit Name]],AdminUnits[],2,FALSE)","v":"ML06"},{"$f":"VLOOKUP(Main3WData12[[#This Row],[Admin Unit Name]],AdminUnits[],3,FALSE)","v":"Nord"},{"$f":"VLOOKUP(Main3WData12[[#This Row],[Admin Unit Name]],AdminUnits[],4,FALSE)","v":6},{"$f":"VLOOKUP(Main3WData12[[#This Row],[Sector]],Sectors[],2,FALSE)","v":6}]
[null,"MSF",{"$f":"INDEX(Organizations[],MATCH(Main3WData12[[#This Row],[Acronym]],AcronymList,0),1)","v":"Médecins Sans Frontières"},{"$f":"INDEX(Organizations[],MATCH(Main3WData12[[#This Row],[Acronym]],AcronymList,0),3)","v":"ONG Int."},"Santé","Regulier","Tombouctou",{"$f":"VLOOKUP(Main3WData12[[#This Row],[Admin Unit Name]],AdminUnits[],2,FALSE)","v":"ML06"},{"$f":"VLOOKUP(Main3WData12[[#This Row],[Admin Unit Name]],AdminUnits[],3,FALSE)","v":"Nord"},{"$f":"VLOOKUP(Main3WData12[[#This Row],[Admin Unit Name]],AdminUnits[],4,FALSE)","v":6},{"$f":"VLOOKUP(Main3WData12[[#This Row],[Sector]],Sectors[],2,FALSE)","v":6}]
[null,"IMC",{"$f":"INDEX(Organizations[],MATCH(Main3WData12[[#This Row],[Acronym]],AcronymList,0),1)","v":"International Medical Corps"},{"$f":"INDEX(Organizations[],MATCH(Main3WData12[[#This Row],[Acronym]],AcronymList,0),3)","v":"ONG Int."},"Santé","Regulier","Tombouctou",{"$f":"VLOOKUP(Main3WData12[[#This Row],[Admin Unit Name]],AdminUnits[],2,FALSE)","v":"ML06"},{"$f":"VLOOKUP(Main3WData12[[#This Row],[Admin Unit Name]],AdminUnits[],3,FALSE)","v":"Nord"},{"$f":"VLOOKUP(Main3WData12[[#This Row],[Admin Unit Name]],AdminUnits[],4,FALSE)","v":6},{"$f":"VLOOKUP(Main3WData12[[#This Row],[Sector]],Sectors[],2,FALSE)","v":6}]
[null,"CICR",{"$f":"INDEX(Organizations[],MATCH(Main3WData12[[#This Row],[Acronym]],AcronymList,0),1)","v":"Comite international de la croix rouge"},{"$f":"INDEX(Organizations[],MATCH(Main3WData12[[#This Row],[Acronym]],AcronymList,0),3)","v":"ONG Int."},"Santé","Regulier","Tombouctou",{"$f":"VLOOKUP(Main3WData12[[#This Row],[Admin Unit Name]],AdminUnits[],2,FALSE)","v":"ML06"},{"$f":"VLOOKUP(Main3WData12[[#This Row],[Admin Unit Name]],AdminUnits[],3,FALSE)","v":"Nord"},{"$f":"VLOOKUP(Main3WData12[[#This Row],[Admin Unit Name]],AdminUnits[],4,FALSE)","v":6},{"$f":"VLOOKUP(Main3WData12[[#This Row],[Sector]],Sectors[],2,FALSE)","v":6}]
[null,"ALIMA",{"$f":"INDEX(Organizations[],MATCH(Main3WData12[[#This Row],[Acronym]],AcronymList,0),1)","v":"Alliance Internationale for Medical Action"},{"$f":"INDEX(Organizations[],MATCH(Main3WData12[[#This Row],[Acronym]],AcronymList,0),3)","v":"ONG Int."},"Santé","Regulier","Tombouctou",{"$f":"VLOOKUP(Main3WData12[[#This Row],[Admin Unit Name]],AdminUnits[],2,FALSE)","v":"ML06"},{"$f":"VLOOKUP(Main3WData12[[#This Row],[Admin Unit Name]],AdminUnits[],3,FALSE)","v":"Nord"},{"$f":"VLOOKUP(Main3WData12[[#This Row],[Admin Unit Name]],AdminUnits[],4,FALSE)","v":6},{"$f":"VLOOKUP(Main3WData12[[#This Row],[Sector]],Sectors[],2,FALSE)","v":6}]
[null,"AVSF",{"$f":"INDEX(Organizations[],MATCH(Main3WData12[[#This Row],[Acronym]],AcronymList,0),1)","v":"Agronomes et Vétérinaires Sans Frontières"},{"$f":"INDEX(Organizations[],MATCH(Main3WData12[[#This Row],[Acronym]],AcronymList,0),3)","v":"ONG Int."},"Santé","Regulier","Tombouctou",{"$f":"VLOOKUP(Main3WData12[[#This Row],[Admin Unit Name]],AdminUnits[],2,FALSE)","v":"ML06"},{"$f":"VLOOKUP(Main3WData12[[#This Row],[Admin Unit Name]],AdminUnits[],3,FALSE)","v":"Nord"},{"$f":"VLOOKUP(Main3WData12[[#This Row],[Admin Unit Name]],AdminUnits[],4,FALSE)","v":6},{"$f":"VLOOKUP(Main3WData12[[#This Row],[Sector]],Sectors[],2,FALSE)","v":6}]
[null,"MERLIN",{"$f":"INDEX(Organizations[],MATCH(Main3WData12[[#This Row],[Acronym]],AcronymList,0),1)","v":"MERLIN"},{"$f":"INDEX(Organizations[],MATCH(Main3WData12[[#This Row],[Acronym]],AcronymList,0),3)","v":"ONG Int."},"Santé","Regulier","Tombouctou",{"$f":"VLOOKUP(Main3WData12[[#This Row],[Admin Unit Name]],AdminUnits[],2,FALSE)","v":"ML06"},{"$f":"VLOOKUP(Main3WData12[[#This Row],[Admin Unit Name]],AdminUnits[],3,FALSE)","v":"Nord"},{"$f":"VLOOKUP(Main3WData12[[#This Row],[Admin Unit Name]],AdminUnits[],4,FALSE)","v":6},{"$f":"VLOOKUP(Main3WData12[[#This Row],[Sector]],Sectors[],2,FALSE)","v":6}]
[null,"Santé Diabète",{"$f":"INDEX(Organizations[],MATCH(Main3WData12[[#This Row],[Acronym]],AcronymList,0),1)","v":"Santé Diabète"},{"$f":"INDEX(Organizations[],MATCH(Main3WData12[[#This Row],[Acronym]],AcronymList,0),3)","v":"ONG Nat."},"Santé","Regulier","Tombouctou",{"$f":"VLOOKUP(Main3WData12[[#This Row],[Admin Unit Name]],AdminUnits[],2,FALSE)","v":"ML06"},{"$f":"VLOOKUP(Main3WData12[[#This Row],[Admin Unit Name]],AdminUnits[],3,FALSE)","v":"Nord"},{"$f":"VLOOKUP(Main3WData12[[#This Row],[Admin Unit Name]],AdminUnits[],4,FALSE)","v":6},{"$f":"VLOOKUP(Main3WData12[[#This Row],[Sector]],Sectors[],2,FALSE)","v":6}]
[null,"FIDA",{"$f":"INDEX(Organizations[],MATCH(Main3WData12[[#This Row],[Acronym]],AcronymList,0),1)","v":"Fonds international de développement agricole"},{"$f":"INDEX(Organizations[],MATCH(Main3WData12[[#This Row],[Acronym]],AcronymList,0),3)","v":"UN"},"Santé","Regulier","Gao",{"$f":"VLOOKUP(Main3WData12[[#This Row],[Admin Unit Name]],AdminUnits[],2,FALSE)","v":"ML07"},{"$f":"VLOOKUP(Main3WData12[[#This Row],[Admin Unit Name]],AdminUnits[],3,FALSE)","v":"Nord"},{"$f":"VLOOKUP(Main3WData12[[#This Row],[Admin Unit Name]],AdminUnits[],4,FALSE)","v":7},{"$f":"VLOOKUP(Main3WData12[[#This Row],[Sector]],Sectors[],2,FALSE)","v":6}]
[null,"OMS",{"$f":"INDEX(Organizations[],MATCH(Main3WData12[[#This Row],[Acronym]],AcronymList,0),1)","v":"Organisation Mondiale de la Sante"},{"$f":"INDEX(Organizations[],MATCH(Main3WData12[[#This Row],[Acronym]],AcronymList,0),3)","v":"UN"},"Santé","Regulier","Gao",{"$f":"VLOOKUP(Main3WData12[[#This Row],[Admin Unit Name]],AdminUnits[],2,FALSE)","v":"ML07"},{"$f":"VLOOKUP(Main3WData12[[#This Row],[Admin Unit Name]],AdminUnits[],3,FALSE)","v":"Nord"},{"$f":"VLOOKUP(Main3WData12[[#This Row],[Admin Unit Name]],AdminUnits[],4,FALSE)","v":7},{"$f":"VLOOKUP(Main3WData12[[#This Row],[Sector]],Sectors[],2,FALSE)","v":6}]
[null,"MSF",{"$f":"INDEX(Organizations[],MATCH(Main3WData12[[#This Row],[Acronym]],AcronymList,0),1)","v":"Médecins Sans Frontières"},{"$f":"INDEX(Organizations[],MATCH(Main3WData12[[#This Row],[Acronym]],AcronymList,0),3)","v":"ONG Int."},"Santé","Regulier","Gao",{"$f":"VLOOKUP(Main3WData12[[#This Row],[Admin Unit Name]],AdminUnits[],2,FALSE)","v":"ML07"},{"$f":"VLOOKUP(Main3WData12[[#This Row],[Admin Unit Name]],AdminUnits[],3,FALSE)","v":"Nord"},{"$f":"VLOOKUP(Main3WData12[[#This Row],[Admin Unit Name]],AdminUnits[],4,FALSE)","v":7},{"$f":"VLOOKUP(Main3WData12[[#This Row],[Sector]],Sectors[],2,FALSE)","v":6}]
[null,"MDM Belgique",{"$f":"INDEX(Organizations[],MATCH(Main3WData12[[#This Row],[Acronym]],AcronymList,0),1)","v":"Médecins Du Monde Belgique"},{"$f":"INDEX(Organizations[],MATCH(Main3WData12[[#This Row],[Acronym]],AcronymList,0),3)","v":"ONG Int."},"Santé","Regulier","Gao",{"$f":"VLOOKUP(Main3WData12[[#This Row],[Admin Unit Name]],AdminUnits[],2,FALSE)","v":"ML07"},{"$f":"VLOOKUP(Main3WData12[[#This Row],[Admin Unit Name]],AdminUnits[],3,FALSE)","v":"Nord"},{"$f":"VLOOKUP(Main3WData12[[#This Row],[Admin Unit Name]],AdminUnits[],4,FALSE)","v":7},{"$f":"VLOOKUP(Main3WData12[[#This Row],[Sector]],Sectors[],2,FALSE)","v":6}]
[null,"CICR",{"$f":"INDEX(Organizations[],MATCH(Main3WData12[[#This Row],[Acronym]],AcronymList,0),1)","v":"Comite international de la croix rouge"},{"$f":"INDEX(Organizations[],MATCH(Main3WData12[[#This Row],[Acronym]],AcronymList,0),3)","v":"ONG Int."},"Santé","Regulier","Gao",{"$f":"VLOOKUP(Main3WData12[[#This Row],[Admin Unit Name]],AdminUnits[],2,FALSE)","v":"ML07"},{"$f":"VLOOKUP(Main3WData12[[#This Row],[Admin Unit Name]],AdminUnits[],3,FALSE)","v":"Nord"},{"$f":"VLOOKUP(Main3WData12[[#This Row],[Admin Unit Name]],AdminUnits[],4,FALSE)","v":7},{"$f":"VLOOKUP(Main3WData12[[#This Row],[Sector]],Sectors[],2,FALSE)","v":6}]
[null,"ACF – Espagne",{"$f":"INDEX(Organizations[],MATCH(Main3WData12[[#This Row],[Acronym]],AcronymList,0),1)","v":"Action contre la faim Espagne"},{"$f":"INDEX(Organizations[],MATCH(Main3WData12[[#This Row],[Acronym]],AcronymList,0),3)","v":"ONG Int."},"Santé","Regulier","Gao",{"$f":"VLOOKUP(Main3WData12[[#This Row],[Admin Unit Name]],AdminUnits[],2,FALSE)","v":"ML07"},{"$f":"VLOOKUP(Main3WData12[[#This Row],[Admin Unit Name]],AdminUnits[],3,FALSE)","v":"Nord"},{"$f":"VLOOKUP(Main3WData12[[#This Row],[Admin Unit Name]],AdminUnits[],4,FALSE)","v":7},{"$f":"VLOOKUP(Main3WData12[[#This Row],[Sector]],Sectors[],2,FALSE)","v":6}]
[null,"IMC",{"$f":"INDEX(Organizations[],MATCH(Main3WData12[[#This Row],[Acronym]],AcronymList,0),1)","v":"International Medical Corps"},{"$f":"INDEX(Organizations[],MATCH(Main3WData12[[#This Row],[Acronym]],AcronymList,0),3)","v":"ONG Int."},"Santé","Regulier","Gao",{"$f":"VLOOKUP(Main3WData12[[#This Row],[Admin Unit Name]],AdminUnits[],2,FALSE)","v":"ML07"},{"$f":"VLOOKUP(Main3WData12[[#This Row],[Admin Unit Name]],AdminUnits[],3,FALSE)","v":"Nord"},{"$f":"VLOOKUP(Main3WData12[[#This Row],[Admin Unit Name]],AdminUnits[],4,FALSE)","v":7},{"$f":"VLOOKUP(Main3WData12[[#This Row],[Sector]],Sectors[],2,FALSE)","v":6}]
[null,"CRF/CRM",{"$f":"INDEX(Organizations[],MATCH(Main3WData12[[#This Row],[Acronym]],AcronymList,0),1)","v":"CRF/CRM"},{"$f":"INDEX(Organizations[],MATCH(Main3WData12[[#This Row],[Acronym]],AcronymList,0),3)","v":"ONG Int."},"Santé","Regulier","Gao",{"$f":"VLOOKUP(Main3WData12[[#This Row],[Admin Unit Name]],AdminUnits[],2,FALSE)","v":"ML07"},{"$f":"VLOOKUP(Main3WData12[[#This Row],[Admin Unit Name]],AdminUnits[],3,FALSE)","v":"Nord"},{"$f":"VLOOKUP(Main3WData12[[#This Row],[Admin Unit Name]],AdminUnits[],4,FALSE)","v":7},{"$f":"VLOOKUP(Main3WData12[[#This Row],[Sector]],Sectors[],2,FALSE)","v":6}]
[null,"Santé Diabète",{"$f":"INDEX(Organizations[],MATCH(Main3WData12[[#This Row],[Acronym]],AcronymList,0),1)","v":"Santé Diabète"},{"$f":"INDEX(Organizations[],MATCH(Main3WData12[[#This Row],[Acronym]],AcronymList,0),3)","v":"ONG Nat."},"Santé","Regulier","Gao",{"$f":"VLOOKUP(Main3WData12[[#This Row],[Admin Unit Name]],AdminUnits[],2,FALSE)","v":"ML07"},{"$f":"VLOOKUP(Main3WData12[[#This Row],[Admin Unit Name]],AdminUnits[],3,FALSE)","v":"Nord"},{"$f":"VLOOKUP(Main3WData12[[#This Row],[Admin Unit Name]],AdminUnits[],4,FALSE)","v":7},{"$f":"VLOOKUP(Main3WData12[[#This Row],[Sector]],Sectors[],2,FALSE)","v":6}]
[null,"Save the Children",{"$f":"INDEX(Organizations[],MATCH(Main3WData12[[#This Row],[Acronym]],AcronymList,0),1)","v":"Save the Children"},{"$f":"INDEX(Organizations[],MATCH(Main3WData12[[#This Row],[Acronym]],AcronymList,0),3)","v":"ONG Int."},"Santé","Regulier","Gao",{"$f":"VLOOKUP(Main3WData12[[#This Row],[Admin Unit Name]],AdminUnits[],2,FALSE)","v":"ML07"},{"$f":"VLOOKUP(Main3WData12[[#This Row],[Admin Unit Name]],AdminUnits[],3,FALSE)","v":"Nord"},{"$f":"VLOOKUP(Main3WData12[[#This Row],[Admin Unit Name]],AdminUnits[],4,FALSE)","v":7},{"$f":"VLOOKUP(Main3WData12[[#This Row],[Sector]],Sectors[],2,FALSE)","v":6}]
[null,"FIDA",{"$f":"INDEX(Organizations[],MATCH(Main3WData12[[#This Row],[Acronym]],AcronymList,0),1)","v":"Fonds international de développement agricole"},{"$f":"INDEX(Organizations[],MATCH(Main3WData12[[#This Row],[Acronym]],AcronymList,0),3)","v":"UN"},"Santé","Regulier","Kidal",{"$f":"VLOOKUP(Main3WData12[[#This Row],[Admin Unit Name]],AdminUnits[],2,FALSE)","v":"ML08"},{"$f":"VLOOKUP(Main3WData12[[#This Row],[Admin Unit Name]],AdminUnits[],3,FALSE)","v":"Nord"},{"$f":"VLOOKUP(Main3WData12[[#This Row],[Admin Unit Name]],AdminUnits[],4,FALSE)","v":8},{"$f":"VLOOKUP(Main3WData12[[#This Row],[Sector]],Sectors[],2,FALSE)","v":6}]
[null,"OMS",{"$f":"INDEX(Organizations[],MATCH(Main3WData12[[#This Row],[Acronym]],AcronymList,0),1)","v":"Organisation Mondiale de la Sante"},{"$f":"INDEX(Organizations[],MATCH(Main3WData12[[#This Row],[Acronym]],AcronymList,0),3)","v":"UN"},"Santé","Regulier","Kidal",{"$f":"VLOOKUP(Main3WData12[[#This Row],[Admin Unit Name]],AdminUnits[],2,FALSE)","v":"ML08"},{"$f":"VLOOKUP(Main3WData12[[#This Row],[Admin Unit Name]],AdminUnits[],3,FALSE)","v":"Nord"},{"$f":"VLOOKUP(Main3WData12[[#This Row],[Admin Unit Name]],AdminUnits[],4,FALSE)","v":8},{"$f":"VLOOKUP(Main3WData12[[#This Row],[Sector]],Sectors[],2,FALSE)","v":6}]
[null,"MDM Belgique",{"$f":"INDEX(Organizations[],MATCH(Main3WData12[[#This Row],[Acronym]],AcronymList,0),1)","v":"Médecins Du Monde Belgique"},{"$f":"INDEX(Organizations[],MATCH(Main3WData12[[#This Row],[Acronym]],AcronymList,0),3)","v":"ONG Int."},"Santé","Regulier","Kidal",{"$f":"VLOOKUP(Main3WData12[[#This Row],[Admin Unit Name]],AdminUnits[],2,FALSE)","v":"ML08"},{"$f":"VLOOKUP(Main3WData12[[#This Row],[Admin Unit Name]],AdminUnits[],3,FALSE)","v":"Nord"},{"$f":"VLOOKUP(Main3WData12[[#This Row],[Admin Unit Name]],AdminUnits[],4,FALSE)","v":8},{"$f":"VLOOKUP(Main3WData12[[#This Row],[Sector]],Sectors[],2,FALSE)","v":6}]
[null,"CICR",{"$f":"INDEX(Organizations[],MATCH(Main3WData12[[#This Row],[Acronym]],AcronymList,0),1)","v":"Comite international de la croix rouge"},{"$f":"INDEX(Organizations[],MATCH(Main3WData12[[#This Row],[Acronym]],AcronymList,0),3)","v":"ONG Int."},"Santé","Regulier","Kidal",{"$f":"VLOOKUP(Main3WData12[[#This Row],[Admin Unit Name]],AdminUnits[],2,FALSE)","v":"ML08"},{"$f":"VLOOKUP(Main3WData12[[#This Row],[Admin Unit Name]],AdminUnits[],3,FALSE)","v":"Nord"},{"$f":"VLOOKUP(Main3WData12[[#This Row],[Admin Unit Name]],AdminUnits[],4,FALSE)","v":8},{"$f":"VLOOKUP(Main3WData12[[#This Row],[Sector]],Sectors[],2,FALSE)","v":6}]
[null,"Santé Diabète",{"$f":"INDEX(Organizations[],MATCH(Main3WData12[[#This Row],[Acronym]],AcronymList,0),1)","v":"Santé Diabète"},{"$f":"INDEX(Organizations[],MATCH(Main3WData12[[#This Row],[Acronym]],AcronymList,0),3)","v":"ONG Nat."},"Santé","Regulier","Kidal",{"$f":"VLOOKUP(Main3WData12[[#This Row],[Admin Unit Name]],AdminUnits[],2,FALSE)","v":"ML08"},{"$f":"VLOOKUP(Main3WData12[[#This Row],[Admin Unit Name]],AdminUnits[],3,FALSE)","v":"Nord"},{"$f":"VLOOKUP(Main3WData12[[#This Row],[Admin Unit Name]],AdminUnits[],4,FALSE)","v":8},{"$f":"VLOOKUP(Main3WData12[[#This Row],[Sector]],Sectors[],2,FALSE)","v":6}]
[null,"FAO",{"$f":"INDEX(Organizations[],MATCH(Main3WData12[[#This Row],[Acronym]],AcronymList,0),1)","v":"United Nations Food and Agriculture Organization"},{"$f":"INDEX(Organizations[],MATCH(Main3WData12[[#This Row],[Acronym]],AcronymList,0),3)","v":"UN"},"Coordination","Regulier","Bamako",{"$f":"VLOOKUP(Main3WData12[[#This Row],[Admin Unit Name]],AdminUnits[],2,FALSE)","v":"ML09"},{"$f":"VLOOKUP(Main3WData12[[#This Row],[Admin Unit Name]],AdminUnits[],3,FALSE)","v":"Sud"},{"$f":"VLOOKUP(Main3WData12[[#This Row],[Admin Unit Name]],AdminUnits[],4,FALSE)","v":0},{"$f":"VLOOKUP(Main3WData12[[#This Row],[Sector]],Sectors[],2,FALSE)","v":2}]
[null,"UNICEF",{"$f":"INDEX(Organizations[],MATCH(Main3WData12[[#This Row],[Acronym]],AcronymList,0),1)","v":"Fonds des Nations Unies pour l'Enfance"},{"$f":"INDEX(Organizations[],MATCH(Main3WData12[[#This Row],[Acronym]],AcronymList,0),3)","v":"UN"},"Coordination","Regulier","Bamako",{"$f":"VLOOKUP(Main3WData12[[#This Row],[Admin Unit Name]],AdminUnits[],2,FALSE)","v":"ML09"},{"$f":"VLOOKUP(Main3WData12[[#This Row],[Admin Unit Name]],AdminUnits[],3,FALSE)","v":"Sud"},{"$f":"VLOOKUP(Main3WData12[[#This Row],[Admin Unit Name]],AdminUnits[],4,FALSE)","v":0},{"$f":"VLOOKUP(Main3WData12[[#This Row],[Sector]],Sectors[],2,FALSE)","v":2}]
[null,"UNHCR",{"$f":"INDEX(Organizations[],MATCH(Main3WData12[[#This Row],[Acronym]],AcronymList,0),1)","v":"Haut Commissariat des Nations Unies pour les réfugiés"},{"$f":"INDEX(Organizations[],MATCH(Main3WData12[[#This Row],[Acronym]],AcronymList,0),3)","v":"UN"},"Coordination","Regulier","Bamako",{"$f":"VLOOKUP(Main3WData12[[#This Row],[Admin Unit Name]],AdminUnits[],2,FALSE)","v":"ML09"},{"$f":"VLOOKUP(Main3WData12[[#This Row],[Admin Unit Name]],AdminUnits[],3,FALSE)","v":"Sud"},{"$f":"VLOOKUP(Main3WData12[[#This Row],[Admin Unit Name]],AdminUnits[],4,FALSE)","v":0},{"$f":"VLOOKUP(Main3WData12[[#This Row],[Sector]],Sectors[],2,FALSE)","v":2}]
[null,"OMS",{"$f":"INDEX(Organizations[],MATCH(Main3WData12[[#This Row],[Acronym]],AcronymList,0),1)","v":"Organisation Mondiale de la Sante"},{"$f":"INDEX(Organizations[],MATCH(Main3WData12[[#This Row],[Acronym]],AcronymList,0),3)","v":"UN"},"Coordination","Regulier","Bamako",{"$f":"VLOOKUP(Main3WData12[[#This Row],[Admin Unit Name]],AdminUnits[],2,FALSE)","v":"ML09"},{"$f":"VLOOKUP(Main3WData12[[#This Row],[Admin Unit Name]],AdminUnits[],3,FALSE)","v":"Sud"},{"$f":"VLOOKUP(Main3WData12[[#This Row],[Admin Unit Name]],AdminUnits[],4,FALSE)","v":0},{"$f":"VLOOKUP(Main3WData12[[#This Row],[Sector]],Sectors[],2,FALSE)","v":2}]
[null,"OIM",{"$f":"INDEX(Organizations[],MATCH(Main3WData12[[#This Row],[Acronym]],AcronymList,0),1)","v":"Organisation Internationale pour les Migrations"},{"$f":"INDEX(Organizations[],MATCH(Main3WData12[[#This Row],[Acronym]],AcronymList,0),3)","v":"Org Int."},"Coordination","Regulier","Bamako",{"$f":"VLOOKUP(Main3WData12[[#This Row],[Admin Unit Name]],AdminUnits[],2,FALSE)","v":"ML09"},{"$f":"VLOOKUP(Main3WData12[[#This Row],[Admin Unit Name]],AdminUnits[],3,FALSE)","v":"Sud"},{"$f":"VLOOKUP(Main3WData12[[#This Row],[Admin Unit Name]],AdminUnits[],4,FALSE)","v":0},{"$f":"VLOOKUP(Main3WData12[[#This Row],[Sector]],Sectors[],2,FALSE)","v":2}]
[null,"UNFPA",{"$f":"INDEX(Organizations[],MATCH(Main3WData12[[#This Row],[Acronym]],AcronymList,0),1)","v":"Fonds des Nations Unies pour la Population"},{"$f":"INDEX(Organizations[],MATCH(Main3WData12[[#This Row],[Acronym]],AcronymList,0),3)","v":"UN"},"Coordination","Regulier","Bamako",{"$f":"VLOOKUP(Main3WData12[[#This Row],[Admin Unit Name]],AdminUnits[],2,FALSE)","v":"ML09"},{"$f":"VLOOKUP(Main3WData12[[#This Row],[Admin Unit Name]],AdminUnits[],3,FALSE)","v":"Sud"},{"$f":"VLOOKUP(Main3WData12[[#This Row],[Admin Unit Name]],AdminUnits[],4,FALSE)","v":0},{"$f":"VLOOKUP(Main3WData12[[#This Row],[Sector]],Sectors[],2,FALSE)","v":2}]
[null,"PAM",{"$f":"INDEX(Organizations[],MATCH(Main3WData12[[#This Row],[Acronym]],AcronymList,0),1)","v":"Programme Alimentaire Mondial"},{"$f":"INDEX(Organizations[],MATCH(Main3WData12[[#This Row],[Acronym]],AcronymList,0),3)","v":"UN"},"Coordination","Regulier","Bamako",{"$f":"VLOOKUP(Main3WData12[[#This Row],[Admin Unit Name]],AdminUnits[],2,FALSE)","v":"ML09"},{"$f":"VLOOKUP(Main3WData12[[#This Row],[Admin Unit Name]],AdminUnits[],3,FALSE)","v":"Sud"},{"$f":"VLOOKUP(Main3WData12[[#This Row],[Admin Unit Name]],AdminUnits[],4,FALSE)","v":0},{"$f":"VLOOKUP(Main3WData12[[#This Row],[Sector]],Sectors[],2,FALSE)","v":2}]

{"sheet":"Data Juillet","index":1,"n_rows":351,"n_cols":11,"rows_kept":351,"cut":false,"hidden":true,"merged":[[0,1,0,6]]}
[null,"3W Data Entry"]
[null,null,"Add a new organisation"]
[]
[null,"Acronym","Organisation","Org Type","Sector","Activity Type","Admin Unit Name","Pcode","Autre","I. Admin","I. Sector"]
[null,"YA-G-TU",{"$f":"INDEX(Organizations[],MATCH(Main3WData13[[#This Row],[Acronym]],AcronymList,0),1)","v":"YA-G-TU"},{"$f":"INDEX(Organizations[],MATCH(Main3WData13[[#This Row],[Acronym]],AcronymList,0),3)","v":"ONG Nat."},"Nutrition","Regulier","Mopti",{"$f":"VLOOKUP(Main3WData13[[#This Row],[Admin Unit Name]],AdminUnits[],2,FALSE)","v":"ML05"},{"$f":"VLOOKUP(Main3WData13[[#This Row],[Admin Unit Name]],AdminUnits[],3,FALSE)","v":"Sud"},{"$f":"VLOOKUP(Main3WData13[[#This Row],[Admin Unit Name]],AdminUnits[],4,FALSE)","v":5},{"$f":"VLOOKUP(Main3WData13[[#This Row],[Sector]],Sectors[],2,FALSE)","v":4}]
[null,"World Vision",{"$f":"INDEX(Organizations[],MATCH(Main3WData13[[#This Row],[Acronym]],AcronymList,0),1)","v":"World Vision"},{"$f":"INDEX(Organizations[],MATCH(Main3WData13[[#This Row],[Acronym]],AcronymList,0),3)","v":"ONG Int."},"Nutrition","Urgence","Segou",{"$f":"VLOOKUP(Main3WData13[[#This Row],[Admin Unit Name]],AdminUnits[],2,FALSE)","v":"ML04"},{"$f":"VLOOKUP(Main3WData13[[#This Row],[Admin Unit Name]],AdminUnits[],3,FALSE)","v":"Sud"},{"$f":"VLOOKUP(Main3WData13[[#This Row],[Admin Unit Name]],AdminUnits[],4,FALSE)","v":4},{"$f":"VLOOKUP(Main3WData13[[#This Row],[Sector]],Sectors[],2,FALSE)","v":4}]
[null,"World Vision",{"$f":"INDEX(Organizations[],MATCH(Main3WData13[[#This Row],[Acronym]],AcronymList,0),1)","v":"World Vision"},{"$f":"INDEX(Organizations[],MATCH(Main3WData13[[#This Row],[Acronym]],AcronymList,0),3)","v":"ONG Int."},"EHA","Regulier","SEGOU",{"$f":"VLOOKUP(Main3WData13[[#This Row],[Admin Unit Name]],AdminUnits[],2,FALSE)","v":"ML04"},{"$f":"VLOOKUP(Main3WData13[[#This Row],[Admin Unit Name]],AdminUnits[],3,FALSE)","v":"Sud"},{"$f":"VLOOKUP(Main3WData13[[#This Row],[Admin Unit Name]],AdminUnits[],4,FALSE)","v":4},{"$f":"VLOOKUP(Main3WData13[[#This Row],[Sector]],Sectors[],2,FALSE)","v":8}]
[null,"World Vision",{"$f":"INDEX(Organizations[],MATCH(Main3WData13[[#This Row],[Acronym]],AcronymList,0),1)","v":"World Vision"},{"$f":"INDEX(Organizations[],MATCH(Main3WData13[[#This Row],[Acronym]],AcronymList,0),3)","v":"ONG Int."},"Santé","Regulier","Segou",{"$f":"VLOOKUP(Main3WData13[[#This Row],[Admin Unit Name]],AdminUnits[],2,FALSE)","v":"ML04"},{"$f":"VLOOKUP(Main3WData13[[#This Row],[Admin Unit Name]],AdminUnits[],3,FALSE)","v":"Sud"},{"$f":"VLOOKUP(Main3WData13[[#This Row],[Admin Unit Name]],AdminUnits[],4,FALSE)","v":4},{"$f":"VLOOKUP(Main3WData13[[#This Row],[Sector]],Sectors[],2,FALSE)","v":6}]
[null,"WHH",{"$f":"INDEX(Organizations[],MATCH(Main3WData13[[#This Row],[Acronym]],AcronymList,0),1)","v":{"$error":"#N/A"}},{"$f":"INDEX(Organizations[],MATCH(Main3WData13[[#This Row],[Acronym]],AcronymList,0),3)","v":{"$error":"#N/A"}},"Sécurité alimentaire","Regulier","Sikasso",{"$f":"VLOOKUP(Main3WData13[[#This Row],[Admin Unit Name]],AdminUnits[],2,FALSE)","v":"ML03"},{"$f":"VLOOKUP(Main3WData13[[#This Row],[Admin Unit Name]],AdminUnits[],3,FALSE)","v":"Sud"},{"$f":"VLOOKUP(Main3WData13[[#This Row],[Admin Unit Name]],AdminUnits[],4,FALSE)","v":3},{"$f":"VLOOKUP(Main3WData13[[#This Row],[Sector]],Sectors[],2,FALSE)","v":7}]
[null,"WHH",{"$f":"INDEX(Organizations[],MATCH(Main3WData13[[#This Row],[Acronym]],AcronymList,0),1)","v":{"$error":"#N/A"}},{"$f":"INDEX(Organizations[],MATCH(Main3WData13[[#This Row],[Acronym]],AcronymList,0),3)","v":{"$error":"#N/A"}},"Sécurité alimentaire","Regulier","Kayes",{"$f":"VLOOKUP(Main3WData13[[#This Row],[Admin Unit Name]],AdminUnits[],2,FALSE)","v":"ML01"},{"$f":"VLOOKUP(Main3WData13[[#This Row],[Admin Unit Name]],AdminUnits[],3,FALSE)","v":"Sud"},{"$f":"VLOOKUP(Main3WData13[[#This Row],[Admin Unit Name]],AdminUnits[],4,FALSE)","v":1},{"$f":"VLOOKUP(Main3WData13[[#This Row],[Sector]],Sectors[],2,FALSE)","v":7}]
[null,"WHH",{"$f":"INDEX(Organizations[],MATCH(Main3WData13[[#This Row],[Acronym]],AcronymList,0),1)","v":{"$error":"#N/A"}},{"$f":"INDEX(Organizations[],MATCH(Main3WData13[[#This Row],[Acronym]],AcronymList,0),3)","v":{"$error":"#N/A"}},"Sécurité alimentaire","Regulier","Koulikoro",{"$f":"VLOOKUP(Main3WData13[[#This Row],[Admin Unit Name]],AdminUnits[],2,FALSE)","v":"ML02"},{"$f":"VLOOKUP(Main3WData13[[#This Row],[Admin Unit Name]],AdminUnits[],3,FALSE)","v":"Sud"},{"$f":"VLOOKUP(Main3WData13[[#This Row],[Admin Unit Name]],AdminUnits[],4,FALSE)","v":2},{"$f":"VLOOKUP(Main3WData13[[#This Row],[Sector]],Sectors[],2,FALSE)","v":7}]
[null,"WHH",{"$f":"INDEX(Organizations[],MATCH(Main3WData13[[#This Row],[Acronym]],AcronymList,0),1)","v":{"$error":"#N/A"}},{"$f":"INDEX(Organizations[],MATCH(Main3WData13[[#This Row],[Acronym]],AcronymList,0),3)","v":{"$error":"#N/A"}},"Sécurité alimentaire","Regulier","Mopti",{"$f":"VLOOKUP(Main3WData13[[#This Row],[Admin Unit Name]],AdminUnits[],2,FALSE)","v":"ML05"},{"$f":"VLOOKUP(Main3WData13[[#This Row],[Admin Unit Name]],AdminUnits[],3,FALSE)","v":"Sud"},{"$f":"VLOOKUP(Main3WData13[[#This Row],[Admin Unit Name]],AdminUnits[],4,FALSE)","v":5},{"$f":"VLOOKUP(Main3WData13[[#This Row],[Sector]],Sectors[],2,FALSE)","v":7}]
[null,"WaterAid",{"$f":"INDEX(Organizations[],MATCH(Main3WData13[[#This Row],[Acronym]],AcronymList,0),1)","v":"WaterAid Mali"},{"$f":"INDEX(Organizations[],MATCH(Main3WData13[[#This Row],[Acronym]],AcronymList,0),3)","v":"UN"},"EHA","Regulier","GAO",{"$f":"VLOOKUP(Main3WData13[[#This Row],[Admin Unit Name]],AdminUnits[],2,FALSE)","v":"ML07"},{"$f":"VLOOKUP(Main3WData13[[#This Row],[Admin Unit Name]],AdminUnits[],3,FALSE)","v":"Nord"},{"$f":"VLOOKUP(Main3WData13[[#This Row],[Admin Unit Name]],AdminUnits[],4,FALSE)","v":7},{"$f":"VLOOKUP(Main3WData13[[#This Row],[Sector]],Sectors[],2,FALSE)","v":8}]
[null,"WaterAid",{"$f":"INDEX(Organizations[],MATCH(Main3WData13[[#This Row],[Acronym]],AcronymList,0),1)","v":"WaterAid Mali"},{"$f":"INDEX(Organizations[],MATCH(Main3WData13[[#This Row],[Acronym]],AcronymList,0),3)","v":"UN"},"EHA","Regulier","KOULIKORO",{"$f":"VLOOKUP(Main3WData13[[#This Row],[Admin Unit Name]],AdminUnits[],2,FALSE)","v":"ML02"},{"$f":"VLOOKUP(Main3WData13[[#This Row],[Admin Unit Name]],AdminUnits[],3,FALSE)","v":"Sud"},{"$f":"VLOOKUP(Main3WData13[[#This Row],[Admin Unit Name]],AdminUnits[],4,FALSE)","v":2},{"$f":"VLOOKUP(Main3WData13[[#This Row],[Sector]],Sectors[],2,FALSE)","v":8}]
[null,"WaterAid",{"$f":"INDEX(Organizations[],MATCH(Main3WData13[[#This Row],[Acronym]],AcronymList,0),1)","v":"WaterAid Mali"},{"$f":"INDEX(Organizations[],MATCH(Main3WData13[[#This Row],[Acronym]],AcronymList,0),3)","v":"UN"},"EHA","Regulier","MOPTI",{"$f":"VLOOKUP(Main3WData13[[#This Row],[Admin Unit Name]],AdminUnits[],2,FALSE)","v":"ML05"},{"$f":"VLOOKUP(Main3WData13[[#This Row],[Admin Unit Name]],AdminUnits[],3,FALSE)","v":"Sud"},{"$f":"VLOOKUP(Main3WData13[[#This Row],[Admin Unit Name]],AdminUnits[],4,FALSE)","v":5},{"$f":"VLOOKUP(Main3WData13[[#This Row],[Sector]],Sectors[],2,FALSE)","v":8}]
[null,"WaterAid",{"$f":"INDEX(Organizations[],MATCH(Main3WData13[[#This Row],[Acronym]],AcronymList,0),1)","v":"WaterAid Mali"},{"$f":"INDEX(Organizations[],MATCH(Main3WData13[[#This Row],[Acronym]],AcronymList,0),3)","v":"UN"},"EHA","Regulier","SEGOU",{"$f":"VLOOKUP(Main3WData13[[#This Row],[Admin Unit Name]],AdminUnits[],2,FALSE)","v":"ML04"},{"$f":"VLOOKUP(Main3WData13[[#This Row],[Admin Unit Name]],AdminUnits[],3,FALSE)","v":"Sud"},{"$f":"VLOOKUP(Main3WData13[[#This Row],[Admin Unit Name]],AdminUnits[],4,FALSE)","v":4},{"$f":"VLOOKUP(Main3WData13[[#This Row],[Sector]],Sectors[],2,FALSE)","v":8}]
[null,"WaterAid",{"$f":"INDEX(Organizations[],MATCH(Main3WData13[[#This Row],[Acronym]],AcronymList,0),1)","v":"WaterAid Mali"},{"$f":"INDEX(Organizations[],MATCH(Main3WData13[[#This Row],[Acronym]],AcronymList,0),3)","v":"UN"},"EHA","Regulier","TOMBOUCTOU",{"$f":"VLOOKUP(Main3WData13[[#This Row],[Admin Unit Name]],AdminUnits[],2,FALSE)","v":"ML06"},{"$f":"VLOOKUP(Main3WData13[[#This Row],[Admin Unit Name]],AdminUnits[],3,FALSE)","v":"Nord"},{"$f":"VLOOKUP(Main3WData13[[#This Row],[Admin Unit Name]],AdminUnits[],4,FALSE)","v":6},{"$f":"VLOOKUP(Main3WData13[[#This Row],[Sector]],Sectors[],2,FALSE)","v":8}]
[null,"WaterAid",{"$f":"INDEX(Organizations[],MATCH(Main3WData13[[#This Row],[Acronym]],AcronymList,0),1)","v":"WaterAid Mali"},{"$f":"INDEX(Organizations[],MATCH(Main3WData13[[#This Row],[Acronym]],AcronymList,0),3)","v":"UN"},"EHA","Regulier","BAMAKO",{"$f":"VLOOKUP(Main3WData13[[#This Row],[Admin Unit Name]],AdminUnits[],2,FALSE)","v":"ML09"},{"$f":"VLOOKUP(Main3WData13[[#This Row],[Admin Unit Name]],AdminUnits[],3,FALSE)","v":"Sud"},{"$f":"VLOOKUP(Main3WData13[[#This Row],[Admin Unit Name]],AdminUnits[],4,FALSE)","v":0},{"$f":"VLOOKUP(Main3WData13[[#This Row],[Sector]],Sectors[],2,FALSE)","v":8}]
[null,"Village du Millénaire",{"$f":"INDEX(Organizations[],MATCH(Main3WData13[[#This Row],[Acronym]],AcronymList,0),1)","v":"Village du Millénaire"},{"$f":"INDEX(Organizations[],MATCH(Main3WData13[[#This Row],[Acronym]],AcronymList,0),3)","v":"ONG Nat."},"Nutrition","Regulier","Segou",{"$f":"VLOOKUP(Main3WData13[[#This Row],[Admin Unit Name]],AdminUnits[],2,FALSE)","v":"ML04"},{"$f":"VLOOKUP(Main3WData13[[#This Row],[Admin Unit Name]],AdminUnits[],3,FALSE)","v":"Sud"},{"$f":"VLOOKUP(Main3WData13[[#This Row],[Admin Unit Name]],AdminUnits[],4,FALSE)","v":4},{"$f":"VLOOKUP(Main3WData13[[#This Row],[Sector]],Sectors[],2,FALSE)","v":4}]
[null,"VESOS",{"$f":"INDEX(Organizations[],MATCH(Main3WData13[[#This Row],[Acronym]],AcronymList,0),1)","v":{"$error":"#N/A"}},{"$f":"INDEX(Organizations[],MATCH(Main3WData13[[#This Row],[Acronym]],AcronymList,0),3)","v":{"$error":"#N/A"}},"Protection","Regulier","Mopti",{"$f":"VLOOKUP(Main3WData13[[#This Row],[Admin Unit Name]],AdminUnits[],2,FALSE)","v":"ML05"},{"$f":"VLOOKUP(Main3WData13[[#This Row],[Admin Unit Name]],AdminUnits[],3,FALSE)","v":"Sud"},{"$f":"VLOOKUP(Main3WData13[[#This Row],[Admin Unit Name]],AdminUnits[],4,FALSE)","v":5},{"$f":"VLOOKUP(Main3WData13[[#This Row],[Sector]],Sectors[],2,FALSE)","v":5}]
[null,"VESOS",{"$f":"INDEX(Organizations[],MATCH(Main3WData13[[#This Row],[Acronym]],AcronymList,0),1)","v":{"$error":"#N/A"}},{"$f":"INDEX(Organizations[],MATCH(Main3WData13[[#This Row],[Acronym]],AcronymList,0),3)","v":{"$error":"#N/A"}},"Protection","Regulier","Kayes",{"$f":"VLOOKUP(Main3WData13[[#This Row],[Admin Unit Name]],AdminUnits[],2,FALSE)","v":"ML01"},{"$f":"VLOOKUP(Main3WData13[[#This Row],[Admin Unit Name]],AdminUnits[],3,FALSE)","v":"Sud"},{"$f":"VLOOKUP(Main3WData13[[#This Row],[Admin Unit Name]],AdminUnits[],4,FALSE)","v":1},{"$f":"VLOOKUP(Main3WData13[[#This Row],[Sector]],Sectors[],2,FALSE)","v":5}]
[null,"VESOS",{"$f":"INDEX(Organizations[],MATCH(Main3WData13[[#This Row],[Acronym]],AcronymList,0),1)","v":{"$error":"#N/A"}},{"$f":"INDEX(Organizations[],MATCH(Main3WData13[[#This Row],[Acronym]],AcronymList,0),3)","v":{"$error":"#N/A"}},"Protection","Regulier","Koulikoro",{"$f":"VLOOKUP(Main3WData13[[#This Row],[Admin Unit Name]],AdminUnits[],2,FALSE)","v":"ML02"},{"$f":"VLOOKUP(Main3WData13[[#This Row],[Admin Unit Name]],AdminUnits[],3,FALSE)","v":"Sud"},{"$f":"VLOOKUP(Main3WData13[[#This Row],[Admin Unit Name]],AdminUnits[],4,FALSE)","v":2},{"$f":"VLOOKUP(Main3WData13[[#This Row],[Sector]],Sectors[],2,FALSE)","v":5}]
[null,"VESOS",{"$f":"INDEX(Organizations[],MATCH(Main3WData13[[#This Row],[Acronym]],AcronymList,0),1)","v":{"$error":"#N/A"}},{"$f":"INDEX(Organizations[],MATCH(Main3WData13[[#This Row],[Acronym]],AcronymList,0),3)","v":{"$error":"#N/A"}},"Protection","Regulier","Bamako",{"$f":"VLOOKUP(Main3WData13[[#This Row],[Admin Unit Name]],AdminUnits[],2,FALSE)","v":"ML09"},{"$f":"VLOOKUP(Main3WData13[[#This Row],[Admin Unit Name]],AdminUnits[],3,FALSE)","v":"Sud"},{"$f":"VLOOKUP(Main3WData13[[#This Row],[Admin Unit Name]],AdminUnits[],4,FALSE)","v":0},{"$f":"VLOOKUP(Main3WData13[[#This Row],[Sector]],Sectors[],2,FALSE)","v":5}]
[null,"UNMAS",{"$f":"INDEX(Organizations[],MATCH(Main3WData13[[#This Row],[Acronym]],AcronymList,0),1)","v":"UNMAS"},{"$f":"INDEX(Organizations[],MATCH(Main3WData13[[#This Row],[Acronym]],AcronymList,0),3)","v":"UN"},"Protection","Regulier","Tombouctou",{"$f":"VLOOKUP(Main3WData13[[#This Row],[Admin Unit Name]],AdminUnits[],2,FALSE)","v":"ML06"},{"$f":"VLOOKUP(Main3WData13[[#This Row],[Admin Unit Name]],AdminUnits[],3,FALSE)","v":"Nord"},{"$f":"VLOOKUP(Main3WData13[[#This Row],[Admin Unit Name]],AdminUnits[],4,FALSE)","v":6},{"$f":"VLOOKUP(Main3WData13[[#This Row],[Sector]],Sectors[],2,FALSE)","v":5}]
[null,"UNMAS",{"$f":"INDEX(Organizations[],MATCH(Main3WData13[[#This Row],[Acronym]],AcronymList,0),1)","v":"UNMAS"},{"$f":"INDEX(Organizations[],MATCH(Main3WData13[[#This Row],[Acronym]],AcronymList,0),3)","v":"UN"},"Protection","Regulier","Gao",{"$f":"VLOOKUP(Main3WData13[[#This Row],[Admin Unit Name]],AdminUnits[],2,FALSE)","v":"ML07"},{"$f":"VLOOKUP(Main3WData13[[#This Row],[Admin Unit Name]],AdminUnits[],3,FALSE)","v":"Nord"},{"$f":"VLOOKUP(Main3WData13[[#This Row],[Admin Unit Name]],AdminUnits[],4,FALSE)","v":7},{"$f":"VLOOKUP(Main3WData13[[#This Row],[Sector]],Sectors[],2,FALSE)","v":5}]
[null,"UNMAS",{"$f":"INDEX(Organizations[],MATCH(Main3WData13[[#This Row],[Acronym]],AcronymList,0),1)","v":"UNMAS"},{"$f":"INDEX(Organizations[],MATCH(Main3WData13[[#This Row],[Acronym]],AcronymList,0),3)","v":"UN"},"Protection","Regulier","Mopti",{"$f":"VLOOKUP(Main3WData13[[#This Row],[Admin Unit Name]],AdminUnits[],2,FALSE)","v":"ML05"},{"$f":"VLOOKUP(Main3WData13[[#This Row],[Admin Unit Name]],AdminUnits[],3,FALSE)","v":"Sud"},{"$f":"VLOOKUP(Main3WData13[[#This Row],[Admin Unit Name]],AdminUnits[],4,FALSE)","v":5},{"$f":"VLOOKUP(Main3WData13[[#This Row],[Sector]],Sectors[],2,FALSE)","v":5}]
[null,"UNICEF",{"$f":"INDEX(Organizations[],MATCH(Main3WData13[[#This Row],[Acronym]],AcronymList,0),1)","v":"Fonds des Nations Unies pour l'Enfance"},{"$f":"INDEX(Organizations[],MATCH(Main3WData13[[#This Row],[Acronym]],AcronymList,0),3)","v":"UN"},"Education","Regulier","Tombouctou",{"$f":"VLOOKUP(Main3WData13[[#This Row],[Admin Unit Name]],AdminUnits[],2,FALSE)","v":"ML06"},{"$f":"VLOOKUP(Main3WData13[[#This Row],[Admin Unit Name]],AdminUnits[],3,FALSE)","v":"Nord"},{"$f":"VLOOKUP(Main3WData13[[#This Row],[Admin Unit Name]],AdminUnits[],4,FALSE)","v":6},{"$f":"VLOOKUP(Main3WData13[[#This Row],[Sector]],Sectors[],2,FALSE)","v":3}]
[null,"UNICEF",{"$f":"INDEX(Organizations[],MATCH(Main3WData13[[#This Row],[Acronym]],AcronymList,0),1)","v":"Fonds des Nations Unies pour l'Enfance"},{"$f":"INDEX(Organizations[],MATCH(Main3WData13[[#This Row],[Acronym]],AcronymList,0),3)","v":"UN"},"Education","Regulier","Koulikoro",{"$f":"VLOOKUP(Main3WData13[[#This Row],[Admin Unit Name]],AdminUnits[],2,FALSE)","v":"ML02"},{"$f":"VLOOKUP(Main3WData13[[#This Row],[Admin Unit Name]],AdminUnits[],3,FALSE)","v":"Sud"},{"$f":"VLOOKUP(Main3WData13[[#This Row],[Admin Unit Name]],AdminUnits[],4,FALSE)","v":2},{"$f":"VLOOKUP(Main3WData13[[#This Row],[Sector]],Sectors[],2,FALSE)","v":3}]
[null,"UNICEF",{"$f":"INDEX(Organizations[],MATCH(Main3WData13[[#This Row],[Acronym]],AcronymList,0),1)","v":"Fonds des Nations Unies pour l'Enfance"},{"$f":"INDEX(Organizations[],MATCH(Main3WData13[[#This Row],[Acronym]],AcronymList,0),3)","v":"UN"},"Education","Regulier","Mopti",{"$f":"VLOOKUP(Main3WData13[[#This Row],[Admin Unit Name]],AdminUnits[],2,FALSE)","v":"ML05"},{"$f":"VLOOKUP(Main3WData13[[#This Row],[Admin Unit Name]],AdminUnits[],3,FALSE)","v":"Sud"},{"$f":"VLOOKUP(Main3WData13[[#This Row],[Admin Unit Name]],AdminUnits[],4,FALSE)","v":5},{"$f":"VLOOKUP(Main3WData13[[#This Row],[Sector]],Sectors[],2,FALSE)","v":3}]
[null,"UNICEF",{"$f":"INDEX(Organizations[],MATCH(Main3WData13[[#This Row],[Acronym]],AcronymList,0),1)","v":"Fonds des Nations Unies pour l'Enfance"},{"$f":"INDEX(Organizations[],MATCH(Main3WData13[[#This Row],[Acronym]],AcronymList,0),3)","v":"UN"},"Education","Regulier","Gao",{"$f":"VLOOKUP(Main3WData13[[#This Row],[Admin Unit Name]],AdminUnits[],2,FALSE)","v":"ML07"},{"$f":"VLOOKUP(Main3WData13[[#This Row],[Admin Unit Name]],AdminUnits[],3,FALSE)","v":"Nord"},{"$f":"VLOOKUP(Main3WData13[[#This Row],[Admin Unit Name]],AdminUnits[],4,FALSE)","v":7},{"$f":"VLOOKUP(Main3WData13[[#This Row],[Sector]],Sectors[],2,FALSE)","v":3}]
[null,"UNICEF",{"$f":"INDEX(Organizations[],MATCH(Main3WData13[[#This Row],[Acronym]],AcronymList,0),1)","v":"Fonds des Nations Unies pour l'Enfance"},{"$f":"INDEX(Organizations[],MATCH(Main3WData13[[#This Row],[Acronym]],AcronymList,0),3)","v":"UN"},"Education","Regulier","Segou",{"$f":"VLOOKUP(Main3WData13[[#This Row],[Admin Unit Name]],AdminUnits[],2,FALSE)","v":"ML04"},{"$f":"VLOOKUP(Main3WData13[[#This Row],[Admin Unit Name]],AdminUnits[],3,FALSE)","v":"Sud"},{"$f":"VLOOKUP(Main3WData13[[#This Row],[Admin Unit Name]],AdminUnits[],4,FALSE)","v":4},{"$f":"VLOOKUP(Main3WData13[[#This Row],[Sector]],Sectors[],2,FALSE)","v":3}]
[null,"UNICEF",{"$f":"INDEX(Organizations[],MATCH(Main3WData13[[#This Row],[Acronym]],AcronymList,0),1)","v":"Fonds des Nations Unies pour l'Enfance"},{"$f":"INDEX(Organizations[],MATCH(Main3WData13[[#This Row],[Acronym]],AcronymList,0),3)","v":"UN"},"Education","Regulier","Kayes",{"$f":"VLOOKUP(Main3WData13[[#This Row],[Admin Unit Name]],AdminUnits[],2,FALSE)","v":"ML01"},{"$f":"VLOOKUP(Main3WData13[[#This Row],[Admin Unit Name]],AdminUnits[],3,FALSE)","v":"Sud"},{"$f":"VLOOKUP(Main3WData13[[#This Row],[Admin Unit Name]],AdminUnits[],4,FALSE)","v":1},{"$f":"VLOOKUP(Main3WData13[[#This Row],[Sector]],Sectors[],2,FALSE)","v":3}]
[null,"UNICEF",{"$f":"INDEX(Organizations[],MATCH(Main3WData13[[#This Row],[Acronym]],AcronymList,0),1)","v":"Fonds des Nations Unies pour l'Enfance"},{"$f":"INDEX(Organizations[],MATCH(Main3WData13[[#This Row],[Acronym]],AcronymList,0),3)","v":"UN"},"Protection","Regulier","Segou",{"$f":"VLOOKUP(Main3WData13[[#This Row],[Admin Unit Name]],AdminUnits[],2,FALSE)","v":"ML04"},{"$f":"VLOOKUP(Main3WData13[[#This Row],[Admin Unit Name]],AdminUnits[],3,FALSE)","v":"Sud"},{"$f":"VLOOKUP(Main3WData13[[#This Row],[Admin Unit Name]],AdminUnits[],4,FALSE)","v":4},{"$f":"VLOOKUP(Main3WData13[[#This Row],[Sector]],Sectors[],2,FALSE)","v":5}]
[null,"UNICEF",{"$f":"INDEX(Organizations[],MATCH(Main3WData13[[#This Row],[Acronym]],AcronymList,0),1)","v":"Fonds des Nations Unies pour l'Enfance"},{"$f":"INDEX(Organizations[],MATCH(Main3WData13[[#This Row],[Acronym]],AcronymList,0),3)","v":"UN"},"Protection","Regulier","Mopti",{"$f":"VLOOKUP(Main3WData13[[#This Row],[Admin Unit Name]],AdminUnits[],2,FALSE)","v":"ML05"},{"$f":"VLOOKUP(Main3WData13[[#This Row],[Admin Unit Name]],AdminUnits[],3,FALSE)","v":"Sud"},{"$f":"VLOOKUP(Main3WData13[[#This Row],[Admin Unit Name]],AdminUnits[],4,FALSE)","v":5},{"$f":"VLOOKUP(Main3WData13[[#This Row],[Sector]],Sectors[],2,FALSE)","v":5}]
[null,"UNICEF",{"$f":"INDEX(Organizations[],MATCH(Main3WData13[[#This Row],[Acronym]],AcronymList,0),1)","v":"Fonds des Nations Unies pour l'Enfance"},{"$f":"INDEX(Organizations[],MATCH(Main3WData13[[#This Row],[Acronym]],AcronymList,0),3)","v":"UN"},"Education","Regulier","Bamako",{"$f":"VLOOKUP(Main3WData13[[#This Row],[Admin Unit Name]],AdminUnits[],2,FALSE)","v":"ML09"},{"$f":"VLOOKUP(Main3WData13[[#This Row],[Admin Unit Name]],AdminUnits[],3,FALSE)","v":"Sud"},{"$f":"VLOOKUP(Main3WData13[[#This Row],[Admin Unit Name]],AdminUnits[],4,FALSE)","v":0},{"$f":"VLOOKUP(Main3WData13[[#This Row],[Sector]],Sectors[],2,FALSE)","v":3}]
[null,"UNICEF",{"$f":"INDEX(Organizations[],MATCH(Main3WData13[[#This Row],[Acronym]],AcronymList,0),1)","v":"Fonds des Nations Unies pour l'Enfance"},{"$f":"INDEX(Organizations[],MATCH(Main3WData13[[#This Row],[Acronym]],AcronymList,0),3)","v":"UN"},"Coordination","Regulier","Bamako",{"$f":"VLOOKUP(Main3WData13[[#This Row],[Admin Unit Name]],AdminUnits[],2,FALSE)","v":"ML09"},{"$f":"VLOOKUP(Main3WData13[[#This Row],[Admin Unit Name]],AdminUnits[],3,FALSE)","v":"Sud"},{"$f":"VLOOKUP(Main3WData13[[#This Row],[Admin Unit Name]],AdminUnits[],4,FALSE)","v":0},{"$f":"VLOOKUP(Main3WData13[[#This Row],[Sector]],Sectors[],2,FALSE)","v":2}]
[null,"UNHCR",{"$f":"INDEX(Organizations[],MATCH(Main3WData13[[#This Row],[Acronym]],AcronymList,0),1)","v":"Haut Commissariat des Nations Unies pour les réfugiés"},{"$f":"INDEX(Organizations[],MATCH(Main3WData13[[#This Row],[Acronym]],AcronymList,0),3)","v":"UN"},"Protection","Regulier","Mopti",{"$f":"VLOOKUP(Main3WData13[[#This Row],[Admin Unit Name]],AdminUnits[],2,FALSE)","v":"ML05"},{"$f":"VLOOKUP(Main3WData13[[#This Row],[Admin Unit Name]],AdminUnits[],3,FALSE)","v":"Sud"},{"$f":"VLOOKUP(Main3WData13[[#This Row],[Admin Unit Name]],AdminUnits[],4,FALSE)","v":5},{"$f":"VLOOKUP(Main3WData13[[#This Row],[Sector]],Sectors[],2,FALSE)","v":5}]
[null,"UNHCR",{"$f":"INDEX(Organizations[],MATCH(Main3WData13[[#This Row],[Acronym]],AcronymList,0),1)","v":"Haut Commissariat des Nations Unies pour les réfugiés"},{"$f":"INDEX(Organizations[],MATCH(Main3WData13[[#This Row],[Acronym]],AcronymList,0),3)","v":"UN"},"Protection","Regulier","Kidal",{"$f":"VLOOKUP(Main3WData13[[#This Row],[Admin Unit Name]],AdminUnits[],2,FALSE)","v":"ML08"},{"$f":"VLOOKUP(Main3WData13[[#This Row],[Admin Unit Name]],AdminUnits[],3,FALSE)","v":"Nord"},{"$f":"VLOOKUP(Main3WData13[[#This Row],[Admin Unit Name]],AdminUnits[],4,FALSE)","v":8},{"$f":"VLOOKUP(Main3WData13[[#This Row],[Sector]],Sectors[],2,FALSE)","v":5}]
[null,"UNHCR",{"$f":"INDEX(Organizations[],MATCH(Main3WData13[[#This Row],[Acronym]],AcronymList,0),1)","v":"Haut Commissariat des Nations Unies pour les réfugiés"},{"$f":"INDEX(Organizations[],MATCH(Main3WData13[[#This Row],[Acronym]],AcronymList,0),3)","v":"UN"},"Protection","Regulier","Tombouctou",{"$f":"VLOOKUP(Main3WData13[[#This Row],[Admin Unit Name]],AdminUnits[],2,FALSE)","v":"ML06"},{"$f":"VLOOKUP(Main3WData13[[#This Row],[Admin Unit Name]],AdminUnits[],3,FALSE)","v":"Nord"},{"$f":"VLOOKUP(Main3WData13[[#This Row],[Admin Unit Name]],AdminUnits[],4,FALSE)","v":6},{"$f":"VLOOKUP(Main3WData13[[#This Row],[Sector]],Sectors[],2,FALSE)","v":5}]
[null,"UNHCR",{"$f":"INDEX(Organizations[],MATCH(Main3WData13[[#This Row],[Acronym]],AcronymList,0),1)","v":"Haut Commissariat des Nations Unies pour les réfugiés"},{"$f":"INDEX(Organizations[],MATCH(Main3WData13[[#This Row],[Acronym]],AcronymList,0),3)","v":"UN"},"Protection","Regulier","Gao",{"$f":"VLOOKUP(Main3WData13[[#This Row],[Admin Unit Name]],AdminUnits[],2,FALSE)","v":"ML07"},{"$f":"VLOOKUP(Main3WData13[[#This Row],[Admin Unit Name]],AdminUnits[],3,FALSE)","v":"Nord"},{"$f":"VLOOKUP(Main3WData13[[#This Row],[Admin Unit Name]],AdminUnits[],4,FALSE)","v":7},{"$f":"VLOOKUP(Main3WData13[[#This Row],[Sector]],Sectors[],2,FALSE)","v":5}]
[null,"UNHCR",{"$f":"INDEX(Organizations[],MATCH(Main3WData13[[#This Row],[Acronym]],AcronymList,0),1)","v":"Haut Commissariat des Nations Unies pour les réfugiés"},{"$f":"INDEX(Organizations[],MATCH(Main3WData13[[#This Row],[Acronym]],AcronymList,0),3)","v":"UN"},"Protection","Regulier","Segou",{"$f":"VLOOKUP(Main3WData13[[#This Row],[Admin Unit Name]],AdminUnits[],2,FALSE)","v":"ML04"},{"$f":"VLOOKUP(Main3WData13[[#This Row],[Admin Unit Name]],AdminUnits[],3,FALSE)","v":"Sud"},{"$f":"VLOOKUP(Main3WData13[[#This Row],[Admin Unit Name]],AdminUnits[],4,FALSE)","v":4},{"$f":"VLOOKUP(Main3WData13[[#This Row],[Sector]],Sectors[],2,FALSE)","v":5}]
[null,"UNHCR",{"$f":"INDEX(Organizations[],MATCH(Main3WData13[[#This Row],[Acronym]],AcronymList,0),1)","v":"Haut Commissariat des Nations Unies pour les réfugiés"},{"$f":"INDEX(Organizations[],MATCH(Main3WData13[[#This Row],[Acronym]],AcronymList,0),3)","v":"UN"},"Abris et NFI","Regulier","Mopti",{"$f":"VLOOKUP(Main3WData13[[#This Row],[Admin Unit Name]],AdminUnits[],2,FALSE)","v":"ML05"},{"$f":"VLOOKUP(Main3WData13[[#This Row],[Admin Unit Name]],AdminUnits[],3,FALSE)","v":"Sud"},{"$f":"VLOOKUP(Main3WData13[[#This Row],[Admin Unit Name]],AdminUnits[],4,FALSE)","v":5},{"$f":"VLOOKUP(Main3WData13[[#This Row],[Sector]],Sectors[],2,FALSE)","v":1}]
[null,"UNHCR",{"$f":"INDEX(Organizations[],MATCH(Main3WData13[[#This Row],[Acronym]],AcronymList,0),1)","v":"Haut Commissariat des Nations Unies pour les réfugiés"},{"$f":"INDEX(Organizations[],MATCH(Main3WData13[[#This Row],[Acronym]],AcronymList,0),3)","v":"UN"},"Abris et NFI","Regulier","Segou",{"$f":"VLOOKUP(Main3WData13[[#This Row],[Admin Unit Name]],AdminUnits[],2,FALSE)","v":"ML04"},{"$f":"VLOOKUP(Main3WData13[[#This Row],[Admin Unit Name]],AdminUnits[],3,FALSE)","v":"Sud"},{"$f":"VLOOKUP(Main3WData13[[#This Row],[Admin Unit Name]],AdminUnits[],4,FALSE)","v":4},{"$f":"VLOOKUP(Main3WData13[[#This Row],[Sector]],Sectors[],2,FALSE)","v":1}]
[null,"UNHCR",{"$f":"INDEX(Organizations[],MATCH(Main3WData13[[#This Row],[Acronym]],AcronymList,0),1)","v":"Haut Commissariat des Nations Unies pour les réfugiés"},{"$f":"INDEX(Organizations[],MATCH(Main3WData13[[#This Row],[Acronym]],AcronymList,0),3)","v":"UN"},"Protection","Regulier","Bamako",{"$f":"VLOOKUP(Main3WData13[[#This Row],[Admin Unit Name]],AdminUnits[],2,FALSE)","v":"ML09"},{"$f":"VLOOKUP(Main3WData13[[#This Row],[Admin Unit Name]],AdminUnits[],3,FALSE)","v":"Sud"},{"$f":"VLOOKUP(Main3WData13[[#This Row],[Admin Unit Name]],AdminUnits[],4,FALSE)","v":0},{"$f":"VLOOKUP(Main3WData13[[#This Row],[Sector]],Sectors[],2,FALSE)","v":5}]
[null,"UNHCR",{"$f":"INDEX(Organizations[],MATCH(Main3WData13[[#This Row],[Acronym]],AcronymList,0),1)","v":"Haut Commissariat des Nations Unies pour les réfugiés"},{"$f":"INDEX(Organizations[],MATCH(Main3WData13[[#This Row],[Acronym]],AcronymList,0),3)","v":"UN"},"Abris et NFI","Regulier","Bamako",{"$f":"VLOOKUP(Main3WData13[[#This Row],[Admin Unit Name]],AdminUnits[],2,FALSE)","v":"ML09"},{"$f":"VLOOKUP(Main3WData13[[#This Row],[Admin Unit Name]],AdminUnits[],3,FALSE)","v":"Sud"},{"$f":"VLOOKUP(Main3WData13[[#This Row],[Admin Unit Name]],AdminUnits[],4,FALSE)","v":0},{"$f":"VLOOKUP(Main3WData13[[#This Row],[Sector]],Sectors[],2,FALSE)","v":1}]
[null,"UNHCR",{"$f":"INDEX(Organizations[],MATCH(Main3WData13[[#This Row],[Acronym]],AcronymList,0),1)","v":"Haut Commissariat des Nations Unies pour les réfugiés"},{"$f":"INDEX(Organizations[],MATCH(Main3WData13[[#This Row],[Acronym]],AcronymList,0),3)","v":"UN"},"Coordination","Regulier","Bamako",{"$f":"VLOOKUP(Main3WData13[[#This Row],[Admin Unit Name]],AdminUnits[],2,FALSE)","v":"ML09"},{"$f":"VLOOKUP(Main3WData13[[#This Row],[Admin Unit Name]],AdminUnits[],3,FALSE)","v":"Sud"},{"$f":"VLOOKUP(Main3WData13[[#This Row],[Admin Unit Name]],AdminUnits[],4,FALSE)","v":0},{"$f":"VLOOKUP(Main3WData13[[#This Row],[Sector]],Sectors[],2,FALSE)","v":2}]
[null,"UNFPA",{"$f":"INDEX(Organizations[],MATCH(Main3WData13[[#This Row],[Acronym]],AcronymList,0),1)","v":"Fonds des Nations Unies pour la Population"},{"$f":"INDEX(Organizations[],MATCH(Main3WData13[[#This Row],[Acronym]],AcronymList,0),3)","v":"UN"},"Coordination","Regulier","Bamako",{"$f":"VLOOKUP(Main3WData13[[#This Row],[Admin Unit Name]],AdminUnits[],2,FALSE)","v":"ML09"},{"$f":"VLOOKUP(Main3WData13[[#This Row],[Admin Unit Name]],AdminUnits[],3,FALSE)","v":"Sud"},{"$f":"VLOOKUP(Main3WData13[[#This Row],[Admin Unit Name]],AdminUnits[],4,FALSE)","v":0},{"$f":"VLOOKUP(Main3WData13[[#This Row],[Sector]],Sectors[],2,FALSE)","v":2}]
[null,"Terre des Hommes Lausanne",{"$f":"INDEX(Organizations[],MATCH(Main3WData13[[#This Row],[Acronym]],AcronymList,0),1)","v":{"$error":"#N/A"}},{"$f":"INDEX(Organizations[],MATCH(Main3WData13[[#This Row],[Acronym]],AcronymList,0),3)","v":{"$error":"#N/A"}},"Protection","Regulier","Segou",{"$f":"VLOOKUP(Main3WData13[[#This Row],[Admin Unit Name]],AdminUnits[],2,FALSE)","v":"ML04"},{"$f":"VLOOKUP(Main3WData13[[#This Row],[Admin Unit Name]],AdminUnits[],3,FALSE)","v":"Sud"},{"$f":"VLOOKUP(Main3WData13[[#This Row],[Admin Unit Name]],AdminUnits[],4,FALSE)","v":4},{"$f":"VLOOKUP(Main3WData13[[#This Row],[Sector]],Sectors[],2,FALSE)","v":5}]
[null,"Terre des Hommes Lausanne",{"$f":"INDEX(Organizations[],MATCH(Main3WData13[[#This Row],[Acronym]],AcronymList,0),1)","v":{"$error":"#N/A"}},{"$f":"INDEX(Organizations[],MATCH(Main3WData13[[#This Row],[Acronym]],AcronymList,0),3)","v":{"$error":"#N/A"}},"Nutrition","Urgence","Segou",{"$f":"VLOOKUP(Main3WData13[[#This Row],[Admin Unit Name]],AdminUnits[],2,FALSE)","v":"ML04"},{"$f":"VLOOKUP(Main3WData13[[#This Row],[Admin Unit Name]],AdminUnits[],3,FALSE)","v":"Sud"},{"$f":"VLOOKUP(Main3WData13[[#This Row],[Admin Unit Name]],AdminUnits[],4,FALSE)","v":4},{"$f":"VLOOKUP(Main3WData13[[#This Row],[Sector]],Sectors[],2,FALSE)","v":4}]
[null,"Terre des Hommes Lausanne",{"$f":"INDEX(Organizations[],MATCH(Main3WData13[[#This Row],[Acronym]],AcronymList,0),1)","v":{"$error":"#N/A"}},{"$f":"INDEX(Organizations[],MATCH(Main3WData13[[#This Row],[Acronym]],AcronymList,0),3)","v":{"$error":"#N/A"}},"EHA","Regulier","SEGOU",{"$f":"VLOOKUP(Main3WData13[[#This Row],[Admin Unit Name]],AdminUnits[],2,FALSE)","v":"ML04"},{"$f":"VLOOKUP(Main3WData13[[#This Row],[Admin Unit Name]],AdminUnits[],3,FALSE)","v":"Sud"},{"$f":"VLOOKUP(Main3WData13[[#This Row],[Admin Unit Name]],AdminUnits[],4,FALSE)","v":4},{"$f":"VLOOKUP(Main3WData13[[#This Row],[Sector]],Sectors[],2,FALSE)","v":8}]
[null,"Tassaght",{"$f":"INDEX(Organizations[],MATCH(Main3WData13[[#This Row],[Acronym]],AcronymList,0),1)","v":"Tassaght"},{"$f":"INDEX(Organizations[],MATCH(Main3WData13[[#This Row],[Acronym]],AcronymList,0),3)","v":"ONG Nat."},"Sécurité alimentaire","Regulier","Gao",{"$f":"VLOOKUP(Main3WData13[[#This Row],[Admin Unit Name]],AdminUnits[],2,FALSE)","v":"ML07"},{"$f":"VLOOKUP(Main3WData13[[#This Row],[Admin Unit Name]],AdminUnits[],3,FALSE)","v":"Nord"},{"$f":"VLOOKUP(Main3WData13[[#This Row],[Admin Unit Name]],AdminUnits[],4,FALSE)","v":7},{"$f":"VLOOKUP(Main3WData13[[#This Row],[Sector]],Sectors[],2,FALSE)","v":7}]
[null,"Tagne",{"$f":"INDEX(Organizations[],MATCH(Main3WData13[[#This Row],[Acronym]],AcronymList,0),1)","v":"Tagne"},{"$f":"INDEX(Organizations[],MATCH(Main3WData13[[#This Row],[Acronym]],AcronymList,0),3)","v":"ONG Nat."},"Protection","Regulier","Koulikoro",{"$f":"VLOOKUP(Main3WData13[[#This Row],[Admin Unit Name]],AdminUnits[],2,FALSE)","v":"ML02"},{"$f":"VLOOKUP(Main3WData13[[#This Row],[Admin Unit Name]],AdminUnits[],3,FALSE)","v":"Sud"},{"$f":"VLOOKUP(Main3WData13[[#This Row],[Admin Unit Name]],AdminUnits[],4,FALSE)","v":2},{"$f":"VLOOKUP(Main3WData13[[#This Row],[Sector]],Sectors[],2,FALSE)","v":5}]
[null,"Stop Sahel ",{"$f":"INDEX(Organizations[],MATCH(Main3WData13[[#This Row],[Acronym]],AcronymList,0),1)","v":{"$error":"#N/A"}},{"$f":"INDEX(Organizations[],MATCH(Main3WData13[[#This Row],[Acronym]],AcronymList,0),3)","v":{"$error":"#N/A"}},"Sécurité alimentaire","Regulier","Kayes",{"$f":"VLOOKUP(Main3WData13[[#This Row],[Admin Unit Name]],AdminUnits[],2,FALSE)","v":"ML01"},{"$f":"VLOOKUP(Main3WData13[[#This Row],[Admin Unit Name]],AdminUnits[],3,FALSE)","v":"Sud"},{"$f":"VLOOKUP(Main3WData13[[#This Row],[Admin Unit Name]],AdminUnits[],4,FALSE)","v":1},{"$f":"VLOOKUP(Main3WData13[[#This Row],[Sector]],Sectors[],2,FALSE)","v":7}]
[null,"SOS ATTITUDE",{"$f":"INDEX(Organizations[],MATCH(Main3WData13[[#This Row],[Acronym]],AcronymList,0),1)","v":"SOS ATTITUDE"},{"$f":"INDEX(Organizations[],MATCH(Main3WData13[[#This Row],[Acronym]],AcronymList,0),3)","v":"ONG Int."},"Abris et NFI","Regulier","Mopti",{"$f":"VLOOKUP(Main3WData13[[#This Row],[Admin Unit Name]],AdminUnits[],2,FALSE)","v":"ML05"},{"$f":"VLOOKUP(Main3WData13[[#This Row],[Admin Unit Name]],AdminUnits[],3,FALSE)","v":"Sud"},{"$f":"VLOOKUP(Main3WData13[[#This Row],[Admin Unit Name]],AdminUnits[],4,FALSE)","v":5},{"$f":"VLOOKUP(Main3WData13[[#This Row],[Sector]],Sectors[],2,FALSE)","v":1}]
[null,"Solidarité internationale",{"$f":"INDEX(Organizations[],MATCH(Main3WData13[[#This Row],[Acronym]],AcronymList,0),1)","v":{"$error":"#N/A"}},{"$f":"INDEX(Organizations[],MATCH(Main3WData13[[#This Row],[Acronym]],AcronymList,0),3)","v":{"$error":"#N/A"}},"Sécurité alimentaire","Regulier","Tombouctou",{"$f":"VLOOKUP(Main3WData13[[#This Row],[Admin Unit Name]],AdminUnits[],2,FALSE)","v":"ML06"},{"$f":"VLOOKUP(Main3WData13[[#This Row],[Admin Unit Name]],AdminUnits[],3,FALSE)","v":"Nord"},{"$f":"VLOOKUP(Main3WData13[[#This Row],[Admin Unit Name]],AdminUnits[],4,FALSE)","v":6},{"$f":"VLOOKUP(Main3WData13[[#This Row],[Sector]],Sectors[],2,FALSE)","v":7}]
[null,"Solidarité internationale",{"$f":"INDEX(Organizations[],MATCH(Main3WData13[[#This Row],[Acronym]],AcronymList,0),1)","v":{"$error":"#N/A"}},{"$f":"INDEX(Organizations[],MATCH(Main3WData13[[#This Row],[Acronym]],AcronymList,0),3)","v":{"$error":"#N/A"}},"Protection","Regulier","Kidal",{"$f":"VLOOKUP(Main3WData13[[#This Row],[Admin Unit Name]],AdminUnits[],2,FALSE)","v":"ML08"},{"$f":"VLOOKUP(Main3WData13[[#This Row],[Admin Unit Name]],AdminUnits[],3,FALSE)","v":"Nord"},{"$f":"VLOOKUP(Main3WData13[[#This Row],[Admin Unit Name]],AdminUnits[],4,FALSE)","v":8},{"$f":"VLOOKUP(Main3WData13[[#This Row],[Sector]],Sectors[],2,FALSE)","v":5}]
[null,"Solidarité internationale",{"$f":"INDEX(Organizations[],MATCH(Main3WData13[[#This Row],[Acronym]],AcronymList,0),1)","v":{"$error":"#N/A"}},{"$f":"INDEX(Organizations[],MATCH(Main3WData13[[#This Row],[Acronym]],AcronymList,0),3)","v":{"$error":"#N/A"}},"EHA","Regulier","GAO",{"$f":"VLOOKUP(Main3WData13[[#This Row],[Admin Unit Name]],AdminUnits[],2,FALSE)","v":"ML07"},{"$f":"VLOOKUP(Main3WData13[[#This Row],[Admin Unit Name]],AdminUnits[],3,FALSE)","v":"Nord"},{"$f":"VLOOKUP(Main3WData13[[#This Row],[Admin Unit Name]],AdminUnits[],4,FALSE)","v":7},{"$f":"VLOOKUP(Main3WData13[[#This Row],[Sector]],Sectors[],2,FALSE)","v":8}]
[null,"Solidarité internationale",{"$f":"INDEX(Organizations[],MATCH(Main3WData13[[#This Row],[Acronym]],AcronymList,0),1)","v":{"$error":"#N/A"}},{"$f":"INDEX(Organizations[],MATCH(Main3WData13[[#This Row],[Acronym]],AcronymList,0),3)","v":{"$error":"#N/A"}},"EHA","Regulier","KIDAL",{"$f":"VLOOKUP(Main3WData13[[#This Row],[Admin Unit Name]],AdminUnits[],2,FALSE)","v":"ML08"},{"$f":"VLOOKUP(Main3WData13[[#This Row],[Admin Unit Name]],AdminUnits[],3,FALSE)","v":"Nord"},{"$f":"VLOOKUP(Main3WData13[[#This Row],[Admin Unit Name]],AdminUnits[],4,FALSE)","v":8},{"$f":"VLOOKUP(Main3WData13[[#This Row],[Sector]],Sectors[],2,FALSE)","v":8}]
[null,"Solidarité internationale",{"$f":"INDEX(Organizations[],MATCH(Main3WData13[[#This Row],[Acronym]],AcronymList,0),1)","v":{"$error":"#N/A"}},{"$f":"INDEX(Organizations[],MATCH(Main3WData13[[#This Row],[Acronym]],AcronymList,0),3)","v":{"$error":"#N/A"}},"EHA","Regulier","MOPTI",{"$f":"VLOOKUP(Main3WData13[[#This Row],[Admin Unit Name]],AdminUnits[],2,FALSE)","v":"ML05"},{"$f":"VLOOKUP(Main3WData13[[#This Row],[Admin Unit Name]],AdminUnits[],3,FALSE)","v":"Sud"},{"$f":"VLOOKUP(Main3WData13[[#This Row],[Admin Unit Name]],AdminUnits[],4,FALSE)","v":5},{"$f":"VLOOKUP(Main3WData13[[#This Row],[Sector]],Sectors[],2,FALSE)","v":8}]
[null,"Solidarité internationale",{"$f":"INDEX(Organizations[],MATCH(Main3WData13[[#This Row],[Acronym]],AcronymList,0),1)","v":{"$error":"#N/A"}},{"$f":"INDEX(Organizations[],MATCH(Main3WData13[[#This Row],[Acronym]],AcronymList,0),3)","v":{"$error":"#N/A"}},"EHA","Regulier","TOMBOUCTOU",{"$f":"VLOOKUP(Main3WData13[[#This Row],[Admin Unit Name]],AdminUnits[],2,FALSE)","v":"ML06"},{"$f":"VLOOKUP(Main3WData13[[#This Row],[Admin Unit Name]],AdminUnits[],3,FALSE)","v":"Nord"},{"$f":"VLOOKUP(Main3WData13[[#This Row],[Admin Unit Name]],AdminUnits[],4,FALSE)","v":6},{"$f":"VLOOKUP(Main3WData13[[#This Row],[Sector]],Sectors[],2,FALSE)","v":8}]
[null,"SNV",{"$f":"INDEX(Organizations[],MATCH(Main3WData13[[#This Row],[Acronym]],AcronymList,0),1)","v":"Organisation Néerlandaise de Développement - Mali"},{"$f":"INDEX(Organizations[],MATCH(Main3WData13[[#This Row],[Acronym]],AcronymList,0),3)","v":"ONG Int."},"EHA","Regulier","KOULIKORO",{"$f":"VLOOKUP(Main3WData13[[#This Row],[Admin Unit Name]],AdminUnits[],2,FALSE)","v":"ML02"},{"$f":"VLOOKUP(Main3WData13[[#This Row],[Admin Unit Name]],AdminUnits[],3,FALSE)","v":"Sud"},{"$f":"VLOOKUP(Main3WData13[[#This Row],[Admin Unit Name]],AdminUnits[],4,FALSE)","v":2},{"$f":"VLOOKUP(Main3WData13[[#This Row],[Sector]],Sectors[],2,FALSE)","v":8}]
[null,"SNV",{"$f":"INDEX(Organizations[],MATCH(Main3WData13[[#This Row],[Acronym]],AcronymList,0),1)","v":"Organisation Néerlandaise de Développement - Mali"},{"$f":"INDEX(Organizations[],MATCH(Main3WData13[[#This Row],[Acronym]],AcronymList,0),3)","v":"ONG Int."},"EHA","Regulier","SIKASSO",{"$f":"VLOOKUP(Main3WData13[[#This Row],[Admin Unit Name]],AdminUnits[],2,FALSE)","v":"ML03"},{"$f":"VLOOKUP(Main3WData13[[#This Row],[Admin Unit Name]],AdminUnits[],3,FALSE)","v":"Sud"},{"$f":"VLOOKUP(Main3WData13[[#This Row],[Admin Unit Name]],AdminUnits[],4,FALSE)","v":3},{"$f":"VLOOKUP(Main3WData13[[#This Row],[Sector]],Sectors[],2,FALSE)","v":8}]
[null,"SNV",{"$f":"INDEX(Organizations[],MATCH(Main3WData13[[#This Row],[Acronym]],AcronymList,0),1)","v":"Organisation Néerlandaise de Développement - Mali"},{"$f":"INDEX(Organizations[],MATCH(Main3WData13[[#This Row],[Acronym]],AcronymList,0),3)","v":"ONG Int."},"EHA","Regulier","BAMAKO",{"$f":"VLOOKUP(Main3WData13[[#This Row],[Admin Unit Name]],AdminUnits[],2,FALSE)","v":"ML09"},{"$f":"VLOOKUP(Main3WData13[[#This Row],[Admin Unit Name]],AdminUnits[],3,FALSE)","v":"Sud"},{"$f":"VLOOKUP(Main3WData13[[#This Row],[Admin Unit Name]],AdminUnits[],4,FALSE)","v":0},{"$f":"VLOOKUP(Main3WData13[[#This Row],[Sector]],Sectors[],2,FALSE)","v":8}]
[null,"SMARA",{"$f":"INDEX(Organizations[],MATCH(Main3WData13[[#This Row],[Acronym]],AcronymList,0),1)","v":"SMARA"},{"$f":"INDEX(Organizations[],MATCH(Main3WData13[[#This Row],[Acronym]],AcronymList,0),3)","v":"ONG Int."},"Santé","Regulier","TOMBOUCTOU",{"$f":"VLOOKUP(Main3WData13[[#This Row],[Admin Unit Name]],AdminUnits[],2,FALSE)","v":"ML06"},{"$f":"VLOOKUP(Main3WData13[[#This Row],[Admin Unit Name]],AdminUnits[],3,FALSE)","v":"Nord"},{"$f":"VLOOKUP(Main3WData13[[#This Row],[Admin Unit Name]],AdminUnits[],4,FALSE)","v":6},{"$f":"VLOOKUP(Main3WData13[[#This Row],[Sector]],Sectors[],2,FALSE)","v":6}]
[null,"Secours Islamique",{"$f":"INDEX(Organizations[],MATCH(Main3WData13[[#This Row],[Acronym]],AcronymList,0),1)","v":"Secours Islamique"},{"$f":"INDEX(Organizations[],MATCH(Main3WData13[[#This Row],[Acronym]],AcronymList,0),3)","v":"ONG Int."},"Protection","Regulier","Bamako",{"$f":"VLOOKUP(Main3WData13[[#This Row],[Admin Unit Name]],AdminUnits[],2,FALSE)","v":"ML09"},{"$f":"VLOOKUP(Main3WData13[[#This Row],[Admin Unit Name]],AdminUnits[],3,FALSE)","v":"Sud"},{"$f":"VLOOKUP(Main3WData13[[#This Row],[Admin Unit Name]],AdminUnits[],4,FALSE)","v":0},{"$f":"VLOOKUP(Main3WData13[[#This Row],[Sector]],Sectors[],2,FALSE)","v":5}]
[null,"Secours Islamique",{"$f":"INDEX(Organizations[],MATCH(Main3WData13[[#This Row],[Acronym]],AcronymList,0),1)","v":"Secours Islamique"},{"$f":"INDEX(Organizations[],MATCH(Main3WData13[[#This Row],[Acronym]],AcronymList,0),3)","v":"ONG Int."},"Protection","Regulier","Koulikoro",{"$f":"VLOOKUP(Main3WData13[[#This Row],[Admin Unit Name]],AdminUnits[],2,FALSE)","v":"ML02"},{"$f":"VLOOKUP(Main3WData13[[#This Row],[Admin Unit Name]],AdminUnits[],3,FALSE)","v":"Sud"},{"$f":"VLOOKUP(Main3WData13[[#This Row],[Admin Unit Name]],AdminUnits[],4,FALSE)","v":2},{"$f":"VLOOKUP(Main3WData13[[#This Row],[Sector]],Sectors[],2,FALSE)","v":5}]
[null,"SEAD",{"$f":"INDEX(Organizations[],MATCH(Main3WData13[[#This Row],[Acronym]],AcronymList,0),1)","v":"Sahel Etudes Actions pour le Développement"},{"$f":"INDEX(Organizations[],MATCH(Main3WData13[[#This Row],[Acronym]],AcronymList,0),3)","v":"ONG Nat."},"Protection","Regulier","Gao",{"$f":"VLOOKUP(Main3WData13[[#This Row],[Admin Unit Name]],AdminUnits[],2,FALSE)","v":"ML07"},{"$f":"VLOOKUP(Main3WData13[[#This Row],[Admin Unit Name]],AdminUnits[],3,FALSE)","v":"Nord"},{"$f":"VLOOKUP(Main3WData13[[#This Row],[Admin Unit Name]],AdminUnits[],4,FALSE)","v":7},{"$f":"VLOOKUP(Main3WData13[[#This Row],[Sector]],Sectors[],2,FALSE)","v":5}]
[null,"Save the children",{"$f":"INDEX(Organizations[],MATCH(Main3WData13[[#This Row],[Acronym]],AcronymList,0),1)","v":"Save the Children"},{"$f":"INDEX(Organizations[],MATCH(Main3WData13[[#This Row],[Acronym]],AcronymList,0),3)","v":"ONG Int."},"Sécurité alimentaire","Regulier","Kayes",{"$f":"VLOOKUP(Main3WData13[[#This Row],[Admin Unit Name]],AdminUnits[],2,FALSE)","v":"ML01"},{"$f":"VLOOKUP(Main3WData13[[#This Row],[Admin Unit Name]],AdminUnits[],3,FALSE)","v":"Sud"},{"$f":"VLOOKUP(Main3WData13[[#This Row],[Admin Unit Name]],AdminUnits[],4,FALSE)","v":1},{"$f":"VLOOKUP(Main3WData13[[#This Row],[Sector]],Sectors[],2,FALSE)","v":7}]
[null,"Save the Children",{"$f":"INDEX(Organizations[],MATCH(Main3WData13[[#This Row],[Acronym]],AcronymList,0),1)","v":"Save the Children"},{"$f":"INDEX(Organizations[],MATCH(Main3WData13[[#This Row],[Acronym]],AcronymList,0),3)","v":"ONG Int."},"Sécurité alimentaire","Regulier","Sikasso",{"$f":"VLOOKUP(Main3WData13[[#This Row],[Admin Unit Name]],AdminUnits[],2,FALSE)","v":"ML03"},{"$f":"VLOOKUP(Main3WData13[[#This Row],[Admin Unit Name]],AdminUnits[],3,FALSE)","v":"Sud"},{"$f":"VLOOKUP(Main3WData13[[#This Row],[Admin Unit Name]],AdminUnits[],4,FALSE)","v":3},{"$f":"VLOOKUP(Main3WData13[[#This Row],[Sector]],Sectors[],2,FALSE)","v":7}]
[null,"Save the Children",{"$f":"INDEX(Organizations[],MATCH(Main3WData13[[#This Row],[Acronym]],AcronymList,0),1)","v":"Save the Children"},{"$f":"INDEX(Organizations[],MATCH(Main3WData13[[#This Row],[Acronym]],AcronymList,0),3)","v":"ONG Int."},"Education","Regulier","Segou",{"$f":"VLOOKUP(Main3WData13[[#This Row],[Admin Unit Name]],AdminUnits[],2,FALSE)","v":"ML04"},{"$f":"VLOOKUP(Main3WData13[[#This Row],[Admin Unit Name]],AdminUnits[],3,FALSE)","v":"Sud"},{"$f":"VLOOKUP(Main3WData13[[#This Row],[Admin Unit Name]],AdminUnits[],4,FALSE)","v":4},{"$f":"VLOOKUP(Main3WData13[[#This Row],[Sector]],Sectors[],2,FALSE)","v":3}]
[null,"Save the Children",{"$f":"INDEX(Organizations[],MATCH(Main3WData13[[#This Row],[Acronym]],AcronymList,0),1)","v":"Save the Children"},{"$f":"INDEX(Organizations[],MATCH(Main3WData13[[#This Row],[Acronym]],AcronymList,0),3)","v":"ONG Int."},"Education","Regulier","Mopti",{"$f":"VLOOKUP(Main3WData13[[#This Row],[Admin Unit Name]],AdminUnits[],2,FALSE)","v":"ML05"},{"$f":"VLOOKUP(Main3WData13[[#This Row],[Admin Unit Name]],AdminUnits[],3,FALSE)","v":"Sud"},{"$f":"VLOOKUP(Main3WData13[[#This Row],[Admin Unit Name]],AdminUnits[],4,FALSE)","v":5},{"$f":"VLOOKUP(Main3WData13[[#This Row],[Sector]],Sectors[],2,FALSE)","v":3}]
[null,"Save the Children",{"$f":"INDEX(Organizations[],MATCH(Main3WData13[[#This Row],[Acronym]],AcronymList,0),1)","v":"Save the Children"},{"$f":"INDEX(Organizations[],MATCH(Main3WData13[[#This Row],[Acronym]],AcronymList,0),3)","v":"ONG Int."},"Education","Regulier","Gao",{"$f":"VLOOKUP(Main3WData13[[#This Row],[Admin Unit Name]],AdminUnits[],2,FALSE)","v":"ML07"},{"$f":"VLOOKUP(Main3WData13[[#This Row],[Admin Unit Name]],AdminUnits[],3,FALSE)","v":"Nord"},{"$f":"VLOOKUP(Main3WData13[[#This Row],[Admin Unit Name]],AdminUnits[],4,FALSE)","v":7},{"$f":"VLOOKUP(Main3WData13[[#This Row],[Sector]],Sectors[],2,FALSE)","v":3}]
[null,"Save the Children",{"$f":"INDEX(Organizations[],MATCH(Main3WData13[[#This Row],[Acronym]],AcronymList,0),1)","v":"Save the Children"},{"$f":"INDEX(Organizations[],MATCH(Main3WData13[[#This Row],[Acronym]],AcronymList,0),3)","v":"ONG Int."},"Education","Regulier","Kayes",{"$f":"VLOOKUP(Main3WData13[[#This Row],[Admin Unit Name]],AdminUnits[],2,FALSE)","v":"ML01"},{"$f":"VLOOKUP(Main3WData13[[#This Row],[Admin Unit Name]],AdminUnits[],3,FALSE)","v":"Sud"},{"$f":"VLOOKUP(Main3WData13[[#This Row],[Admin Unit Name]],AdminUnits[],4,FALSE)","v":1},{"$f":"VLOOKUP(Main3WData13[[#This Row],[Sector]],Sectors[],2,FALSE)","v":3}]
[null,"SAVE THE CHILDREN",{"$f":"INDEX(Organizations[],MATCH(Main3WData13[[#This Row],[Acronym]],AcronymList,0),1)","v":"Save the Children"},{"$f":"INDEX(Organizations[],MATCH(Main3WData13[[#This Row],[Acronym]],AcronymList,0),3)","v":"ONG Int."},"Protection","Regulier","Mopti",{"$f":"VLOOKUP(Main3WData13[[#This Row],[Admin Unit Name]],AdminUnits[],2,FALSE)","v":"ML05"},{"$f":"VLOOKUP(Main3WData13[[#This Row],[Admin Unit Name]],AdminUnits[],3,FALSE)","v":"Sud"},{"$f":"VLOOKUP(Main3WData13[[#This Row],[Admin Unit Name]],AdminUnits[],4,FALSE)","v":5},{"$f":"VLOOKUP(Main3WData13[[#This Row],[Sector]],Sectors[],2,FALSE)","v":5}]
[null,"SAVE THE CHILDREN",{"$f":"INDEX(Organizations[],MATCH(Main3WData13[[#This Row],[Acronym]],AcronymList,0),1)","v":"Save the Children"},{"$f":"INDEX(Organizations[],MATCH(Main3WData13[[#This Row],[Acronym]],AcronymList,0),3)","v":"ONG Int."},"Protection","Regulier","Sikasso",{"$f":"VLOOKUP(Main3WData13[[#This Row],[Admin Unit Name]],AdminUnits[],2,FALSE)","v":"ML03"},{"$f":"VLOOKUP(Main3WData13[[#This Row],[Admin Unit Name]],AdminUnits[],3,FALSE)","v":"Sud"},{"$f":"VLOOKUP(Main3WData13[[#This Row],[Admin Unit Name]],AdminUnits[],4,FALSE)","v":3},{"$f":"VLOOKUP(Main3WData13[[#This Row],[Sector]],Sectors[],2,FALSE)","v":5}]
[null,"SAVE THE CHILDREN",{"$f":"INDEX(Organizations[],MATCH(Main3WData13[[#This Row],[Acronym]],AcronymList,0),1)","v":"Save the Children"},{"$f":"INDEX(Organizations[],MATCH(Main3WData13[[#This Row],[Acronym]],AcronymList,0),3)","v":"ONG Int."},"Protection","Regulier","Kayes",{"$f":"VLOOKUP(Main3WData13[[#This Row],[Admin Unit Name]],AdminUnits[],2,FALSE)","v":"ML01"},{"$f":"VLOOKUP(Main3WData13[[#This Row],[Admin Unit Name]],AdminUnits[],3,FALSE)","v":"Sud"},{"$f":"VLOOKUP(Main3WData13[[#This Row],[Admin Unit Name]],AdminUnits[],4,FALSE)","v":1},{"$f":"VLOOKUP(Main3WData13[[#This Row],[Sector]],Sectors[],2,FALSE)","v":5}]
[null,"SAVE THE CHILDREN",{"$f":"INDEX(Organizations[],MATCH(Main3WData13[[#This Row],[Acronym]],AcronymList,0),1)","v":"Save the Children"},{"$f":"INDEX(Organizations[],MATCH(Main3WData13[[#This Row],[Acronym]],AcronymList,0),3)","v":"ONG Int."},"Protection","Regulier","Segou",{"$f":"VLOOKUP(Main3WData13[[#This Row],[Admin Unit Name]],AdminUnits[],2,FALSE)","v":"ML04"},{"$f":"VLOOKUP(Main3WData13[[#This Row],[Admin Unit Name]],AdminUnits[],3,FALSE)","v":"Sud"},{"$f":"VLOOKUP(Main3WData13[[#This Row],[Admin Unit Name]],AdminUnits[],4,FALSE)","v":4},{"$f":"VLOOKUP(Main3WData13[[#This Row],[Sector]],Sectors[],2,FALSE)","v":5}]
[null,"Save the Children",{"$f":"INDEX(Organizations[],MATCH(Main3WData13[[#This Row],[Acronym]],AcronymList,0),1)","v":"Save the Children"},{"$f":"INDEX(Organizations[],MATCH(Main3WData13[[#This Row],[Acronym]],AcronymList,0),3)","v":"ONG Int."},"Nutrition","Urgence","Mopti",{"$f":"VLOOKUP(Main3WData13[[#This Row],[Admin Unit Name]],AdminUnits[],2,FALSE)","v":"ML05"},{"$f":"VLOOKUP(Main3WData13[[#This Row],[Admin Unit Name]],AdminUnits[],3,FALSE)","v":"Sud"},{"$f":"VLOOKUP(Main3WData13[[#This Row],[Admin Unit Name]],AdminUnits[],4,FALSE)","v":5},{"$f":"VLOOKUP(Main3WData13[[#This Row],[Sector]],Sectors[],2,FALSE)","v":4}]
[null,"Save the Children",{"$f":"INDEX(Organizations[],MATCH(Main3WData13[[#This Row],[Acronym]],AcronymList,0),1)","v":"Save the Children"},{"$f":"INDEX(Organizations[],MATCH(Main3WData13[[#This Row],[Acronym]],AcronymList,0),3)","v":"ONG Int."},"Nutrition","Regulier","Sikasso",{"$f":"VLOOKUP(Main3WData13[[#This Row],[Admin Unit Name]],AdminUnits[],2,FALSE)","v":"ML03"},{"$f":"VLOOKUP(Main3WData13[[#This Row],[Admin Unit Name]],AdminUnits[],3,FALSE)","v":"Sud"},{"$f":"VLOOKUP(Main3WData13[[#This Row],[Admin Unit Name]],AdminUnits[],4,FALSE)","v":3},{"$f":"VLOOKUP(Main3WData13[[#This Row],[Sector]],Sectors[],2,FALSE)","v":4}]
[null,"Save the Children",{"$f":"INDEX(Organizations[],MATCH(Main3WData13[[#This Row],[Acronym]],AcronymList,0),1)","v":"Save the Children"},{"$f":"INDEX(Organizations[],MATCH(Main3WData13[[#This Row],[Acronym]],AcronymList,0),3)","v":"ONG Int."},"Education","Regulier","Bamako",{"$f":"VLOOKUP(Main3WData13[[#This Row],[Admin Unit Name]],AdminUnits[],2,FALSE)","v":"ML09"},{"$f":"VLOOKUP(Main3WData13[[#This Row],[Admin Unit Name]],AdminUnits[],3,FALSE)","v":"Sud"},{"$f":"VLOOKUP(Main3WData13[[#This Row],[Admin Unit Name]],AdminUnits[],4,FALSE)","v":0},{"$f":"VLOOKUP(Main3WData13[[#This Row],[Sector]],Sectors[],2,FALSE)","v":3}]
[null,"Save the Children",{"$f":"INDEX(Organizations[],MATCH(Main3WData13[[#This Row],[Acronym]],AcronymList,0),1)","v":"Save the Children"},{"$f":"INDEX(Organizations[],MATCH(Main3WData13[[#This Row],[Acronym]],AcronymList,0),3)","v":"ONG Int."},"EHA","Regulier","GAO",{"$f":"VLOOKUP(Main3WData13[[#This Row],[Admin Unit Name]],AdminUnits[],2,FALSE)","v":"ML07"},{"$f":"VLOOKUP(Main3WData13[[#This Row],[Admin Unit Name]],AdminUnits[],3,FALSE)","v":"Nord"},{"$f":"VLOOKUP(Main3WData13[[#This Row],[Admin Unit Name]],AdminUnits[],4,FALSE)","v":7},{"$f":"VLOOKUP(Main3WData13[[#This Row],[Sector]],Sectors[],2,FALSE)","v":8}]
[null,"Save the Children",{"$f":"INDEX(Organizations[],MATCH(Main3WData13[[#This Row],[Acronym]],AcronymList,0),1)","v":"Save the Children"},{"$f":"INDEX(Organizations[],MATCH(Main3WData13[[#This Row],[Acronym]],AcronymList,0),3)","v":"ONG Int."},"EHA","Regulier","KAYES",{"$f":"VLOOKUP(Main3WData13[[#This Row],[Admin Unit Name]],AdminUnits[],2,FALSE)","v":"ML01"},{"$f":"VLOOKUP(Main3WData13[[#This Row],[Admin Unit Name]],AdminUnits[],3,FALSE)","v":"Sud"},{"$f":"VLOOKUP(Main3WData13[[#This Row],[Admin Unit Name]],AdminUnits[],4,FALSE)","v":1},{"$f":"VLOOKUP(Main3WData13[[#This Row],[Sector]],Sectors[],2,FALSE)","v":8}]
[null,"Save the Children",{"$f":"INDEX(Organizations[],MATCH(Main3WData13[[#This Row],[Acronym]],AcronymList,0),1)","v":"Save the Children"},{"$f":"INDEX(Organizations[],MATCH(Main3WData13[[#This Row],[Acronym]],AcronymList,0),3)","v":"ONG Int."},"EHA","Regulier","MOPTI",{"$f":"VLOOKUP(Main3WData13[[#This Row],[Admin Unit Name]],AdminUnits[],2,FALSE)","v":"ML05"},{"$f":"VLOOKUP(Main3WData13[[#This Row],[Admin Unit Name]],AdminUnits[],3,FALSE)","v":"Sud"},{"$f":"VLOOKUP(Main3WData13[[#This Row],[Admin Unit Name]],AdminUnits[],4,FALSE)","v":5},{"$f":"VLOOKUP(Main3WData13[[#This Row],[Sector]],Sectors[],2,FALSE)","v":8}]
[null,"Santé Diabète",{"$f":"INDEX(Organizations[],MATCH(Main3WData13[[#This Row],[Acronym]],AcronymList,0),1)","v":"Santé Diabète"},{"$f":"INDEX(Organizations[],MATCH(Main3WData13[[#This Row],[Acronym]],AcronymList,0),3)","v":"ONG Nat."},"Santé","Regulier","Mopti",{"$f":"VLOOKUP(Main3WData13[[#This Row],[Admin Unit Name]],AdminUnits[],2,FALSE)","v":"ML05"},{"$f":"VLOOKUP(Main3WData13[[#This Row],[Admin Unit Name]],AdminUnits[],3,FALSE)","v":"Sud"},{"$f":"VLOOKUP(Main3WData13[[#This Row],[Admin Unit Name]],AdminUnits[],4,FALSE)","v":5},{"$f":"VLOOKUP(Main3WData13[[#This Row],[Sector]],Sectors[],2,FALSE)","v":6}]
[null,"Samu Social Mali ",{"$f":"INDEX(Organizations[],MATCH(Main3WData13[[#This Row],[Acronym]],AcronymList,0),1)","v":"Samu Social Mali "},{"$f":"INDEX(Organizations[],MATCH(Main3WData13[[#This Row],[Acronym]],AcronymList,0),3)","v":"ONG Nat."},"Protection","Regulier","Bamako",{"$f":"VLOOKUP(Main3WData13[[#This Row],[Admin Unit Name]],AdminUnits[],2,FALSE)","v":"ML09"},{"$f":"VLOOKUP(Main3WData13[[#This Row],[Admin Unit Name]],AdminUnits[],3,FALSE)","v":"Sud"},{"$f":"VLOOKUP(Main3WData13[[#This Row],[Admin Unit Name]],AdminUnits[],4,FALSE)","v":0},{"$f":"VLOOKUP(Main3WData13[[#This Row],[Sector]],Sectors[],2,FALSE)","v":5}]
[null,"Sahel Consult",{"$f":"INDEX(Organizations[],MATCH(Main3WData13[[#This Row],[Acronym]],AcronymList,0),1)","v":"Sahel Consult"},{"$f":"INDEX(Organizations[],MATCH(Main3WData13[[#This Row],[Acronym]],AcronymList,0),3)","v":"ONG Nat."},"Sécurité alimentaire","Regulier","Gao",{"$f":"VLOOKUP(Main3WData13[[#This Row],[Admin Unit Name]],AdminUnits[],2,FALSE)","v":"ML07"},{"$f":"VLOOKUP(Main3WData13[[#This Row],[Admin Unit Name]],AdminUnits[],3,FALSE)","v":"Nord"},{"$f":"VLOOKUP(Main3WData13[[#This Row],[Admin Unit Name]],AdminUnits[],4,FALSE)","v":7},{"$f":"VLOOKUP(Main3WData13[[#This Row],[Sector]],Sectors[],2,FALSE)","v":7}]
[null,"Sahel Consult",{"$f":"INDEX(Organizations[],MATCH(Main3WData13[[#This Row],[Acronym]],AcronymList,0),1)","v":"Sahel Consult"},{"$f":"INDEX(Organizations[],MATCH(Main3WData13[[#This Row],[Acronym]],AcronymList,0),3)","v":"ONG Nat."},"Sécurité alimentaire","Regulier","Tombouctou",{"$f":"VLOOKUP(Main3WData13[[#This Row],[Admin Unit Name]],AdminUnits[],2,FALSE)","v":"ML06"},{"$f":"VLOOKUP(Main3WData13[[#This Row],[Admin Unit Name]],AdminUnits[],3,FALSE)","v":"Nord"},{"$f":"VLOOKUP(Main3WData13[[#This Row],[Admin Unit Name]],AdminUnits[],4,FALSE)","v":6},{"$f":"VLOOKUP(Main3WData13[[#This Row],[Sector]],Sectors[],2,FALSE)","v":7}]
[null,"Right To Play",{"$f":"INDEX(Organizations[],MATCH(Main3WData13[[#This Row],[Acronym]],AcronymList,0),1)","v":"Right to Play"},{"$f":"INDEX(Organizations[],MATCH(Main3WData13[[#This Row],[Acronym]],AcronymList,0),3)","v":"ONG Int."},"Protection","Regulier","Sikasso",{"$f":"VLOOKUP(Main3WData13[[#This Row],[Admin Unit Name]],AdminUnits[],2,FALSE)","v":"ML03"},{"$f":"VLOOKUP(Main3WData13[[#This Row],[Admin Unit Name]],AdminUnits[],3,FALSE)","v":"Sud"},{"$f":"VLOOKUP(Main3WData13[[#This Row],[Admin Unit Name]],AdminUnits[],4,FALSE)","v":3},{"$f":"VLOOKUP(Main3WData13[[#This Row],[Sector]],Sectors[],2,FALSE)","v":5}]
[null,"Right To Play",{"$f":"INDEX(Organizations[],MATCH(Main3WData13[[#This Row],[Acronym]],AcronymList,0),1)","v":"Right to Play"},{"$f":"INDEX(Organizations[],MATCH(Main3WData13[[#This Row],[Acronym]],AcronymList,0),3)","v":"ONG Int."},"Protection","Regulier","Segou",{"$f":"VLOOKUP(Main3WData13[[#This Row],[Admin Unit Name]],AdminUnits[],2,FALSE)","v":"ML04"},{"$f":"VLOOKUP(Main3WData13[[#This Row],[Admin Unit Name]],AdminUnits[],3,FALSE)","v":"Sud"},{"$f":"VLOOKUP(Main3WData13[[#This Row],[Admin Unit Name]],AdminUnits[],4,FALSE)","v":4},{"$f":"VLOOKUP(Main3WData13[[#This Row],[Sector]],Sectors[],2,FALSE)","v":5}]
[null,"Right to Play",{"$f":"INDEX(Organizations[],MATCH(Main3WData13[[#This Row],[Acronym]],AcronymList,0),1)","v":"Right to Play"},{"$f":"INDEX(Organizations[],MATCH(Main3WData13[[#This Row],[Acronym]],AcronymList,0),3)","v":"ONG Int."},"Education","Regulier","Bamako",{"$f":"VLOOKUP(Main3WData13[[#This Row],[Admin Unit Name]],AdminUnits[],2,FALSE)","v":"ML09"},{"$f":"VLOOKUP(Main3WData13[[#This Row],[Admin Unit Name]],AdminUnits[],3,FALSE)","v":"Sud"},{"$f":"VLOOKUP(Main3WData13[[#This Row],[Admin Unit Name]],AdminUnits[],4,FALSE)","v":0},{"$f":"VLOOKUP(Main3WData13[[#This Row],[Sector]],Sectors[],2,FALSE)","v":3}]
[null,"Right To Play",{"$f":"INDEX(Organizations[],MATCH(Main3WData13[[#This Row],[Acronym]],AcronymList,0),1)","v":"Right to Play"},{"$f":"INDEX(Organizations[],MATCH(Main3WData13[[#This Row],[Acronym]],AcronymList,0),3)","v":"ONG Int."},"Protection","Regulier","Bamako",{"$f":"VLOOKUP(Main3WData13[[#This Row],[Admin Unit Name]],AdminUnits[],2,FALSE)","v":"ML09"},{"$f":"VLOOKUP(Main3WData13[[#This Row],[Admin Unit Name]],AdminUnits[],3,FALSE)","v":"Sud"},{"$f":"VLOOKUP(Main3WData13[[#This Row],[Admin Unit Name]],AdminUnits[],4,FALSE)","v":0},{"$f":"VLOOKUP(Main3WData13[[#This Row],[Sector]],Sectors[],2,FALSE)","v":5}]
[null,"REACH ITALIA",{"$f":"INDEX(Organizations[],MATCH(Main3WData13[[#This Row],[Acronym]],AcronymList,0),1)","v":"Reach Italia"},{"$f":"INDEX(Organizations[],MATCH(Main3WData13[[#This Row],[Acronym]],AcronymList,0),3)","v":"ONG Int."},"Sécurité alimentaire","Regulier","Koulikoro",{"$f":"VLOOKUP(Main3WData13[[#This Row],[Admin Unit Name]],AdminUnits[],2,FALSE)","v":"ML02"},{"$f":"VLOOKUP(Main3WData13[[#This Row],[Admin Unit Name]],AdminUnits[],3,FALSE)","v":"Sud"},{"$f":"VLOOKUP(Main3WData13[[#This Row],[Admin Unit Name]],AdminUnits[],4,FALSE)","v":2},{"$f":"VLOOKUP(Main3WData13[[#This Row],[Sector]],Sectors[],2,FALSE)","v":7}]
[null,"PSI",{"$f":"INDEX(Organizations[],MATCH(Main3WData13[[#This Row],[Acronym]],AcronymList,0),1)","v":"Population Services International"},{"$f":"INDEX(Organizations[],MATCH(Main3WData13[[#This Row],[Acronym]],AcronymList,0),3)","v":"ONG Int."},"Santé","Regulier","Segou",{"$f":"VLOOKUP(Main3WData13[[#This Row],[Admin Unit Name]],AdminUnits[],2,FALSE)","v":"ML04"},{"$f":"VLOOKUP(Main3WData13[[#This Row],[Admin Unit Name]],AdminUnits[],3,FALSE)","v":"Sud"},{"$f":"VLOOKUP(Main3WData13[[#This Row],[Admin Unit Name]],AdminUnits[],4,FALSE)","v":4},{"$f":"VLOOKUP(Main3WData13[[#This Row],[Sector]],Sectors[],2,FALSE)","v":6}]
[null,"PROTOS",{"$f":"INDEX(Organizations[],MATCH(Main3WData13[[#This Row],[Acronym]],AcronymList,0),1)","v":"PROTOS"},{"$f":"INDEX(Organizations[],MATCH(Main3WData13[[#This Row],[Acronym]],AcronymList,0),3)","v":"ONG Nat."},"EHA","Regulier","BAMAKO",{"$f":"VLOOKUP(Main3WData13[[#This Row],[Admin Unit Name]],AdminUnits[],2,FALSE)","v":"ML09"},{"$f":"VLOOKUP(Main3WData13[[#This Row],[Admin Unit Name]],AdminUnits[],3,FALSE)","v":"Sud"},{"$f":"VLOOKUP(Main3WData13[[#This Row],[Admin Unit Name]],AdminUnits[],4,FALSE)","v":0},{"$f":"VLOOKUP(Main3WData13[[#This Row],[Sector]],Sectors[],2,FALSE)","v":8}]
[null,"PROTOS",{"$f":"INDEX(Organizations[],MATCH(Main3WData13[[#This Row],[Acronym]],AcronymList,0),1)","v":"PROTOS"},{"$f":"INDEX(Organizations[],MATCH(Main3WData13[[#This Row],[Acronym]],AcronymList,0),3)","v":"ONG Nat."},"EHA","Regulier","KOULIKORO",{"$f":"VLOOKUP(Main3WData13[[#This Row],[Admin Unit Name]],AdminUnits[],2,FALSE)","v":"ML02"},{"$f":"VLOOKUP(Main3WData13[[#This Row],[Admin Unit Name]],AdminUnits[],3,FALSE)","v":"Sud"},{"$f":"VLOOKUP(Main3WData13[[#This Row],[Admin Unit Name]],AdminUnits[],4,FALSE)","v":2},{"$f":"VLOOKUP(Main3WData13[[#This Row],[Sector]],Sectors[],2,FALSE)","v":8}]
[null,"PROTOS",{"$f":"INDEX(Organizations[],MATCH(Main3WData13[[#This Row],[Acronym]],AcronymList,0),1)","v":"PROTOS"},{"$f":"INDEX(Organizations[],MATCH(Main3WData13[[#This Row],[Acronym]],AcronymList,0),3)","v":"ONG Nat."},"EHA","Regulier","MOPTI",{"$f":"VLOOKUP(Main3WData13[[#This Row],[Admin Unit Name]],AdminUnits[],2,FALSE)","v":"ML05"},{"$f":"VLOOKUP(Main3WData13[[#This Row],[Admin Unit Name]],AdminUnits[],3,FALSE)","v":"Sud"},{"$f":"VLOOKUP(Main3WData13[[#This Row],[Admin Unit Name]],AdminUnits[],4,FALSE)","v":5},{"$f":"VLOOKUP(Main3WData13[[#This Row],[Sector]],Sectors[],2,FALSE)","v":8}]
[null,"Plan Mali",{"$f":"INDEX(Organizations[],MATCH(Main3WData13[[#This Row],[Acronym]],AcronymList,0),1)","v":"Plan Mali"},{"$f":"INDEX(Organizations[],MATCH(Main3WData13[[#This Row],[Acronym]],AcronymList,0),3)","v":"ONG Int."},"Education","Regulier","Segou",{"$f":"VLOOKUP(Main3WData13[[#This Row],[Admin Unit Name]],AdminUnits[],2,FALSE)","v":"ML04"},{"$f":"VLOOKUP(Main3WData13[[#This Row],[Admin Unit Name]],AdminUnits[],3,FALSE)","v":"Sud"},{"$f":"VLOOKUP(Main3WData13[[#This Row],[Admin Unit Name]],AdminUnits[],4,FALSE)","v":4},{"$f":"VLOOKUP(Main3WData13[[#This Row],[Sector]],Sectors[],2,FALSE)","v":3}]
[null,"Plan Mali",{"$f":"INDEX(Organizations[],MATCH(Main3WData13[[#This Row],[Acronym]],AcronymList,0),1)","v":"Plan Mali"},{"$f":"INDEX(Organizations[],MATCH(Main3WData13[[#This Row],[Acronym]],AcronymList,0),3)","v":"ONG Int."},"Education","Regulier","Mopti",{"$f":"VLOOKUP(Main3WData13[[#This Row],[Admin Unit Name]],AdminUnits[],2,FALSE)","v":"ML05"},{"$f":"VLOOKUP(Main3WData13[[#This Row],[Admin Unit Name]],AdminUnits[],3,FALSE)","v":"Sud"},{"$f":"VLOOKUP(Main3WData13[[#This Row],[Admin Unit Name]],AdminUnits[],4,FALSE)","v":5},{"$f":"VLOOKUP(Main3WData13[[#This Row],[Sector]],Sectors[],2,FALSE)","v":3}]
[null,"Plan Mali",{"$f":"INDEX(Organizations[],MATCH(Main3WData13[[#This Row],[Acronym]],AcronymList,0),1)","v":"Plan Mali"},{"$f":"INDEX(Organizations[],MATCH(Main3WData13[[#This Row],[Acronym]],AcronymList,0),3)","v":"ONG Int."},"Education","Regulier","Tombouctou",{"$f":"VLOOKUP(Main3WData13[[#This Row],[Admin Unit Name]],AdminUnits[],2,FALSE)","v":"ML06"},{"$f":"VLOOKUP(Main3WData13[[#This Row],[Admin Unit Name]],AdminUnits[],3,FALSE)","v":"Nord"},{"$f":"VLOOKUP(Main3WData13[[#This Row],[Admin Unit Name]],AdminUnits[],4,FALSE)","v":6},{"$f":"VLOOKUP(Main3WData13[[#This Row],[Sector]],Sectors[],2,FALSE)","v":3}]
[null,"Plan Mali",{"$f":"INDEX(Organizations[],MATCH(Main3WData13[[#This Row],[Acronym]],AcronymList,0),1)","v":"Plan Mali"},{"$f":"INDEX(Organizations[],MATCH(Main3WData13[[#This Row],[Acronym]],AcronymList,0),3)","v":"ONG Int."},"Protection","Regulier","Mopti",{"$f":"VLOOKUP(Main3WData13[[#This Row],[Admin Unit Name]],AdminUnits[],2,FALSE)","v":"ML05"},{"$f":"VLOOKUP(Main3WData13[[#This Row],[Admin Unit Name]],AdminUnits[],3,FALSE)","v":"Sud"},{"$f":"VLOOKUP(Main3WData13[[#This Row],[Admin Unit Name]],AdminUnits[],4,FALSE)","v":5},{"$f":"VLOOKUP(Main3WData13[[#This Row],[Sector]],Sectors[],2,FALSE)","v":5}]
[null,"Plan Mali",{"$f":"INDEX(Organizations[],MATCH(Main3WData13[[#This Row],[Acronym]],AcronymList,0),1)","v":"Plan Mali"},{"$f":"INDEX(Organizations[],MATCH(Main3WData13[[#This Row],[Acronym]],AcronymList,0),3)","v":"ONG Int."},"Protection","Regulier","Segou",{"$f":"VLOOKUP(Main3WData13[[#This Row],[Admin Unit Name]],AdminUnits[],2,FALSE)","v":"ML04"},{"$f":"VLOOKUP(Main3WData13[[#This Row],[Admin Unit Name]],AdminUnits[],3,FALSE)","v":"Sud"},{"$f":"VLOOKUP(Main3WData13[[#This Row],[Admin Unit Name]],AdminUnits[],4,FALSE)","v":4},{"$f":"VLOOKUP(Main3WData13[[#This Row],[Sector]],Sectors[],2,FALSE)","v":5}]
[null,"Plan Mali",{"$f":"INDEX(Organizations[],MATCH(Main3WData13[[#This Row],[Acronym]],AcronymList,0),1)","v":"Plan Mali"},{"$f":"INDEX(Organizations[],MATCH(Main3WData13[[#This Row],[Acronym]],AcronymList,0),3)","v":"ONG Int."},"Nutrition","Regulier","Kayes",{"$f":"VLOOKUP(Main3WData13[[#This Row],[Admin Unit Name]],AdminUnits[],2,FALSE)","v":"ML01"},{"$f":"VLOOKUP(Main3WData13[[#This Row],[Admin Unit Name]],AdminUnits[],3,FALSE)","v":"Sud"},{"$f":"VLOOKUP(Main3WData13[[#This Row],[Admin Unit Name]],AdminUnits[],4,FALSE)","v":1},{"$f":"VLOOKUP(Main3WData13[[#This Row],[Sector]],Sectors[],2,FALSE)","v":4}]
[null,"Plan Mali",{"$f":"INDEX(Organizations[],MATCH(Main3WData13[[#This Row],[Acronym]],AcronymList,0),1)","v":"Plan Mali"},{"$f":"INDEX(Organizations[],MATCH(Main3WData13[[#This Row],[Acronym]],AcronymList,0),3)","v":"ONG Int."},"Nutrition","Regulier","Koulikoro",{"$f":"VLOOKUP(Main3WData13[[#This Row],[Admin Unit Name]],AdminUnits[],2,FALSE)","v":"ML02"},{"$f":"VLOOKUP(Main3WData13[[#This Row],[Admin Unit Name]],AdminUnits[],3,FALSE)","v":"Sud"},{"$f":"VLOOKUP(Main3WData13[[#This Row],[Admin Unit Name]],AdminUnits[],4,FALSE)","v":2},{"$f":"VLOOKUP(Main3WData13[[#This Row],[Sector]],Sectors[],2,FALSE)","v":4}]
[null,"Plan Mali",{"$f":"INDEX(Organizations[],MATCH(Main3WData13[[#This Row],[Acronym]],AcronymList,0),1)","v":"Plan Mali"},{"$f":"INDEX(Organizations[],MATCH(Main3WData13[[#This Row],[Acronym]],AcronymList,0),3)","v":"ONG Int."},"Nutrition","Regulier","Segou",{"$f":"VLOOKUP(Main3WData13[[#This Row],[Admin Unit Name]],AdminUnits[],2,FALSE)","v":"ML04"},{"$f":"VLOOKUP(Main3WData13[[#This Row],[Admin Unit Name]],AdminUnits[],3,FALSE)","v":"Sud"},{"$f":"VLOOKUP(Main3WData13[[#This Row],[Admin Unit Name]],AdminUnits[],4,FALSE)","v":4},{"$f":"VLOOKUP(Main3WData13[[#This Row],[Sector]],Sectors[],2,FALSE)","v":4}]
[null,"Plan Mali",{"$f":"INDEX(Organizations[],MATCH(Main3WData13[[#This Row],[Acronym]],AcronymList,0),1)","v":"Plan Mali"},{"$f":"INDEX(Organizations[],MATCH(Main3WData13[[#This Row],[Acronym]],AcronymList,0),3)","v":"ONG Int."},"EHA","Regulier","KAYES",{"$f":"VLOOKUP(Main3WData13[[#This Row],[Admin Unit Name]],AdminUnits[],2,FALSE)","v":"ML01"},{"$f":"VLOOKUP(Main3WData13[[#This Row],[Admin Unit Name]],AdminUnits[],3,FALSE)","v":"Sud"},{"$f":"VLOOKUP(Main3WData13[[#This Row],[Admin Unit Name]],AdminUnits[],4,FALSE)","v":1},{"$f":"VLOOKUP(Main3WData13[[#This Row],[Sector]],Sectors[],2,FALSE)","v":8}]
[null,"Plan Mali",{"$f":"INDEX(Organizations[],MATCH(Main3WData13[[#This Row],[Acronym]],AcronymList,0),1)","v":"Plan Mali"},{"$f":"INDEX(Organizations[],MATCH(Main3WData13[[#This Row],[Acronym]],AcronymList,0),3)","v":"ONG Int."},"EHA","Regulier","KOULIKORO",{"$f":"VLOOKUP(Main3WData13[[#This Row],[Admin Unit Name]],AdminUnits[],2,FALSE)","v":"ML02"},{"$f":"VLOOKUP(Main3WData13[[#This Row],[Admin Unit Name]],AdminUnits[],3,FALSE)","v":"Sud"},{"$f":"VLOOKUP(Main3WData13[[#This Row],[Admin Unit Name]],AdminUnits[],4,FALSE)","v":2},{"$f":"VLOOKUP(Main3WData13[[#This Row],[Sector]],Sectors[],2,FALSE)","v":8}]
[null,"Plan Mali",{"$f":"INDEX(Organizations[],MATCH(Main3WData13[[#This Row],[Acronym]],AcronymList,0),1)","v":"Plan Mali"},{"$f":"INDEX(Organizations[],MATCH(Main3WData13[[#This Row],[Acronym]],AcronymList,0),3)","v":"ONG Int."},"EHA","Regulier","MOPTI",{"$f":"VLOOKUP(Main3WData13[[#This Row],[Admin Unit Name]],AdminUnits[],2,FALSE)","v":"ML05"},{"$f":"VLOOKUP(Main3WData13[[#This Row],[Admin Unit Name]],AdminUnits[],3,FALSE)","v":"Sud"},{"$f":"VLOOKUP(Main3WData13[[#This Row],[Admin Unit Name]],AdminUnits[],4,FALSE)","v":5},{"$f":"VLOOKUP(Main3WData13[[#This Row],[Sector]],Sectors[],2,FALSE)","v":8}]
[null,"Plan Mali",{"$f":"INDEX(Organizations[],MATCH(Main3WData13[[#This Row],[Acronym]],AcronymList,0),1)","v":"Plan Mali"},{"$f":"INDEX(Organizations[],MATCH(Main3WData13[[#This Row],[Acronym]],AcronymList,0),3)","v":"ONG Int."},"EHA","Regulier","SEGOU",{"$f":"VLOOKUP(Main3WData13[[#This Row],[Admin Unit Name]],AdminUnits[],2,FALSE)","v":"ML04"},{"$f":"VLOOKUP(Main3WData13[[#This Row],[Admin Unit Name]],AdminUnits[],3,FALSE)","v":"Sud"},{"$f":"VLOOKUP(Main3WData13[[#This Row],[Admin Unit Name]],AdminUnits[],4,FALSE)","v":4},{"$f":"VLOOKUP(Main3WData13[[#This Row],[Sector]],Sectors[],2,FALSE)","v":8}]
[null,"Plan Mali",{"$f":"INDEX(Organizations[],MATCH(Main3WData13[[#This Row],[Acronym]],AcronymList,0),1)","v":"Plan Mali"},{"$f":"INDEX(Organizations[],MATCH(Main3WData13[[#This Row],[Acronym]],AcronymList,0),3)","v":"ONG Int."},"Santé","Regulier","Mopti",{"$f":"VLOOKUP(Main3WData13[[#This Row],[Admin Unit Name]],AdminUnits[],2,FALSE)","v":"ML05"},{"$f":"VLOOKUP(Main3WData13[[#This Row],[Admin Unit Name]],AdminUnits[],3,FALSE)","v":"Sud"},{"$f":"VLOOKUP(Main3WData13[[#This Row],[Admin Unit Name]],AdminUnits[],4,FALSE)","v":5},{"$f":"VLOOKUP(Main3WData13[[#This Row],[Sector]],Sectors[],2,FALSE)","v":6}]
[null,"PAM",{"$f":"INDEX(Organizations[],MATCH(Main3WData13[[#This Row],[Acronym]],AcronymList,0),1)","v":"Programme Alimentaire Mondial"},{"$f":"INDEX(Organizations[],MATCH(Main3WData13[[#This Row],[Acronym]],AcronymList,0),3)","v":"UN"},"Sécurité alimentaire","Regulier","Kayes",{"$f":"VLOOKUP(Main3WData13[[#This Row],[Admin Unit Name]],AdminUnits[],2,FALSE)","v":"ML01"},{"$f":"VLOOKUP(Main3WData13[[#This Row],[Admin Unit Name]],AdminUnits[],3,FALSE)","v":"Sud"},{"$f":"VLOOKUP(Main3WData13[[#This Row],[Admin Unit Name]],AdminUnits[],4,FALSE)","v":1},{"$f":"VLOOKUP(Main3WData13[[#This Row],[Sector]],Sectors[],2,FALSE)","v":7}]
[null,"PAM",{"$f":"INDEX(Organizations[],MATCH(Main3WData13[[#This Row],[Acronym]],AcronymList,0),1)","v":"Programme Alimentaire Mondial"},{"$f":"INDEX(Organizations[],MATCH(Main3WData13[[#This Row],[Acronym]],AcronymList,0),3)","v":"UN"},"Sécurité alimentaire","Regulier","Koulikoro",{"$f":"VLOOKUP(Main3WData13[[#This Row],[Admin Unit Name]],AdminUnits[],2,FALSE)","v":"ML02"},{"$f":"VLOOKUP(Main3WData13[[#This Row],[Admin Unit Name]],AdminUnits[],3,FALSE)","v":"Sud"},{"$f":"VLOOKUP(Main3WData13[[#This Row],[Admin Unit Name]],AdminUnits[],4,FALSE)","v":2},{"$f":"VLOOKUP(Main3WData13[[#This Row],[Sector]],Sectors[],2,FALSE)","v":7}]
[null,"PAM",{"$f":"INDEX(Organizations[],MATCH(Main3WData13[[#This Row],[Acronym]],AcronymList,0),1)","v":"Programme Alimentaire Mondial"},{"$f":"INDEX(Organizations[],MATCH(Main3WData13[[#This Row],[Acronym]],AcronymList,0),3)","v":"UN"},"Sécurité alimentaire","Regulier","Segou",{"$f":"VLOOKUP(Main3WData13[[#This Row],[Admin Unit Name]],AdminUnits[],2,FALSE)","v":"ML04"},{"$f":"VLOOKUP(Main3WData13[[#This Row],[Admin Unit Name]],AdminUnits[],3,FALSE)","v":"Sud"},{"$f":"VLOOKUP(Main3WData13[[#This Row],[Admin Unit Name]],AdminUnits[],4,FALSE)","v":4},{"$f":"VLOOKUP(Main3WData13[[#This Row],[Sector]],Sectors[],2,FALSE)","v":7}]
[null,"PAM",{"$f":"INDEX(Organizations[],MATCH(Main3WData13[[#This Row],[Acronym]],AcronymList,0),1)","v":"Programme Alimentaire Mondial"},{"$f":"INDEX(Organizations[],MATCH(Main3WData13[[#This Row],[Acronym]],AcronymList,0),3)","v":"UN"},"Sécurité alimentaire","Regulier","Gao",{"$f":"VLOOKUP(Main3WData13[[#This Row],[Admin Unit Name]],AdminUnits[],2,FALSE)","v":"ML07"},{"$f":"VLOOKUP(Main3WData13[[#This Row],[Admin Unit Name]],AdminUnits[],3,FALSE)","v":"Nord"},{"$f":"VLOOKUP(Main3WData13[[#This Row],[Admin Unit Name]],AdminUnits[],4,FALSE)","v":7},{"$f":"VLOOKUP(Main3WData13[[#This Row],[Sector]],Sectors[],2,FALSE)","v":7}]
[null,"PAM",{"$f":"INDEX(Organizations[],MATCH(Main3WData13[[#This Row],[Acronym]],AcronymList,0),1)","v":"Programme Alimentaire Mondial"},{"$f":"INDEX(Organizations[],MATCH(Main3WData13[[#This Row],[Acronym]],AcronymList,0),3)","v":"UN"},"Sécurité alimentaire","Regulier","Tombouctou",{"$f":"VLOOKUP(Main3WData13[[#This Row],[Admin Unit Name]],AdminUnits[],2,FALSE)","v":"ML06"},{"$f":"VLOOKUP(Main3WData13[[#This Row],[Admin Unit Name]],AdminUnits[],3,FALSE)","v":"Nord"},{"$f":"VLOOKUP(Main3WData13[[#This Row],[Admin Unit Name]],AdminUnits[],4,FALSE)","v":6},{"$f":"VLOOKUP(Main3WData13[[#This Row],[Sector]],Sectors[],2,FALSE)","v":7}]
[null,"PAM",{"$f":"INDEX(Organizations[],MATCH(Main3WData13[[#This Row],[Acronym]],AcronymList,0),1)","v":"Programme Alimentaire Mondial"},{"$f":"INDEX(Organizations[],MATCH(Main3WData13[[#This Row],[Acronym]],AcronymList,0),3)","v":"UN"},"Sécurité alimentaire","Regulier","Mopti",{"$f":"VLOOKUP(Main3WData13[[#This Row],[Admin Unit Name]],AdminUnits[],2,FALSE)","v":"ML05"},{"$f":"VLOOKUP(Main3WData13[[#This Row],[Admin Unit Name]],AdminUnits[],3,FALSE)","v":"Sud"},{"$f":"VLOOKUP(Main3WData13[[#This Row],[Admin Unit Name]],AdminUnits[],4,FALSE)","v":5},{"$f":"VLOOKUP(Main3WData13[[#This Row],[Sector]],Sectors[],2,FALSE)","v":7}]
[null,"PAM",{"$f":"INDEX(Organizations[],MATCH(Main3WData13[[#This Row],[Acronym]],AcronymList,0),1)","v":"Programme Alimentaire Mondial"},{"$f":"INDEX(Organizations[],MATCH(Main3WData13[[#This Row],[Acronym]],AcronymList,0),3)","v":"UN"},"Sécurité alimentaire","Regulier","Kidal",{"$f":"VLOOKUP(Main3WData13[[#This Row],[Admin Unit Name]],AdminUnits[],2,FALSE)","v":"ML08"},{"$f":"VLOOKUP(Main3WData13[[#This Row],[Admin Unit Name]],AdminUnits[],3,FALSE)","v":"Nord"},{"$f":"VLOOKUP(Main3WData13[[#This Row],[Admin Unit Name]],AdminUnits[],4,FALSE)","v":8},{"$f":"VLOOKUP(Main3WData13[[#This Row],[Sector]],Sectors[],2,FALSE)","v":7}]
[null,"PAM",{"$f":"INDEX(Organizations[],MATCH(Main3WData13[[#This Row],[Acronym]],AcronymList,0),1)","v":"Programme Alimentaire Mondial"},{"$f":"INDEX(Organizations[],MATCH(Main3WData13[[#This Row],[Acronym]],AcronymList,0),3)","v":"UN"},"Education","Regulier","Kayes",{"$f":"VLOOKUP(Main3WData13[[#This Row],[Admin Unit Name]],AdminUnits[],2,FALSE)","v":"ML01"},{"$f":"VLOOKUP(Main3WData13[[#This Row],[Admin Unit Name]],AdminUnits[],3,FALSE)","v":"Sud"},{"$f":"VLOOKUP(Main3WData13[[#This Row],[Admin Unit Name]],AdminUnits[],4,FALSE)","v":1},{"$f":"VLOOKUP(Main3WData13[[#This Row],[Sector]],Sectors[],2,FALSE)","v":3}]
[null,"PAM",{"$f":"INDEX(Organizations[],MATCH(Main3WData13[[#This Row],[Acronym]],AcronymList,0),1)","v":"Programme Alimentaire Mondial"},{"$f":"INDEX(Organizations[],MATCH(Main3WData13[[#This Row],[Acronym]],AcronymList,0),3)","v":"UN"},"Education","Regulier","Koulikoro",{"$f":"VLOOKUP(Main3WData13[[#This Row],[Admin Unit Name]],AdminUnits[],2,FALSE)","v":"ML02"},{"$f":"VLOOKUP(Main3WData13[[#This Row],[Admin Unit Name]],AdminUnits[],3,FALSE)","v":"Sud"},{"$f":"VLOOKUP(Main3WData13[[#This Row],[Admin Unit Name]],AdminUnits[],4,FALSE)","v":2},{"$f":"VLOOKUP(Main3WData13[[#This Row],[Sector]],Sectors[],2,FALSE)","v":3}]
[null,"PAM",{"$f":"INDEX(Organizations[],MATCH(Main3WData13[[#This Row],[Acronym]],AcronymList,0),1)","v":"Programme Alimentaire Mondial"},{"$f":"INDEX(Organizations[],MATCH(Main3WData13[[#This Row],[Acronym]],AcronymList,0),3)","v":"UN"},"Education","Regulier","Mopti",{"$f":"VLOOKUP(Main3WData13[[#This Row],[Admin Unit Name]],AdminUnits[],2,FALSE)","v":"ML05"},{"$f":"VLOOKUP(Main3WData13[[#This Row],[Admin Unit Name]],AdminUnits[],3,FALSE)","v":"Sud"},{"$f":"VLOOKUP(Main3WData13[[#This Row],[Admin Unit Name]],AdminUnits[],4,FALSE)","v":5},{"$f":"VLOOKUP(Main3WData13[[#This Row],[Sector]],Sectors[],2,FALSE)","v":3}]
[null,"PAM",{"$f":"INDEX(Organizations[],MATCH(Main3WData13[[#This Row],[Acronym]],AcronymList,0),1)","v":"Programme Alimentaire Mondial"},{"$f":"INDEX(Organizations[],MATCH(Main3WData13[[#This Row],[Acronym]],AcronymList,0),3)","v":"UN"},"Education","Regulier","Gao",{"$f":"VLOOKUP(Main3WData13[[#This Row],[Admin Unit Name]],AdminUnits[],2,FALSE)","v":"ML07"},{"$f":"VLOOKUP(Main3WData13[[#This Row],[Admin Unit Name]],AdminUnits[],3,FALSE)","v":"Nord"},{"$f":"VLOOKUP(Main3WData13[[#This Row],[Admin Unit Name]],AdminUnits[],4,FALSE)","v":7},{"$f":"VLOOKUP(Main3WData13[[#This Row],[Sector]],Sectors[],2,FALSE)","v":3}]
[null,"PAM",{"$f":"INDEX(Organizations[],MATCH(Main3WData13[[#This Row],[Acronym]],AcronymList,0),1)","v":"Programme Alimentaire Mondial"},{"$f":"INDEX(Organizations[],MATCH(Main3WData13[[#This Row],[Acronym]],AcronymList,0),3)","v":"UN"},"Education","Regulier","Tombouctou",{"$f":"VLOOKUP(Main3WData13[[#This Row],[Admin Unit Name]],AdminUnits[],2,FALSE)","v":"ML06"},{"$f":"VLOOKUP(Main3WData13[[#This Row],[Admin Unit Name]],AdminUnits[],3,FALSE)","v":"Nord"},{"$f":"VLOOKUP(Main3WData13[[#This Row],[Admin Unit Name]],AdminUnits[],4,FALSE)","v":6},{"$f":"VLOOKUP(Main3WData13[[#This Row],[Sector]],Sectors[],2,FALSE)","v":3}]
[null,"PAM",{"$f":"INDEX(Organizations[],MATCH(Main3WData13[[#This Row],[Acronym]],AcronymList,0),1)","v":"Programme Alimentaire Mondial"},{"$f":"INDEX(Organizations[],MATCH(Main3WData13[[#This Row],[Acronym]],AcronymList,0),3)","v":"UN"},"Télécom.  d'urgence","Regulier","Mopti",{"$f":"VLOOKUP(Main3WData13[[#This Row],[Admin Unit Name]],AdminUnits[],2,FALSE)","v":"ML05"},{"$f":"VLOOKUP(Main3WData13[[#This Row],[Admin Unit Name]],AdminUnits[],3,FALSE)","v":"Sud"},{"$f":"VLOOKUP(Main3WData13[[#This Row],[Admin Unit Name]],AdminUnits[],4,FALSE)","v":5},{"$f":"VLOOKUP(Main3WData13[[#This Row],[Sector]],Sectors[],2,FALSE)","v":{"$error":"#N/A"}}]
[null,"PAM",{"$f":"INDEX(Organizations[],MATCH(Main3WData13[[#This Row],[Acronym]],AcronymList,0),1)","v":"Programme Alimentaire Mondial"},{"$f":"INDEX(Organizations[],MATCH(Main3WData13[[#This Row],[Acronym]],AcronymList,0),3)","v":"UN"},"Télécom.  d'urgence","Regulier","TOMBOUCTOU",{"$f":"VLOOKUP(Main3WData13[[#This Row],[Admin Unit Name]],AdminUnits[],2,FALSE)","v":"ML06"},{"$f":"VLOOKUP(Main3WData13[[#This Row],[Admin Unit Name]],AdminUnits[],3,FALSE)","v":"Nord"},{"$f":"VLOOKUP(Main3WData13[[#This Row],[Admin Unit Name]],AdminUnits[],4,FALSE)","v":6},{"$f":"VLOOKUP(Main3WData13[[#This Row],[Sector]],Sectors[],2,FALSE)","v":{"$error":"#N/A"}}]
[null,"PAM",{"$f":"INDEX(Organizations[],MATCH(Main3WData13[[#This Row],[Acronym]],AcronymList,0),1)","v":"Programme Alimentaire Mondial"},{"$f":"INDEX(Organizations[],MATCH(Main3WData13[[#This Row],[Acronym]],AcronymList,0),3)","v":"UN"},"Sécurité alimentaire","Regulier","Bamako",{"$f":"VLOOKUP(Main3WData13[[#This Row],[Admin Unit Name]],AdminUnits[],2,FALSE)","v":"ML09"},{"$f":"VLOOKUP(Main3WData13[[#This Row],[Admin Unit Name]],AdminUnits[],3,FALSE)","v":"Sud"},{"$f":"VLOOKUP(Main3WData13[[#This Row],[Admin Unit Name]],AdminUnits[],4,FALSE)","v":0},{"$f":"VLOOKUP(Main3WData13[[#This Row],[Sector]],Sectors[],2,FALSE)","v":7}]
[null,"PAM",{"$f":"INDEX(Organizations[],MATCH(Main3WData13[[#This Row],[Acronym]],AcronymList,0),1)","v":"Programme Alimentaire Mondial"},{"$f":"INDEX(Organizations[],MATCH(Main3WData13[[#This Row],[Acronym]],AcronymList,0),3)","v":"UN"},"Télécom.  d'urgence","Regulier","Bamako",{"$f":"VLOOKUP(Main3WData13[[#This Row],[Admin Unit Name]],AdminUnits[],2,FALSE)","v":"ML09"},{"$f":"VLOOKUP(Main3WData13[[#This Row],[Admin Unit Name]],AdminUnits[],3,FALSE)","v":"Sud"},{"$f":"VLOOKUP(Main3WData13[[#This Row],[Admin Unit Name]],AdminUnits[],4,FALSE)","v":0},{"$f":"VLOOKUP(Main3WData13[[#This Row],[Sector]],Sectors[],2,FALSE)","v":{"$error":"#N/A"}}]
[null,"PAM",{"$f":"INDEX(Organizations[],MATCH(Main3WData13[[#This Row],[Acronym]],AcronymList,0),1)","v":"Programme Alimentaire Mondial"},{"$f":"INDEX(Organizations[],MATCH(Main3WData13[[#This Row],[Acronym]],AcronymList,0),3)","v":"UN"},"Logistique","Regulier","Mopti",{"$f":"VLOOKUP(Main3WData13[[#This Row],[Admin Unit Name]],AdminUnits[],2,FALSE)","v":"ML05"},{"$f":"VLOOKUP(Main3WData13[[#This Row],[Admin Unit Name]],AdminUnits[],3,FALSE)","v":"Sud"},{"$f":"VLOOKUP(Main3WData13[[#This Row],[Admin Unit Name]],AdminUnits[],4,FALSE)","v":5},{"$f":"VLOOKUP(Main3WData13[[#This Row],[Sector]],Sectors[],2,FALSE)","v":{"$error":"#N/A"}}]
[null,"PAM",{"$f":"INDEX(Organizations[],MATCH(Main3WData13[[#This Row],[Acronym]],AcronymList,0),1)","v":"Programme Alimentaire Mondial"},{"$f":"INDEX(Organizations[],MATCH(Main3WData13[[#This Row],[Acronym]],AcronymList,0),3)","v":"UN"},"Logistique","Regulier","Bamako",{"$f":"VLOOKUP(Main3WData13[[#This Row],[Admin Unit Name]],AdminUnits[],2,FALSE)","v":"ML09"},{"$f":"VLOOKUP(Main3WData13[[#This Row],[Admin Unit Name]],AdminUnits[],3,FALSE)","v":"Sud"},{"$f":"VLOOKUP(Main3WData13[[#This Row],[Admin Unit Name]],AdminUnits[],4,FALSE)","v":0},{"$f":"VLOOKUP(Main3WData13[[#This Row],[Sector]],Sectors[],2,FALSE)","v":{"$error":"#N/A"}}]
[null,"PAM",{"$f":"INDEX(Organizations[],MATCH(Main3WData13[[#This Row],[Acronym]],AcronymList,0),1)","v":"Programme Alimentaire Mondial"},{"$f":"INDEX(Organizations[],MATCH(Main3WData13[[#This Row],[Acronym]],AcronymList,0),3)","v":"UN"},"Coordination","Regulier","Bamako",{"$f":"VLOOKUP(Main3WData13[[#This Row],[Admin Unit Name]],AdminUnits[],2,FALSE)","v":"ML09"},{"$f":"VLOOKUP(Main3WData13[[#This Row],[Admin Unit Name]],AdminUnits[],3,FALSE)","v":"Sud"},{"$f":"VLOOKUP(Main3WData13[[#This Row],[Admin Unit Name]],AdminUnits[],4,FALSE)","v":0},{"$f":"VLOOKUP(Main3WData13[[#This Row],[Sector]],Sectors[],2,FALSE)","v":2}]
[null,"OXFAM GB",{"$f":"INDEX(Organizations[],MATCH(Main3WData13[[#This Row],[Acronym]],AcronymList,0),1)","v":"OXFAM GB"},{"$f":"INDEX(Organizations[],MATCH(Main3WData13[[#This Row],[Acronym]],AcronymList,0),3)","v":"ONG Int."},"Sécurité alimentaire","Regulier","Gao",{"$f":"VLOOKUP(Main3WData13[[#This Row],[Admin Unit Name]],AdminUnits[],2,FALSE)","v":"ML07"},{"$f":"VLOOKUP(Main3WData13[[#This Row],[Admin Unit Name]],AdminUnits[],3,FALSE)","v":"Nord"},{"$f":"VLOOKUP(Main3WData13[[#This Row],[Admin Unit Name]],AdminUnits[],4,FALSE)","v":7},{"$f":"VLOOKUP(Main3WData13[[#This Row],[Sector]],Sectors[],2,FALSE)","v":7}]
[null,"OXFAM GB",{"$f":"INDEX(Organizations[],MATCH(Main3WData13[[#This Row],[Acronym]],AcronymList,0),1)","v":"OXFAM GB"},{"$f":"INDEX(Organizations[],MATCH(Main3WData13[[#This Row],[Acronym]],AcronymList,0),3)","v":"ONG Int."},"Sécurité alimentaire","Regulier","Kayes",{"$f":"VLOOKUP(Main3WData13[[#This Row],[Admin Unit Name]],AdminUnits[],2,FALSE)","v":"ML01"},{"$f":"VLOOKUP(Main3WData13[[#This Row],[Admin Unit Name]],AdminUnits[],3,FALSE)","v":"Sud"},{"$f":"VLOOKUP(Main3WData13[[#This Row],[Admin Unit Name]],AdminUnits[],4,FALSE)","v":1},{"$f":"VLOOKUP(Main3WData13[[#This Row],[Sector]],Sectors[],2,FALSE)","v":7}]
[null,"OXFAM GB",{"$f":"INDEX(Organizations[],MATCH(Main3WData13[[#This Row],[Acronym]],AcronymList,0),1)","v":"OXFAM GB"},{"$f":"INDEX(Organizations[],MATCH(Main3WData13[[#This Row],[Acronym]],AcronymList,0),3)","v":"ONG Int."},"Protection","Regulier","Gao",{"$f":"VLOOKUP(Main3WData13[[#This Row],[Admin Unit Name]],AdminUnits[],2,FALSE)","v":"ML07"},{"$f":"VLOOKUP(Main3WData13[[#This Row],[Admin Unit Name]],AdminUnits[],3,FALSE)","v":"Nord"},{"$f":"VLOOKUP(Main3WData13[[#This Row],[Admin Unit Name]],AdminUnits[],4,FALSE)","v":7},{"$f":"VLOOKUP(Main3WData13[[#This Row],[Sector]],Sectors[],2,FALSE)","v":5}]
[null,"OXFAM GB",{"$f":"INDEX(Organizations[],MATCH(Main3WData13[[#This Row],[Acronym]],AcronymList,0),1)","v":"OXFAM GB"},{"$f":"INDEX(Organizations[],MATCH(Main3WData13[[#This Row],[Acronym]],AcronymList,0),3)","v":"ONG Int."},"EHA","Regulier","GAO",{"$f":"VLOOKUP(Main3WData13[[#This Row],[Admin Unit Name]],AdminUnits[],2,FALSE)","v":"ML07"},{"$f":"VLOOKUP(Main3WData13[[#This Row],[Admin Unit Name]],AdminUnits[],3,FALSE)","v":"Nord"},{"$f":"VLOOKUP(Main3WData13[[#This Row],[Admin Unit Name]],AdminUnits[],4,FALSE)","v":7},{"$f":"VLOOKUP(Main3WData13[[#This Row],[Sector]],Sectors[],2,FALSE)","v":8}]
[null,"OXFAM GB",{"$f":"INDEX(Organizations[],MATCH(Main3WData13[[#This Row],[Acronym]],AcronymList,0),1)","v":"OXFAM GB"},{"$f":"INDEX(Organizations[],MATCH(Main3WData13[[#This Row],[Acronym]],AcronymList,0),3)","v":"ONG Int."},"EHA","Regulier","KAYES",{"$f":"VLOOKUP(Main3WData13[[#This Row],[Admin Unit Name]],AdminUnits[],2,FALSE)","v":"ML01"},{"$f":"VLOOKUP(Main3WData13[[#This Row],[Admin Unit Name]],AdminUnits[],3,FALSE)","v":"Sud"},{"$f":"VLOOKUP(Main3WData13[[#This Row],[Admin Unit Name]],AdminUnits[],4,FALSE)","v":1},{"$f":"VLOOKUP(Main3WData13[[#This Row],[Sector]],Sectors[],2,FALSE)","v":8}]
[null,"OMS",{"$f":"INDEX(Organizations[],MATCH(Main3WData13[[#This Row],[Acronym]],AcronymList,0),1)","v":"Organisation Mondiale de la Sante"},{"$f":"INDEX(Organizations[],MATCH(Main3WData13[[#This Row],[Acronym]],AcronymList,0),3)","v":"UN"},"Santé","Regulier","GAO",{"$f":"VLOOKUP(Main3WData13[[#This Row],[Admin Unit Name]],AdminUnits[],2,FALSE)","v":"ML07"},{"$f":"VLOOKUP(Main3WData13[[#This Row],[Admin Unit Name]],AdminUnits[],3,FALSE)","v":"Nord"},{"$f":"VLOOKUP(Main3WData13[[#This Row],[Admin Unit Name]],AdminUnits[],4,FALSE)","v":7},{"$f":"VLOOKUP(Main3WData13[[#This Row],[Sector]],Sectors[],2,FALSE)","v":6}]
[null,"OMS",{"$f":"INDEX(Organizations[],MATCH(Main3WData13[[#This Row],[Acronym]],AcronymList,0),1)","v":"Organisation Mondiale de la Sante"},{"$f":"INDEX(Organizations[],MATCH(Main3WData13[[#This Row],[Acronym]],AcronymList,0),3)","v":"UN"},"Santé","Regulier","KIDAL",{"$f":"VLOOKUP(Main3WData13[[#This Row],[Admin Unit Name]],AdminUnits[],2,FALSE)","v":"ML08"},{"$f":"VLOOKUP(Main3WData13[[#This Row],[Admin Unit Name]],AdminUnits[],3,FALSE)","v":"Nord"},{"$f":"VLOOKUP(Main3WData13[[#This Row],[Admin Unit Name]],AdminUnits[],4,FALSE)","v":8},{"$f":"VLOOKUP(Main3WData13[[#This Row],[Sector]],Sectors[],2,FALSE)","v":6}]
[null,"OMS",{"$f":"INDEX(Organizations[],MATCH(Main3WData13[[#This Row],[Acronym]],AcronymList,0),1)","v":"Organisation Mondiale de la Sante"},{"$f":"INDEX(Organizations[],MATCH(Main3WData13[[#This Row],[Acronym]],AcronymList,0),3)","v":"UN"},"Santé","Regulier","TOMBOUCTOU",{"$f":"VLOOKUP(Main3WData13[[#This Row],[Admin Unit Name]],AdminUnits[],2,FALSE)","v":"ML06"},{"$f":"VLOOKUP(Main3WData13[[#This Row],[Admin Unit Name]],AdminUnits[],3,FALSE)","v":"Nord"},{"$f":"VLOOKUP(Main3WData13[[#This Row],[Admin Unit Name]],AdminUnits[],4,FALSE)","v":6},{"$f":"VLOOKUP(Main3WData13[[#This Row],[Sector]],Sectors[],2,FALSE)","v":6}]
[null,"OMS",{"$f":"INDEX(Organizations[],MATCH(Main3WData13[[#This Row],[Acronym]],AcronymList,0),1)","v":"Organisation Mondiale de la Sante"},{"$f":"INDEX(Organizations[],MATCH(Main3WData13[[#This Row],[Acronym]],AcronymList,0),3)","v":"UN"},"Coordination","Regulier","Bamako",{"$f":"VLOOKUP(Main3WData13[[#This Row],[Admin Unit Name]],AdminUnits[],2,FALSE)","v":"ML09"},{"$f":"VLOOKUP(Main3WData13[[#This Row],[Admin Unit Name]],AdminUnits[],3,FALSE)","v":"Sud"},{"$f":"VLOOKUP(Main3WData13[[#This Row],[Admin Unit Name]],AdminUnits[],4,FALSE)","v":0},{"$f":"VLOOKUP(Main3WData13[[#This Row],[Sector]],Sectors[],2,FALSE)","v":2}]
[null,"OMAES",{"$f":"INDEX(Organizations[],MATCH(Main3WData13[[#This Row],[Acronym]],AcronymList,0),1)","v":"Œuvre Malienne d'Aide à l'Enfance du Sahel"},{"$f":"INDEX(Organizations[],MATCH(Main3WData13[[#This Row],[Acronym]],AcronymList,0),3)","v":"ONG Nat."},"Sécurité alimentaire","Regulier","Tombouctou",{"$f":"VLOOKUP(Main3WData13[[#This Row],[Admin Unit Name]],AdminUnits[],2,FALSE)","v":"ML06"},{"$f":"VLOOKUP(Main3WData13[[#This Row],[Admin Unit Name]],AdminUnits[],3,FALSE)","v":"Nord"},{"$f":"VLOOKUP(Main3WData13[[#This Row],[Admin Unit Name]],AdminUnits[],4,FALSE)","v":6},{"$f":"VLOOKUP(Main3WData13[[#This Row],[Sector]],Sectors[],2,FALSE)","v":7}]
[null,"OIM",{"$f":"INDEX(Organizations[],MATCH(Main3WData13[[#This Row],[Acronym]],AcronymList,0),1)","v":"Organisation Internationale pour les Migrations"},{"$f":"INDEX(Organizations[],MATCH(Main3WData13[[#This Row],[Acronym]],AcronymList,0),3)","v":"Org Int."},"Protection","Regulier","Gao",{"$f":"VLOOKUP(Main3WData13[[#This Row],[Admin Unit Name]],AdminUnits[],2,FALSE)","v":"ML07"},{"$f":"VLOOKUP(Main3WData13[[#This Row],[Admin Unit Name]],AdminUnits[],3,FALSE)","v":"Nord"},{"$f":"VLOOKUP(Main3WData13[[#This Row],[Admin Unit Name]],AdminUnits[],4,FALSE)","v":7},{"$f":"VLOOKUP(Main3WData13[[#This Row],[Sector]],Sectors[],2,FALSE)","v":5}]
[null,"OIM",{"$f":"INDEX(Organizations[],MATCH(Main3WData13[[#This Row],[Acronym]],AcronymList,0),1)","v":"Organisation Internationale pour les Migrations"},{"$f":"INDEX(Organizations[],MATCH(Main3WData13[[#This Row],[Acronym]],AcronymList,0),3)","v":"Org Int."},"Protection","Regulier","Tombouctou",{"$f":"VLOOKUP(Main3WData13[[#This Row],[Admin Unit Name]],AdminUnits[],2,FALSE)","v":"ML06"},{"$f":"VLOOKUP(Main3WData13[[#This Row],[Admin Unit Name]],AdminUnits[],3,FALSE)","v":"Nord"},{"$f":"VLOOKUP(Main3WData13[[#This Row],[Admin Unit Name]],AdminUnits[],4,FALSE)","v":6},{"$f":"VLOOKUP(Main3WData13[[#This Row],[Sector]],Sectors[],2,FALSE)","v":5}]
[null,"OIM",{"$f":"INDEX(Organizations[],MATCH(Main3WData13[[#This Row],[Acronym]],AcronymList,0),1)","v":"Organisation Internationale pour les Migrations"},{"$f":"INDEX(Organizations[],MATCH(Main3WData13[[#This Row],[Acronym]],AcronymList,0),3)","v":"Org Int."},"Protection","Regulier","Koulikoro",{"$f":"VLOOKUP(Main3WData13[[#This Row],[Admin Unit Name]],AdminUnits[],2,FALSE)","v":"ML02"},{"$f":"VLOOKUP(Main3WData13[[#This Row],[Admin Unit Name]],AdminUnits[],3,FALSE)","v":"Sud"},{"$f":"VLOOKUP(Main3WData13[[#This Row],[Admin Unit Name]],AdminUnits[],4,FALSE)","v":2},{"$f":"VLOOKUP(Main3WData13[[#This Row],[Sector]],Sectors[],2,FALSE)","v":5}]
[null,"OIM",{"$f":"INDEX(Organizations[],MATCH(Main3WData13[[#This Row],[Acronym]],AcronymList,0),1)","v":"Organisation Internationale pour les Migrations"},{"$f":"INDEX(Organizations[],MATCH(Main3WData13[[#This Row],[Acronym]],AcronymList,0),3)","v":"Org Int."},"Protection","Regulier","Mopti",{"$f":"VLOOKUP(Main3WData13[[#This Row],[Admin Unit Name]],AdminUnits[],2,FALSE)","v":"ML05"},{"$f":"VLOOKUP(Main3WData13[[#This Row],[Admin Unit Name]],AdminUnits[],3,FALSE)","v":"Sud"},{"$f":"VLOOKUP(Main3WData13[[#This Row],[Admin Unit Name]],AdminUnits[],4,FALSE)","v":5},{"$f":"VLOOKUP(Main3WData13[[#This Row],[Sector]],Sectors[],2,FALSE)","v":5}]
[null,"OIM",{"$f":"INDEX(Organizations[],MATCH(Main3WData13[[#This Row],[Acronym]],AcronymList,0),1)","v":"Organisation Internationale pour les Migrations"},{"$f":"INDEX(Organizations[],MATCH(Main3WData13[[#This Row],[Acronym]],AcronymList,0),3)","v":"Org Int."},"Protection","Regulier","Kayes",{"$f":"VLOOKUP(Main3WData13[[#This Row],[Admin Unit Name]],AdminUnits[],2,FALSE)","v":"ML01"},{"$f":"VLOOKUP(Main3WData13[[#This Row],[Admin Unit Name]],AdminUnits[],3,FALSE)","v":"Sud"},{"$f":"VLOOKUP(Main3WData13[[#This Row],[Admin Unit Name]],AdminUnits[],4,FALSE)","v":1},{"$f":"VLOOKUP(Main3WData13[[#This Row],[Sector]],Sectors[],2,FALSE)","v":5}]
[null,"OIM",{"$f":"INDEX(Organizations[],MATCH(Main3WData13[[#This Row],[Acronym]],AcronymList,0),1)","v":"Organisation Internationale pour les Migrations"},{"$f":"INDEX(Organizations[],MATCH(Main3WData13[[#This Row],[Acronym]],AcronymList,0),3)","v":"Org Int."},"Protection","Regulier","Kidal",{"$f":"VLOOKUP(Main3WData13[[#This Row],[Admin Unit Name]],AdminUnits[],2,FALSE)","v":"ML08"},{"$f":"VLOOKUP(Main3WData13[[#This Row],[Admin Unit Name]],AdminUnits[],3,FALSE)","v":"Nord"},{"$f":"VLOOKUP(Main3WData13[[#This Row],[Admin Unit Name]],AdminUnits[],4,FALSE)","v":8},{"$f":"VLOOKUP(Main3WData13[[#This Row],[Sector]],Sectors[],2,FALSE)","v":5}]
[null,"OIM",{"$f":"INDEX(Organizations[],MATCH(Main3WData13[[#This Row],[Acronym]],AcronymList,0),1)","v":"Organisation Internationale pour les Migrations"},{"$f":"INDEX(Organizations[],MATCH(Main3WData13[[#This Row],[Acronym]],AcronymList,0),3)","v":"Org Int."},"Protection","Regulier","Sikasso",{"$f":"VLOOKUP(Main3WData13[[#This Row],[Admin Unit Name]],AdminUnits[],2,FALSE)","v":"ML03"},{"$f":"VLOOKUP(Main3WData13[[#This Row],[Admin Unit Name]],AdminUnits[],3,FALSE)","v":"Sud"},{"$f":"VLOOKUP(Main3WData13[[#This Row],[Admin Unit Name]],AdminUnits[],4,FALSE)","v":3},{"$f":"VLOOKUP(Main3WData13[[#This Row],[Sector]],Sectors[],2,FALSE)","v":5}]
[null,"OIM",{"$f":"INDEX(Organizations[],MATCH(Main3WData13[[#This Row],[Acronym]],AcronymList,0),1)","v":"Organisation Internationale pour les Migrations"},{"$f":"INDEX(Organizations[],MATCH(Main3WData13[[#This Row],[Acronym]],AcronymList,0),3)","v":"Org Int."},"Protection","Regulier","Segou",{"$f":"VLOOKUP(Main3WData13[[#This Row],[Admin Unit Name]],AdminUnits[],2,FALSE)","v":"ML04"},{"$f":"VLOOKUP(Main3WData13[[#This Row],[Admin Unit Name]],AdminUnits[],3,FALSE)","v":"Sud"},{"$f":"VLOOKUP(Main3WData13[[#This Row],[Admin Unit Name]],AdminUnits[],4,FALSE)","v":4},{"$f":"VLOOKUP(Main3WData13[[#This Row],[Sector]],Sectors[],2,FALSE)","v":5}]
[null,"OIM",{"$f":"INDEX(Organizations[],MATCH(Main3WData13[[#This Row],[Acronym]],AcronymList,0),1)","v":"Organisation Internationale pour les Migrations"},{"$f":"INDEX(Organizations[],MATCH(Main3WData13[[#This Row],[Acronym]],AcronymList,0),3)","v":"Org Int."},"Abris et NFI","Regulier","Mopti",{"$f":"VLOOKUP(Main3WData13[[#This Row],[Admin Unit Name]],AdminUnits[],2,FALSE)","v":"ML05"},{"$f":"VLOOKUP(Main3WData13[[#This Row],[Admin Unit Name]],AdminUnits[],3,FALSE)","v":"Sud"},{"$f":"VLOOKUP(Main3WData13[[#This Row],[Admin Unit Name]],AdminUnits[],4,FALSE)","v":5},{"$f":"VLOOKUP(Main3WData13[[#This Row],[Sector]],Sectors[],2,FALSE)","v":1}]
[null,"OIM",{"$f":"INDEX(Organizations[],MATCH(Main3WData13[[#This Row],[Acronym]],AcronymList,0),1)","v":"Organisation Internationale pour les Migrations"},{"$f":"INDEX(Organizations[],MATCH(Main3WData13[[#This Row],[Acronym]],AcronymList,0),3)","v":"Org Int."},"Abris et NFI","Regulier","Tombouctou",{"$f":"VLOOKUP(Main3WData13[[#This Row],[Admin Unit Name]],AdminUnits[],2,FALSE)","v":"ML06"},{"$f":"VLOOKUP(Main3WData13[[#This Row],[Admin Unit Name]],AdminUnits[],3,FALSE)","v":"Nord"},{"$f":"VLOOKUP(Main3WData13[[#This Row],[Admin Unit Name]],AdminUnits[],4,FALSE)","v":6},{"$f":"VLOOKUP(Main3WData13[[#This Row],[Sector]],Sectors[],2,FALSE)","v":1}]
[null,"OIM",{"$f":"INDEX(Organizations[],MATCH(Main3WData13[[#This Row],[Acronym]],AcronymList,0),1)","v":"Organisation Internationale pour les Migrations"},{"$f":"INDEX(Organizations[],MATCH(Main3WData13[[#This Row],[Acronym]],AcronymList,0),3)","v":"Org Int."},"Protection","Regulier","Bamako",{"$f":"VLOOKUP(Main3WData13[[#This Row],[Admin Unit Name]],AdminUnits[],2,FALSE)","v":"ML09"},{"$f":"VLOOKUP(Main3WData13[[#This Row],[Admin Unit Name]],AdminUnits[],3,FALSE)","v":"Sud"},{"$f":"VLOOKUP(Main3WData13[[#This Row],[Admin Unit Name]],AdminUnits[],4,FALSE)","v":0},{"$f":"VLOOKUP(Main3WData13[[#This Row],[Sector]],Sectors[],2,FALSE)","v":5}]
[null,"OIM",{"$f":"INDEX(Organizations[],MATCH(Main3WData13[[#This Row],[Acronym]],AcronymList,0),1)","v":"Organisation Internationale pour les Migrations"},{"$f":"INDEX(Organizations[],MATCH(Main3WData13[[#This Row],[Acronym]],AcronymList,0),3)","v":"Org Int."},"Abris et NFI","Regulier","segou",{"$f":"VLOOKUP(Main3WData13[[#This Row],[Admin Unit Name]],AdminUnits[],2,FALSE)","v":"ML04"},{"$f":"VLOOKUP(Main3WData13[[#This Row],[Admin Unit Name]],AdminUnits[],3,FALSE)","v":"Sud"},{"$f":"VLOOKUP(Main3WData13[[#This Row],[Admin Unit Name]],AdminUnits[],4,FALSE)","v":4},{"$f":"VLOOKUP(Main3WData13[[#This Row],[Sector]],Sectors[],2,FALSE)","v":1}]
[null,"OIM",{"$f":"INDEX(Organizations[],MATCH(Main3WData13[[#This Row],[Acronym]],AcronymList,0),1)","v":"Organisation Internationale pour les Migrations"},{"$f":"INDEX(Organizations[],MATCH(Main3WData13[[#This Row],[Acronym]],AcronymList,0),3)","v":"Org Int."},"Nutrition","Regulier","Bamako",{"$f":"VLOOKUP(Main3WData13[[#This Row],[Admin Unit Name]],AdminUnits[],2,FALSE)","v":"ML09"},{"$f":"VLOOKUP(Main3WData13[[#This Row],[Admin Unit Name]],AdminUnits[],3,FALSE)","v":"Sud"},{"$f":"VLOOKUP(Main3WData13[[#This Row],[Admin Unit Name]],AdminUnits[],4,FALSE)","v":0},{"$f":"VLOOKUP(Main3WData13[[#This Row],[Sector]],Sectors[],2,FALSE)","v":4}]
[null,"OIM",{"$f":"INDEX(Organizations[],MATCH(Main3WData13[[#This Row],[Acronym]],AcronymList,0),1)","v":"Organisation Internationale pour les Migrations"},{"$f":"INDEX(Organizations[],MATCH(Main3WData13[[#This Row],[Acronym]],AcronymList,0),3)","v":"Org Int."},"Abris et NFI","Regulier","Bamako",{"$f":"VLOOKUP(Main3WData13[[#This Row],[Admin Unit Name]],AdminUnits[],2,FALSE)","v":"ML09"},{"$f":"VLOOKUP(Main3WData13[[#This Row],[Admin Unit Name]],AdminUnits[],3,FALSE)","v":"Sud"},{"$f":"VLOOKUP(Main3WData13[[#This Row],[Admin Unit Name]],AdminUnits[],4,FALSE)","v":0},{"$f":"VLOOKUP(Main3WData13[[#This Row],[Sector]],Sectors[],2,FALSE)","v":1}]
[null,"OIM",{"$f":"INDEX(Organizations[],MATCH(Main3WData13[[#This Row],[Acronym]],AcronymList,0),1)","v":"Organisation Internationale pour les Migrations"},{"$f":"INDEX(Organizations[],MATCH(Main3WData13[[#This Row],[Acronym]],AcronymList,0),3)","v":"Org Int."},"EHA","Regulier","BAMAKO",{"$f":"VLOOKUP(Main3WData13[[#This Row],[Admin Unit Name]],AdminUnits[],2,FALSE)","v":"ML09"},{"$f":"VLOOKUP(Main3WData13[[#This Row],[Admin Unit Name]],AdminUnits[],3,FALSE)","v":"Sud"},{"$f":"VLOOKUP(Main3WData13[[#This Row],[Admin Unit Name]],AdminUnits[],4,FALSE)","v":0},{"$f":"VLOOKUP(Main3WData13[[#This Row],[Sector]],Sectors[],2,FALSE)","v":8}]
[null,"OIM",{"$f":"INDEX(Organizations[],MATCH(Main3WData13[[#This Row],[Acronym]],AcronymList,0),1)","v":"Organisation Internationale pour les Migrations"},{"$f":"INDEX(Organizations[],MATCH(Main3WData13[[#This Row],[Acronym]],AcronymList,0),3)","v":"Org Int."},"Coordination","Regulier","Bamako",{"$f":"VLOOKUP(Main3WData13[[#This Row],[Admin Unit Name]],AdminUnits[],2,FALSE)","v":"ML09"},{"$f":"VLOOKUP(Main3WData13[[#This Row],[Admin Unit Name]],AdminUnits[],3,FALSE)","v":"Sud"},{"$f":"VLOOKUP(Main3WData13[[#This Row],[Admin Unit Name]],AdminUnits[],4,FALSE)","v":0},{"$f":"VLOOKUP(Main3WData13[[#This Row],[Sector]],Sectors[],2,FALSE)","v":2}]
[null,"OIM",{"$f":"INDEX(Organizations[],MATCH(Main3WData13[[#This Row],[Acronym]],AcronymList,0),1)","v":"Organisation Internationale pour les Migrations"},{"$f":"INDEX(Organizations[],MATCH(Main3WData13[[#This Row],[Acronym]],AcronymList,0),3)","v":"Org Int."},"Santé","Regulier","Mopti",{"$f":"VLOOKUP(Main3WData13[[#This Row],[Admin Unit Name]],AdminUnits[],2,FALSE)","v":"ML05"},{"$f":"VLOOKUP(Main3WData13[[#This Row],[Admin Unit Name]],AdminUnits[],3,FALSE)","v":"Sud"},{"$f":"VLOOKUP(Main3WData13[[#This Row],[Admin Unit Name]],AdminUnits[],4,FALSE)","v":5},{"$f":"VLOOKUP(Main3WData13[[#This Row],[Sector]],Sectors[],2,FALSE)","v":6}]
[null,"OGES",{"$f":"INDEX(Organizations[],MATCH(Main3WData13[[#This Row],[Acronym]],AcronymList,0),1)","v":"OGES"},{"$f":"INDEX(Organizations[],MATCH(Main3WData13[[#This Row],[Acronym]],AcronymList,0),3)","v":"ONG Nat."},"Sécurité alimentaire","Regulier","Mopti",{"$f":"VLOOKUP(Main3WData13[[#This Row],[Admin Unit Name]],AdminUnits[],2,FALSE)","v":"ML05"},{"$f":"VLOOKUP(Main3WData13[[#This Row],[Admin Unit Name]],AdminUnits[],3,FALSE)","v":"Sud"},{"$f":"VLOOKUP(Main3WData13[[#This Row],[Admin Unit Name]],AdminUnits[],4,FALSE)","v":5},{"$f":"VLOOKUP(Main3WData13[[#This Row],[Sector]],Sectors[],2,FALSE)","v":7}]
[null,"OCHA",{"$f":"INDEX(Organizations[],MATCH(Main3WData13[[#This Row],[Acronym]],AcronymList,0),1)","v":"Bureau de coordination des affaires humanitaires"},{"$f":"INDEX(Organizations[],MATCH(Main3WData13[[#This Row],[Acronym]],AcronymList,0),3)","v":"UN"},"Coordination","Regulier","Bamako",{"$f":"VLOOKUP(Main3WData13[[#This Row],[Admin Unit Name]],AdminUnits[],2,FALSE)","v":"ML09"},{"$f":"VLOOKUP(Main3WData13[[#This Row],[Admin Unit Name]],AdminUnits[],3,FALSE)","v":"Sud"},{"$f":"VLOOKUP(Main3WData13[[#This Row],[Admin Unit Name]],AdminUnits[],4,FALSE)","v":0},{"$f":"VLOOKUP(Main3WData13[[#This Row],[Sector]],Sectors[],2,FALSE)","v":2}]
[null,"OCHA",{"$f":"INDEX(Organizations[],MATCH(Main3WData13[[#This Row],[Acronym]],AcronymList,0),1)","v":"Bureau de coordination des affaires humanitaires"},{"$f":"INDEX(Organizations[],MATCH(Main3WData13[[#This Row],[Acronym]],AcronymList,0),3)","v":"UN"},"Coordination","Regulier","Kayes",{"$f":"VLOOKUP(Main3WData13[[#This Row],[Admin Unit Name]],AdminUnits[],2,FALSE)","v":"ML01"},{"$f":"VLOOKUP(Main3WData13[[#This Row],[Admin Unit Name]],AdminUnits[],3,FALSE)","v":"Sud"},{"$f":"VLOOKUP(Main3WData13[[#This Row],[Admin Unit Name]],AdminUnits[],4,FALSE)","v":1},{"$f":"VLOOKUP(Main3WData13[[#This Row],[Sector]],Sectors[],2,FALSE)","v":2}]
[null,"OCHA",{"$f":"INDEX(Organizations[],MATCH(Main3WData13[[#This Row],[Acronym]],AcronymList,0),1)","v":"Bureau de coordination des affaires humanitaires"},{"$f":"INDEX(Organizations[],MATCH(Main3WData13[[#This Row],[Acronym]],AcronymList,0),3)","v":"UN"},"Coordination","Regulier","Mopti",{"$f":"VLOOKUP(Main3WData13[[#This Row],[Admin Unit Name]],AdminUnits[],2,FALSE)","v":"ML05"},{"$f":"VLOOKUP(Main3WData13[[#This Row],[Admin Unit Name]],AdminUnits[],3,FALSE)","v":"Sud"},{"$f":"VLOOKUP(Main3WData13[[#This Row],[Admin Unit Name]],AdminUnits[],4,FALSE)","v":5},{"$f":"VLOOKUP(Main3WData13[[#This Row],[Sector]],Sectors[],2,FALSE)","v":2}]
[null,"OCHA",{"$f":"INDEX(Organizations[],MATCH(Main3WData13[[#This Row],[Acronym]],AcronymList,0),1)","v":"Bureau de coordination des affaires humanitaires"},{"$f":"INDEX(Organizations[],MATCH(Main3WData13[[#This Row],[Acronym]],AcronymList,0),3)","v":"UN"},"Coordination","Regulier","Tombouctou",{"$f":"VLOOKUP(Main3WData13[[#This Row],[Admin Unit Name]],AdminUnits[],2,FALSE)","v":"ML06"},{"$f":"VLOOKUP(Main3WData13[[#This Row],[Admin Unit Name]],AdminUnits[],3,FALSE)","v":"Nord"},{"$f":"VLOOKUP(Main3WData13[[#This Row],[Admin Unit Name]],AdminUnits[],4,FALSE)","v":6},{"$f":"VLOOKUP(Main3WData13[[#This Row],[Sector]],Sectors[],2,FALSE)","v":2}]
[null,"OCHA",{"$f":"INDEX(Organizations[],MATCH(Main3WData13[[#This Row],[Acronym]],AcronymList,0),1)","v":"Bureau de coordination des affaires humanitaires"},{"$f":"INDEX(Organizations[],MATCH(Main3WData13[[#This Row],[Acronym]],AcronymList,0),3)","v":"UN"},"Coordination","Regulier","Gao",{"$f":"VLOOKUP(Main3WData13[[#This Row],[Admin Unit Name]],AdminUnits[],2,FALSE)","v":"ML07"},{"$f":"VLOOKUP(Main3WData13[[#This Row],[Admin Unit Name]],AdminUnits[],3,FALSE)","v":"Nord"},{"$f":"VLOOKUP(Main3WData13[[#This Row],[Admin Unit Name]],AdminUnits[],4,FALSE)","v":7},{"$f":"VLOOKUP(Main3WData13[[#This Row],[Sector]],Sectors[],2,FALSE)","v":2}]
[null,"NRC",{"$f":"INDEX(Organizations[],MATCH(Main3WData13[[#This Row],[Acronym]],AcronymList,0),1)","v":"Norwegian Refugee Council "},{"$f":"INDEX(Organizations[],MATCH(Main3WData13[[#This Row],[Acronym]],AcronymList,0),3)","v":"ONG Int."},"Protection","Regulier","Segou",{"$f":"VLOOKUP(Main3WData13[[#This Row],[Admin Unit Name]],AdminUnits[],2,FALSE)","v":"ML04"},{"$f":"VLOOKUP(Main3WData13[[#This Row],[Admin Unit Name]],AdminUnits[],3,FALSE)","v":"Sud"},{"$f":"VLOOKUP(Main3WData13[[#This Row],[Admin Unit Name]],AdminUnits[],4,FALSE)","v":4},{"$f":"VLOOKUP(Main3WData13[[#This Row],[Sector]],Sectors[],2,FALSE)","v":5}]
[null,"NRC",{"$f":"INDEX(Organizations[],MATCH(Main3WData13[[#This Row],[Acronym]],AcronymList,0),1)","v":"Norwegian Refugee Council "},{"$f":"INDEX(Organizations[],MATCH(Main3WData13[[#This Row],[Acronym]],AcronymList,0),3)","v":"ONG Int."},"Protection","Regulier","Mopti",{"$f":"VLOOKUP(Main3WData13[[#This Row],[Admin Unit Name]],AdminUnits[],2,FALSE)","v":"ML05"},{"$f":"VLOOKUP(Main3WData13[[#This Row],[Admin Unit Name]],AdminUnits[],3,FALSE)","v":"Sud"},{"$f":"VLOOKUP(Main3WData13[[#This Row],[Admin Unit Name]],AdminUnits[],4,FALSE)","v":5},{"$f":"VLOOKUP(Main3WData13[[#This Row],[Sector]],Sectors[],2,FALSE)","v":5}]
[null,"NRC",{"$f":"INDEX(Organizations[],MATCH(Main3WData13[[#This Row],[Acronym]],AcronymList,0),1)","v":"Norwegian Refugee Council "},{"$f":"INDEX(Organizations[],MATCH(Main3WData13[[#This Row],[Acronym]],AcronymList,0),3)","v":"ONG Int."},"Protection","Regulier","Bamako",{"$f":"VLOOKUP(Main3WData13[[#This Row],[Admin Unit Name]],AdminUnits[],2,FALSE)","v":"ML09"},{"$f":"VLOOKUP(Main3WData13[[#This Row],[Admin Unit Name]],AdminUnits[],3,FALSE)","v":"Sud"},{"$f":"VLOOKUP(Main3WData13[[#This Row],[Admin Unit Name]],AdminUnits[],4,FALSE)","v":0},{"$f":"VLOOKUP(Main3WData13[[#This Row],[Sector]],Sectors[],2,FALSE)","v":5}]
[null,"NRC",{"$f":"INDEX(Organizations[],MATCH(Main3WData13[[#This Row],[Acronym]],AcronymList,0),1)","v":"Norwegian Refugee Council "},{"$f":"INDEX(Organizations[],MATCH(Main3WData13[[#This Row],[Acronym]],AcronymList,0),3)","v":"ONG Int."},"Abris et NFI","Regulier","Bamako",{"$f":"VLOOKUP(Main3WData13[[#This Row],[Admin Unit Name]],AdminUnits[],2,FALSE)","v":"ML09"},{"$f":"VLOOKUP(Main3WData13[[#This Row],[Admin Unit Name]],AdminUnits[],3,FALSE)","v":"Sud"},{"$f":"VLOOKUP(Main3WData13[[#This Row],[Admin Unit Name]],AdminUnits[],4,FALSE)","v":0},{"$f":"VLOOKUP(Main3WData13[[#This Row],[Sector]],Sectors[],2,FALSE)","v":1}]
[null,"NRC",{"$f":"INDEX(Organizations[],MATCH(Main3WData13[[#This Row],[Acronym]],AcronymList,0),1)","v":"Norwegian Refugee Council "},{"$f":"INDEX(Organizations[],MATCH(Main3WData13[[#This Row],[Acronym]],AcronymList,0),3)","v":"ONG Int."},"Abris et NFI","Regulier","Segou",{"$f":"VLOOKUP(Main3WData13[[#This Row],[Admin Unit Name]],AdminUnits[],2,FALSE)","v":"ML04"},{"$f":"VLOOKUP(Main3WData13[[#This Row],[Admin Unit Name]],AdminUnits[],3,FALSE)","v":"Sud"},{"$f":"VLOOKUP(Main3WData13[[#This Row],[Admin Unit Name]],AdminUnits[],4,FALSE)","v":4},{"$f":"VLOOKUP(Main3WData13[[#This Row],[Sector]],Sectors[],2,FALSE)","v":1}]
[null,"NRC",{"$f":"INDEX(Organizations[],MATCH(Main3WData13[[#This Row],[Acronym]],AcronymList,0),1)","v":"Norwegian Refugee Council "},{"$f":"INDEX(Organizations[],MATCH(Main3WData13[[#This Row],[Acronym]],AcronymList,0),3)","v":"ONG Int."},"Abris et NFI","Regulier","Mopti",{"$f":"VLOOKUP(Main3WData13[[#This Row],[Admin Unit Name]],AdminUnits[],2,FALSE)","v":"ML05"},{"$f":"VLOOKUP(Main3WData13[[#This Row],[Admin Unit Name]],AdminUnits[],3,FALSE)","v":"Sud"},{"$f":"VLOOKUP(Main3WData13[[#This Row],[Admin Unit Name]],AdminUnits[],4,FALSE)","v":5},{"$f":"VLOOKUP(Main3WData13[[#This Row],[Sector]],Sectors[],2,FALSE)","v":1}]
[null,"NCA",{"$f":"INDEX(Organizations[],MATCH(Main3WData13[[#This Row],[Acronym]],AcronymList,0),1)","v":"Norwegian Church Aid"},{"$f":"INDEX(Organizations[],MATCH(Main3WData13[[#This Row],[Acronym]],AcronymList,0),3)","v":"ONG Int."},"Sécurité alimentaire","Regulier","Kidal",{"$f":"VLOOKUP(Main3WData13[[#This Row],[Admin Unit Name]],AdminUnits[],2,FALSE)","v":"ML08"},{"$f":"VLOOKUP(Main3WData13[[#This Row],[Admin Unit Name]],AdminUnits[],3,FALSE)","v":"Nord"},{"$f":"VLOOKUP(Main3WData13[[#This Row],[Admin Unit Name]],AdminUnits[],4,FALSE)","v":8},{"$f":"VLOOKUP(Main3WData13[[#This Row],[Sector]],Sectors[],2,FALSE)","v":7}]
[null,"MSI",{"$f":"INDEX(Organizations[],MATCH(Main3WData13[[#This Row],[Acronym]],AcronymList,0),1)","v":"Marie Stopes International"},{"$f":"INDEX(Organizations[],MATCH(Main3WData13[[#This Row],[Acronym]],AcronymList,0),3)","v":"ONG Int."},"Santé","Regulier","Segou",{"$f":"VLOOKUP(Main3WData13[[#This Row],[Admin Unit Name]],AdminUnits[],2,FALSE)","v":"ML04"},{"$f":"VLOOKUP(Main3WData13[[#This Row],[Admin Unit Name]],AdminUnits[],3,FALSE)","v":"Sud"},{"$f":"VLOOKUP(Main3WData13[[#This Row],[Admin Unit Name]],AdminUnits[],4,FALSE)","v":4},{"$f":"VLOOKUP(Main3WData13[[#This Row],[Sector]],Sectors[],2,FALSE)","v":6}]
[null,"MSF",{"$f":"INDEX(Organizations[],MATCH(Main3WData13[[#This Row],[Acronym]],AcronymList,0),1)","v":"Médecins Sans Frontières"},{"$f":"INDEX(Organizations[],MATCH(Main3WData13[[#This Row],[Acronym]],AcronymList,0),3)","v":"ONG Int."},"Santé","Regulier","GAO",{"$f":"VLOOKUP(Main3WData13[[#This Row],[Admin Unit Name]],AdminUnits[],2,FALSE)","v":"ML07"},{"$f":"VLOOKUP(Main3WData13[[#This Row],[Admin Unit Name]],AdminUnits[],3,FALSE)","v":"Nord"},{"$f":"VLOOKUP(Main3WData13[[#This Row],[Admin Unit Name]],AdminUnits[],4,FALSE)","v":7},{"$f":"VLOOKUP(Main3WData13[[#This Row],[Sector]],Sectors[],2,FALSE)","v":6}]
[null,"MSF",{"$f":"INDEX(Organizations[],MATCH(Main3WData13[[#This Row],[Acronym]],AcronymList,0),1)","v":"Médecins Sans Frontières"},{"$f":"INDEX(Organizations[],MATCH(Main3WData13[[#This Row],[Acronym]],AcronymList,0),3)","v":"ONG Int."},"Santé","Regulier","TOMBOUCTOU",{"$f":"VLOOKUP(Main3WData13[[#This Row],[Admin Unit Name]],AdminUnits[],2,FALSE)","v":"ML06"},{"$f":"VLOOKUP(Main3WData13[[#This Row],[Admin Unit Name]],AdminUnits[],3,FALSE)","v":"Nord"},{"$f":"VLOOKUP(Main3WData13[[#This Row],[Admin Unit Name]],AdminUnits[],4,FALSE)","v":6},{"$f":"VLOOKUP(Main3WData13[[#This Row],[Sector]],Sectors[],2,FALSE)","v":6}]
[null,"MSF",{"$f":"INDEX(Organizations[],MATCH(Main3WData13[[#This Row],[Acronym]],AcronymList,0),1)","v":"Médecins Sans Frontières"},{"$f":"INDEX(Organizations[],MATCH(Main3WData13[[#This Row],[Acronym]],AcronymList,0),3)","v":"ONG Int."},"Santé","Regulier","MOPTI",{"$f":"VLOOKUP(Main3WData13[[#This Row],[Admin Unit Name]],AdminUnits[],2,FALSE)","v":"ML05"},{"$f":"VLOOKUP(Main3WData13[[#This Row],[Admin Unit Name]],AdminUnits[],3,FALSE)","v":"Sud"},{"$f":"VLOOKUP(Main3WData13[[#This Row],[Admin Unit Name]],AdminUnits[],4,FALSE)","v":5},{"$f":"VLOOKUP(Main3WData13[[#This Row],[Sector]],Sectors[],2,FALSE)","v":6}]
[null,"MSF",{"$f":"INDEX(Organizations[],MATCH(Main3WData13[[#This Row],[Acronym]],AcronymList,0),1)","v":"Médecins Sans Frontières"},{"$f":"INDEX(Organizations[],MATCH(Main3WData13[[#This Row],[Acronym]],AcronymList,0),3)","v":"ONG Int."},"Nutrition","Urgence","Gao",{"$f":"VLOOKUP(Main3WData13[[#This Row],[Admin Unit Name]],AdminUnits[],2,FALSE)","v":"ML07"},{"$f":"VLOOKUP(Main3WData13[[#This Row],[Admin Unit Name]],AdminUnits[],3,FALSE)","v":"Nord"},{"$f":"VLOOKUP(Main3WData13[[#This Row],[Admin Unit Name]],AdminUnits[],4,FALSE)","v":7},{"$f":"VLOOKUP(Main3WData13[[#This Row],[Sector]],Sectors[],2,FALSE)","v":4}]
[null,"MSF",{"$f":"INDEX(Organizations[],MATCH(Main3WData13[[#This Row],[Acronym]],AcronymList,0),1)","v":"Médecins Sans Frontières"},{"$f":"INDEX(Organizations[],MATCH(Main3WData13[[#This Row],[Acronym]],AcronymList,0),3)","v":"ONG Int."},"Nutrition","Urgence","Mopti",{"$f":"VLOOKUP(Main3WData13[[#This Row],[Admin Unit Name]],AdminUnits[],2,FALSE)","v":"ML05"},{"$f":"VLOOKUP(Main3WData13[[#This Row],[Admin Unit Name]],AdminUnits[],3,FALSE)","v":"Sud"},{"$f":"VLOOKUP(Main3WData13[[#This Row],[Admin Unit Name]],AdminUnits[],4,FALSE)","v":5},{"$f":"VLOOKUP(Main3WData13[[#This Row],[Sector]],Sectors[],2,FALSE)","v":4}]
[null,"MSF",{"$f":"INDEX(Organizations[],MATCH(Main3WData13[[#This Row],[Acronym]],AcronymList,0),1)","v":"Médecins Sans Frontières"},{"$f":"INDEX(Organizations[],MATCH(Main3WData13[[#This Row],[Acronym]],AcronymList,0),3)","v":"ONG Int."},"Nutrition","Urgence","Sikasso",{"$f":"VLOOKUP(Main3WData13[[#This Row],[Admin Unit Name]],AdminUnits[],2,FALSE)","v":"ML03"},{"$f":"VLOOKUP(Main3WData13[[#This Row],[Admin Unit Name]],AdminUnits[],3,FALSE)","v":"Sud"},{"$f":"VLOOKUP(Main3WData13[[#This Row],[Admin Unit Name]],AdminUnits[],4,FALSE)","v":3},{"$f":"VLOOKUP(Main3WData13[[#This Row],[Sector]],Sectors[],2,FALSE)","v":4}]
[null,"MSF",{"$f":"INDEX(Organizations[],MATCH(Main3WData13[[#This Row],[Acronym]],AcronymList,0),1)","v":"Médecins Sans Frontières"},{"$f":"INDEX(Organizations[],MATCH(Main3WData13[[#This Row],[Acronym]],AcronymList,0),3)","v":"ONG Int."},"Nutrition","Urgence","Tombouctou",{"$f":"VLOOKUP(Main3WData13[[#This Row],[Admin Unit Name]],AdminUnits[],2,FALSE)","v":"ML06"},{"$f":"VLOOKUP(Main3WData13[[#This Row],[Admin Unit Name]],AdminUnits[],3,FALSE)","v":"Nord"},{"$f":"VLOOKUP(Main3WData13[[#This Row],[Admin Unit Name]],AdminUnits[],4,FALSE)","v":6},{"$f":"VLOOKUP(Main3WData13[[#This Row],[Sector]],Sectors[],2,FALSE)","v":4}]
[null,"MSF",{"$f":"INDEX(Organizations[],MATCH(Main3WData13[[#This Row],[Acronym]],AcronymList,0),1)","v":"Médecins Sans Frontières"},{"$f":"INDEX(Organizations[],MATCH(Main3WData13[[#This Row],[Acronym]],AcronymList,0),3)","v":"ONG Int."},"Santé","Regulier","Mopti",{"$f":"VLOOKUP(Main3WData13[[#This Row],[Admin Unit Name]],AdminUnits[],2,FALSE)","v":"ML05"},{"$f":"VLOOKUP(Main3WData13[[#This Row],[Admin Unit Name]],AdminUnits[],3,FALSE)","v":"Sud"},{"$f":"VLOOKUP(Main3WData13[[#This Row],[Admin Unit Name]],AdminUnits[],4,FALSE)","v":5},{"$f":"VLOOKUP(Main3WData13[[#This Row],[Sector]],Sectors[],2,FALSE)","v":6}]
[null,"MPDL",{"$f":"INDEX(Organizations[],MATCH(Main3WData13[[#This Row],[Acronym]],AcronymList,0),1)","v":"Mouvement pour la Paix "},{"$f":"INDEX(Organizations[],MATCH(Main3WData13[[#This Row],[Acronym]],AcronymList,0),3)","v":"ONG Int."},"Nutrition","Regulier","Kayes",{"$f":"VLOOKUP(Main3WData13[[#This Row],[Admin Unit Name]],AdminUnits[],2,FALSE)","v":"ML01"},{"$f":"VLOOKUP(Main3WData13[[#This Row],[Admin Unit Name]],AdminUnits[],3,FALSE)","v":"Sud"},{"$f":"VLOOKUP(Main3WData13[[#This Row],[Admin Unit Name]],AdminUnits[],4,FALSE)","v":1},{"$f":"VLOOKUP(Main3WData13[[#This Row],[Sector]],Sectors[],2,FALSE)","v":4}]
[null,"Molibemo",{"$f":"INDEX(Organizations[],MATCH(Main3WData13[[#This Row],[Acronym]],AcronymList,0),1)","v":"Molibemo"},{"$f":"INDEX(Organizations[],MATCH(Main3WData13[[#This Row],[Acronym]],AcronymList,0),3)","v":"ONG Nat."},"Sécurité alimentaire","Regulier","Mopti",{"$f":"VLOOKUP(Main3WData13[[#This Row],[Admin Unit Name]],AdminUnits[],2,FALSE)","v":"ML05"},{"$f":"VLOOKUP(Main3WData13[[#This Row],[Admin Unit Name]],AdminUnits[],3,FALSE)","v":"Sud"},{"$f":"VLOOKUP(Main3WData13[[#This Row],[Admin Unit Name]],AdminUnits[],4,FALSE)","v":5},{"$f":"VLOOKUP(Main3WData13[[#This Row],[Sector]],Sectors[],2,FALSE)","v":7}]
[null,"MDM France",{"$f":"INDEX(Organizations[],MATCH(Main3WData13[[#This Row],[Acronym]],AcronymList,0),1)","v":"Médecins Du Monde France"},{"$f":"INDEX(Organizations[],MATCH(Main3WData13[[#This Row],[Acronym]],AcronymList,0),3)","v":"ONG Int."},"Santé","Regulier","MOPTI",{"$f":"VLOOKUP(Main3WData13[[#This Row],[Admin Unit Name]],AdminUnits[],2,FALSE)","v":"ML05"},{"$f":"VLOOKUP(Main3WData13[[#This Row],[Admin Unit Name]],AdminUnits[],3,FALSE)","v":"Sud"},{"$f":"VLOOKUP(Main3WData13[[#This Row],[Admin Unit Name]],AdminUnits[],4,FALSE)","v":5},{"$f":"VLOOKUP(Main3WData13[[#This Row],[Sector]],Sectors[],2,FALSE)","v":6}]
[null,"MDM France",{"$f":"INDEX(Organizations[],MATCH(Main3WData13[[#This Row],[Acronym]],AcronymList,0),1)","v":"Médecins Du Monde France"},{"$f":"INDEX(Organizations[],MATCH(Main3WData13[[#This Row],[Acronym]],AcronymList,0),3)","v":"ONG Int."},"Santé","Regulier","BAMAKO",{"$f":"VLOOKUP(Main3WData13[[#This Row],[Admin Unit Name]],AdminUnits[],2,FALSE)","v":"ML09"},{"$f":"VLOOKUP(Main3WData13[[#This Row],[Admin Unit Name]],AdminUnits[],3,FALSE)","v":"Sud"},{"$f":"VLOOKUP(Main3WData13[[#This Row],[Admin Unit Name]],AdminUnits[],4,FALSE)","v":0},{"$f":"VLOOKUP(Main3WData13[[#This Row],[Sector]],Sectors[],2,FALSE)","v":6}]
[null,"MDM France",{"$f":"INDEX(Organizations[],MATCH(Main3WData13[[#This Row],[Acronym]],AcronymList,0),1)","v":"Médecins Du Monde France"},{"$f":"INDEX(Organizations[],MATCH(Main3WData13[[#This Row],[Acronym]],AcronymList,0),3)","v":"ONG Int."},"Nutrition","Urgence","Mopti",{"$f":"VLOOKUP(Main3WData13[[#This Row],[Admin Unit Name]],AdminUnits[],2,FALSE)","v":"ML05"},{"$f":"VLOOKUP(Main3WData13[[#This Row],[Admin Unit Name]],AdminUnits[],3,FALSE)","v":"Sud"},{"$f":"VLOOKUP(Main3WData13[[#This Row],[Admin Unit Name]],AdminUnits[],4,FALSE)","v":5},{"$f":"VLOOKUP(Main3WData13[[#This Row],[Sector]],Sectors[],2,FALSE)","v":4}]
[null,"MDM France",{"$f":"INDEX(Organizations[],MATCH(Main3WData13[[#This Row],[Acronym]],AcronymList,0),1)","v":"Médecins Du Monde France"},{"$f":"INDEX(Organizations[],MATCH(Main3WData13[[#This Row],[Acronym]],AcronymList,0),3)","v":"ONG Int."},"Santé","Regulier","Mopti",{"$f":"VLOOKUP(Main3WData13[[#This Row],[Admin Unit Name]],AdminUnits[],2,FALSE)","v":"ML05"},{"$f":"VLOOKUP(Main3WData13[[#This Row],[Admin Unit Name]],AdminUnits[],3,FALSE)","v":"Sud"},{"$f":"VLOOKUP(Main3WData13[[#This Row],[Admin Unit Name]],AdminUnits[],4,FALSE)","v":5},{"$f":"VLOOKUP(Main3WData13[[#This Row],[Sector]],Sectors[],2,FALSE)","v":6}]
[null,"MDM Belgique",{"$f":"INDEX(Organizations[],MATCH(Main3WData13[[#This Row],[Acronym]],AcronymList,0),1)","v":"Médecins Du Monde Belgique"},{"$f":"INDEX(Organizations[],MATCH(Main3WData13[[#This Row],[Acronym]],AcronymList,0),3)","v":"ONG Int."},"Santé","Regulier","KIDAL",{"$f":"VLOOKUP(Main3WData13[[#This Row],[Admin Unit Name]],AdminUnits[],2,FALSE)","v":"ML08"},{"$f":"VLOOKUP(Main3WData13[[#This Row],[Admin Unit Name]],AdminUnits[],3,FALSE)","v":"Nord"},{"$f":"VLOOKUP(Main3WData13[[#This Row],[Admin Unit Name]],AdminUnits[],4,FALSE)","v":8},{"$f":"VLOOKUP(Main3WData13[[#This Row],[Sector]],Sectors[],2,FALSE)","v":6}]
[null,"MDM Belgique",{"$f":"INDEX(Organizations[],MATCH(Main3WData13[[#This Row],[Acronym]],AcronymList,0),1)","v":"Médecins Du Monde Belgique"},{"$f":"INDEX(Organizations[],MATCH(Main3WData13[[#This Row],[Acronym]],AcronymList,0),3)","v":"ONG Int."},"Santé","Regulier","GAO",{"$f":"VLOOKUP(Main3WData13[[#This Row],[Admin Unit Name]],AdminUnits[],2,FALSE)","v":"ML07"},{"$f":"VLOOKUP(Main3WData13[[#This Row],[Admin Unit Name]],AdminUnits[],3,FALSE)","v":"Nord"},{"$f":"VLOOKUP(Main3WData13[[#This Row],[Admin Unit Name]],AdminUnits[],4,FALSE)","v":7},{"$f":"VLOOKUP(Main3WData13[[#This Row],[Sector]],Sectors[],2,FALSE)","v":6}]
[null,"MDM Belgique",{"$f":"INDEX(Organizations[],MATCH(Main3WData13[[#This Row],[Acronym]],AcronymList,0),1)","v":"Médecins Du Monde Belgique"},{"$f":"INDEX(Organizations[],MATCH(Main3WData13[[#This Row],[Acronym]],AcronymList,0),3)","v":"ONG Int."},"Nutrition","Urgence","Gao",{"$f":"VLOOKUP(Main3WData13[[#This Row],[Admin Unit Name]],AdminUnits[],2,FALSE)","v":"ML07"},{"$f":"VLOOKUP(Main3WData13[[#This Row],[Admin Unit Name]],AdminUnits[],3,FALSE)","v":"Nord"},{"$f":"VLOOKUP(Main3WData13[[#This Row],[Admin Unit Name]],AdminUnits[],4,FALSE)","v":7},{"$f":"VLOOKUP(Main3WData13[[#This Row],[Sector]],Sectors[],2,FALSE)","v":4}]
[null,"MDM Belgique",{"$f":"INDEX(Organizations[],MATCH(Main3WData13[[#This Row],[Acronym]],AcronymList,0),1)","v":"Médecins Du Monde Belgique"},{"$f":"INDEX(Organizations[],MATCH(Main3WData13[[#This Row],[Acronym]],AcronymList,0),3)","v":"ONG Int."},"Nutrition","Urgence","Kidal",{"$f":"VLOOKUP(Main3WData13[[#This Row],[Admin Unit Name]],AdminUnits[],2,FALSE)","v":"ML08"},{"$f":"VLOOKUP(Main3WData13[[#This Row],[Admin Unit Name]],AdminUnits[],3,FALSE)","v":"Nord"},{"$f":"VLOOKUP(Main3WData13[[#This Row],[Admin Unit Name]],AdminUnits[],4,FALSE)","v":8},{"$f":"VLOOKUP(Main3WData13[[#This Row],[Sector]],Sectors[],2,FALSE)","v":4}]
[null,"JEKATAANIEN",{"$f":"INDEX(Organizations[],MATCH(Main3WData13[[#This Row],[Acronym]],AcronymList,0),1)","v":"JEKATAANIEN"},{"$f":"INDEX(Organizations[],MATCH(Main3WData13[[#This Row],[Acronym]],AcronymList,0),3)","v":"ONG Nat."},"Sécurité alimentaire","Regulier","Sikasso",{"$f":"VLOOKUP(Main3WData13[[#This Row],[Admin Unit Name]],AdminUnits[],2,FALSE)","v":"ML03"},{"$f":"VLOOKUP(Main3WData13[[#This Row],[Admin Unit Name]],AdminUnits[],3,FALSE)","v":"Sud"},{"$f":"VLOOKUP(Main3WData13[[#This Row],[Admin Unit Name]],AdminUnits[],4,FALSE)","v":3},{"$f":"VLOOKUP(Main3WData13[[#This Row],[Sector]],Sectors[],2,FALSE)","v":7}]
[null,"ISLAMIC RELIEF",{"$f":"INDEX(Organizations[],MATCH(Main3WData13[[#This Row],[Acronym]],AcronymList,0),1)","v":"Islamic Relief"},{"$f":"INDEX(Organizations[],MATCH(Main3WData13[[#This Row],[Acronym]],AcronymList,0),3)","v":"ONG Int."},"Sécurité alimentaire","Regulier","Mopti",{"$f":"VLOOKUP(Main3WData13[[#This Row],[Admin Unit Name]],AdminUnits[],2,FALSE)","v":"ML05"},{"$f":"VLOOKUP(Main3WData13[[#This Row],[Admin Unit Name]],AdminUnits[],3,FALSE)","v":"Sud"},{"$f":"VLOOKUP(Main3WData13[[#This Row],[Admin Unit Name]],AdminUnits[],4,FALSE)","v":5},{"$f":"VLOOKUP(Main3WData13[[#This Row],[Sector]],Sectors[],2,FALSE)","v":7}]
[null,"ISLAMIC RELIEF",{"$f":"INDEX(Organizations[],MATCH(Main3WData13[[#This Row],[Acronym]],AcronymList,0),1)","v":"Islamic Relief"},{"$f":"INDEX(Organizations[],MATCH(Main3WData13[[#This Row],[Acronym]],AcronymList,0),3)","v":"ONG Int."},"Sécurité alimentaire","Regulier","Tombouctou",{"$f":"VLOOKUP(Main3WData13[[#This Row],[Admin Unit Name]],AdminUnits[],2,FALSE)","v":"ML06"},{"$f":"VLOOKUP(Main3WData13[[#This Row],[Admin Unit Name]],AdminUnits[],3,FALSE)","v":"Nord"},{"$f":"VLOOKUP(Main3WData13[[#This Row],[Admin Unit Name]],AdminUnits[],4,FALSE)","v":6},{"$f":"VLOOKUP(Main3WData13[[#This Row],[Sector]],Sectors[],2,FALSE)","v":7}]
[null,"Islamic Relief",{"$f":"INDEX(Organizations[],MATCH(Main3WData13[[#This Row],[Acronym]],AcronymList,0),1)","v":"Islamic Relief"},{"$f":"INDEX(Organizations[],MATCH(Main3WData13[[#This Row],[Acronym]],AcronymList,0),3)","v":"ONG Int."},"Education","Regulier","Koulikoro",{"$f":"VLOOKUP(Main3WData13[[#This Row],[Admin Unit Name]],AdminUnits[],2,FALSE)","v":"ML02"},{"$f":"VLOOKUP(Main3WData13[[#This Row],[Admin Unit Name]],AdminUnits[],3,FALSE)","v":"Sud"},{"$f":"VLOOKUP(Main3WData13[[#This Row],[Admin Unit Name]],AdminUnits[],4,FALSE)","v":2},{"$f":"VLOOKUP(Main3WData13[[#This Row],[Sector]],Sectors[],2,FALSE)","v":3}]
[null,"ISLAMIC RELIEF",{"$f":"INDEX(Organizations[],MATCH(Main3WData13[[#This Row],[Acronym]],AcronymList,0),1)","v":"Islamic Relief"},{"$f":"INDEX(Organizations[],MATCH(Main3WData13[[#This Row],[Acronym]],AcronymList,0),3)","v":"ONG Int."},"EHA","Regulier","KOULIKORO",{"$f":"VLOOKUP(Main3WData13[[#This Row],[Admin Unit Name]],AdminUnits[],2,FALSE)","v":"ML02"},{"$f":"VLOOKUP(Main3WData13[[#This Row],[Admin Unit Name]],AdminUnits[],3,FALSE)","v":"Sud"},{"$f":"VLOOKUP(Main3WData13[[#This Row],[Admin Unit Name]],AdminUnits[],4,FALSE)","v":2},{"$f":"VLOOKUP(Main3WData13[[#This Row],[Sector]],Sectors[],2,FALSE)","v":8}]
[null,"ISLAMIC RELIEF",{"$f":"INDEX(Organizations[],MATCH(Main3WData13[[#This Row],[Acronym]],AcronymList,0),1)","v":"Islamic Relief"},{"$f":"INDEX(Organizations[],MATCH(Main3WData13[[#This Row],[Acronym]],AcronymList,0),3)","v":"ONG Int."},"EHA","Regulier","TOMBOUCTOU",{"$f":"VLOOKUP(Main3WData13[[#This Row],[Admin Unit Name]],AdminUnits[],2,FALSE)","v":"ML06"},{"$f":"VLOOKUP(Main3WData13[[#This Row],[Admin Unit Name]],AdminUnits[],3,FALSE)","v":"Nord"},{"$f":"VLOOKUP(Main3WData13[[#This Row],[Admin Unit Name]],AdminUnits[],4,FALSE)","v":6},{"$f":"VLOOKUP(Main3WData13[[#This Row],[Sector]],Sectors[],2,FALSE)","v":8}]
[null,"IRC",{"$f":"INDEX(Organizations[],MATCH(Main3WData13[[#This Row],[Acronym]],AcronymList,0),1)","v":"International Rescue Committee"},{"$f":"INDEX(Organizations[],MATCH(Main3WData13[[#This Row],[Acronym]],AcronymList,0),3)","v":"ONG Int."},"Education","Regulier","Koulikoro",{"$f":"VLOOKUP(Main3WData13[[#This Row],[Admin Unit Name]],AdminUnits[],2,FALSE)","v":"ML02"},{"$f":"VLOOKUP(Main3WData13[[#This Row],[Admin Unit Name]],AdminUnits[],3,FALSE)","v":"Sud"},{"$f":"VLOOKUP(Main3WData13[[#This Row],[Admin Unit Name]],AdminUnits[],4,FALSE)","v":2},{"$f":"VLOOKUP(Main3WData13[[#This Row],[Sector]],Sectors[],2,FALSE)","v":3}]
[null,"IRC",{"$f":"INDEX(Organizations[],MATCH(Main3WData13[[#This Row],[Acronym]],AcronymList,0),1)","v":"International Rescue Committee"},{"$f":"INDEX(Organizations[],MATCH(Main3WData13[[#This Row],[Acronym]],AcronymList,0),3)","v":"ONG Int."},"Education","Regulier","Gao",{"$f":"VLOOKUP(Main3WData13[[#This Row],[Admin Unit Name]],AdminUnits[],2,FALSE)","v":"ML07"},{"$f":"VLOOKUP(Main3WData13[[#This Row],[Admin Unit Name]],AdminUnits[],3,FALSE)","v":"Nord"},{"$f":"VLOOKUP(Main3WData13[[#This Row],[Admin Unit Name]],AdminUnits[],4,FALSE)","v":7},{"$f":"VLOOKUP(Main3WData13[[#This Row],[Sector]],Sectors[],2,FALSE)","v":3}]
[null,"IRC",{"$f":"INDEX(Organizations[],MATCH(Main3WData13[[#This Row],[Acronym]],AcronymList,0),1)","v":"International Rescue Committee"},{"$f":"INDEX(Organizations[],MATCH(Main3WData13[[#This Row],[Acronym]],AcronymList,0),3)","v":"ONG Int."},"Protection","Regulier","Koulikoro",{"$f":"VLOOKUP(Main3WData13[[#This Row],[Admin Unit Name]],AdminUnits[],2,FALSE)","v":"ML02"},{"$f":"VLOOKUP(Main3WData13[[#This Row],[Admin Unit Name]],AdminUnits[],3,FALSE)","v":"Sud"},{"$f":"VLOOKUP(Main3WData13[[#This Row],[Admin Unit Name]],AdminUnits[],4,FALSE)","v":2},{"$f":"VLOOKUP(Main3WData13[[#This Row],[Sector]],Sectors[],2,FALSE)","v":5}]
[null,"IRC",{"$f":"INDEX(Organizations[],MATCH(Main3WData13[[#This Row],[Acronym]],AcronymList,0),1)","v":"International Rescue Committee"},{"$f":"INDEX(Organizations[],MATCH(Main3WData13[[#This Row],[Acronym]],AcronymList,0),3)","v":"ONG Int."},"Protection","Regulier","Gao",{"$f":"VLOOKUP(Main3WData13[[#This Row],[Admin Unit Name]],AdminUnits[],2,FALSE)","v":"ML07"},{"$f":"VLOOKUP(Main3WData13[[#This Row],[Admin Unit Name]],AdminUnits[],3,FALSE)","v":"Nord"},{"$f":"VLOOKUP(Main3WData13[[#This Row],[Admin Unit Name]],AdminUnits[],4,FALSE)","v":7},{"$f":"VLOOKUP(Main3WData13[[#This Row],[Sector]],Sectors[],2,FALSE)","v":5}]
[null,"IRC",{"$f":"INDEX(Organizations[],MATCH(Main3WData13[[#This Row],[Acronym]],AcronymList,0),1)","v":"International Rescue Committee"},{"$f":"INDEX(Organizations[],MATCH(Main3WData13[[#This Row],[Acronym]],AcronymList,0),3)","v":"ONG Int."},"Protection","Regulier","Mopti",{"$f":"VLOOKUP(Main3WData13[[#This Row],[Admin Unit Name]],AdminUnits[],2,FALSE)","v":"ML05"},{"$f":"VLOOKUP(Main3WData13[[#This Row],[Admin Unit Name]],AdminUnits[],3,FALSE)","v":"Sud"},{"$f":"VLOOKUP(Main3WData13[[#This Row],[Admin Unit Name]],AdminUnits[],4,FALSE)","v":5},{"$f":"VLOOKUP(Main3WData13[[#This Row],[Sector]],Sectors[],2,FALSE)","v":5}]
[null,"IRC",{"$f":"INDEX(Organizations[],MATCH(Main3WData13[[#This Row],[Acronym]],AcronymList,0),1)","v":"International Rescue Committee"},{"$f":"INDEX(Organizations[],MATCH(Main3WData13[[#This Row],[Acronym]],AcronymList,0),3)","v":"ONG Int."},"EHA","Regulier","GAO",{"$f":"VLOOKUP(Main3WData13[[#This Row],[Admin Unit Name]],AdminUnits[],2,FALSE)","v":"ML07"},{"$f":"VLOOKUP(Main3WData13[[#This Row],[Admin Unit Name]],AdminUnits[],3,FALSE)","v":"Nord"},{"$f":"VLOOKUP(Main3WData13[[#This Row],[Admin Unit Name]],AdminUnits[],4,FALSE)","v":7},{"$f":"VLOOKUP(Main3WData13[[#This Row],[Sector]],Sectors[],2,FALSE)","v":8}]
[null,"IRC",{"$f":"INDEX(Organizations[],MATCH(Main3WData13[[#This Row],[Acronym]],AcronymList,0),1)","v":"International Rescue Committee"},{"$f":"INDEX(Organizations[],MATCH(Main3WData13[[#This Row],[Acronym]],AcronymList,0),3)","v":"ONG Int."},"EHA","Regulier","KOULIKORO",{"$f":"VLOOKUP(Main3WData13[[#This Row],[Admin Unit Name]],AdminUnits[],2,FALSE)","v":"ML02"},{"$f":"VLOOKUP(Main3WData13[[#This Row],[Admin Unit Name]],AdminUnits[],3,FALSE)","v":"Sud"},{"$f":"VLOOKUP(Main3WData13[[#This Row],[Admin Unit Name]],AdminUnits[],4,FALSE)","v":2},{"$f":"VLOOKUP(Main3WData13[[#This Row],[Sector]],Sectors[],2,FALSE)","v":8}]
[null,"Intervida",{"$f":"INDEX(Organizations[],MATCH(Main3WData13[[#This Row],[Acronym]],AcronymList,0),1)","v":"Intervida"},{"$f":"INDEX(Organizations[],MATCH(Main3WData13[[#This Row],[Acronym]],AcronymList,0),3)","v":"ONG Int."},"Education","Regulier","Segou",{"$f":"VLOOKUP(Main3WData13[[#This Row],[Admin Unit Name]],AdminUnits[],2,FALSE)","v":"ML04"},{"$f":"VLOOKUP(Main3WData13[[#This Row],[Admin Unit Name]],AdminUnits[],3,FALSE)","v":"Sud"},{"$f":"VLOOKUP(Main3WData13[[#This Row],[Admin Unit Name]],AdminUnits[],4,FALSE)","v":4},{"$f":"VLOOKUP(Main3WData13[[#This Row],[Sector]],Sectors[],2,FALSE)","v":3}]
[null,"INTERSOS",{"$f":"INDEX(Organizations[],MATCH(Main3WData13[[#This Row],[Acronym]],AcronymList,0),1)","v":"Intersos"},{"$f":"INDEX(Organizations[],MATCH(Main3WData13[[#This Row],[Acronym]],AcronymList,0),3)","v":"ONG Int."},"Protection","Regulier","Mopti",{"$f":"VLOOKUP(Main3WData13[[#This Row],[Admin Unit Name]],AdminUnits[],2,FALSE)","v":"ML05"},{"$f":"VLOOKUP(Main3WData13[[#This Row],[Admin Unit Name]],AdminUnits[],3,FALSE)","v":"Sud"},{"$f":"VLOOKUP(Main3WData13[[#This Row],[Admin Unit Name]],AdminUnits[],4,FALSE)","v":5},{"$f":"VLOOKUP(Main3WData13[[#This Row],[Sector]],Sectors[],2,FALSE)","v":5}]
[null,"IMC",{"$f":"INDEX(Organizations[],MATCH(Main3WData13[[#This Row],[Acronym]],AcronymList,0),1)","v":"International Medical Corps"},{"$f":"INDEX(Organizations[],MATCH(Main3WData13[[#This Row],[Acronym]],AcronymList,0),3)","v":"ONG Int."},"Santé","Regulier","TOMBOUCTOU",{"$f":"VLOOKUP(Main3WData13[[#This Row],[Admin Unit Name]],AdminUnits[],2,FALSE)","v":"ML06"},{"$f":"VLOOKUP(Main3WData13[[#This Row],[Admin Unit Name]],AdminUnits[],3,FALSE)","v":"Nord"},{"$f":"VLOOKUP(Main3WData13[[#This Row],[Admin Unit Name]],AdminUnits[],4,FALSE)","v":6},{"$f":"VLOOKUP(Main3WData13[[#This Row],[Sector]],Sectors[],2,FALSE)","v":6}]
[null,"IMC",{"$f":"INDEX(Organizations[],MATCH(Main3WData13[[#This Row],[Acronym]],AcronymList,0),1)","v":"International Medical Corps"},{"$f":"INDEX(Organizations[],MATCH(Main3WData13[[#This Row],[Acronym]],AcronymList,0),3)","v":"ONG Int."},"Nutrition","Urgence","Tombouctou",{"$f":"VLOOKUP(Main3WData13[[#This Row],[Admin Unit Name]],AdminUnits[],2,FALSE)","v":"ML06"},{"$f":"VLOOKUP(Main3WData13[[#This Row],[Admin Unit Name]],AdminUnits[],3,FALSE)","v":"Nord"},{"$f":"VLOOKUP(Main3WData13[[#This Row],[Admin Unit Name]],AdminUnits[],4,FALSE)","v":6},{"$f":"VLOOKUP(Main3WData13[[#This Row],[Sector]],Sectors[],2,FALSE)","v":4}]
[null,"IMADEL",{"$f":"INDEX(Organizations[],MATCH(Main3WData13[[#This Row],[Acronym]],AcronymList,0),1)","v":"Initiative Malienne d'Appui au Développement Loca"},{"$f":"INDEX(Organizations[],MATCH(Main3WData13[[#This Row],[Acronym]],AcronymList,0),3)","v":"Association"},"Protection","Regulier","Tombouctou",{"$f":"VLOOKUP(Main3WData13[[#This Row],[Admin Unit Name]],AdminUnits[],2,FALSE)","v":"ML06"},{"$f":"VLOOKUP(Main3WData13[[#This Row],[Admin Unit Name]],AdminUnits[],3,FALSE)","v":"Nord"},{"$f":"VLOOKUP(Main3WData13[[#This Row],[Admin Unit Name]],AdminUnits[],4,FALSE)","v":6},{"$f":"VLOOKUP(Main3WData13[[#This Row],[Sector]],Sectors[],2,FALSE)","v":5}]
[null,"ICCO",{"$f":"INDEX(Organizations[],MATCH(Main3WData13[[#This Row],[Acronym]],AcronymList,0),1)","v":"ICCO"},{"$f":"INDEX(Organizations[],MATCH(Main3WData13[[#This Row],[Acronym]],AcronymList,0),3)","v":"ONG Int."},"Sécurité alimentaire","Regulier","Segou",{"$f":"VLOOKUP(Main3WData13[[#This Row],[Admin Unit Name]],AdminUnits[],2,FALSE)","v":"ML04"},{"$f":"VLOOKUP(Main3WData13[[#This Row],[Admin Unit Name]],AdminUnits[],3,FALSE)","v":"Sud"},{"$f":"VLOOKUP(Main3WData13[[#This Row],[Admin Unit Name]],AdminUnits[],4,FALSE)","v":4},{"$f":"VLOOKUP(Main3WData13[[#This Row],[Sector]],Sectors[],2,FALSE)","v":7}]
[null,"ICCO",{"$f":"INDEX(Organizations[],MATCH(Main3WData13[[#This Row],[Acronym]],AcronymList,0),1)","v":"ICCO"},{"$f":"INDEX(Organizations[],MATCH(Main3WData13[[#This Row],[Acronym]],AcronymList,0),3)","v":"ONG Int."},"Sécurité alimentaire","Regulier","Tombouctou",{"$f":"VLOOKUP(Main3WData13[[#This Row],[Admin Unit Name]],AdminUnits[],2,FALSE)","v":"ML06"},{"$f":"VLOOKUP(Main3WData13[[#This Row],[Admin Unit Name]],AdminUnits[],3,FALSE)","v":"Nord"},{"$f":"VLOOKUP(Main3WData13[[#This Row],[Admin Unit Name]],AdminUnits[],4,FALSE)","v":6},{"$f":"VLOOKUP(Main3WData13[[#This Row],[Sector]],Sectors[],2,FALSE)","v":7}]
[null,"ICCO",{"$f":"INDEX(Organizations[],MATCH(Main3WData13[[#This Row],[Acronym]],AcronymList,0),1)","v":"ICCO"},{"$f":"INDEX(Organizations[],MATCH(Main3WData13[[#This Row],[Acronym]],AcronymList,0),3)","v":"ONG Int."},"Sécurité alimentaire","Regulier","Mopti",{"$f":"VLOOKUP(Main3WData13[[#This Row],[Admin Unit Name]],AdminUnits[],2,FALSE)","v":"ML05"},{"$f":"VLOOKUP(Main3WData13[[#This Row],[Admin Unit Name]],AdminUnits[],3,FALSE)","v":"Sud"},{"$f":"VLOOKUP(Main3WData13[[#This Row],[Admin Unit Name]],AdminUnits[],4,FALSE)","v":5},{"$f":"VLOOKUP(Main3WData13[[#This Row],[Sector]],Sectors[],2,FALSE)","v":7}]
[null,"HKI",{"$f":"INDEX(Organizations[],MATCH(Main3WData13[[#This Row],[Acronym]],AcronymList,0),1)","v":"Helen Keller International"},{"$f":"INDEX(Organizations[],MATCH(Main3WData13[[#This Row],[Acronym]],AcronymList,0),3)","v":"ONG Int."},"Nutrition","Regulier","Koulikoro",{"$f":"VLOOKUP(Main3WData13[[#This Row],[Admin Unit Name]],AdminUnits[],2,FALSE)","v":"ML02"},{"$f":"VLOOKUP(Main3WData13[[#This Row],[Admin Unit Name]],AdminUnits[],3,FALSE)","v":"Sud"},{"$f":"VLOOKUP(Main3WData13[[#This Row],[Admin Unit Name]],AdminUnits[],4,FALSE)","v":2},{"$f":"VLOOKUP(Main3WData13[[#This Row],[Sector]],Sectors[],2,FALSE)","v":4}]
[null,"HKI",{"$f":"INDEX(Organizations[],MATCH(Main3WData13[[#This Row],[Acronym]],AcronymList,0),1)","v":"Helen Keller International"},{"$f":"INDEX(Organizations[],MATCH(Main3WData13[[#This Row],[Acronym]],AcronymList,0),3)","v":"ONG Int."},"Nutrition","Regulier","Mopti",{"$f":"VLOOKUP(Main3WData13[[#This Row],[Admin Unit Name]],AdminUnits[],2,FALSE)","v":"ML05"},{"$f":"VLOOKUP(Main3WData13[[#This Row],[Admin Unit Name]],AdminUnits[],3,FALSE)","v":"Sud"},{"$f":"VLOOKUP(Main3WData13[[#This Row],[Admin Unit Name]],AdminUnits[],4,FALSE)","v":5},{"$f":"VLOOKUP(Main3WData13[[#This Row],[Sector]],Sectors[],2,FALSE)","v":4}]
[null,"HKI",{"$f":"INDEX(Organizations[],MATCH(Main3WData13[[#This Row],[Acronym]],AcronymList,0),1)","v":"Helen Keller International"},{"$f":"INDEX(Organizations[],MATCH(Main3WData13[[#This Row],[Acronym]],AcronymList,0),3)","v":"ONG Int."},"Nutrition","Regulier","Segou",{"$f":"VLOOKUP(Main3WData13[[#This Row],[Admin Unit Name]],AdminUnits[],2,FALSE)","v":"ML04"},{"$f":"VLOOKUP(Main3WData13[[#This Row],[Admin Unit Name]],AdminUnits[],3,FALSE)","v":"Sud"},{"$f":"VLOOKUP(Main3WData13[[#This Row],[Admin Unit Name]],AdminUnits[],4,FALSE)","v":4},{"$f":"VLOOKUP(Main3WData13[[#This Row],[Sector]],Sectors[],2,FALSE)","v":4}]
[null,"HKI",{"$f":"INDEX(Organizations[],MATCH(Main3WData13[[#This Row],[Acronym]],AcronymList,0),1)","v":"Helen Keller International"},{"$f":"INDEX(Organizations[],MATCH(Main3WData13[[#This Row],[Acronym]],AcronymList,0),3)","v":"ONG Int."},"Nutrition","Regulier","Sikasso",{"$f":"VLOOKUP(Main3WData13[[#This Row],[Admin Unit Name]],AdminUnits[],2,FALSE)","v":"ML03"},{"$f":"VLOOKUP(Main3WData13[[#This Row],[Admin Unit Name]],AdminUnits[],3,FALSE)","v":"Sud"},{"$f":"VLOOKUP(Main3WData13[[#This Row],[Admin Unit Name]],AdminUnits[],4,FALSE)","v":3},{"$f":"VLOOKUP(Main3WData13[[#This Row],[Sector]],Sectors[],2,FALSE)","v":4}]
[null,"Handicap International",{"$f":"INDEX(Organizations[],MATCH(Main3WData13[[#This Row],[Acronym]],AcronymList,0),1)","v":{"$error":"#N/A"}},{"$f":"INDEX(Organizations[],MATCH(Main3WData13[[#This Row],[Acronym]],AcronymList,0),3)","v":{"$error":"#N/A"}},"Sécurité alimentaire","Regulier","Tombouctou",{"$f":"VLOOKUP(Main3WData13[[#This Row],[Admin Unit Name]],AdminUnits[],2,FALSE)","v":"ML06"},{"$f":"VLOOKUP(Main3WData13[[#This Row],[Admin Unit Name]],AdminUnits[],3,FALSE)","v":"Nord"},{"$f":"VLOOKUP(Main3WData13[[#This Row],[Admin Unit Name]],AdminUnits[],4,FALSE)","v":6},{"$f":"VLOOKUP(Main3WData13[[#This Row],[Sector]],Sectors[],2,FALSE)","v":7}]
[null,"Handicap International",{"$f":"INDEX(Organizations[],MATCH(Main3WData13[[#This Row],[Acronym]],AcronymList,0),1)","v":{"$error":"#N/A"}},{"$f":"INDEX(Organizations[],MATCH(Main3WData13[[#This Row],[Acronym]],AcronymList,0),3)","v":{"$error":"#N/A"}},"Protection","Regulier","Tombouctou",{"$f":"VLOOKUP(Main3WData13[[#This Row],[Admin Unit Name]],AdminUnits[],2,FALSE)","v":"ML06"},{"$f":"VLOOKUP(Main3WData13[[#This Row],[Admin Unit Name]],AdminUnits[],3,FALSE)","v":"Nord"},{"$f":"VLOOKUP(Main3WData13[[#This Row],[Admin Unit Name]],AdminUnits[],4,FALSE)","v":6},{"$f":"VLOOKUP(Main3WData13[[#This Row],[Sector]],Sectors[],2,FALSE)","v":5}]
[null,"Handicap International",{"$f":"INDEX(Organizations[],MATCH(Main3WData13[[#This Row],[Acronym]],AcronymList,0),1)","v":{"$error":"#N/A"}},{"$f":"INDEX(Organizations[],MATCH(Main3WData13[[#This Row],[Acronym]],AcronymList,0),3)","v":{"$error":"#N/A"}},"Education","Regulier","Bamako",{"$f":"VLOOKUP(Main3WData13[[#This Row],[Admin Unit Name]],AdminUnits[],2,FALSE)","v":"ML09"},{"$f":"VLOOKUP(Main3WData13[[#This Row],[Admin Unit Name]],AdminUnits[],3,FALSE)","v":"Sud"},{"$f":"VLOOKUP(Main3WData13[[#This Row],[Admin Unit Name]],AdminUnits[],4,FALSE)","v":0},{"$f":"VLOOKUP(Main3WData13[[#This Row],[Sector]],Sectors[],2,FALSE)","v":3}]
[null,"Handicap International",{"$f":"INDEX(Organizations[],MATCH(Main3WData13[[#This Row],[Acronym]],AcronymList,0),1)","v":{"$error":"#N/A"}},{"$f":"INDEX(Organizations[],MATCH(Main3WData13[[#This Row],[Acronym]],AcronymList,0),3)","v":{"$error":"#N/A"}},"Protection","Regulier","Mopti",{"$f":"VLOOKUP(Main3WData13[[#This Row],[Admin Unit Name]],AdminUnits[],2,FALSE)","v":"ML05"},{"$f":"VLOOKUP(Main3WData13[[#This Row],[Admin Unit Name]],AdminUnits[],3,FALSE)","v":"Sud"},{"$f":"VLOOKUP(Main3WData13[[#This Row],[Admin Unit Name]],AdminUnits[],4,FALSE)","v":5},{"$f":"VLOOKUP(Main3WData13[[#This Row],[Sector]],Sectors[],2,FALSE)","v":5}]
[null,"Handicap International",{"$f":"INDEX(Organizations[],MATCH(Main3WData13[[#This Row],[Acronym]],AcronymList,0),1)","v":{"$error":"#N/A"}},{"$f":"INDEX(Organizations[],MATCH(Main3WData13[[#This Row],[Acronym]],AcronymList,0),3)","v":{"$error":"#N/A"}},"Nutrition","Urgence","Tombouctou",{"$f":"VLOOKUP(Main3WData13[[#This Row],[Admin Unit Name]],AdminUnits[],2,FALSE)","v":"ML06"},{"$f":"VLOOKUP(Main3WData13[[#This Row],[Admin Unit Name]],AdminUnits[],3,FALSE)","v":"Nord"},{"$f":"VLOOKUP(Main3WData13[[#This Row],[Admin Unit Name]],AdminUnits[],4,FALSE)","v":6},{"$f":"VLOOKUP(Main3WData13[[#This Row],[Sector]],Sectors[],2,FALSE)","v":4}]
[null,"Handicap International",{"$f":"INDEX(Organizations[],MATCH(Main3WData13[[#This Row],[Acronym]],AcronymList,0),1)","v":{"$error":"#N/A"}},{"$f":"INDEX(Organizations[],MATCH(Main3WData13[[#This Row],[Acronym]],AcronymList,0),3)","v":{"$error":"#N/A"}},"EHA","Regulier","TOMBOUCTOU",{"$f":"VLOOKUP(Main3WData13[[#This Row],[Admin Unit Name]],AdminUnits[],2,FALSE)","v":"ML06"},{"$f":"VLOOKUP(Main3WData13[[#This Row],[Admin Unit Name]],AdminUnits[],3,FALSE)","v":"Nord"},{"$f":"VLOOKUP(Main3WData13[[#This Row],[Admin Unit Name]],AdminUnits[],4,FALSE)","v":6},{"$f":"VLOOKUP(Main3WData13[[#This Row],[Sector]],Sectors[],2,FALSE)","v":8}]
[null,"Handicap International",{"$f":"INDEX(Organizations[],MATCH(Main3WData13[[#This Row],[Acronym]],AcronymList,0),1)","v":{"$error":"#N/A"}},{"$f":"INDEX(Organizations[],MATCH(Main3WData13[[#This Row],[Acronym]],AcronymList,0),3)","v":{"$error":"#N/A"}},"Santé","Regulier","Mopti",{"$f":"VLOOKUP(Main3WData13[[#This Row],[Admin Unit Name]],AdminUnits[],2,FALSE)","v":"ML05"},{"$f":"VLOOKUP(Main3WData13[[#This Row],[Admin Unit Name]],AdminUnits[],3,FALSE)","v":"Sud"},{"$f":"VLOOKUP(Main3WData13[[#This Row],[Admin Unit Name]],AdminUnits[],4,FALSE)","v":5},{"$f":"VLOOKUP(Main3WData13[[#This Row],[Sector]],Sectors[],2,FALSE)","v":6}]
[null,"GREFFA",{"$f":"INDEX(Organizations[],MATCH(Main3WData13[[#This Row],[Acronym]],AcronymList,0),1)","v":"GREFFA"},{"$f":"INDEX(Organizations[],MATCH(Main3WData13[[#This Row],[Acronym]],AcronymList,0),3)","v":"ONG Nat."},"Protection","Regulier","Bamako",{"$f":"VLOOKUP(Main3WData13[[#This Row],[Admin Unit Name]],AdminUnits[],2,FALSE)","v":"ML09"},{"$f":"VLOOKUP(Main3WData13[[#This Row],[Admin Unit Name]],AdminUnits[],3,FALSE)","v":"Sud"},{"$f":"VLOOKUP(Main3WData13[[#This Row],[Admin Unit Name]],AdminUnits[],4,FALSE)","v":0},{"$f":"VLOOKUP(Main3WData13[[#This Row],[Sector]],Sectors[],2,FALSE)","v":5}]
[null,"GREFFA",{"$f":"INDEX(Organizations[],MATCH(Main3WData13[[#This Row],[Acronym]],AcronymList,0),1)","v":"GREFFA"},{"$f":"INDEX(Organizations[],MATCH(Main3WData13[[#This Row],[Acronym]],AcronymList,0),3)","v":"ONG Nat."},"Protection","Regulier","Kidal",{"$f":"VLOOKUP(Main3WData13[[#This Row],[Admin Unit Name]],AdminUnits[],2,FALSE)","v":"ML08"},{"$f":"VLOOKUP(Main3WData13[[#This Row],[Admin Unit Name]],AdminUnits[],3,FALSE)","v":"Nord"},{"$f":"VLOOKUP(Main3WData13[[#This Row],[Admin Unit Name]],AdminUnits[],4,FALSE)","v":8},{"$f":"VLOOKUP(Main3WData13[[#This Row],[Sector]],Sectors[],2,FALSE)","v":5}]
[null,"GREFFA",{"$f":"INDEX(Organizations[],MATCH(Main3WData13[[#This Row],[Acronym]],AcronymList,0),1)","v":"GREFFA"},{"$f":"INDEX(Organizations[],MATCH(Main3WData13[[#This Row],[Acronym]],AcronymList,0),3)","v":"ONG Nat."},"Protection","Regulier","Tombouctou",{"$f":"VLOOKUP(Main3WData13[[#This Row],[Admin Unit Name]],AdminUnits[],2,FALSE)","v":"ML06"},{"$f":"VLOOKUP(Main3WData13[[#This Row],[Admin Unit Name]],AdminUnits[],3,FALSE)","v":"Nord"},{"$f":"VLOOKUP(Main3WData13[[#This Row],[Admin Unit Name]],AdminUnits[],4,FALSE)","v":6},{"$f":"VLOOKUP(Main3WData13[[#This Row],[Sector]],Sectors[],2,FALSE)","v":5}]
[null,"GREFFA",{"$f":"INDEX(Organizations[],MATCH(Main3WData13[[#This Row],[Acronym]],AcronymList,0),1)","v":"GREFFA"},{"$f":"INDEX(Organizations[],MATCH(Main3WData13[[#This Row],[Acronym]],AcronymList,0),3)","v":"ONG Nat."},"Protection","Regulier","Gao",{"$f":"VLOOKUP(Main3WData13[[#This Row],[Admin Unit Name]],AdminUnits[],2,FALSE)","v":"ML07"},{"$f":"VLOOKUP(Main3WData13[[#This Row],[Admin Unit Name]],AdminUnits[],3,FALSE)","v":"Nord"},{"$f":"VLOOKUP(Main3WData13[[#This Row],[Admin Unit Name]],AdminUnits[],4,FALSE)","v":7},{"$f":"VLOOKUP(Main3WData13[[#This Row],[Sector]],Sectors[],2,FALSE)","v":5}]
[null,"GREFFA",{"$f":"INDEX(Organizations[],MATCH(Main3WData13[[#This Row],[Acronym]],AcronymList,0),1)","v":"GREFFA"},{"$f":"INDEX(Organizations[],MATCH(Main3WData13[[#This Row],[Acronym]],AcronymList,0),3)","v":"ONG Nat."},"Protection","Regulier","Segou",{"$f":"VLOOKUP(Main3WData13[[#This Row],[Admin Unit Name]],AdminUnits[],2,FALSE)","v":"ML04"},{"$f":"VLOOKUP(Main3WData13[[#This Row],[Admin Unit Name]],AdminUnits[],3,FALSE)","v":"Sud"},{"$f":"VLOOKUP(Main3WData13[[#This Row],[Admin Unit Name]],AdminUnits[],4,FALSE)","v":4},{"$f":"VLOOKUP(Main3WData13[[#This Row],[Sector]],Sectors[],2,FALSE)","v":5}]
[null,"GRAT",{"$f":"INDEX(Organizations[],MATCH(Main3WData13[[#This Row],[Acronym]],AcronymList,0),1)","v":"GRAT"},{"$f":"INDEX(Organizations[],MATCH(Main3WData13[[#This Row],[Acronym]],AcronymList,0),3)","v":"ONG Nat."},"Sécurité alimentaire","Regulier","Mopti",{"$f":"VLOOKUP(Main3WData13[[#This Row],[Admin Unit Name]],AdminUnits[],2,FALSE)","v":"ML05"},{"$f":"VLOOKUP(Main3WData13[[#This Row],[Admin Unit Name]],AdminUnits[],3,FALSE)","v":"Sud"},{"$f":"VLOOKUP(Main3WData13[[#This Row],[Admin Unit Name]],AdminUnits[],4,FALSE)","v":5},{"$f":"VLOOKUP(Main3WData13[[#This Row],[Sector]],Sectors[],2,FALSE)","v":7}]
[null,"GADEV",{"$f":"INDEX(Organizations[],MATCH(Main3WData13[[#This Row],[Acronym]],AcronymList,0),1)","v":"GADEV"},{"$f":"INDEX(Organizations[],MATCH(Main3WData13[[#This Row],[Acronym]],AcronymList,0),3)","v":"ONG Nat."},"Protection","Regulier","Mopti",{"$f":"VLOOKUP(Main3WData13[[#This Row],[Admin Unit Name]],AdminUnits[],2,FALSE)","v":"ML05"},{"$f":"VLOOKUP(Main3WData13[[#This Row],[Admin Unit Name]],AdminUnits[],3,FALSE)","v":"Sud"},{"$f":"VLOOKUP(Main3WData13[[#This Row],[Admin Unit Name]],AdminUnits[],4,FALSE)","v":5},{"$f":"VLOOKUP(Main3WData13[[#This Row],[Sector]],Sectors[],2,FALSE)","v":5}]
[null,"Fondation Novartis",{"$f":"INDEX(Organizations[],MATCH(Main3WData13[[#This Row],[Acronym]],AcronymList,0),1)","v":"Fondation Novartis"},{"$f":"INDEX(Organizations[],MATCH(Main3WData13[[#This Row],[Acronym]],AcronymList,0),3)","v":"Fondation"},"Santé","Regulier","Segou",{"$f":"VLOOKUP(Main3WData13[[#This Row],[Admin Unit Name]],AdminUnits[],2,FALSE)","v":"ML04"},{"$f":"VLOOKUP(Main3WData13[[#This Row],[Admin Unit Name]],AdminUnits[],3,FALSE)","v":"Sud"},{"$f":"VLOOKUP(Main3WData13[[#This Row],[Admin Unit Name]],AdminUnits[],4,FALSE)","v":4},{"$f":"VLOOKUP(Main3WData13[[#This Row],[Sector]],Sectors[],2,FALSE)","v":6}]
[null,"Fondation Intervida",{"$f":"INDEX(Organizations[],MATCH(Main3WData13[[#This Row],[Acronym]],AcronymList,0),1)","v":"Fondation Intervida"},{"$f":"INDEX(Organizations[],MATCH(Main3WData13[[#This Row],[Acronym]],AcronymList,0),3)","v":"Fondation"},"Santé","Regulier","Segou",{"$f":"VLOOKUP(Main3WData13[[#This Row],[Admin Unit Name]],AdminUnits[],2,FALSE)","v":"ML04"},{"$f":"VLOOKUP(Main3WData13[[#This Row],[Admin Unit Name]],AdminUnits[],3,FALSE)","v":"Sud"},{"$f":"VLOOKUP(Main3WData13[[#This Row],[Admin Unit Name]],AdminUnits[],4,FALSE)","v":4},{"$f":"VLOOKUP(Main3WData13[[#This Row],[Sector]],Sectors[],2,FALSE)","v":6}]
[null,"FIDA",{"$f":"INDEX(Organizations[],MATCH(Main3WData13[[#This Row],[Acronym]],AcronymList,0),1)","v":"Fonds international de développement agricole"},{"$f":"INDEX(Organizations[],MATCH(Main3WData13[[#This Row],[Acronym]],AcronymList,0),3)","v":"UN"},"Santé","Regulier","GAO",{"$f":"VLOOKUP(Main3WData13[[#This Row],[Admin Unit Name]],AdminUnits[],2,FALSE)","v":"ML07"},{"$f":"VLOOKUP(Main3WData13[[#This Row],[Admin Unit Name]],AdminUnits[],3,FALSE)","v":"Nord"},{"$f":"VLOOKUP(Main3WData13[[#This Row],[Admin Unit Name]],AdminUnits[],4,FALSE)","v":7},{"$f":"VLOOKUP(Main3WData13[[#This Row],[Sector]],Sectors[],2,FALSE)","v":6}]
[null,"FIDA",{"$f":"INDEX(Organizations[],MATCH(Main3WData13[[#This Row],[Acronym]],AcronymList,0),1)","v":"Fonds international de développement agricole"},{"$f":"INDEX(Organizations[],MATCH(Main3WData13[[#This Row],[Acronym]],AcronymList,0),3)","v":"UN"},"Santé","Regulier","KIDAL",{"$f":"VLOOKUP(Main3WData13[[#This Row],[Admin Unit Name]],AdminUnits[],2,FALSE)","v":"ML08"},{"$f":"VLOOKUP(Main3WData13[[#This Row],[Admin Unit Name]],AdminUnits[],3,FALSE)","v":"Nord"},{"$f":"VLOOKUP(Main3WData13[[#This Row],[Admin Unit Name]],AdminUnits[],4,FALSE)","v":8},{"$f":"VLOOKUP(Main3WData13[[#This Row],[Sector]],Sectors[],2,FALSE)","v":6}]
[null,"FIDA",{"$f":"INDEX(Organizations[],MATCH(Main3WData13[[#This Row],[Acronym]],AcronymList,0),1)","v":"Fonds international de développement agricole"},{"$f":"INDEX(Organizations[],MATCH(Main3WData13[[#This Row],[Acronym]],AcronymList,0),3)","v":"UN"},"Santé","Regulier","TOMBOUCTOU",{"$f":"VLOOKUP(Main3WData13[[#This Row],[Admin Unit Name]],AdminUnits[],2,FALSE)","v":"ML06"},{"$f":"VLOOKUP(Main3WData13[[#This Row],[Admin Unit Name]],AdminUnits[],3,FALSE)","v":"Nord"},{"$f":"VLOOKUP(Main3WData13[[#This Row],[Admin Unit Name]],AdminUnits[],4,FALSE)","v":6},{"$f":"VLOOKUP(Main3WData13[[#This Row],[Sector]],Sectors[],2,FALSE)","v":6}]
[null,"FAO",{"$f":"INDEX(Organizations[],MATCH(Main3WData13[[#This Row],[Acronym]],AcronymList,0),1)","v":"United Nations Food and Agriculture Organization"},{"$f":"INDEX(Organizations[],MATCH(Main3WData13[[#This Row],[Acronym]],AcronymList,0),3)","v":"UN"},"Sécurité alimentaire","Regulier","Tombouctou",{"$f":"VLOOKUP(Main3WData13[[#This Row],[Admin Unit Name]],AdminUnits[],2,FALSE)","v":"ML06"},{"$f":"VLOOKUP(Main3WData13[[#This Row],[Admin Unit Name]],AdminUnits[],3,FALSE)","v":"Nord"},{"$f":"VLOOKUP(Main3WData13[[#This Row],[Admin Unit Name]],AdminUnits[],4,FALSE)","v":6},{"$f":"VLOOKUP(Main3WData13[[#This Row],[Sector]],Sectors[],2,FALSE)","v":7}]
[null,"FAO",{"$f":"INDEX(Organizations[],MATCH(Main3WData13[[#This Row],[Acronym]],AcronymList,0),1)","v":"United Nations Food and Agriculture Organization"},{"$f":"INDEX(Organizations[],MATCH(Main3WData13[[#This Row],[Acronym]],AcronymList,0),3)","v":"UN"},"Sécurité alimentaire","Regulier","Koulikoro",{"$f":"VLOOKUP(Main3WData13[[#This Row],[Admin Unit Name]],AdminUnits[],2,FALSE)","v":"ML02"},{"$f":"VLOOKUP(Main3WData13[[#This Row],[Admin Unit Name]],AdminUnits[],3,FALSE)","v":"Sud"},{"$f":"VLOOKUP(Main3WData13[[#This Row],[Admin Unit Name]],AdminUnits[],4,FALSE)","v":2},{"$f":"VLOOKUP(Main3WData13[[#This Row],[Sector]],Sectors[],2,FALSE)","v":7}]
[null,"FAO",{"$f":"INDEX(Organizations[],MATCH(Main3WData13[[#This Row],[Acronym]],AcronymList,0),1)","v":"United Nations Food and Agriculture Organization"},{"$f":"INDEX(Organizations[],MATCH(Main3WData13[[#This Row],[Acronym]],AcronymList,0),3)","v":"UN"},"Sécurité alimentaire","Regulier","Segou",{"$f":"VLOOKUP(Main3WData13[[#This Row],[Admin Unit Name]],AdminUnits[],2,FALSE)","v":"ML04"},{"$f":"VLOOKUP(Main3WData13[[#This Row],[Admin Unit Name]],AdminUnits[],3,FALSE)","v":"Sud"},{"$f":"VLOOKUP(Main3WData13[[#This Row],[Admin Unit Name]],AdminUnits[],4,FALSE)","v":4},{"$f":"VLOOKUP(Main3WData13[[#This Row],[Sector]],Sectors[],2,FALSE)","v":7}]
[null,"FAO",{"$f":"INDEX(Organizations[],MATCH(Main3WData13[[#This Row],[Acronym]],AcronymList,0),1)","v":"United Nations Food and Agriculture Organization"},{"$f":"INDEX(Organizations[],MATCH(Main3WData13[[#This Row],[Acronym]],AcronymList,0),3)","v":"UN"},"Coordination","Regulier","Bamako",{"$f":"VLOOKUP(Main3WData13[[#This Row],[Admin Unit Name]],AdminUnits[],2,FALSE)","v":"ML09"},{"$f":"VLOOKUP(Main3WData13[[#This Row],[Admin Unit Name]],AdminUnits[],3,FALSE)","v":"Sud"},{"$f":"VLOOKUP(Main3WData13[[#This Row],[Admin Unit Name]],AdminUnits[],4,FALSE)","v":0},{"$f":"VLOOKUP(Main3WData13[[#This Row],[Sector]],Sectors[],2,FALSE)","v":2}]
[null,"ENDA TIERS MONDE",{"$f":"INDEX(Organizations[],MATCH(Main3WData13[[#This Row],[Acronym]],AcronymList,0),1)","v":"ENDA TIERS MONDE"},{"$f":"INDEX(Organizations[],MATCH(Main3WData13[[#This Row],[Acronym]],AcronymList,0),3)","v":"ONG Int."},"Sécurité alimentaire","Regulier","Mopti",{"$f":"VLOOKUP(Main3WData13[[#This Row],[Admin Unit Name]],AdminUnits[],2,FALSE)","v":"ML05"},{"$f":"VLOOKUP(Main3WData13[[#This Row],[Admin Unit Name]],AdminUnits[],3,FALSE)","v":"Sud"},{"$f":"VLOOKUP(Main3WData13[[#This Row],[Admin Unit Name]],AdminUnits[],4,FALSE)","v":5},{"$f":"VLOOKUP(Main3WData13[[#This Row],[Sector]],Sectors[],2,FALSE)","v":7}]
[null,"Eau Vive",{"$f":"INDEX(Organizations[],MATCH(Main3WData13[[#This Row],[Acronym]],AcronymList,0),1)","v":"Eau Vive"},{"$f":"INDEX(Organizations[],MATCH(Main3WData13[[#This Row],[Acronym]],AcronymList,0),3)","v":"ONG Int."},"EHA","Regulier","KOULIKORO",{"$f":"VLOOKUP(Main3WData13[[#This Row],[Admin Unit Name]],AdminUnits[],2,FALSE)","v":"ML02"},{"$f":"VLOOKUP(Main3WData13[[#This Row],[Admin Unit Name]],AdminUnits[],3,FALSE)","v":"Sud"},{"$f":"VLOOKUP(Main3WData13[[#This Row],[Admin Unit Name]],AdminUnits[],4,FALSE)","v":2},{"$f":"VLOOKUP(Main3WData13[[#This Row],[Sector]],Sectors[],2,FALSE)","v":8}]
[null,"Eau Vive",{"$f":"INDEX(Organizations[],MATCH(Main3WData13[[#This Row],[Acronym]],AcronymList,0),1)","v":"Eau Vive"},{"$f":"INDEX(Organizations[],MATCH(Main3WData13[[#This Row],[Acronym]],AcronymList,0),3)","v":"ONG Int."},"EHA","Regulier","MOPTI",{"$f":"VLOOKUP(Main3WData13[[#This Row],[Admin Unit Name]],AdminUnits[],2,FALSE)","v":"ML05"},{"$f":"VLOOKUP(Main3WData13[[#This Row],[Admin Unit Name]],AdminUnits[],3,FALSE)","v":"Sud"},{"$f":"VLOOKUP(Main3WData13[[#This Row],[Admin Unit Name]],AdminUnits[],4,FALSE)","v":5},{"$f":"VLOOKUP(Main3WData13[[#This Row],[Sector]],Sectors[],2,FALSE)","v":8}]
[null,"DRC",{"$f":"INDEX(Organizations[],MATCH(Main3WData13[[#This Row],[Acronym]],AcronymList,0),1)","v":"Danish Refugee Council"},{"$f":"INDEX(Organizations[],MATCH(Main3WData13[[#This Row],[Acronym]],AcronymList,0),3)","v":"ONG Int."},"Protection","Regulier","Mopti",{"$f":"VLOOKUP(Main3WData13[[#This Row],[Admin Unit Name]],AdminUnits[],2,FALSE)","v":"ML05"},{"$f":"VLOOKUP(Main3WData13[[#This Row],[Admin Unit Name]],AdminUnits[],3,FALSE)","v":"Sud"},{"$f":"VLOOKUP(Main3WData13[[#This Row],[Admin Unit Name]],AdminUnits[],4,FALSE)","v":5},{"$f":"VLOOKUP(Main3WData13[[#This Row],[Sector]],Sectors[],2,FALSE)","v":5}]
[null,"DGPC",{"$f":"INDEX(Organizations[],MATCH(Main3WData13[[#This Row],[Acronym]],AcronymList,0),1)","v":"Direction Générale de la Protection Civile"},{"$f":"INDEX(Organizations[],MATCH(Main3WData13[[#This Row],[Acronym]],AcronymList,0),3)","v":"Gouvernement"},"EHA","Regulier","BAMAKO",{"$f":"VLOOKUP(Main3WData13[[#This Row],[Admin Unit Name]],AdminUnits[],2,FALSE)","v":"ML09"},{"$f":"VLOOKUP(Main3WData13[[#This Row],[Admin Unit Name]],AdminUnits[],3,FALSE)","v":"Sud"},{"$f":"VLOOKUP(Main3WData13[[#This Row],[Admin Unit Name]],AdminUnits[],4,FALSE)","v":0},{"$f":"VLOOKUP(Main3WData13[[#This Row],[Sector]],Sectors[],2,FALSE)","v":8}]
[null,"DGPC",{"$f":"INDEX(Organizations[],MATCH(Main3WData13[[#This Row],[Acronym]],AcronymList,0),1)","v":"Direction Générale de la Protection Civile"},{"$f":"INDEX(Organizations[],MATCH(Main3WData13[[#This Row],[Acronym]],AcronymList,0),3)","v":"Gouvernement"},"EHA","Regulier","KAYES",{"$f":"VLOOKUP(Main3WData13[[#This Row],[Admin Unit Name]],AdminUnits[],2,FALSE)","v":"ML01"},{"$f":"VLOOKUP(Main3WData13[[#This Row],[Admin Unit Name]],AdminUnits[],3,FALSE)","v":"Sud"},{"$f":"VLOOKUP(Main3WData13[[#This Row],[Admin Unit Name]],AdminUnits[],4,FALSE)","v":1},{"$f":"VLOOKUP(Main3WData13[[#This Row],[Sector]],Sectors[],2,FALSE)","v":8}]
[null,"DGPC",{"$f":"INDEX(Organizations[],MATCH(Main3WData13[[#This Row],[Acronym]],AcronymList,0),1)","v":"Direction Générale de la Protection Civile"},{"$f":"INDEX(Organizations[],MATCH(Main3WData13[[#This Row],[Acronym]],AcronymList,0),3)","v":"Gouvernement"},"EHA","Regulier","KOULIKORO",{"$f":"VLOOKUP(Main3WData13[[#This Row],[Admin Unit Name]],AdminUnits[],2,FALSE)","v":"ML02"},{"$f":"VLOOKUP(Main3WData13[[#This Row],[Admin Unit Name]],AdminUnits[],3,FALSE)","v":"Sud"},{"$f":"VLOOKUP(Main3WData13[[#This Row],[Admin Unit Name]],AdminUnits[],4,FALSE)","v":2},{"$f":"VLOOKUP(Main3WData13[[#This Row],[Sector]],Sectors[],2,FALSE)","v":8}]
[null,"DGPC",{"$f":"INDEX(Organizations[],MATCH(Main3WData13[[#This Row],[Acronym]],AcronymList,0),1)","v":"Direction Générale de la Protection Civile"},{"$f":"INDEX(Organizations[],MATCH(Main3WData13[[#This Row],[Acronym]],AcronymList,0),3)","v":"Gouvernement"},"EHA","Regulier","MOPTI",{"$f":"VLOOKUP(Main3WData13[[#This Row],[Admin Unit Name]],AdminUnits[],2,FALSE)","v":"ML05"},{"$f":"VLOOKUP(Main3WData13[[#This Row],[Admin Unit Name]],AdminUnits[],3,FALSE)","v":"Sud"},{"$f":"VLOOKUP(Main3WData13[[#This Row],[Admin Unit Name]],AdminUnits[],4,FALSE)","v":5},{"$f":"VLOOKUP(Main3WData13[[#This Row],[Sector]],Sectors[],2,FALSE)","v":8}]
[null,"DGPC",{"$f":"INDEX(Organizations[],MATCH(Main3WData13[[#This Row],[Acronym]],AcronymList,0),1)","v":"Direction Générale de la Protection Civile"},{"$f":"INDEX(Organizations[],MATCH(Main3WData13[[#This Row],[Acronym]],AcronymList,0),3)","v":"Gouvernement"},"EHA","Regulier","SEGOU",{"$f":"VLOOKUP(Main3WData13[[#This Row],[Admin Unit Name]],AdminUnits[],2,FALSE)","v":"ML04"},{"$f":"VLOOKUP(Main3WData13[[#This Row],[Admin Unit Name]],AdminUnits[],3,FALSE)","v":"Sud"},{"$f":"VLOOKUP(Main3WData13[[#This Row],[Admin Unit Name]],AdminUnits[],4,FALSE)","v":4},{"$f":"VLOOKUP(Main3WData13[[#This Row],[Sector]],Sectors[],2,FALSE)","v":8}]
[null,"DGPC",{"$f":"INDEX(Organizations[],MATCH(Main3WData13[[#This Row],[Acronym]],AcronymList,0),1)","v":"Direction Générale de la Protection Civile"},{"$f":"INDEX(Organizations[],MATCH(Main3WData13[[#This Row],[Acronym]],AcronymList,0),3)","v":"Gouvernement"},"EHA","Regulier","SIKASSO",{"$f":"VLOOKUP(Main3WData13[[#This Row],[Admin Unit Name]],AdminUnits[],2,FALSE)","v":"ML03"},{"$f":"VLOOKUP(Main3WData13[[#This Row],[Admin Unit Name]],AdminUnits[],3,FALSE)","v":"Sud"},{"$f":"VLOOKUP(Main3WData13[[#This Row],[Admin Unit Name]],AdminUnits[],4,FALSE)","v":3},{"$f":"VLOOKUP(Main3WData13[[#This Row],[Sector]],Sectors[],2,FALSE)","v":8}]
[null,"Delta Survie",{"$f":"INDEX(Organizations[],MATCH(Main3WData13[[#This Row],[Acronym]],AcronymList,0),1)","v":"Delta Survie"},{"$f":"INDEX(Organizations[],MATCH(Main3WData13[[#This Row],[Acronym]],AcronymList,0),3)","v":"ONG Nat."},"Abris et NFI","Regulier","Mopti",{"$f":"VLOOKUP(Main3WData13[[#This Row],[Admin Unit Name]],AdminUnits[],2,FALSE)","v":"ML05"},{"$f":"VLOOKUP(Main3WData13[[#This Row],[Admin Unit Name]],AdminUnits[],3,FALSE)","v":"Sud"},{"$f":"VLOOKUP(Main3WData13[[#This Row],[Admin Unit Name]],AdminUnits[],4,FALSE)","v":5},{"$f":"VLOOKUP(Main3WData13[[#This Row],[Sector]],Sectors[],2,FALSE)","v":1}]
[null,"DanChurchAid",{"$f":"INDEX(Organizations[],MATCH(Main3WData13[[#This Row],[Acronym]],AcronymList,0),1)","v":"DanChurchAid"},{"$f":"INDEX(Organizations[],MATCH(Main3WData13[[#This Row],[Acronym]],AcronymList,0),3)","v":"ONG Int."},"Protection","Regulier","Gao",{"$f":"VLOOKUP(Main3WData13[[#This Row],[Admin Unit Name]],AdminUnits[],2,FALSE)","v":"ML07"},{"$f":"VLOOKUP(Main3WData13[[#This Row],[Admin Unit Name]],AdminUnits[],3,FALSE)","v":"Nord"},{"$f":"VLOOKUP(Main3WData13[[#This Row],[Admin Unit Name]],AdminUnits[],4,FALSE)","v":7},{"$f":"VLOOKUP(Main3WData13[[#This Row],[Sector]],Sectors[],2,FALSE)","v":5}]
[null,"CSPEEDA",{"$f":"INDEX(Organizations[],MATCH(Main3WData13[[#This Row],[Acronym]],AcronymList,0),1)","v":"CSPEEDA"},{"$f":"INDEX(Organizations[],MATCH(Main3WData13[[#This Row],[Acronym]],AcronymList,0),3)","v":"ONG Nat."},"Sécurité alimentaire","Regulier","Koulikoro",{"$f":"VLOOKUP(Main3WData13[[#This Row],[Admin Unit Name]],AdminUnits[],2,FALSE)","v":"ML02"},{"$f":"VLOOKUP(Main3WData13[[#This Row],[Admin Unit Name]],AdminUnits[],3,FALSE)","v":"Sud"},{"$f":"VLOOKUP(Main3WData13[[#This Row],[Admin Unit Name]],AdminUnits[],4,FALSE)","v":2},{"$f":"VLOOKUP(Main3WData13[[#This Row],[Sector]],Sectors[],2,FALSE)","v":7}]
[null,"CR-Suisse",{"$f":"INDEX(Organizations[],MATCH(Main3WData13[[#This Row],[Acronym]],AcronymList,0),1)","v":"Croix Rouge Suisse"},{"$f":"INDEX(Organizations[],MATCH(Main3WData13[[#This Row],[Acronym]],AcronymList,0),3)","v":"Mouv. Croix-rouge"},"Abris et NFI","Regulier","Mopti",{"$f":"VLOOKUP(Main3WData13[[#This Row],[Admin Unit Name]],AdminUnits[],2,FALSE)","v":"ML05"},{"$f":"VLOOKUP(Main3WData13[[#This Row],[Admin Unit Name]],AdminUnits[],3,FALSE)","v":"Sud"},{"$f":"VLOOKUP(Main3WData13[[#This Row],[Admin Unit Name]],AdminUnits[],4,FALSE)","v":5},{"$f":"VLOOKUP(Main3WData13[[#This Row],[Sector]],Sectors[],2,FALSE)","v":1}]
[null,"CRS",{"$f":"INDEX(Organizations[],MATCH(Main3WData13[[#This Row],[Acronym]],AcronymList,0),1)","v":"Catholic Relief Services"},{"$f":"INDEX(Organizations[],MATCH(Main3WData13[[#This Row],[Acronym]],AcronymList,0),3)","v":"ONG Int."},"Sécurité alimentaire","Regulier","Segou",{"$f":"VLOOKUP(Main3WData13[[#This Row],[Admin Unit Name]],AdminUnits[],2,FALSE)","v":"ML04"},{"$f":"VLOOKUP(Main3WData13[[#This Row],[Admin Unit Name]],AdminUnits[],3,FALSE)","v":"Sud"},{"$f":"VLOOKUP(Main3WData13[[#This Row],[Admin Unit Name]],AdminUnits[],4,FALSE)","v":4},{"$f":"VLOOKUP(Main3WData13[[#This Row],[Sector]],Sectors[],2,FALSE)","v":7}]
[null,"CRS",{"$f":"INDEX(Organizations[],MATCH(Main3WData13[[#This Row],[Acronym]],AcronymList,0),1)","v":"Catholic Relief Services"},{"$f":"INDEX(Organizations[],MATCH(Main3WData13[[#This Row],[Acronym]],AcronymList,0),3)","v":"ONG Int."},"Sécurité alimentaire","Regulier","Mopti",{"$f":"VLOOKUP(Main3WData13[[#This Row],[Admin Unit Name]],AdminUnits[],2,FALSE)","v":"ML05"},{"$f":"VLOOKUP(Main3WData13[[#This Row],[Admin Unit Name]],AdminUnits[],3,FALSE)","v":"Sud"},{"$f":"VLOOKUP(Main3WData13[[#This Row],[Admin Unit Name]],AdminUnits[],4,FALSE)","v":5},{"$f":"VLOOKUP(Main3WData13[[#This Row],[Sector]],Sectors[],2,FALSE)","v":7}]
[null,"CRS",{"$f":"INDEX(Organizations[],MATCH(Main3WData13[[#This Row],[Acronym]],AcronymList,0),1)","v":"Catholic Relief Services"},{"$f":"INDEX(Organizations[],MATCH(Main3WData13[[#This Row],[Acronym]],AcronymList,0),3)","v":"ONG Int."},"Sécurité alimentaire","Regulier","Sikasso",{"$f":"VLOOKUP(Main3WData13[[#This Row],[Admin Unit Name]],AdminUnits[],2,FALSE)","v":"ML03"},{"$f":"VLOOKUP(Main3WData13[[#This Row],[Admin Unit Name]],AdminUnits[],3,FALSE)","v":"Sud"},{"$f":"VLOOKUP(Main3WData13[[#This Row],[Admin Unit Name]],AdminUnits[],4,FALSE)","v":3},{"$f":"VLOOKUP(Main3WData13[[#This Row],[Sector]],Sectors[],2,FALSE)","v":7}]
[null,"CRS",{"$f":"INDEX(Organizations[],MATCH(Main3WData13[[#This Row],[Acronym]],AcronymList,0),1)","v":"Catholic Relief Services"},{"$f":"INDEX(Organizations[],MATCH(Main3WData13[[#This Row],[Acronym]],AcronymList,0),3)","v":"ONG Int."},"Sécurité alimentaire","Regulier","Koulikoro",{"$f":"VLOOKUP(Main3WData13[[#This Row],[Admin Unit Name]],AdminUnits[],2,FALSE)","v":"ML02"},{"$f":"VLOOKUP(Main3WData13[[#This Row],[Admin Unit Name]],AdminUnits[],3,FALSE)","v":"Sud"},{"$f":"VLOOKUP(Main3WData13[[#This Row],[Admin Unit Name]],AdminUnits[],4,FALSE)","v":2},{"$f":"VLOOKUP(Main3WData13[[#This Row],[Sector]],Sectors[],2,FALSE)","v":7}]
[null,"CRS",{"$f":"INDEX(Organizations[],MATCH(Main3WData13[[#This Row],[Acronym]],AcronymList,0),1)","v":"Catholic Relief Services"},{"$f":"INDEX(Organizations[],MATCH(Main3WData13[[#This Row],[Acronym]],AcronymList,0),3)","v":"ONG Int."},"Education","Regulier","Mopti",{"$f":"VLOOKUP(Main3WData13[[#This Row],[Admin Unit Name]],AdminUnits[],2,FALSE)","v":"ML05"},{"$f":"VLOOKUP(Main3WData13[[#This Row],[Admin Unit Name]],AdminUnits[],3,FALSE)","v":"Sud"},{"$f":"VLOOKUP(Main3WData13[[#This Row],[Admin Unit Name]],AdminUnits[],4,FALSE)","v":5},{"$f":"VLOOKUP(Main3WData13[[#This Row],[Sector]],Sectors[],2,FALSE)","v":3}]
[null,"CRS",{"$f":"INDEX(Organizations[],MATCH(Main3WData13[[#This Row],[Acronym]],AcronymList,0),1)","v":"Catholic Relief Services"},{"$f":"INDEX(Organizations[],MATCH(Main3WData13[[#This Row],[Acronym]],AcronymList,0),3)","v":"ONG Int."},"Education","Regulier","Koulikoro",{"$f":"VLOOKUP(Main3WData13[[#This Row],[Admin Unit Name]],AdminUnits[],2,FALSE)","v":"ML02"},{"$f":"VLOOKUP(Main3WData13[[#This Row],[Admin Unit Name]],AdminUnits[],3,FALSE)","v":"Sud"},{"$f":"VLOOKUP(Main3WData13[[#This Row],[Admin Unit Name]],AdminUnits[],4,FALSE)","v":2},{"$f":"VLOOKUP(Main3WData13[[#This Row],[Sector]],Sectors[],2,FALSE)","v":3}]
[null,"CRS",{"$f":"INDEX(Organizations[],MATCH(Main3WData13[[#This Row],[Acronym]],AcronymList,0),1)","v":"Catholic Relief Services"},{"$f":"INDEX(Organizations[],MATCH(Main3WData13[[#This Row],[Acronym]],AcronymList,0),3)","v":"ONG Int."},"Nutrition","Regulier","Koulikoro",{"$f":"VLOOKUP(Main3WData13[[#This Row],[Admin Unit Name]],AdminUnits[],2,FALSE)","v":"ML02"},{"$f":"VLOOKUP(Main3WData13[[#This Row],[Admin Unit Name]],AdminUnits[],3,FALSE)","v":"Sud"},{"$f":"VLOOKUP(Main3WData13[[#This Row],[Admin Unit Name]],AdminUnits[],4,FALSE)","v":2},{"$f":"VLOOKUP(Main3WData13[[#This Row],[Sector]],Sectors[],2,FALSE)","v":4}]
[null,"CRS",{"$f":"INDEX(Organizations[],MATCH(Main3WData13[[#This Row],[Acronym]],AcronymList,0),1)","v":"Catholic Relief Services"},{"$f":"INDEX(Organizations[],MATCH(Main3WData13[[#This Row],[Acronym]],AcronymList,0),3)","v":"ONG Int."},"Nutrition","Regulier","Mopti",{"$f":"VLOOKUP(Main3WData13[[#This Row],[Admin Unit Name]],AdminUnits[],2,FALSE)","v":"ML05"},{"$f":"VLOOKUP(Main3WData13[[#This Row],[Admin Unit Name]],AdminUnits[],3,FALSE)","v":"Sud"},{"$f":"VLOOKUP(Main3WData13[[#This Row],[Admin Unit Name]],AdminUnits[],4,FALSE)","v":5},{"$f":"VLOOKUP(Main3WData13[[#This Row],[Sector]],Sectors[],2,FALSE)","v":4}]
[null,"CRS",{"$f":"INDEX(Organizations[],MATCH(Main3WData13[[#This Row],[Acronym]],AcronymList,0),1)","v":"Catholic Relief Services"},{"$f":"INDEX(Organizations[],MATCH(Main3WData13[[#This Row],[Acronym]],AcronymList,0),3)","v":"ONG Int."},"EHA","Regulier","MOPTI",{"$f":"VLOOKUP(Main3WData13[[#This Row],[Admin Unit Name]],AdminUnits[],2,FALSE)","v":"ML05"},{"$f":"VLOOKUP(Main3WData13[[#This Row],[Admin Unit Name]],AdminUnits[],3,FALSE)","v":"Sud"},{"$f":"VLOOKUP(Main3WData13[[#This Row],[Admin Unit Name]],AdminUnits[],4,FALSE)","v":5},{"$f":"VLOOKUP(Main3WData13[[#This Row],[Sector]],Sectors[],2,FALSE)","v":8}]
[null,"CR-Mali",{"$f":"INDEX(Organizations[],MATCH(Main3WData13[[#This Row],[Acronym]],AcronymList,0),1)","v":"Croix-Rouge Mali"},{"$f":"INDEX(Organizations[],MATCH(Main3WData13[[#This Row],[Acronym]],AcronymList,0),3)","v":"Mouv. Croix-rouge"},"Sécurité alimentaire","Regulier","SEGOU",{"$f":"VLOOKUP(Main3WData13[[#This Row],[Admin Unit Name]],AdminUnits[],2,FALSE)","v":"ML04"},{"$f":"VLOOKUP(Main3WData13[[#This Row],[Admin Unit Name]],AdminUnits[],3,FALSE)","v":"Sud"},{"$f":"VLOOKUP(Main3WData13[[#This Row],[Admin Unit Name]],AdminUnits[],4,FALSE)","v":4},{"$f":"VLOOKUP(Main3WData13[[#This Row],[Sector]],Sectors[],2,FALSE)","v":7}]
[null,"CR-Mali",{"$f":"INDEX(Organizations[],MATCH(Main3WData13[[#This Row],[Acronym]],AcronymList,0),1)","v":"Croix-Rouge Mali"},{"$f":"INDEX(Organizations[],MATCH(Main3WData13[[#This Row],[Acronym]],AcronymList,0),3)","v":"Mouv. Croix-rouge"},"Sécurité alimentaire","Regulier","Mopti",{"$f":"VLOOKUP(Main3WData13[[#This Row],[Admin Unit Name]],AdminUnits[],2,FALSE)","v":"ML05"},{"$f":"VLOOKUP(Main3WData13[[#This Row],[Admin Unit Name]],AdminUnits[],3,FALSE)","v":"Sud"},{"$f":"VLOOKUP(Main3WData13[[#This Row],[Admin Unit Name]],AdminUnits[],4,FALSE)","v":5},{"$f":"VLOOKUP(Main3WData13[[#This Row],[Sector]],Sectors[],2,FALSE)","v":7}]
[null,"CR-Mali",{"$f":"INDEX(Organizations[],MATCH(Main3WData13[[#This Row],[Acronym]],AcronymList,0),1)","v":"Croix-Rouge Mali"},{"$f":"INDEX(Organizations[],MATCH(Main3WData13[[#This Row],[Acronym]],AcronymList,0),3)","v":"Mouv. Croix-rouge"},"Sécurité alimentaire","Regulier","Tombouctou",{"$f":"VLOOKUP(Main3WData13[[#This Row],[Admin Unit Name]],AdminUnits[],2,FALSE)","v":"ML06"},{"$f":"VLOOKUP(Main3WData13[[#This Row],[Admin Unit Name]],AdminUnits[],3,FALSE)","v":"Nord"},{"$f":"VLOOKUP(Main3WData13[[#This Row],[Admin Unit Name]],AdminUnits[],4,FALSE)","v":6},{"$f":"VLOOKUP(Main3WData13[[#This Row],[Sector]],Sectors[],2,FALSE)","v":7}]
[null,"CR-Mali",{"$f":"INDEX(Organizations[],MATCH(Main3WData13[[#This Row],[Acronym]],AcronymList,0),1)","v":"Croix-Rouge Mali"},{"$f":"INDEX(Organizations[],MATCH(Main3WData13[[#This Row],[Acronym]],AcronymList,0),3)","v":"Mouv. Croix-rouge"},"EHA","Regulier","BAMAKO",{"$f":"VLOOKUP(Main3WData13[[#This Row],[Admin Unit Name]],AdminUnits[],2,FALSE)","v":"ML09"},{"$f":"VLOOKUP(Main3WData13[[#This Row],[Admin Unit Name]],AdminUnits[],3,FALSE)","v":"Sud"},{"$f":"VLOOKUP(Main3WData13[[#This Row],[Admin Unit Name]],AdminUnits[],4,FALSE)","v":0},{"$f":"VLOOKUP(Main3WData13[[#This Row],[Sector]],Sectors[],2,FALSE)","v":8}]
[null,"CR-Mali",{"$f":"INDEX(Organizations[],MATCH(Main3WData13[[#This Row],[Acronym]],AcronymList,0),1)","v":"Croix-Rouge Mali"},{"$f":"INDEX(Organizations[],MATCH(Main3WData13[[#This Row],[Acronym]],AcronymList,0),3)","v":"Mouv. Croix-rouge"},"Abris et NFI","Regulier","Mopti",{"$f":"VLOOKUP(Main3WData13[[#This Row],[Admin Unit Name]],AdminUnits[],2,FALSE)","v":"ML05"},{"$f":"VLOOKUP(Main3WData13[[#This Row],[Admin Unit Name]],AdminUnits[],3,FALSE)","v":"Sud"},{"$f":"VLOOKUP(Main3WData13[[#This Row],[Admin Unit Name]],AdminUnits[],4,FALSE)","v":5},{"$f":"VLOOKUP(Main3WData13[[#This Row],[Sector]],Sectors[],2,FALSE)","v":1}]
[null,"CR-Mali",{"$f":"INDEX(Organizations[],MATCH(Main3WData13[[#This Row],[Acronym]],AcronymList,0),1)","v":"Croix-Rouge Mali"},{"$f":"INDEX(Organizations[],MATCH(Main3WData13[[#This Row],[Acronym]],AcronymList,0),3)","v":"Mouv. Croix-rouge"},"EHA","Regulier","KAYES",{"$f":"VLOOKUP(Main3WData13[[#This Row],[Admin Unit Name]],AdminUnits[],2,FALSE)","v":"ML01"},{"$f":"VLOOKUP(Main3WData13[[#This Row],[Admin Unit Name]],AdminUnits[],3,FALSE)","v":"Sud"},{"$f":"VLOOKUP(Main3WData13[[#This Row],[Admin Unit Name]],AdminUnits[],4,FALSE)","v":1},{"$f":"VLOOKUP(Main3WData13[[#This Row],[Sector]],Sectors[],2,FALSE)","v":8}]
[null,"CR-Mali",{"$f":"INDEX(Organizations[],MATCH(Main3WData13[[#This Row],[Acronym]],AcronymList,0),1)","v":"Croix-Rouge Mali"},{"$f":"INDEX(Organizations[],MATCH(Main3WData13[[#This Row],[Acronym]],AcronymList,0),3)","v":"Mouv. Croix-rouge"},"EHA","Regulier","SEGOU",{"$f":"VLOOKUP(Main3WData13[[#This Row],[Admin Unit Name]],AdminUnits[],2,FALSE)","v":"ML04"},{"$f":"VLOOKUP(Main3WData13[[#This Row],[Admin Unit Name]],AdminUnits[],3,FALSE)","v":"Sud"},{"$f":"VLOOKUP(Main3WData13[[#This Row],[Admin Unit Name]],AdminUnits[],4,FALSE)","v":4},{"$f":"VLOOKUP(Main3WData13[[#This Row],[Sector]],Sectors[],2,FALSE)","v":8}]
[null,"Cri de Cœur",{"$f":"INDEX(Organizations[],MATCH(Main3WData13[[#This Row],[Acronym]],AcronymList,0),1)","v":"Cri de Cœur"},{"$f":"INDEX(Organizations[],MATCH(Main3WData13[[#This Row],[Acronym]],AcronymList,0),3)","v":"ONG Nat."},"Education","Regulier","Bamako",{"$f":"VLOOKUP(Main3WData13[[#This Row],[Admin Unit Name]],AdminUnits[],2,FALSE)","v":"ML09"},{"$f":"VLOOKUP(Main3WData13[[#This Row],[Admin Unit Name]],AdminUnits[],3,FALSE)","v":"Sud"},{"$f":"VLOOKUP(Main3WData13[[#This Row],[Admin Unit Name]],AdminUnits[],4,FALSE)","v":0},{"$f":"VLOOKUP(Main3WData13[[#This Row],[Sector]],Sectors[],2,FALSE)","v":3}]
[null,"CR-France",{"$f":"INDEX(Organizations[],MATCH(Main3WData13[[#This Row],[Acronym]],AcronymList,0),1)","v":"Croix Rouge France"},{"$f":"INDEX(Organizations[],MATCH(Main3WData13[[#This Row],[Acronym]],AcronymList,0),3)","v":"Mouv. Croix-rouge"},"Nutrition","Urgence","Bamako",{"$f":"VLOOKUP(Main3WData13[[#This Row],[Admin Unit Name]],AdminUnits[],2,FALSE)","v":"ML09"},{"$f":"VLOOKUP(Main3WData13[[#This Row],[Admin Unit Name]],AdminUnits[],3,FALSE)","v":"Sud"},{"$f":"VLOOKUP(Main3WData13[[#This Row],[Admin Unit Name]],AdminUnits[],4,FALSE)","v":0},{"$f":"VLOOKUP(Main3WData13[[#This Row],[Sector]],Sectors[],2,FALSE)","v":4}]
[null,"CR-France",{"$f":"INDEX(Organizations[],MATCH(Main3WData13[[#This Row],[Acronym]],AcronymList,0),1)","v":"Croix Rouge France"},{"$f":"INDEX(Organizations[],MATCH(Main3WData13[[#This Row],[Acronym]],AcronymList,0),3)","v":"Mouv. Croix-rouge"},"EHA","Regulier","BAMAKO",{"$f":"VLOOKUP(Main3WData13[[#This Row],[Admin Unit Name]],AdminUnits[],2,FALSE)","v":"ML09"},{"$f":"VLOOKUP(Main3WData13[[#This Row],[Admin Unit Name]],AdminUnits[],3,FALSE)","v":"Sud"},{"$f":"VLOOKUP(Main3WData13[[#This Row],[Admin Unit Name]],AdminUnits[],4,FALSE)","v":0},{"$f":"VLOOKUP(Main3WData13[[#This Row],[Sector]],Sectors[],2,FALSE)","v":8}]
[null,"CR-France",{"$f":"INDEX(Organizations[],MATCH(Main3WData13[[#This Row],[Acronym]],AcronymList,0),1)","v":"Croix Rouge France"},{"$f":"INDEX(Organizations[],MATCH(Main3WData13[[#This Row],[Acronym]],AcronymList,0),3)","v":"Mouv. Croix-rouge"},"Nutrition","Urgence","Kayes",{"$f":"VLOOKUP(Main3WData13[[#This Row],[Admin Unit Name]],AdminUnits[],2,FALSE)","v":"ML01"},{"$f":"VLOOKUP(Main3WData13[[#This Row],[Admin Unit Name]],AdminUnits[],3,FALSE)","v":"Sud"},{"$f":"VLOOKUP(Main3WData13[[#This Row],[Admin Unit Name]],AdminUnits[],4,FALSE)","v":1},{"$f":"VLOOKUP(Main3WData13[[#This Row],[Sector]],Sectors[],2,FALSE)","v":4}]
[null,"CR-France",{"$f":"INDEX(Organizations[],MATCH(Main3WData13[[#This Row],[Acronym]],AcronymList,0),1)","v":"Croix Rouge France"},{"$f":"INDEX(Organizations[],MATCH(Main3WData13[[#This Row],[Acronym]],AcronymList,0),3)","v":"Mouv. Croix-rouge"},"EHA","Regulier","KAYES",{"$f":"VLOOKUP(Main3WData13[[#This Row],[Admin Unit Name]],AdminUnits[],2,FALSE)","v":"ML01"},{"$f":"VLOOKUP(Main3WData13[[#This Row],[Admin Unit Name]],AdminUnits[],3,FALSE)","v":"Sud"},{"$f":"VLOOKUP(Main3WData13[[#This Row],[Admin Unit Name]],AdminUnits[],4,FALSE)","v":1},{"$f":"VLOOKUP(Main3WData13[[#This Row],[Sector]],Sectors[],2,FALSE)","v":8}]
[null,"CR-France",{"$f":"INDEX(Organizations[],MATCH(Main3WData13[[#This Row],[Acronym]],AcronymList,0),1)","v":"Croix Rouge France"},{"$f":"INDEX(Organizations[],MATCH(Main3WData13[[#This Row],[Acronym]],AcronymList,0),3)","v":"Mouv. Croix-rouge"},"EHA","Regulier","SEGOU",{"$f":"VLOOKUP(Main3WData13[[#This Row],[Admin Unit Name]],AdminUnits[],2,FALSE)","v":"ML04"},{"$f":"VLOOKUP(Main3WData13[[#This Row],[Admin Unit Name]],AdminUnits[],3,FALSE)","v":"Sud"},{"$f":"VLOOKUP(Main3WData13[[#This Row],[Admin Unit Name]],AdminUnits[],4,FALSE)","v":4},{"$f":"VLOOKUP(Main3WData13[[#This Row],[Sector]],Sectors[],2,FALSE)","v":8}]
[null,"CR-Belgique",{"$f":"INDEX(Organizations[],MATCH(Main3WData13[[#This Row],[Acronym]],AcronymList,0),1)","v":"Croix Rouge Belgique"},{"$f":"INDEX(Organizations[],MATCH(Main3WData13[[#This Row],[Acronym]],AcronymList,0),3)","v":"Mouv. Croix-rouge"},"Nutrition","Urgence","Kayes",{"$f":"VLOOKUP(Main3WData13[[#This Row],[Admin Unit Name]],AdminUnits[],2,FALSE)","v":"ML01"},{"$f":"VLOOKUP(Main3WData13[[#This Row],[Admin Unit Name]],AdminUnits[],3,FALSE)","v":"Sud"},{"$f":"VLOOKUP(Main3WData13[[#This Row],[Admin Unit Name]],AdminUnits[],4,FALSE)","v":1},{"$f":"VLOOKUP(Main3WData13[[#This Row],[Sector]],Sectors[],2,FALSE)","v":4}]
[null,"CR-Belgique",{"$f":"INDEX(Organizations[],MATCH(Main3WData13[[#This Row],[Acronym]],AcronymList,0),1)","v":"Croix Rouge Belgique"},{"$f":"INDEX(Organizations[],MATCH(Main3WData13[[#This Row],[Acronym]],AcronymList,0),3)","v":"Mouv. Croix-rouge"},"Nutrition","Regulier","Koulikoro",{"$f":"VLOOKUP(Main3WData13[[#This Row],[Admin Unit Name]],AdminUnits[],2,FALSE)","v":"ML02"},{"$f":"VLOOKUP(Main3WData13[[#This Row],[Admin Unit Name]],AdminUnits[],3,FALSE)","v":"Sud"},{"$f":"VLOOKUP(Main3WData13[[#This Row],[Admin Unit Name]],AdminUnits[],4,FALSE)","v":2},{"$f":"VLOOKUP(Main3WData13[[#This Row],[Sector]],Sectors[],2,FALSE)","v":4}]
[null,"COREN",{"$f":"INDEX(Organizations[],MATCH(Main3WData13[[#This Row],[Acronym]],AcronymList,0),1)","v":"COREN"},{"$f":"INDEX(Organizations[],MATCH(Main3WData13[[#This Row],[Acronym]],AcronymList,0),3)","v":"Association"},"Protection","Regulier","Segou",{"$f":"VLOOKUP(Main3WData13[[#This Row],[Admin Unit Name]],AdminUnits[],2,FALSE)","v":"ML04"},{"$f":"VLOOKUP(Main3WData13[[#This Row],[Admin Unit Name]],AdminUnits[],3,FALSE)","v":"Sud"},{"$f":"VLOOKUP(Main3WData13[[#This Row],[Admin Unit Name]],AdminUnits[],4,FALSE)","v":4},{"$f":"VLOOKUP(Main3WData13[[#This Row],[Sector]],Sectors[],2,FALSE)","v":5}]
[null,"COOPI",{"$f":"INDEX(Organizations[],MATCH(Main3WData13[[#This Row],[Acronym]],AcronymList,0),1)","v":"COOPI"},{"$f":"INDEX(Organizations[],MATCH(Main3WData13[[#This Row],[Acronym]],AcronymList,0),3)","v":"ONG Int."},"Nutrition","Urgence","Segou",{"$f":"VLOOKUP(Main3WData13[[#This Row],[Admin Unit Name]],AdminUnits[],2,FALSE)","v":"ML04"},{"$f":"VLOOKUP(Main3WData13[[#This Row],[Admin Unit Name]],AdminUnits[],3,FALSE)","v":"Sud"},{"$f":"VLOOKUP(Main3WData13[[#This Row],[Admin Unit Name]],AdminUnits[],4,FALSE)","v":4},{"$f":"VLOOKUP(Main3WData13[[#This Row],[Sector]],Sectors[],2,FALSE)","v":4}]
[null,"CISV",{"$f":"INDEX(Organizations[],MATCH(Main3WData13[[#This Row],[Acronym]],AcronymList,0),1)","v":"Comunità Impegno Servizio Volontariato"},{"$f":"INDEX(Organizations[],MATCH(Main3WData13[[#This Row],[Acronym]],AcronymList,0),3)","v":"ONG Nat."},"Sécurité alimentaire","Regulier","Koulikoro",{"$f":"VLOOKUP(Main3WData13[[#This Row],[Admin Unit Name]],AdminUnits[],2,FALSE)","v":"ML02"},{"$f":"VLOOKUP(Main3WData13[[#This Row],[Admin Unit Name]],AdminUnits[],3,FALSE)","v":"Sud"},{"$f":"VLOOKUP(Main3WData13[[#This Row],[Admin Unit Name]],AdminUnits[],4,FALSE)","v":2},{"$f":"VLOOKUP(Main3WData13[[#This Row],[Sector]],Sectors[],2,FALSE)","v":7}]
[null,"CISV",{"$f":"INDEX(Organizations[],MATCH(Main3WData13[[#This Row],[Acronym]],AcronymList,0),1)","v":"Comunità Impegno Servizio Volontariato"},{"$f":"INDEX(Organizations[],MATCH(Main3WData13[[#This Row],[Acronym]],AcronymList,0),3)","v":"ONG Nat."},"Sécurité alimentaire","Regulier","Segou",{"$f":"VLOOKUP(Main3WData13[[#This Row],[Admin Unit Name]],AdminUnits[],2,FALSE)","v":"ML04"},{"$f":"VLOOKUP(Main3WData13[[#This Row],[Admin Unit Name]],AdminUnits[],3,FALSE)","v":"Sud"},{"$f":"VLOOKUP(Main3WData13[[#This Row],[Admin Unit Name]],AdminUnits[],4,FALSE)","v":4},{"$f":"VLOOKUP(Main3WData13[[#This Row],[Sector]],Sectors[],2,FALSE)","v":7}]
[null,"CISV",{"$f":"INDEX(Organizations[],MATCH(Main3WData13[[#This Row],[Acronym]],AcronymList,0),1)","v":"Comunità Impegno Servizio Volontariato"},{"$f":"INDEX(Organizations[],MATCH(Main3WData13[[#This Row],[Acronym]],AcronymList,0),3)","v":"ONG Nat."},"Sécurité alimentaire","Regulier","Mopti",{"$f":"VLOOKUP(Main3WData13[[#This Row],[Admin Unit Name]],AdminUnits[],2,FALSE)","v":"ML05"},{"$f":"VLOOKUP(Main3WData13[[#This Row],[Admin Unit Name]],AdminUnits[],3,FALSE)","v":"Sud"},{"$f":"VLOOKUP(Main3WData13[[#This Row],[Admin Unit Name]],AdminUnits[],4,FALSE)","v":5},{"$f":"VLOOKUP(Main3WData13[[#This Row],[Sector]],Sectors[],2,FALSE)","v":7}]
[null,"Caritas Segou",{"$f":"INDEX(Organizations[],MATCH(Main3WData13[[#This Row],[Acronym]],AcronymList,0),1)","v":"Caritas Segou"},{"$f":"INDEX(Organizations[],MATCH(Main3WData13[[#This Row],[Acronym]],AcronymList,0),3)","v":"ONG Int."},"Protection","Regulier","Segou",{"$f":"VLOOKUP(Main3WData13[[#This Row],[Admin Unit Name]],AdminUnits[],2,FALSE)","v":"ML04"},{"$f":"VLOOKUP(Main3WData13[[#This Row],[Admin Unit Name]],AdminUnits[],3,FALSE)","v":"Sud"},{"$f":"VLOOKUP(Main3WData13[[#This Row],[Admin Unit Name]],AdminUnits[],4,FALSE)","v":4},{"$f":"VLOOKUP(Main3WData13[[#This Row],[Sector]],Sectors[],2,FALSE)","v":5}]
[null,"Caritas San",{"$f":"INDEX(Organizations[],MATCH(Main3WData13[[#This Row],[Acronym]],AcronymList,0),1)","v":"Caritas San"},{"$f":"INDEX(Organizations[],MATCH(Main3WData13[[#This Row],[Acronym]],AcronymList,0),3)","v":"ONG Int."},"Sécurité alimentaire","Regulier","Segou",{"$f":"VLOOKUP(Main3WData13[[#This Row],[Admin Unit Name]],AdminUnits[],2,FALSE)","v":"ML04"},{"$f":"VLOOKUP(Main3WData13[[#This Row],[Admin Unit Name]],AdminUnits[],3,FALSE)","v":"Sud"},{"$f":"VLOOKUP(Main3WData13[[#This Row],[Admin Unit Name]],AdminUnits[],4,FALSE)","v":4},{"$f":"VLOOKUP(Main3WData13[[#This Row],[Sector]],Sectors[],2,FALSE)","v":7}]
[null,"Caritas Mopti",{"$f":"INDEX(Organizations[],MATCH(Main3WData13[[#This Row],[Acronym]],AcronymList,0),1)","v":"Caritas Mopti"},{"$f":"INDEX(Organizations[],MATCH(Main3WData13[[#This Row],[Acronym]],AcronymList,0),3)","v":"ONG Int."},"Sécurité alimentaire","Regulier","Mopti",{"$f":"VLOOKUP(Main3WData13[[#This Row],[Admin Unit Name]],AdminUnits[],2,FALSE)","v":"ML05"},{"$f":"VLOOKUP(Main3WData13[[#This Row],[Admin Unit Name]],AdminUnits[],3,FALSE)","v":"Sud"},{"$f":"VLOOKUP(Main3WData13[[#This Row],[Admin Unit Name]],AdminUnits[],4,FALSE)","v":5},{"$f":"VLOOKUP(Main3WData13[[#This Row],[Sector]],Sectors[],2,FALSE)","v":7}]
[null,"Caritas Mopti",{"$f":"INDEX(Organizations[],MATCH(Main3WData13[[#This Row],[Acronym]],AcronymList,0),1)","v":"Caritas Mopti"},{"$f":"INDEX(Organizations[],MATCH(Main3WData13[[#This Row],[Acronym]],AcronymList,0),3)","v":"ONG Int."},"Protection","Regulier","Mopti",{"$f":"VLOOKUP(Main3WData13[[#This Row],[Admin Unit Name]],AdminUnits[],2,FALSE)","v":"ML05"},{"$f":"VLOOKUP(Main3WData13[[#This Row],[Admin Unit Name]],AdminUnits[],3,FALSE)","v":"Sud"},{"$f":"VLOOKUP(Main3WData13[[#This Row],[Admin Unit Name]],AdminUnits[],4,FALSE)","v":5},{"$f":"VLOOKUP(Main3WData13[[#This Row],[Sector]],Sectors[],2,FALSE)","v":5}]
[null,"Caritas",{"$f":"INDEX(Organizations[],MATCH(Main3WData13[[#This Row],[Acronym]],AcronymList,0),1)","v":"CARITAS Mali"},{"$f":"INDEX(Organizations[],MATCH(Main3WData13[[#This Row],[Acronym]],AcronymList,0),3)","v":"ONG Int."},"Santé","Regulier","Segou",{"$f":"VLOOKUP(Main3WData13[[#This Row],[Admin Unit Name]],AdminUnits[],2,FALSE)","v":"ML04"},{"$f":"VLOOKUP(Main3WData13[[#This Row],[Admin Unit Name]],AdminUnits[],3,FALSE)","v":"Sud"},{"$f":"VLOOKUP(Main3WData13[[#This Row],[Admin Unit Name]],AdminUnits[],4,FALSE)","v":4},{"$f":"VLOOKUP(Main3WData13[[#This Row],[Sector]],Sectors[],2,FALSE)","v":6}]
[null,"CARE Mali",{"$f":"INDEX(Organizations[],MATCH(Main3WData13[[#This Row],[Acronym]],AcronymList,0),1)","v":"CARE Interntional Mali"},{"$f":"INDEX(Organizations[],MATCH(Main3WData13[[#This Row],[Acronym]],AcronymList,0),3)","v":"ONG Int."},"Sécurité alimentaire","Regulier","Segou",{"$f":"VLOOKUP(Main3WData13[[#This Row],[Admin Unit Name]],AdminUnits[],2,FALSE)","v":"ML04"},{"$f":"VLOOKUP(Main3WData13[[#This Row],[Admin Unit Name]],AdminUnits[],3,FALSE)","v":"Sud"},{"$f":"VLOOKUP(Main3WData13[[#This Row],[Admin Unit Name]],AdminUnits[],4,FALSE)","v":4},{"$f":"VLOOKUP(Main3WData13[[#This Row],[Sector]],Sectors[],2,FALSE)","v":7}]
[null,"CARE Mali",{"$f":"INDEX(Organizations[],MATCH(Main3WData13[[#This Row],[Acronym]],AcronymList,0),1)","v":"CARE Interntional Mali"},{"$f":"INDEX(Organizations[],MATCH(Main3WData13[[#This Row],[Acronym]],AcronymList,0),3)","v":"ONG Int."},"Sécurité alimentaire","Regulier","Mopti",{"$f":"VLOOKUP(Main3WData13[[#This Row],[Admin Unit Name]],AdminUnits[],2,FALSE)","v":"ML05"},{"$f":"VLOOKUP(Main3WData13[[#This Row],[Admin Unit Name]],AdminUnits[],3,FALSE)","v":"Sud"},{"$f":"VLOOKUP(Main3WData13[[#This Row],[Admin Unit Name]],AdminUnits[],4,FALSE)","v":5},{"$f":"VLOOKUP(Main3WData13[[#This Row],[Sector]],Sectors[],2,FALSE)","v":7}]
[null,"CARE Mali",{"$f":"INDEX(Organizations[],MATCH(Main3WData13[[#This Row],[Acronym]],AcronymList,0),1)","v":"CARE Interntional Mali"},{"$f":"INDEX(Organizations[],MATCH(Main3WData13[[#This Row],[Acronym]],AcronymList,0),3)","v":"ONG Int."},"Sécurité alimentaire","Regulier","Tombouctou",{"$f":"VLOOKUP(Main3WData13[[#This Row],[Admin Unit Name]],AdminUnits[],2,FALSE)","v":"ML06"},{"$f":"VLOOKUP(Main3WData13[[#This Row],[Admin Unit Name]],AdminUnits[],3,FALSE)","v":"Nord"},{"$f":"VLOOKUP(Main3WData13[[#This Row],[Admin Unit Name]],AdminUnits[],4,FALSE)","v":6},{"$f":"VLOOKUP(Main3WData13[[#This Row],[Sector]],Sectors[],2,FALSE)","v":7}]
[null,"CARE Mali",{"$f":"INDEX(Organizations[],MATCH(Main3WData13[[#This Row],[Acronym]],AcronymList,0),1)","v":"CARE Interntional Mali"},{"$f":"INDEX(Organizations[],MATCH(Main3WData13[[#This Row],[Acronym]],AcronymList,0),3)","v":"ONG Int."},"Abris et NFI","Regulier","Segou",{"$f":"VLOOKUP(Main3WData13[[#This Row],[Admin Unit Name]],AdminUnits[],2,FALSE)","v":"ML04"},{"$f":"VLOOKUP(Main3WData13[[#This Row],[Admin Unit Name]],AdminUnits[],3,FALSE)","v":"Sud"},{"$f":"VLOOKUP(Main3WData13[[#This Row],[Admin Unit Name]],AdminUnits[],4,FALSE)","v":4},{"$f":"VLOOKUP(Main3WData13[[#This Row],[Sector]],Sectors[],2,FALSE)","v":1}]
[null,"CARE Mali",{"$f":"INDEX(Organizations[],MATCH(Main3WData13[[#This Row],[Acronym]],AcronymList,0),1)","v":"CARE Interntional Mali"},{"$f":"INDEX(Organizations[],MATCH(Main3WData13[[#This Row],[Acronym]],AcronymList,0),3)","v":"ONG Int."},"Abris et NFI","Regulier","Mopti",{"$f":"VLOOKUP(Main3WData13[[#This Row],[Admin Unit Name]],AdminUnits[],2,FALSE)","v":"ML05"},{"$f":"VLOOKUP(Main3WData13[[#This Row],[Admin Unit Name]],AdminUnits[],3,FALSE)","v":"Sud"},{"$f":"VLOOKUP(Main3WData13[[#This Row],[Admin Unit Name]],AdminUnits[],4,FALSE)","v":5},{"$f":"VLOOKUP(Main3WData13[[#This Row],[Sector]],Sectors[],2,FALSE)","v":1}]
[null,"CARE Mali",{"$f":"INDEX(Organizations[],MATCH(Main3WData13[[#This Row],[Acronym]],AcronymList,0),1)","v":"CARE Interntional Mali"},{"$f":"INDEX(Organizations[],MATCH(Main3WData13[[#This Row],[Acronym]],AcronymList,0),3)","v":"ONG Int."},"Nutrition","Urgence","Mopti",{"$f":"VLOOKUP(Main3WData13[[#This Row],[Admin Unit Name]],AdminUnits[],2,FALSE)","v":"ML05"},{"$f":"VLOOKUP(Main3WData13[[#This Row],[Admin Unit Name]],AdminUnits[],3,FALSE)","v":"Sud"},{"$f":"VLOOKUP(Main3WData13[[#This Row],[Admin Unit Name]],AdminUnits[],4,FALSE)","v":5},{"$f":"VLOOKUP(Main3WData13[[#This Row],[Sector]],Sectors[],2,FALSE)","v":4}]
[null,"CARE Mali",{"$f":"INDEX(Organizations[],MATCH(Main3WData13[[#This Row],[Acronym]],AcronymList,0),1)","v":"CARE Interntional Mali"},{"$f":"INDEX(Organizations[],MATCH(Main3WData13[[#This Row],[Acronym]],AcronymList,0),3)","v":"ONG Int."},"Nutrition","Urgence","Tombouctou",{"$f":"VLOOKUP(Main3WData13[[#This Row],[Admin Unit Name]],AdminUnits[],2,FALSE)","v":"ML06"},{"$f":"VLOOKUP(Main3WData13[[#This Row],[Admin Unit Name]],AdminUnits[],3,FALSE)","v":"Nord"},{"$f":"VLOOKUP(Main3WData13[[#This Row],[Admin Unit Name]],AdminUnits[],4,FALSE)","v":6},{"$f":"VLOOKUP(Main3WData13[[#This Row],[Sector]],Sectors[],2,FALSE)","v":4}]
[null,"CARE Mali",{"$f":"INDEX(Organizations[],MATCH(Main3WData13[[#This Row],[Acronym]],AcronymList,0),1)","v":"CARE Interntional Mali"},{"$f":"INDEX(Organizations[],MATCH(Main3WData13[[#This Row],[Acronym]],AcronymList,0),3)","v":"ONG Int."},"EHA","Regulier","MOPTI",{"$f":"VLOOKUP(Main3WData13[[#This Row],[Admin Unit Name]],AdminUnits[],2,FALSE)","v":"ML05"},{"$f":"VLOOKUP(Main3WData13[[#This Row],[Admin Unit Name]],AdminUnits[],3,FALSE)","v":"Sud"},{"$f":"VLOOKUP(Main3WData13[[#This Row],[Admin Unit Name]],AdminUnits[],4,FALSE)","v":5},{"$f":"VLOOKUP(Main3WData13[[#This Row],[Sector]],Sectors[],2,FALSE)","v":8}]
[null,"CARE Mali",{"$f":"INDEX(Organizations[],MATCH(Main3WData13[[#This Row],[Acronym]],AcronymList,0),1)","v":"CARE Interntional Mali"},{"$f":"INDEX(Organizations[],MATCH(Main3WData13[[#This Row],[Acronym]],AcronymList,0),3)","v":"ONG Int."},"EHA","Regulier","SEGOU",{"$f":"VLOOKUP(Main3WData13[[#This Row],[Admin Unit Name]],AdminUnits[],2,FALSE)","v":"ML04"},{"$f":"VLOOKUP(Main3WData13[[#This Row],[Admin Unit Name]],AdminUnits[],3,FALSE)","v":"Sud"},{"$f":"VLOOKUP(Main3WData13[[#This Row],[Admin Unit Name]],AdminUnits[],4,FALSE)","v":4},{"$f":"VLOOKUP(Main3WData13[[#This Row],[Sector]],Sectors[],2,FALSE)","v":8}]
[null,"CARE Mali",{"$f":"INDEX(Organizations[],MATCH(Main3WData13[[#This Row],[Acronym]],AcronymList,0),1)","v":"CARE Interntional Mali"},{"$f":"INDEX(Organizations[],MATCH(Main3WData13[[#This Row],[Acronym]],AcronymList,0),3)","v":"ONG Int."},"EHA","Regulier","TOMBOUCTOU",{"$f":"VLOOKUP(Main3WData13[[#This Row],[Admin Unit Name]],AdminUnits[],2,FALSE)","v":"ML06"},{"$f":"VLOOKUP(Main3WData13[[#This Row],[Admin Unit Name]],AdminUnits[],3,FALSE)","v":"Nord"},{"$f":"VLOOKUP(Main3WData13[[#This Row],[Admin Unit Name]],AdminUnits[],4,FALSE)","v":6},{"$f":"VLOOKUP(Main3WData13[[#This Row],[Sector]],Sectors[],2,FALSE)","v":8}]
[null,"CARE Mali",{"$f":"INDEX(Organizations[],MATCH(Main3WData13[[#This Row],[Acronym]],AcronymList,0),1)","v":"CARE Interntional Mali"},{"$f":"INDEX(Organizations[],MATCH(Main3WData13[[#This Row],[Acronym]],AcronymList,0),3)","v":"ONG Int."},"Santé","Regulier","Segou",{"$f":"VLOOKUP(Main3WData13[[#This Row],[Admin Unit Name]],AdminUnits[],2,FALSE)","v":"ML04"},{"$f":"VLOOKUP(Main3WData13[[#This Row],[Admin Unit Name]],AdminUnits[],3,FALSE)","v":"Sud"},{"$f":"VLOOKUP(Main3WData13[[#This Row],[Admin Unit Name]],AdminUnits[],4,FALSE)","v":4},{"$f":"VLOOKUP(Main3WData13[[#This Row],[Sector]],Sectors[],2,FALSE)","v":6}]
[null,"CAES",{"$f":"INDEX(Organizations[],MATCH(Main3WData13[[#This Row],[Acronym]],AcronymList,0),1)","v":"CAES"},{"$f":"INDEX(Organizations[],MATCH(Main3WData13[[#This Row],[Acronym]],AcronymList,0),3)","v":"ONG Nat."},"Sécurité alimentaire","Regulier","Segou",{"$f":"VLOOKUP(Main3WData13[[#This Row],[Admin Unit Name]],AdminUnits[],2,FALSE)","v":"ML04"},{"$f":"VLOOKUP(Main3WData13[[#This Row],[Admin Unit Name]],AdminUnits[],3,FALSE)","v":"Sud"},{"$f":"VLOOKUP(Main3WData13[[#This Row],[Admin Unit Name]],AdminUnits[],4,FALSE)","v":4},{"$f":"VLOOKUP(Main3WData13[[#This Row],[Sector]],Sectors[],2,FALSE)","v":7}]
[null,"BØRNEfonden",{"$f":"INDEX(Organizations[],MATCH(Main3WData13[[#This Row],[Acronym]],AcronymList,0),1)","v":"BØRNEfonden"},{"$f":"INDEX(Organizations[],MATCH(Main3WData13[[#This Row],[Acronym]],AcronymList,0),3)","v":"ONG Int."},"Nutrition","Regulier","Koulikoro",{"$f":"VLOOKUP(Main3WData13[[#This Row],[Admin Unit Name]],AdminUnits[],2,FALSE)","v":"ML02"},{"$f":"VLOOKUP(Main3WData13[[#This Row],[Admin Unit Name]],AdminUnits[],3,FALSE)","v":"Sud"},{"$f":"VLOOKUP(Main3WData13[[#This Row],[Admin Unit Name]],AdminUnits[],4,FALSE)","v":2},{"$f":"VLOOKUP(Main3WData13[[#This Row],[Sector]],Sectors[],2,FALSE)","v":4}]
[null,"BØRNEfonden",{"$f":"INDEX(Organizations[],MATCH(Main3WData13[[#This Row],[Acronym]],AcronymList,0),1)","v":"BØRNEfonden"},{"$f":"INDEX(Organizations[],MATCH(Main3WData13[[#This Row],[Acronym]],AcronymList,0),3)","v":"ONG Int."},"Nutrition","Regulier","Sikasso",{"$f":"VLOOKUP(Main3WData13[[#This Row],[Admin Unit Name]],AdminUnits[],2,FALSE)","v":"ML03"},{"$f":"VLOOKUP(Main3WData13[[#This Row],[Admin Unit Name]],AdminUnits[],3,FALSE)","v":"Sud"},{"$f":"VLOOKUP(Main3WData13[[#This Row],[Admin Unit Name]],AdminUnits[],4,FALSE)","v":3},{"$f":"VLOOKUP(Main3WData13[[#This Row],[Sector]],Sectors[],2,FALSE)","v":4}]
[null,"BNCE",{"$f":"INDEX(Organizations[],MATCH(Main3WData13[[#This Row],[Acronym]],AcronymList,0),1)","v":"Bureau National Catholique pour l'Enfance"},{"$f":"INDEX(Organizations[],MATCH(Main3WData13[[#This Row],[Acronym]],AcronymList,0),3)","v":"ONG Nat."},"Protection","Regulier","Sikasso",{"$f":"VLOOKUP(Main3WData13[[#This Row],[Admin Unit Name]],AdminUnits[],2,FALSE)","v":"ML03"},{"$f":"VLOOKUP(Main3WData13[[#This Row],[Admin Unit Name]],AdminUnits[],3,FALSE)","v":"Sud"},{"$f":"VLOOKUP(Main3WData13[[#This Row],[Admin Unit Name]],AdminUnits[],4,FALSE)","v":3},{"$f":"VLOOKUP(Main3WData13[[#This Row],[Sector]],Sectors[],2,FALSE)","v":5}]
[null,"AVSF",{"$f":"INDEX(Organizations[],MATCH(Main3WData13[[#This Row],[Acronym]],AcronymList,0),1)","v":"Agronomes et Vétérinaires Sans Frontières"},{"$f":"INDEX(Organizations[],MATCH(Main3WData13[[#This Row],[Acronym]],AcronymList,0),3)","v":"ONG Int."},"Nutrition","Urgence","Gao",{"$f":"VLOOKUP(Main3WData13[[#This Row],[Admin Unit Name]],AdminUnits[],2,FALSE)","v":"ML07"},{"$f":"VLOOKUP(Main3WData13[[#This Row],[Admin Unit Name]],AdminUnits[],3,FALSE)","v":"Nord"},{"$f":"VLOOKUP(Main3WData13[[#This Row],[Admin Unit Name]],AdminUnits[],4,FALSE)","v":7},{"$f":"VLOOKUP(Main3WData13[[#This Row],[Sector]],Sectors[],2,FALSE)","v":4}]
[null,"AVSF",{"$f":"INDEX(Organizations[],MATCH(Main3WData13[[#This Row],[Acronym]],AcronymList,0),1)","v":"Agronomes et Vétérinaires Sans Frontières"},{"$f":"INDEX(Organizations[],MATCH(Main3WData13[[#This Row],[Acronym]],AcronymList,0),3)","v":"ONG Int."},"Nutrition","Urgence","Tombouctou",{"$f":"VLOOKUP(Main3WData13[[#This Row],[Admin Unit Name]],AdminUnits[],2,FALSE)","v":"ML06"},{"$f":"VLOOKUP(Main3WData13[[#This Row],[Admin Unit Name]],AdminUnits[],3,FALSE)","v":"Nord"},{"$f":"VLOOKUP(Main3WData13[[#This Row],[Admin Unit Name]],AdminUnits[],4,FALSE)","v":6},{"$f":"VLOOKUP(Main3WData13[[#This Row],[Sector]],Sectors[],2,FALSE)","v":4}]
[null,"AVSF",{"$f":"INDEX(Organizations[],MATCH(Main3WData13[[#This Row],[Acronym]],AcronymList,0),1)","v":"Agronomes et Vétérinaires Sans Frontières"},{"$f":"INDEX(Organizations[],MATCH(Main3WData13[[#This Row],[Acronym]],AcronymList,0),3)","v":"ONG Int."},"EHA","Regulier","TOMBOUCTOU",{"$f":"VLOOKUP(Main3WData13[[#This Row],[Admin Unit Name]],AdminUnits[],2,FALSE)","v":"ML06"},{"$f":"VLOOKUP(Main3WData13[[#This Row],[Admin Unit Name]],AdminUnits[],3,FALSE)","v":"Nord"},{"$f":"VLOOKUP(Main3WData13[[#This Row],[Admin Unit Name]],AdminUnits[],4,FALSE)","v":6},{"$f":"VLOOKUP(Main3WData13[[#This Row],[Sector]],Sectors[],2,FALSE)","v":8}]
[null,"AVES",{"$f":"INDEX(Organizations[],MATCH(Main3WData13[[#This Row],[Acronym]],AcronymList,0),1)","v":"Avenir Enfance Sahel"},{"$f":"INDEX(Organizations[],MATCH(Main3WData13[[#This Row],[Acronym]],AcronymList,0),3)","v":"ONG Nat."},"Protection","Regulier","Bamako",{"$f":"VLOOKUP(Main3WData13[[#This Row],[Admin Unit Name]],AdminUnits[],2,FALSE)","v":"ML09"},{"$f":"VLOOKUP(Main3WData13[[#This Row],[Admin Unit Name]],AdminUnits[],3,FALSE)","v":"Sud"},{"$f":"VLOOKUP(Main3WData13[[#This Row],[Admin Unit Name]],AdminUnits[],4,FALSE)","v":0},{"$f":"VLOOKUP(Main3WData13[[#This Row],[Sector]],Sectors[],2,FALSE)","v":5}]
[null,"AVES",{"$f":"INDEX(Organizations[],MATCH(Main3WData13[[#This Row],[Acronym]],AcronymList,0),1)","v":"Avenir Enfance Sahel"},{"$f":"INDEX(Organizations[],MATCH(Main3WData13[[#This Row],[Acronym]],AcronymList,0),3)","v":"ONG Nat."},"Protection","Regulier","Mopti",{"$f":"VLOOKUP(Main3WData13[[#This Row],[Admin Unit Name]],AdminUnits[],2,FALSE)","v":"ML05"},{"$f":"VLOOKUP(Main3WData13[[#This Row],[Admin Unit Name]],AdminUnits[],3,FALSE)","v":"Sud"},{"$f":"VLOOKUP(Main3WData13[[#This Row],[Admin Unit Name]],AdminUnits[],4,FALSE)","v":5},{"$f":"VLOOKUP(Main3WData13[[#This Row],[Sector]],Sectors[],2,FALSE)","v":5}]
[null,"AVES",{"$f":"INDEX(Organizations[],MATCH(Main3WData13[[#This Row],[Acronym]],AcronymList,0),1)","v":"Avenir Enfance Sahel"},{"$f":"INDEX(Organizations[],MATCH(Main3WData13[[#This Row],[Acronym]],AcronymList,0),3)","v":"ONG Nat."},"Protection","Regulier","Segou",{"$f":"VLOOKUP(Main3WData13[[#This Row],[Admin Unit Name]],AdminUnits[],2,FALSE)","v":"ML04"},{"$f":"VLOOKUP(Main3WData13[[#This Row],[Admin Unit Name]],AdminUnits[],3,FALSE)","v":"Sud"},{"$f":"VLOOKUP(Main3WData13[[#This Row],[Admin Unit Name]],AdminUnits[],4,FALSE)","v":4},{"$f":"VLOOKUP(Main3WData13[[#This Row],[Sector]],Sectors[],2,FALSE)","v":5}]
[null,"AVES",{"$f":"INDEX(Organizations[],MATCH(Main3WData13[[#This Row],[Acronym]],AcronymList,0),1)","v":"Avenir Enfance Sahel"},{"$f":"INDEX(Organizations[],MATCH(Main3WData13[[#This Row],[Acronym]],AcronymList,0),3)","v":"ONG Nat."},"Protection","Regulier","Kayes",{"$f":"VLOOKUP(Main3WData13[[#This Row],[Admin Unit Name]],AdminUnits[],2,FALSE)","v":"ML01"},{"$f":"VLOOKUP(Main3WData13[[#This Row],[Admin Unit Name]],AdminUnits[],3,FALSE)","v":"Sud"},{"$f":"VLOOKUP(Main3WData13[[#This Row],[Admin Unit Name]],AdminUnits[],4,FALSE)","v":1},{"$f":"VLOOKUP(Main3WData13[[#This Row],[Sector]],Sectors[],2,FALSE)","v":5}]
[null,"ASSAFE",{"$f":"INDEX(Organizations[],MATCH(Main3WData13[[#This Row],[Acronym]],AcronymList,0),1)","v":"ASSAFE"},{"$f":"INDEX(Organizations[],MATCH(Main3WData13[[#This Row],[Acronym]],AcronymList,0),3)","v":"ONG Nat."},"Protection","Regulier","Segou",{"$f":"VLOOKUP(Main3WData13[[#This Row],[Admin Unit Name]],AdminUnits[],2,FALSE)","v":"ML04"},{"$f":"VLOOKUP(Main3WData13[[#This Row],[Admin Unit Name]],AdminUnits[],3,FALSE)","v":"Sud"},{"$f":"VLOOKUP(Main3WData13[[#This Row],[Admin Unit Name]],AdminUnits[],4,FALSE)","v":4},{"$f":"VLOOKUP(Main3WData13[[#This Row],[Sector]],Sectors[],2,FALSE)","v":5}]
[null,"ASSAFE",{"$f":"INDEX(Organizations[],MATCH(Main3WData13[[#This Row],[Acronym]],AcronymList,0),1)","v":"ASSAFE"},{"$f":"INDEX(Organizations[],MATCH(Main3WData13[[#This Row],[Acronym]],AcronymList,0),3)","v":"ONG Nat."},"Abris et NFI","Regulier","Segou",{"$f":"VLOOKUP(Main3WData13[[#This Row],[Admin Unit Name]],AdminUnits[],2,FALSE)","v":"ML04"},{"$f":"VLOOKUP(Main3WData13[[#This Row],[Admin Unit Name]],AdminUnits[],3,FALSE)","v":"Sud"},{"$f":"VLOOKUP(Main3WData13[[#This Row],[Admin Unit Name]],AdminUnits[],4,FALSE)","v":4},{"$f":"VLOOKUP(Main3WData13[[#This Row],[Sector]],Sectors[],2,FALSE)","v":1}]
[null,"ASDAP",{"$f":"INDEX(Organizations[],MATCH(Main3WData13[[#This Row],[Acronym]],AcronymList,0),1)","v":"Association pour le Soutien du Développement des Activités de Population"},{"$f":"INDEX(Organizations[],MATCH(Main3WData13[[#This Row],[Acronym]],AcronymList,0),3)","v":"ONG Nat."},"Nutrition","Urgence","Mopti",{"$f":"VLOOKUP(Main3WData13[[#This Row],[Admin Unit Name]],AdminUnits[],2,FALSE)","v":"ML05"},{"$f":"VLOOKUP(Main3WData13[[#This Row],[Admin Unit Name]],AdminUnits[],3,FALSE)","v":"Sud"},{"$f":"VLOOKUP(Main3WData13[[#This Row],[Admin Unit Name]],AdminUnits[],4,FALSE)","v":5},{"$f":"VLOOKUP(Main3WData13[[#This Row],[Sector]],Sectors[],2,FALSE)","v":4}]
[null,"ASDAP",{"$f":"INDEX(Organizations[],MATCH(Main3WData13[[#This Row],[Acronym]],AcronymList,0),1)","v":"Association pour le Soutien du Développement des Activités de Population"},{"$f":"INDEX(Organizations[],MATCH(Main3WData13[[#This Row],[Acronym]],AcronymList,0),3)","v":"ONG Nat."},"Nutrition","Urgence","Segou",{"$f":"VLOOKUP(Main3WData13[[#This Row],[Admin Unit Name]],AdminUnits[],2,FALSE)","v":"ML04"},{"$f":"VLOOKUP(Main3WData13[[#This Row],[Admin Unit Name]],AdminUnits[],3,FALSE)","v":"Sud"},{"$f":"VLOOKUP(Main3WData13[[#This Row],[Admin Unit Name]],AdminUnits[],4,FALSE)","v":4},{"$f":"VLOOKUP(Main3WData13[[#This Row],[Sector]],Sectors[],2,FALSE)","v":4}]
[null,"ASDAP",{"$f":"INDEX(Organizations[],MATCH(Main3WData13[[#This Row],[Acronym]],AcronymList,0),1)","v":"Association pour le Soutien du Développement des Activités de Population"},{"$f":"INDEX(Organizations[],MATCH(Main3WData13[[#This Row],[Acronym]],AcronymList,0),3)","v":"ONG Nat."},"Nutrition","Regulier","Sikasso",{"$f":"VLOOKUP(Main3WData13[[#This Row],[Admin Unit Name]],AdminUnits[],2,FALSE)","v":"ML03"},{"$f":"VLOOKUP(Main3WData13[[#This Row],[Admin Unit Name]],AdminUnits[],3,FALSE)","v":"Sud"},{"$f":"VLOOKUP(Main3WData13[[#This Row],[Admin Unit Name]],AdminUnits[],4,FALSE)","v":3},{"$f":"VLOOKUP(Main3WData13[[#This Row],[Sector]],Sectors[],2,FALSE)","v":4}]
[null,"ASDAP",{"$f":"INDEX(Organizations[],MATCH(Main3WData13[[#This Row],[Acronym]],AcronymList,0),1)","v":"Association pour le Soutien du Développement des Activités de Population"},{"$f":"INDEX(Organizations[],MATCH(Main3WData13[[#This Row],[Acronym]],AcronymList,0),3)","v":"ONG Nat."},"Santé","Regulier","Mopti",{"$f":"VLOOKUP(Main3WData13[[#This Row],[Admin Unit Name]],AdminUnits[],2,FALSE)","v":"ML05"},{"$f":"VLOOKUP(Main3WData13[[#This Row],[Admin Unit Name]],AdminUnits[],3,FALSE)","v":"Sud"},{"$f":"VLOOKUP(Main3WData13[[#This Row],[Admin Unit Name]],AdminUnits[],4,FALSE)","v":5},{"$f":"VLOOKUP(Main3WData13[[#This Row],[Sector]],Sectors[],2,FALSE)","v":6}]
[null,"AOPP - FEBEVIM",{"$f":"INDEX(Organizations[],MATCH(Main3WData13[[#This Row],[Acronym]],AcronymList,0),1)","v":{"$error":"#N/A"}},{"$f":"INDEX(Organizations[],MATCH(Main3WData13[[#This Row],[Acronym]],AcronymList,0),3)","v":{"$error":"#N/A"}},"Sécurité alimentaire","Regulier","Mopti",{"$f":"VLOOKUP(Main3WData13[[#This Row],[Admin Unit Name]],AdminUnits[],2,FALSE)","v":"ML05"},{"$f":"VLOOKUP(Main3WData13[[#This Row],[Admin Unit Name]],AdminUnits[],3,FALSE)","v":"Sud"},{"$f":"VLOOKUP(Main3WData13[[#This Row],[Admin Unit Name]],AdminUnits[],4,FALSE)","v":5},{"$f":"VLOOKUP(Main3WData13[[#This Row],[Sector]],Sectors[],2,FALSE)","v":7}]
[null,"AMSS",{"$f":"INDEX(Organizations[],MATCH(Main3WData13[[#This Row],[Acronym]],AcronymList,0),1)","v":"Association Malienne pour la Survie au Sahel"},{"$f":"INDEX(Organizations[],MATCH(Main3WData13[[#This Row],[Acronym]],AcronymList,0),3)","v":"ONG Nat."},"Sécurité alimentaire","Regulier","Tombouctou",{"$f":"VLOOKUP(Main3WData13[[#This Row],[Admin Unit Name]],AdminUnits[],2,FALSE)","v":"ML06"},{"$f":"VLOOKUP(Main3WData13[[#This Row],[Admin Unit Name]],AdminUnits[],3,FALSE)","v":"Nord"},{"$f":"VLOOKUP(Main3WData13[[#This Row],[Admin Unit Name]],AdminUnits[],4,FALSE)","v":6},{"$f":"VLOOKUP(Main3WData13[[#This Row],[Sector]],Sectors[],2,FALSE)","v":7}]
[null,"Alphalog",{"$f":"INDEX(Organizations[],MATCH(Main3WData13[[#This Row],[Acronym]],AcronymList,0),1)","v":"ALPHALOG"},{"$f":"INDEX(Organizations[],MATCH(Main3WData13[[#This Row],[Acronym]],AcronymList,0),3)","v":"ONG Nat."},"Sécurité alimentaire","Regulier","Segou",{"$f":"VLOOKUP(Main3WData13[[#This Row],[Admin Unit Name]],AdminUnits[],2,FALSE)","v":"ML04"},{"$f":"VLOOKUP(Main3WData13[[#This Row],[Admin Unit Name]],AdminUnits[],3,FALSE)","v":"Sud"},{"$f":"VLOOKUP(Main3WData13[[#This Row],[Admin Unit Name]],AdminUnits[],4,FALSE)","v":4},{"$f":"VLOOKUP(Main3WData13[[#This Row],[Sector]],Sectors[],2,FALSE)","v":7}]
[null,"ALIMA/AMCP",{"$f":"INDEX(Organizations[],MATCH(Main3WData13[[#This Row],[Acronym]],AcronymList,0),1)","v":"Alliance Internationale for Medical Action"},{"$f":"INDEX(Organizations[],MATCH(Main3WData13[[#This Row],[Acronym]],AcronymList,0),3)","v":"ONG Int."},"Santé","Regulier","TOMBOUCTOU",{"$f":"VLOOKUP(Main3WData13[[#This Row],[Admin Unit Name]],AdminUnits[],2,FALSE)","v":"ML06"},{"$f":"VLOOKUP(Main3WData13[[#This Row],[Admin Unit Name]],AdminUnits[],3,FALSE)","v":"Nord"},{"$f":"VLOOKUP(Main3WData13[[#This Row],[Admin Unit Name]],AdminUnits[],4,FALSE)","v":6},{"$f":"VLOOKUP(Main3WData13[[#This Row],[Sector]],Sectors[],2,FALSE)","v":6}]
[null,"ALIMA/AMCP",{"$f":"INDEX(Organizations[],MATCH(Main3WData13[[#This Row],[Acronym]],AcronymList,0),1)","v":"Alliance Internationale for Medical Action"},{"$f":"INDEX(Organizations[],MATCH(Main3WData13[[#This Row],[Acronym]],AcronymList,0),3)","v":"ONG Int."},"Nutrition","Urgence","Koulikoro",{"$f":"VLOOKUP(Main3WData13[[#This Row],[Admin Unit Name]],AdminUnits[],2,FALSE)","v":"ML02"},{"$f":"VLOOKUP(Main3WData13[[#This Row],[Admin Unit Name]],AdminUnits[],3,FALSE)","v":"Sud"},{"$f":"VLOOKUP(Main3WData13[[#This Row],[Admin Unit Name]],AdminUnits[],4,FALSE)","v":2},{"$f":"VLOOKUP(Main3WData13[[#This Row],[Sector]],Sectors[],2,FALSE)","v":4}]
[null,"ALIMA/AMCP",{"$f":"INDEX(Organizations[],MATCH(Main3WData13[[#This Row],[Acronym]],AcronymList,0),1)","v":"Alliance Internationale for Medical Action"},{"$f":"INDEX(Organizations[],MATCH(Main3WData13[[#This Row],[Acronym]],AcronymList,0),3)","v":"ONG Int."},"Nutrition","Urgence","Tombouctou",{"$f":"VLOOKUP(Main3WData13[[#This Row],[Admin Unit Name]],AdminUnits[],2,FALSE)","v":"ML06"},{"$f":"VLOOKUP(Main3WData13[[#This Row],[Admin Unit Name]],AdminUnits[],3,FALSE)","v":"Nord"},{"$f":"VLOOKUP(Main3WData13[[#This Row],[Admin Unit Name]],AdminUnits[],4,FALSE)","v":6},{"$f":"VLOOKUP(Main3WData13[[#This Row],[Sector]],Sectors[],2,FALSE)","v":4}]
[null,"AKF",{"$f":"INDEX(Organizations[],MATCH(Main3WData13[[#This Row],[Acronym]],AcronymList,0),1)","v":"Aga Khan Foundation"},{"$f":"INDEX(Organizations[],MATCH(Main3WData13[[#This Row],[Acronym]],AcronymList,0),3)","v":"Fondation"},"Sécurité alimentaire","Regulier","MOPTI",{"$f":"VLOOKUP(Main3WData13[[#This Row],[Admin Unit Name]],AdminUnits[],2,FALSE)","v":"ML05"},{"$f":"VLOOKUP(Main3WData13[[#This Row],[Admin Unit Name]],AdminUnits[],3,FALSE)","v":"Sud"},{"$f":"VLOOKUP(Main3WData13[[#This Row],[Admin Unit Name]],AdminUnits[],4,FALSE)","v":5},{"$f":"VLOOKUP(Main3WData13[[#This Row],[Sector]],Sectors[],2,FALSE)","v":7}]
[null,"AKF",{"$f":"INDEX(Organizations[],MATCH(Main3WData13[[#This Row],[Acronym]],AcronymList,0),1)","v":"Aga Khan Foundation"},{"$f":"INDEX(Organizations[],MATCH(Main3WData13[[#This Row],[Acronym]],AcronymList,0),3)","v":"Fondation"},"Education","Regulier","Mopti",{"$f":"VLOOKUP(Main3WData13[[#This Row],[Admin Unit Name]],AdminUnits[],2,FALSE)","v":"ML05"},{"$f":"VLOOKUP(Main3WData13[[#This Row],[Admin Unit Name]],AdminUnits[],3,FALSE)","v":"Sud"},{"$f":"VLOOKUP(Main3WData13[[#This Row],[Admin Unit Name]],AdminUnits[],4,FALSE)","v":5},{"$f":"VLOOKUP(Main3WData13[[#This Row],[Sector]],Sectors[],2,FALSE)","v":3}]
[null,"AJDM",{"$f":"INDEX(Organizations[],MATCH(Main3WData13[[#This Row],[Acronym]],AcronymList,0),1)","v":"AJDM"},{"$f":"INDEX(Organizations[],MATCH(Main3WData13[[#This Row],[Acronym]],AcronymList,0),3)","v":"Association"},"Protection","Regulier","Bamako",{"$f":"VLOOKUP(Main3WData13[[#This Row],[Admin Unit Name]],AdminUnits[],2,FALSE)","v":"ML09"},{"$f":"VLOOKUP(Main3WData13[[#This Row],[Admin Unit Name]],AdminUnits[],3,FALSE)","v":"Sud"},{"$f":"VLOOKUP(Main3WData13[[#This Row],[Admin Unit Name]],AdminUnits[],4,FALSE)","v":0},{"$f":"VLOOKUP(Main3WData13[[#This Row],[Sector]],Sectors[],2,FALSE)","v":5}]
[null,"AJDM",{"$f":"INDEX(Organizations[],MATCH(Main3WData13[[#This Row],[Acronym]],AcronymList,0),1)","v":"AJDM"},{"$f":"INDEX(Organizations[],MATCH(Main3WData13[[#This Row],[Acronym]],AcronymList,0),3)","v":"Association"},"Protection","Regulier","Segou",{"$f":"VLOOKUP(Main3WData13[[#This Row],[Admin Unit Name]],AdminUnits[],2,FALSE)","v":"ML04"},{"$f":"VLOOKUP(Main3WData13[[#This Row],[Admin Unit Name]],AdminUnits[],3,FALSE)","v":"Sud"},{"$f":"VLOOKUP(Main3WData13[[#This Row],[Admin Unit Name]],AdminUnits[],4,FALSE)","v":4},{"$f":"VLOOKUP(Main3WData13[[#This Row],[Sector]],Sectors[],2,FALSE)","v":5}]
[null,"AJDM",{"$f":"INDEX(Organizations[],MATCH(Main3WData13[[#This Row],[Acronym]],AcronymList,0),1)","v":"AJDM"},{"$f":"INDEX(Organizations[],MATCH(Main3WData13[[#This Row],[Acronym]],AcronymList,0),3)","v":"Association"},"Protection","Regulier","Sikasso",{"$f":"VLOOKUP(Main3WData13[[#This Row],[Admin Unit Name]],AdminUnits[],2,FALSE)","v":"ML03"},{"$f":"VLOOKUP(Main3WData13[[#This Row],[Admin Unit Name]],AdminUnits[],3,FALSE)","v":"Sud"},{"$f":"VLOOKUP(Main3WData13[[#This Row],[Admin Unit Name]],AdminUnits[],4,FALSE)","v":3},{"$f":"VLOOKUP(Main3WData13[[#This Row],[Sector]],Sectors[],2,FALSE)","v":5}]
[null,"Aidemet",{"$f":"INDEX(Organizations[],MATCH(Main3WData13[[#This Row],[Acronym]],AcronymList,0),1)","v":"Aide au Développement de la Médecine Traditionnelle"},{"$f":"INDEX(Organizations[],MATCH(Main3WData13[[#This Row],[Acronym]],AcronymList,0),3)","v":"ONG Nat."},"EHA","Regulier","KAYES",{"$f":"VLOOKUP(Main3WData13[[#This Row],[Admin Unit Name]],AdminUnits[],2,FALSE)","v":"ML01"},{"$f":"VLOOKUP(Main3WData13[[#This Row],[Admin Unit Name]],AdminUnits[],3,FALSE)","v":"Sud"},{"$f":"VLOOKUP(Main3WData13[[#This Row],[Admin Unit Name]],AdminUnits[],4,FALSE)","v":1},{"$f":"VLOOKUP(Main3WData13[[#This Row],[Sector]],Sectors[],2,FALSE)","v":8}]
[null,"Aidemet",{"$f":"INDEX(Organizations[],MATCH(Main3WData13[[#This Row],[Acronym]],AcronymList,0),1)","v":"Aide au Développement de la Médecine Traditionnelle"},{"$f":"INDEX(Organizations[],MATCH(Main3WData13[[#This Row],[Acronym]],AcronymList,0),3)","v":"ONG Nat."},"EHA","Regulier","MOPTI",{"$f":"VLOOKUP(Main3WData13[[#This Row],[Admin Unit Name]],AdminUnits[],2,FALSE)","v":"ML05"},{"$f":"VLOOKUP(Main3WData13[[#This Row],[Admin Unit Name]],AdminUnits[],3,FALSE)","v":"Sud"},{"$f":"VLOOKUP(Main3WData13[[#This Row],[Admin Unit Name]],AdminUnits[],4,FALSE)","v":5},{"$f":"VLOOKUP(Main3WData13[[#This Row],[Sector]],Sectors[],2,FALSE)","v":8}]
[null,"Aidemet",{"$f":"INDEX(Organizations[],MATCH(Main3WData13[[#This Row],[Acronym]],AcronymList,0),1)","v":"Aide au Développement de la Médecine Traditionnelle"},{"$f":"INDEX(Organizations[],MATCH(Main3WData13[[#This Row],[Acronym]],AcronymList,0),3)","v":"ONG Nat."},"EHA","Regulier","SEGOU",{"$f":"VLOOKUP(Main3WData13[[#This Row],[Admin Unit Name]],AdminUnits[],2,FALSE)","v":"ML04"},{"$f":"VLOOKUP(Main3WData13[[#This Row],[Admin Unit Name]],AdminUnits[],3,FALSE)","v":"Sud"},{"$f":"VLOOKUP(Main3WData13[[#This Row],[Admin Unit Name]],AdminUnits[],4,FALSE)","v":4},{"$f":"VLOOKUP(Main3WData13[[#This Row],[Sector]],Sectors[],2,FALSE)","v":8}]
[null,"AFRICARE",{"$f":"INDEX(Organizations[],MATCH(Main3WData13[[#This Row],[Acronym]],AcronymList,0),1)","v":"AFRICARE"},{"$f":"INDEX(Organizations[],MATCH(Main3WData13[[#This Row],[Acronym]],AcronymList,0),3)","v":"ONG Int."},"Sécurité alimentaire","Regulier","Tombouctou",{"$f":"VLOOKUP(Main3WData13[[#This Row],[Admin Unit Name]],AdminUnits[],2,FALSE)","v":"ML06"},{"$f":"VLOOKUP(Main3WData13[[#This Row],[Admin Unit Name]],AdminUnits[],3,FALSE)","v":"Nord"},{"$f":"VLOOKUP(Main3WData13[[#This Row],[Admin Unit Name]],AdminUnits[],4,FALSE)","v":6},{"$f":"VLOOKUP(Main3WData13[[#This Row],[Sector]],Sectors[],2,FALSE)","v":7}]
[null,"AFRICARE",{"$f":"INDEX(Organizations[],MATCH(Main3WData13[[#This Row],[Acronym]],AcronymList,0),1)","v":"AFRICARE"},{"$f":"INDEX(Organizations[],MATCH(Main3WData13[[#This Row],[Acronym]],AcronymList,0),3)","v":"ONG Int."},"Sécurité alimentaire","Regulier","Koulikoro",{"$f":"VLOOKUP(Main3WData13[[#This Row],[Admin Unit Name]],AdminUnits[],2,FALSE)","v":"ML02"},{"$f":"VLOOKUP(Main3WData13[[#This Row],[Admin Unit Name]],AdminUnits[],3,FALSE)","v":"Sud"},{"$f":"VLOOKUP(Main3WData13[[#This Row],[Admin Unit Name]],AdminUnits[],4,FALSE)","v":2},{"$f":"VLOOKUP(Main3WData13[[#This Row],[Sector]],Sectors[],2,FALSE)","v":7}]
[null,"AED",{"$f":"INDEX(Organizations[],MATCH(Main3WData13[[#This Row],[Acronym]],AcronymList,0),1)","v":"AED"},{"$f":"INDEX(Organizations[],MATCH(Main3WData13[[#This Row],[Acronym]],AcronymList,0),3)","v":"ONG Nat."},"Sécurité alimentaire","Regulier","Segou",{"$f":"VLOOKUP(Main3WData13[[#This Row],[Admin Unit Name]],AdminUnits[],2,FALSE)","v":"ML04"},{"$f":"VLOOKUP(Main3WData13[[#This Row],[Admin Unit Name]],AdminUnits[],3,FALSE)","v":"Sud"},{"$f":"VLOOKUP(Main3WData13[[#This Row],[Admin Unit Name]],AdminUnits[],4,FALSE)","v":4},{"$f":"VLOOKUP(Main3WData13[[#This Row],[Sector]],Sectors[],2,FALSE)","v":7}]
[null,"ADR",{"$f":"INDEX(Organizations[],MATCH(Main3WData13[[#This Row],[Acronym]],AcronymList,0),1)","v":"ADR"},{"$f":"INDEX(Organizations[],MATCH(Main3WData13[[#This Row],[Acronym]],AcronymList,0),3)","v":"ONG Nat."},"Sécurité alimentaire","Regulier","Kayes",{"$f":"VLOOKUP(Main3WData13[[#This Row],[Admin Unit Name]],AdminUnits[],2,FALSE)","v":"ML01"},{"$f":"VLOOKUP(Main3WData13[[#This Row],[Admin Unit Name]],AdminUnits[],3,FALSE)","v":"Sud"},{"$f":"VLOOKUP(Main3WData13[[#This Row],[Admin Unit Name]],AdminUnits[],4,FALSE)","v":1},{"$f":"VLOOKUP(Main3WData13[[#This Row],[Sector]],Sectors[],2,FALSE)","v":7}]
[null,"ADICO",{"$f":"INDEX(Organizations[],MATCH(Main3WData13[[#This Row],[Acronym]],AcronymList,0),1)","v":"ADICO"},{"$f":"INDEX(Organizations[],MATCH(Main3WData13[[#This Row],[Acronym]],AcronymList,0),3)","v":"ONG Nat."},"Protection","Regulier","Segou",{"$f":"VLOOKUP(Main3WData13[[#This Row],[Admin Unit Name]],AdminUnits[],2,FALSE)","v":"ML04"},{"$f":"VLOOKUP(Main3WData13[[#This Row],[Admin Unit Name]],AdminUnits[],3,FALSE)","v":"Sud"},{"$f":"VLOOKUP(Main3WData13[[#This Row],[Admin Unit Name]],AdminUnits[],4,FALSE)","v":4},{"$f":"VLOOKUP(Main3WData13[[#This Row],[Sector]],Sectors[],2,FALSE)","v":5}]
[null,"ADG",{"$f":"INDEX(Organizations[],MATCH(Main3WData13[[#This Row],[Acronym]],AcronymList,0),1)","v":"ADG"},{"$f":"INDEX(Organizations[],MATCH(Main3WData13[[#This Row],[Acronym]],AcronymList,0),3)","v":"ONG Nat."},"Sécurité alimentaire","Regulier","Kayes",{"$f":"VLOOKUP(Main3WData13[[#This Row],[Admin Unit Name]],AdminUnits[],2,FALSE)","v":"ML01"},{"$f":"VLOOKUP(Main3WData13[[#This Row],[Admin Unit Name]],AdminUnits[],3,FALSE)","v":"Sud"},{"$f":"VLOOKUP(Main3WData13[[#This Row],[Admin Unit Name]],AdminUnits[],4,FALSE)","v":1},{"$f":"VLOOKUP(Main3WData13[[#This Row],[Sector]],Sectors[],2,FALSE)","v":7}]
[null,"ADG",{"$f":"INDEX(Organizations[],MATCH(Main3WData13[[#This Row],[Acronym]],AcronymList,0),1)","v":"ADG"},{"$f":"INDEX(Organizations[],MATCH(Main3WData13[[#This Row],[Acronym]],AcronymList,0),3)","v":"ONG Nat."},"Nutrition","Urgence","Gao",{"$f":"VLOOKUP(Main3WData13[[#This Row],[Admin Unit Name]],AdminUnits[],2,FALSE)","v":"ML07"},{"$f":"VLOOKUP(Main3WData13[[#This Row],[Admin Unit Name]],AdminUnits[],3,FALSE)","v":"Nord"},{"$f":"VLOOKUP(Main3WData13[[#This Row],[Admin Unit Name]],AdminUnits[],4,FALSE)","v":7},{"$f":"VLOOKUP(Main3WData13[[#This Row],[Sector]],Sectors[],2,FALSE)","v":4}]
[null,"ADAC",{"$f":"INDEX(Organizations[],MATCH(Main3WData13[[#This Row],[Acronym]],AcronymList,0),1)","v":"TOUCHE ADAC"},{"$f":"INDEX(Organizations[],MATCH(Main3WData13[[#This Row],[Acronym]],AcronymList,0),3)","v":"ONG Nat."},"Protection","Regulier","Bamako",{"$f":"VLOOKUP(Main3WData13[[#This Row],[Admin Unit Name]],AdminUnits[],2,FALSE)","v":"ML09"},{"$f":"VLOOKUP(Main3WData13[[#This Row],[Admin Unit Name]],AdminUnits[],3,FALSE)","v":"Sud"},{"$f":"VLOOKUP(Main3WData13[[#This Row],[Admin Unit Name]],AdminUnits[],4,FALSE)","v":0},{"$f":"VLOOKUP(Main3WData13[[#This Row],[Sector]],Sectors[],2,FALSE)","v":5}]
[null,"ACTED",{"$f":"INDEX(Organizations[],MATCH(Main3WData13[[#This Row],[Acronym]],AcronymList,0),1)","v":"Agence d'aide à la coopération technique et au développement"},{"$f":"INDEX(Organizations[],MATCH(Main3WData13[[#This Row],[Acronym]],AcronymList,0),3)","v":"ONG Int."},"Sécurité alimentaire","Regulier","Gao",{"$f":"VLOOKUP(Main3WData13[[#This Row],[Admin Unit Name]],AdminUnits[],2,FALSE)","v":"ML07"},{"$f":"VLOOKUP(Main3WData13[[#This Row],[Admin Unit Name]],AdminUnits[],3,FALSE)","v":"Nord"},{"$f":"VLOOKUP(Main3WData13[[#This Row],[Admin Unit Name]],AdminUnits[],4,FALSE)","v":7},{"$f":"VLOOKUP(Main3WData13[[#This Row],[Sector]],Sectors[],2,FALSE)","v":7}]
[null,"ACTED",{"$f":"INDEX(Organizations[],MATCH(Main3WData13[[#This Row],[Acronym]],AcronymList,0),1)","v":"Agence d'aide à la coopération technique et au développement"},{"$f":"INDEX(Organizations[],MATCH(Main3WData13[[#This Row],[Acronym]],AcronymList,0),3)","v":"ONG Int."},"Sécurité alimentaire","Regulier","Bamako",{"$f":"VLOOKUP(Main3WData13[[#This Row],[Admin Unit Name]],AdminUnits[],2,FALSE)","v":"ML09"},{"$f":"VLOOKUP(Main3WData13[[#This Row],[Admin Unit Name]],AdminUnits[],3,FALSE)","v":"Sud"},{"$f":"VLOOKUP(Main3WData13[[#This Row],[Admin Unit Name]],AdminUnits[],4,FALSE)","v":0},{"$f":"VLOOKUP(Main3WData13[[#This Row],[Sector]],Sectors[],2,FALSE)","v":7}]
[null,"ACTED",{"$f":"INDEX(Organizations[],MATCH(Main3WData13[[#This Row],[Acronym]],AcronymList,0),1)","v":"Agence d'aide à la coopération technique et au développement"},{"$f":"INDEX(Organizations[],MATCH(Main3WData13[[#This Row],[Acronym]],AcronymList,0),3)","v":"ONG Int."},"Protection","Regulier","Bamako",{"$f":"VLOOKUP(Main3WData13[[#This Row],[Admin Unit Name]],AdminUnits[],2,FALSE)","v":"ML09"},{"$f":"VLOOKUP(Main3WData13[[#This Row],[Admin Unit Name]],AdminUnits[],3,FALSE)","v":"Sud"},{"$f":"VLOOKUP(Main3WData13[[#This Row],[Admin Unit Name]],AdminUnits[],4,FALSE)","v":0},{"$f":"VLOOKUP(Main3WData13[[#This Row],[Sector]],Sectors[],2,FALSE)","v":5}]
[null,"ACTED",{"$f":"INDEX(Organizations[],MATCH(Main3WData13[[#This Row],[Acronym]],AcronymList,0),1)","v":"Agence d'aide à la coopération technique et au développement"},{"$f":"INDEX(Organizations[],MATCH(Main3WData13[[#This Row],[Acronym]],AcronymList,0),3)","v":"ONG Int."},"Abris et NFI","Regulier","Bamako",{"$f":"VLOOKUP(Main3WData13[[#This Row],[Admin Unit Name]],AdminUnits[],2,FALSE)","v":"ML09"},{"$f":"VLOOKUP(Main3WData13[[#This Row],[Admin Unit Name]],AdminUnits[],3,FALSE)","v":"Sud"},{"$f":"VLOOKUP(Main3WData13[[#This Row],[Admin Unit Name]],AdminUnits[],4,FALSE)","v":0},{"$f":"VLOOKUP(Main3WData13[[#This Row],[Sector]],Sectors[],2,FALSE)","v":1}]
[null,"ACTED",{"$f":"INDEX(Organizations[],MATCH(Main3WData13[[#This Row],[Acronym]],AcronymList,0),1)","v":"Agence d'aide à la coopération technique et au développement"},{"$f":"INDEX(Organizations[],MATCH(Main3WData13[[#This Row],[Acronym]],AcronymList,0),3)","v":"ONG Int."},"Protection","Regulier","Koulikoro",{"$f":"VLOOKUP(Main3WData13[[#This Row],[Admin Unit Name]],AdminUnits[],2,FALSE)","v":"ML02"},{"$f":"VLOOKUP(Main3WData13[[#This Row],[Admin Unit Name]],AdminUnits[],3,FALSE)","v":"Sud"},{"$f":"VLOOKUP(Main3WData13[[#This Row],[Admin Unit Name]],AdminUnits[],4,FALSE)","v":2},{"$f":"VLOOKUP(Main3WData13[[#This Row],[Sector]],Sectors[],2,FALSE)","v":5}]
[null,"ACTED",{"$f":"INDEX(Organizations[],MATCH(Main3WData13[[#This Row],[Acronym]],AcronymList,0),1)","v":"Agence d'aide à la coopération technique et au développement"},{"$f":"INDEX(Organizations[],MATCH(Main3WData13[[#This Row],[Acronym]],AcronymList,0),3)","v":"ONG Int."},"Abris et NFI","Regulier","Koulikoro",{"$f":"VLOOKUP(Main3WData13[[#This Row],[Admin Unit Name]],AdminUnits[],2,FALSE)","v":"ML02"},{"$f":"VLOOKUP(Main3WData13[[#This Row],[Admin Unit Name]],AdminUnits[],3,FALSE)","v":"Sud"},{"$f":"VLOOKUP(Main3WData13[[#This Row],[Admin Unit Name]],AdminUnits[],4,FALSE)","v":2},{"$f":"VLOOKUP(Main3WData13[[#This Row],[Sector]],Sectors[],2,FALSE)","v":1}]
[null,"ACTED",{"$f":"INDEX(Organizations[],MATCH(Main3WData13[[#This Row],[Acronym]],AcronymList,0),1)","v":"Agence d'aide à la coopération technique et au développement"},{"$f":"INDEX(Organizations[],MATCH(Main3WData13[[#This Row],[Acronym]],AcronymList,0),3)","v":"ONG Int."},"EHA","Regulier","SEGOU",{"$f":"VLOOKUP(Main3WData13[[#This Row],[Admin Unit Name]],AdminUnits[],2,FALSE)","v":"ML04"},{"$f":"VLOOKUP(Main3WData13[[#This Row],[Admin Unit Name]],AdminUnits[],3,FALSE)","v":"Sud"},{"$f":"VLOOKUP(Main3WData13[[#This Row],[Admin Unit Name]],AdminUnits[],4,FALSE)","v":4},{"$f":"VLOOKUP(Main3WData13[[#This Row],[Sector]],Sectors[],2,FALSE)","v":8}]
[null,"ACF – Espagne",{"$f":"INDEX(Organizations[],MATCH(Main3WData13[[#This Row],[Acronym]],AcronymList,0),1)","v":"Action contre la faim Espagne"},{"$f":"INDEX(Organizations[],MATCH(Main3WData13[[#This Row],[Acronym]],AcronymList,0),3)","v":"ONG Int."},"Nutrition","Regulier","Bamako",{"$f":"VLOOKUP(Main3WData13[[#This Row],[Admin Unit Name]],AdminUnits[],2,FALSE)","v":"ML09"},{"$f":"VLOOKUP(Main3WData13[[#This Row],[Admin Unit Name]],AdminUnits[],3,FALSE)","v":"Sud"},{"$f":"VLOOKUP(Main3WData13[[#This Row],[Admin Unit Name]],AdminUnits[],4,FALSE)","v":0},{"$f":"VLOOKUP(Main3WData13[[#This Row],[Sector]],Sectors[],2,FALSE)","v":4}]
[null,"ACF – Espagne",{"$f":"INDEX(Organizations[],MATCH(Main3WData13[[#This Row],[Acronym]],AcronymList,0),1)","v":"Action contre la faim Espagne"},{"$f":"INDEX(Organizations[],MATCH(Main3WData13[[#This Row],[Acronym]],AcronymList,0),3)","v":"ONG Int."},"EHA","Regulier","BAMAKO",{"$f":"VLOOKUP(Main3WData13[[#This Row],[Admin Unit Name]],AdminUnits[],2,FALSE)","v":"ML09"},{"$f":"VLOOKUP(Main3WData13[[#This Row],[Admin Unit Name]],AdminUnits[],3,FALSE)","v":"Sud"},{"$f":"VLOOKUP(Main3WData13[[#This Row],[Admin Unit Name]],AdminUnits[],4,FALSE)","v":0},{"$f":"VLOOKUP(Main3WData13[[#This Row],[Sector]],Sectors[],2,FALSE)","v":8}]
[null,"ACF – Espagne",{"$f":"INDEX(Organizations[],MATCH(Main3WData13[[#This Row],[Acronym]],AcronymList,0),1)","v":"Action contre la faim Espagne"},{"$f":"INDEX(Organizations[],MATCH(Main3WData13[[#This Row],[Acronym]],AcronymList,0),3)","v":"ONG Int."},"Sécurité alimentaire","Regulier","Kayes",{"$f":"VLOOKUP(Main3WData13[[#This Row],[Admin Unit Name]],AdminUnits[],2,FALSE)","v":"ML01"},{"$f":"VLOOKUP(Main3WData13[[#This Row],[Admin Unit Name]],AdminUnits[],3,FALSE)","v":"Sud"},{"$f":"VLOOKUP(Main3WData13[[#This Row],[Admin Unit Name]],AdminUnits[],4,FALSE)","v":1},{"$f":"VLOOKUP(Main3WData13[[#This Row],[Sector]],Sectors[],2,FALSE)","v":7}]
[null,"ACF – Espagne",{"$f":"INDEX(Organizations[],MATCH(Main3WData13[[#This Row],[Acronym]],AcronymList,0),1)","v":"Action contre la faim Espagne"},{"$f":"INDEX(Organizations[],MATCH(Main3WData13[[#This Row],[Acronym]],AcronymList,0),3)","v":"ONG Int."},"Sécurité alimentaire","Regulier","Koulikoro",{"$f":"VLOOKUP(Main3WData13[[#This Row],[Admin Unit Name]],AdminUnits[],2,FALSE)","v":"ML02"},{"$f":"VLOOKUP(Main3WData13[[#This Row],[Admin Unit Name]],AdminUnits[],3,FALSE)","v":"Sud"},{"$f":"VLOOKUP(Main3WData13[[#This Row],[Admin Unit Name]],AdminUnits[],4,FALSE)","v":2},{"$f":"VLOOKUP(Main3WData13[[#This Row],[Sector]],Sectors[],2,FALSE)","v":7}]
[null,"ACF – Espagne",{"$f":"INDEX(Organizations[],MATCH(Main3WData13[[#This Row],[Acronym]],AcronymList,0),1)","v":"Action contre la faim Espagne"},{"$f":"INDEX(Organizations[],MATCH(Main3WData13[[#This Row],[Acronym]],AcronymList,0),3)","v":"ONG Int."},"Santé","Regulier","GAO",{"$f":"VLOOKUP(Main3WData13[[#This Row],[Admin Unit Name]],AdminUnits[],2,FALSE)","v":"ML07"},{"$f":"VLOOKUP(Main3WData13[[#This Row],[Admin Unit Name]],AdminUnits[],3,FALSE)","v":"Nord"},{"$f":"VLOOKUP(Main3WData13[[#This Row],[Admin Unit Name]],AdminUnits[],4,FALSE)","v":7},{"$f":"VLOOKUP(Main3WData13[[#This Row],[Sector]],Sectors[],2,FALSE)","v":6}]
[null,"ACF – Espagne",{"$f":"INDEX(Organizations[],MATCH(Main3WData13[[#This Row],[Acronym]],AcronymList,0),1)","v":"Action contre la faim Espagne"},{"$f":"INDEX(Organizations[],MATCH(Main3WData13[[#This Row],[Acronym]],AcronymList,0),3)","v":"ONG Int."},"Nutrition","Urgence","Gao",{"$f":"VLOOKUP(Main3WData13[[#This Row],[Admin Unit Name]],AdminUnits[],2,FALSE)","v":"ML07"},{"$f":"VLOOKUP(Main3WData13[[#This Row],[Admin Unit Name]],AdminUnits[],3,FALSE)","v":"Nord"},{"$f":"VLOOKUP(Main3WData13[[#This Row],[Admin Unit Name]],AdminUnits[],4,FALSE)","v":7},{"$f":"VLOOKUP(Main3WData13[[#This Row],[Sector]],Sectors[],2,FALSE)","v":4}]
[null,"ACF – Espagne",{"$f":"INDEX(Organizations[],MATCH(Main3WData13[[#This Row],[Acronym]],AcronymList,0),1)","v":"Action contre la faim Espagne"},{"$f":"INDEX(Organizations[],MATCH(Main3WData13[[#This Row],[Acronym]],AcronymList,0),3)","v":"ONG Int."},"Nutrition","Urgence","Kayes",{"$f":"VLOOKUP(Main3WData13[[#This Row],[Admin Unit Name]],AdminUnits[],2,FALSE)","v":"ML01"},{"$f":"VLOOKUP(Main3WData13[[#This Row],[Admin Unit Name]],AdminUnits[],3,FALSE)","v":"Sud"},{"$f":"VLOOKUP(Main3WData13[[#This Row],[Admin Unit Name]],AdminUnits[],4,FALSE)","v":1},{"$f":"VLOOKUP(Main3WData13[[#This Row],[Sector]],Sectors[],2,FALSE)","v":4}]
[null,"ACF – Espagne",{"$f":"INDEX(Organizations[],MATCH(Main3WData13[[#This Row],[Acronym]],AcronymList,0),1)","v":"Action contre la faim Espagne"},{"$f":"INDEX(Organizations[],MATCH(Main3WData13[[#This Row],[Acronym]],AcronymList,0),3)","v":"ONG Int."},"EHA","Regulier","GAO",{"$f":"VLOOKUP(Main3WData13[[#This Row],[Admin Unit Name]],AdminUnits[],2,FALSE)","v":"ML07"},{"$f":"VLOOKUP(Main3WData13[[#This Row],[Admin Unit Name]],AdminUnits[],3,FALSE)","v":"Nord"},{"$f":"VLOOKUP(Main3WData13[[#This Row],[Admin Unit Name]],AdminUnits[],4,FALSE)","v":7},{"$f":"VLOOKUP(Main3WData13[[#This Row],[Sector]],Sectors[],2,FALSE)","v":8}]
[null,"ACF – Espagne",{"$f":"INDEX(Organizations[],MATCH(Main3WData13[[#This Row],[Acronym]],AcronymList,0),1)","v":"Action contre la faim Espagne"},{"$f":"INDEX(Organizations[],MATCH(Main3WData13[[#This Row],[Acronym]],AcronymList,0),3)","v":"ONG Int."},"EHA","Regulier","KOULIKORO",{"$f":"VLOOKUP(Main3WData13[[#This Row],[Admin Unit Name]],AdminUnits[],2,FALSE)","v":"ML02"},{"$f":"VLOOKUP(Main3WData13[[#This Row],[Admin Unit Name]],AdminUnits[],3,FALSE)","v":"Sud"},{"$f":"VLOOKUP(Main3WData13[[#This Row],[Admin Unit Name]],AdminUnits[],4,FALSE)","v":2},{"$f":"VLOOKUP(Main3WData13[[#This Row],[Sector]],Sectors[],2,FALSE)","v":8}]
[null,"AAA",{"$f":"INDEX(Organizations[],MATCH(Main3WData13[[#This Row],[Acronym]],AcronymList,0),1)","v":"Agro-Action allemande"},{"$f":"INDEX(Organizations[],MATCH(Main3WData13[[#This Row],[Acronym]],AcronymList,0),3)","v":"ONG Int."},"Sécurité alimentaire","Regulier","Kayes",{"$f":"VLOOKUP(Main3WData13[[#This Row],[Admin Unit Name]],AdminUnits[],2,FALSE)","v":"ML01"},{"$f":"VLOOKUP(Main3WData13[[#This Row],[Admin Unit Name]],AdminUnits[],3,FALSE)","v":"Sud"},{"$f":"VLOOKUP(Main3WData13[[#This Row],[Admin Unit Name]],AdminUnits[],4,FALSE)","v":1},{"$f":"VLOOKUP(Main3WData13[[#This Row],[Sector]],Sectors[],2,FALSE)","v":7}]
[null,"AAA",{"$f":"INDEX(Organizations[],MATCH(Main3WData13[[#This Row],[Acronym]],AcronymList,0),1)","v":"Agro-Action allemande"},{"$f":"INDEX(Organizations[],MATCH(Main3WData13[[#This Row],[Acronym]],AcronymList,0),3)","v":"ONG Int."},"Sécurité alimentaire","Regulier","Koulikoro",{"$f":"VLOOKUP(Main3WData13[[#This Row],[Admin Unit Name]],AdminUnits[],2,FALSE)","v":"ML02"},{"$f":"VLOOKUP(Main3WData13[[#This Row],[Admin Unit Name]],AdminUnits[],3,FALSE)","v":"Sud"},{"$f":"VLOOKUP(Main3WData13[[#This Row],[Admin Unit Name]],AdminUnits[],4,FALSE)","v":2},{"$f":"VLOOKUP(Main3WData13[[#This Row],[Sector]],Sectors[],2,FALSE)","v":7}]

{"sheet":"Data aout","index":2,"n_rows":381,"n_cols":11,"rows_kept":381,"cut":false,"hidden":true,"merged":[[0,1,0,6]]}
[null,"3W Data Entry"]
[null,null,"Add a new organisation"]
[]
[null,"Acronym","Organisation","Org Type","Sector","Activity Type","Admin Unit Name","Pcode","Autre","I. Admin","I. Sector"]
[null,"YA-G-TU",{"$f":"INDEX(Organizations[],MATCH(Main3WData14[[#This Row],[Acronym]],AcronymList,0),1)","v":"YA-G-TU"},{"$f":"INDEX(Organizations[],MATCH(Main3WData14[[#This Row],[Acronym]],AcronymList,0),3)","v":"ONG Nat."},"Nutrition","Regulier","Mopti",{"$f":"VLOOKUP(Main3WData14[[#This Row],[Admin Unit Name]],AdminUnits[],2,FALSE)","v":"ML05"},{"$f":"VLOOKUP(Main3WData14[[#This Row],[Admin Unit Name]],AdminUnits[],3,FALSE)","v":"Sud"},{"$f":"VLOOKUP(Main3WData14[[#This Row],[Admin Unit Name]],AdminUnits[],4,FALSE)","v":5},{"$f":"VLOOKUP(Main3WData14[[#This Row],[Sector]],Sectors[],2,FALSE)","v":4}]
[null,"World Vision",{"$f":"INDEX(Organizations[],MATCH(Main3WData14[[#This Row],[Acronym]],AcronymList,0),1)","v":"World Vision"},{"$f":"INDEX(Organizations[],MATCH(Main3WData14[[#This Row],[Acronym]],AcronymList,0),3)","v":"ONG Int."},"Santé","Regulier","Segou",{"$f":"VLOOKUP(Main3WData14[[#This Row],[Admin Unit Name]],AdminUnits[],2,FALSE)","v":"ML04"},{"$f":"VLOOKUP(Main3WData14[[#This Row],[Admin Unit Name]],AdminUnits[],3,FALSE)","v":"Sud"},{"$f":"VLOOKUP(Main3WData14[[#This Row],[Admin Unit Name]],AdminUnits[],4,FALSE)","v":4},{"$f":"VLOOKUP(Main3WData14[[#This Row],[Sector]],Sectors[],2,FALSE)","v":6}]
[null,"WORLD VISION",{"$f":"INDEX(Organizations[],MATCH(Main3WData14[[#This Row],[Acronym]],AcronymList,0),1)","v":"World Vision"},{"$f":"INDEX(Organizations[],MATCH(Main3WData14[[#This Row],[Acronym]],AcronymList,0),3)","v":"ONG Int."},"Nutrition","Regulier","Segou",{"$f":"VLOOKUP(Main3WData14[[#This Row],[Admin Unit Name]],AdminUnits[],2,FALSE)","v":"ML04"},{"$f":"VLOOKUP(Main3WData14[[#This Row],[Admin Unit Name]],AdminUnits[],3,FALSE)","v":"Sud"},{"$f":"VLOOKUP(Main3WData14[[#This Row],[Admin Unit Name]],AdminUnits[],4,FALSE)","v":4},{"$f":"VLOOKUP(Main3WData14[[#This Row],[Sector]],Sectors[],2,FALSE)","v":4}]
[null,"World Vision",{"$f":"INDEX(Organizations[],MATCH(Main3WData14[[#This Row],[Acronym]],AcronymList,0),1)","v":"World Vision"},{"$f":"INDEX(Organizations[],MATCH(Main3WData14[[#This Row],[Acronym]],AcronymList,0),3)","v":"ONG Int."},"EHA","Regulier","SEGOU",{"$f":"VLOOKUP(Main3WData14[[#This Row],[Admin Unit Name]],AdminUnits[],2,FALSE)","v":"ML04"},{"$f":"VLOOKUP(Main3WData14[[#This Row],[Admin Unit Name]],AdminUnits[],3,FALSE)","v":"Sud"},{"$f":"VLOOKUP(Main3WData14[[#This Row],[Admin Unit Name]],AdminUnits[],4,FALSE)","v":4},{"$f":"VLOOKUP(Main3WData14[[#This Row],[Sector]],Sectors[],2,FALSE)","v":8}]
[null,"World Vision",{"$f":"INDEX(Organizations[],MATCH(Main3WData14[[#This Row],[Acronym]],AcronymList,0),1)","v":"World Vision"},{"$f":"INDEX(Organizations[],MATCH(Main3WData14[[#This Row],[Acronym]],AcronymList,0),3)","v":"ONG Int."},"Education","Regulier","Gao",{"$f":"VLOOKUP(Main3WData14[[#This Row],[Admin Unit Name]],AdminUnits[],2,FALSE)","v":"ML07"},{"$f":"VLOOKUP(Main3WData14[[#This Row],[Admin Unit Name]],AdminUnits[],3,FALSE)","v":"Nord"},{"$f":"VLOOKUP(Main3WData14[[#This Row],[Admin Unit Name]],AdminUnits[],4,FALSE)","v":7},{"$f":"VLOOKUP(Main3WData14[[#This Row],[Sector]],Sectors[],2,FALSE)","v":3}]
[null,"World Vision",{"$f":"INDEX(Organizations[],MATCH(Main3WData14[[#This Row],[Acronym]],AcronymList,0),1)","v":"World Vision"},{"$f":"INDEX(Organizations[],MATCH(Main3WData14[[#This Row],[Acronym]],AcronymList,0),3)","v":"ONG Int."},"Abris et NFI","Regulier","Segou",{"$f":"VLOOKUP(Main3WData14[[#This Row],[Admin Unit Name]],AdminUnits[],2,FALSE)","v":"ML04"},{"$f":"VLOOKUP(Main3WData14[[#This Row],[Admin Unit Name]],AdminUnits[],3,FALSE)","v":"Sud"},{"$f":"VLOOKUP(Main3WData14[[#This Row],[Admin Unit Name]],AdminUnits[],4,FALSE)","v":4},{"$f":"VLOOKUP(Main3WData14[[#This Row],[Sector]],Sectors[],2,FALSE)","v":1}]
[null,"WHH",{"$f":"INDEX(Organizations[],MATCH(Main3WData14[[#This Row],[Acronym]],AcronymList,0),1)","v":{"$error":"#N/A"}},{"$f":"INDEX(Organizations[],MATCH(Main3WData14[[#This Row],[Acronym]],AcronymList,0),3)","v":{"$error":"#N/A"}},"Sécurité alimentaire","Regulier","Sikasso",{"$f":"VLOOKUP(Main3WData14[[#This Row],[Admin Unit Name]],AdminUnits[],2,FALSE)","v":"ML03"},{"$f":"VLOOKUP(Main3WData14[[#This Row],[Admin Unit Name]],AdminUnits[],3,FALSE)","v":"Sud"},{"$f":"VLOOKUP(Main3WData14[[#This Row],[Admin Unit Name]],AdminUnits[],4,FALSE)","v":3},{"$f":"VLOOKUP(Main3WData14[[#This Row],[Sector]],Sectors[],2,FALSE)","v":7}]
[null,"WHH",{"$f":"INDEX(Organizations[],MATCH(Main3WData14[[#This Row],[Acronym]],AcronymList,0),1)","v":{"$error":"#N/A"}},{"$f":"INDEX(Organizations[],MATCH(Main3WData14[[#This Row],[Acronym]],AcronymList,0),3)","v":{"$error":"#N/A"}},"Sécurité alimentaire","Regulier","Kayes",{"$f":"VLOOKUP(Main3WData14[[#This Row],[Admin Unit Name]],AdminUnits[],2,FALSE)","v":"ML01"},{"$f":"VLOOKUP(Main3WData14[[#This Row],[Admin Unit Name]],AdminUnits[],3,FALSE)","v":"Sud"},{"$f":"VLOOKUP(Main3WData14[[#This Row],[Admin Unit Name]],AdminUnits[],4,FALSE)","v":1},{"$f":"VLOOKUP(Main3WData14[[#This Row],[Sector]],Sectors[],2,FALSE)","v":7}]
[null,"WHH",{"$f":"INDEX(Organizations[],MATCH(Main3WData14[[#This Row],[Acronym]],AcronymList,0),1)","v":{"$error":"#N/A"}},{"$f":"INDEX(Organizations[],MATCH(Main3WData14[[#This Row],[Acronym]],AcronymList,0),3)","v":{"$error":"#N/A"}},"Sécurité alimentaire","Regulier","Koulikoro",{"$f":"VLOOKUP(Main3WData14[[#This Row],[Admin Unit Name]],AdminUnits[],2,FALSE)","v":"ML02"},{"$f":"VLOOKUP(Main3WData14[[#This Row],[Admin Unit Name]],AdminUnits[],3,FALSE)","v":"Sud"},{"$f":"VLOOKUP(Main3WData14[[#This Row],[Admin Unit Name]],AdminUnits[],4,FALSE)","v":2},{"$f":"VLOOKUP(Main3WData14[[#This Row],[Sector]],Sectors[],2,FALSE)","v":7}]
[null,"WHH",{"$f":"INDEX(Organizations[],MATCH(Main3WData14[[#This Row],[Acronym]],AcronymList,0),1)","v":{"$error":"#N/A"}},{"$f":"INDEX(Organizations[],MATCH(Main3WData14[[#This Row],[Acronym]],AcronymList,0),3)","v":{"$error":"#N/A"}},"Sécurité alimentaire","Regulier","Mopti",{"$f":"VLOOKUP(Main3WData14[[#This Row],[Admin Unit Name]],AdminUnits[],2,FALSE)","v":"ML05"},{"$f":"VLOOKUP(Main3WData14[[#This Row],[Admin Unit Name]],AdminUnits[],3,FALSE)","v":"Sud"},{"$f":"VLOOKUP(Main3WData14[[#This Row],[Admin Unit Name]],AdminUnits[],4,FALSE)","v":5},{"$f":"VLOOKUP(Main3WData14[[#This Row],[Sector]],Sectors[],2,FALSE)","v":7}]
[null,"WaterAid",{"$f":"INDEX(Organizations[],MATCH(Main3WData14[[#This Row],[Acronym]],AcronymList,0),1)","v":"WaterAid Mali"},{"$f":"INDEX(Organizations[],MATCH(Main3WData14[[#This Row],[Acronym]],AcronymList,0),3)","v":"UN"},"EHA","Regulier","GAO",{"$f":"VLOOKUP(Main3WData14[[#This Row],[Admin Unit Name]],AdminUnits[],2,FALSE)","v":"ML07"},{"$f":"VLOOKUP(Main3WData14[[#This Row],[Admin Unit Name]],AdminUnits[],3,FALSE)","v":"Nord"},{"$f":"VLOOKUP(Main3WData14[[#This Row],[Admin Unit Name]],AdminUnits[],4,FALSE)","v":7},{"$f":"VLOOKUP(Main3WData14[[#This Row],[Sector]],Sectors[],2,FALSE)","v":8}]
[null,"WaterAid",{"$f":"INDEX(Organizations[],MATCH(Main3WData14[[#This Row],[Acronym]],AcronymList,0),1)","v":"WaterAid Mali"},{"$f":"INDEX(Organizations[],MATCH(Main3WData14[[#This Row],[Acronym]],AcronymList,0),3)","v":"UN"},"EHA","Regulier","KOULIKORO",{"$f":"VLOOKUP(Main3WData14[[#This Row],[Admin Unit Name]],AdminUnits[],2,FALSE)","v":"ML02"},{"$f":"VLOOKUP(Main3WData14[[#This Row],[Admin Unit Name]],AdminUnits[],3,FALSE)","v":"Sud"},{"$f":"VLOOKUP(Main3WData14[[#This Row],[Admin Unit Name]],AdminUnits[],4,FALSE)","v":2},{"$f":"VLOOKUP(Main3WData14[[#This Row],[Sector]],Sectors[],2,FALSE)","v":8}]
[null,"WaterAid",{"$f":"INDEX(Organizations[],MATCH(Main3WData14[[#This Row],[Acronym]],AcronymList,0),1)","v":"WaterAid Mali"},{"$f":"INDEX(Organizations[],MATCH(Main3WData14[[#This Row],[Acronym]],AcronymList,0),3)","v":"UN"},"EHA","Regulier","MOPTI",{"$f":"VLOOKUP(Main3WData14[[#This Row],[Admin Unit Name]],AdminUnits[],2,FALSE)","v":"ML05"},{"$f":"VLOOKUP(Main3WData14[[#This Row],[Admin Unit Name]],AdminUnits[],3,FALSE)","v":"Sud"},{"$f":"VLOOKUP(Main3WData14[[#This Row],[Admin Unit Name]],AdminUnits[],4,FALSE)","v":5},{"$f":"VLOOKUP(Main3WData14[[#This Row],[Sector]],Sectors[],2,FALSE)","v":8}]
[null,"WaterAid",{"$f":"INDEX(Organizations[],MATCH(Main3WData14[[#This Row],[Acronym]],AcronymList,0),1)","v":"WaterAid Mali"},{"$f":"INDEX(Organizations[],MATCH(Main3WData14[[#This Row],[Acronym]],AcronymList,0),3)","v":"UN"},"EHA","Regulier","SEGOU",{"$f":"VLOOKUP(Main3WData14[[#This Row],[Admin Unit Name]],AdminUnits[],2,FALSE)","v":"ML04"},{"$f":"VLOOKUP(Main3WData14[[#This Row],[Admin Unit Name]],AdminUnits[],3,FALSE)","v":"Sud"},{"$f":"VLOOKUP(Main3WData14[[#This Row],[Admin Unit Name]],AdminUnits[],4,FALSE)","v":4},{"$f":"VLOOKUP(Main3WData14[[#This Row],[Sector]],Sectors[],2,FALSE)","v":8}]
[null,"WaterAid",{"$f":"INDEX(Organizations[],MATCH(Main3WData14[[#This Row],[Acronym]],AcronymList,0),1)","v":"WaterAid Mali"},{"$f":"INDEX(Organizations[],MATCH(Main3WData14[[#This Row],[Acronym]],AcronymList,0),3)","v":"UN"},"EHA","Regulier","TOMBOUCTOU",{"$f":"VLOOKUP(Main3WData14[[#This Row],[Admin Unit Name]],AdminUnits[],2,FALSE)","v":"ML06"},{"$f":"VLOOKUP(Main3WData14[[#This Row],[Admin Unit Name]],AdminUnits[],3,FALSE)","v":"Nord"},{"$f":"VLOOKUP(Main3WData14[[#This Row],[Admin Unit Name]],AdminUnits[],4,FALSE)","v":6},{"$f":"VLOOKUP(Main3WData14[[#This Row],[Sector]],Sectors[],2,FALSE)","v":8}]
[null,"WaterAid",{"$f":"INDEX(Organizations[],MATCH(Main3WData14[[#This Row],[Acronym]],AcronymList,0),1)","v":"WaterAid Mali"},{"$f":"INDEX(Organizations[],MATCH(Main3WData14[[#This Row],[Acronym]],AcronymList,0),3)","v":"UN"},"EHA","Regulier","BAMAKO",{"$f":"VLOOKUP(Main3WData14[[#This Row],[Admin Unit Name]],AdminUnits[],2,FALSE)","v":"ML09"},{"$f":"VLOOKUP(Main3WData14[[#This Row],[Admin Unit Name]],AdminUnits[],3,FALSE)","v":"Sud"},{"$f":"VLOOKUP(Main3WData14[[#This Row],[Admin Unit Name]],AdminUnits[],4,FALSE)","v":0},{"$f":"VLOOKUP(Main3WData14[[#This Row],[Sector]],Sectors[],2,FALSE)","v":8}]
[null,"Village du Millénaire",{"$f":"INDEX(Organizations[],MATCH(Main3WData14[[#This Row],[Acronym]],AcronymList,0),1)","v":"Village du Millénaire"},{"$f":"INDEX(Organizations[],MATCH(Main3WData14[[#This Row],[Acronym]],AcronymList,0),3)","v":"ONG Nat."},"Nutrition","Regulier","Segou",{"$f":"VLOOKUP(Main3WData14[[#This Row],[Admin Unit Name]],AdminUnits[],2,FALSE)","v":"ML04"},{"$f":"VLOOKUP(Main3WData14[[#This Row],[Admin Unit Name]],AdminUnits[],3,FALSE)","v":"Sud"},{"$f":"VLOOKUP(Main3WData14[[#This Row],[Admin Unit Name]],AdminUnits[],4,FALSE)","v":4},{"$f":"VLOOKUP(Main3WData14[[#This Row],[Sector]],Sectors[],2,FALSE)","v":4}]
[null,"VESOS",{"$f":"INDEX(Organizations[],MATCH(Main3WData14[[#This Row],[Acronym]],AcronymList,0),1)","v":{"$error":"#N/A"}},{"$f":"INDEX(Organizations[],MATCH(Main3WData14[[#This Row],[Acronym]],AcronymList,0),3)","v":{"$error":"#N/A"}},"Protection","Regulier","Mopti",{"$f":"VLOOKUP(Main3WData14[[#This Row],[Admin Unit Name]],AdminUnits[],2,FALSE)","v":"ML05"},{"$f":"VLOOKUP(Main3WData14[[#This Row],[Admin Unit Name]],AdminUnits[],3,FALSE)","v":"Sud"},{"$f":"VLOOKUP(Main3WData14[[#This Row],[Admin Unit Name]],AdminUnits[],4,FALSE)","v":5},{"$f":"VLOOKUP(Main3WData14[[#This Row],[Sector]],Sectors[],2,FALSE)","v":5}]
[null,"VESOS",{"$f":"INDEX(Organizations[],MATCH(Main3WData14[[#This Row],[Acronym]],AcronymList,0),1)","v":{"$error":"#N/A"}},{"$f":"INDEX(Organizations[],MATCH(Main3WData14[[#This Row],[Acronym]],AcronymList,0),3)","v":{"$error":"#N/A"}},"Protection","Regulier","Kayes",{"$f":"VLOOKUP(Main3WData14[[#This Row],[Admin Unit Name]],AdminUnits[],2,FALSE)","v":"ML01"},{"$f":"VLOOKUP(Main3WData14[[#This Row],[Admin Unit Name]],AdminUnits[],3,FALSE)","v":"Sud"},{"$f":"VLOOKUP(Main3WData14[[#This Row],[Admin Unit Name]],AdminUnits[],4,FALSE)","v":1},{"$f":"VLOOKUP(Main3WData14[[#This Row],[Sector]],Sectors[],2,FALSE)","v":5}]
[null,"VESOS",{"$f":"INDEX(Organizations[],MATCH(Main3WData14[[#This Row],[Acronym]],AcronymList,0),1)","v":{"$error":"#N/A"}},{"$f":"INDEX(Organizations[],MATCH(Main3WData14[[#This Row],[Acronym]],AcronymList,0),3)","v":{"$error":"#N/A"}},"Protection","Regulier","Koulikoro",{"$f":"VLOOKUP(Main3WData14[[#This Row],[Admin Unit Name]],AdminUnits[],2,FALSE)","v":"ML02"},{"$f":"VLOOKUP(Main3WData14[[#This Row],[Admin Unit Name]],AdminUnits[],3,FALSE)","v":"Sud"},{"$f":"VLOOKUP(Main3WData14[[#This Row],[Admin Unit Name]],AdminUnits[],4,FALSE)","v":2},{"$f":"VLOOKUP(Main3WData14[[#This Row],[Sector]],Sectors[],2,FALSE)","v":5}]
[null,"VESOS",{"$f":"INDEX(Organizations[],MATCH(Main3WData14[[#This Row],[Acronym]],AcronymList,0),1)","v":{"$error":"#N/A"}},{"$f":"INDEX(Organizations[],MATCH(Main3WData14[[#This Row],[Acronym]],AcronymList,0),3)","v":{"$error":"#N/A"}},"Protection","Regulier","Bamako",{"$f":"VLOOKUP(Main3WData14[[#This Row],[Admin Unit Name]],AdminUnits[],2,FALSE)","v":"ML09"},{"$f":"VLOOKUP(Main3WData14[[#This Row],[Admin Unit Name]],AdminUnits[],3,FALSE)","v":"Sud"},{"$f":"VLOOKUP(Main3WData14[[#This Row],[Admin Unit Name]],AdminUnits[],4,FALSE)","v":0},{"$f":"VLOOKUP(Main3WData14[[#This Row],[Sector]],Sectors[],2,FALSE)","v":5}]
[null,"UNMAS",{"$f":"INDEX(Organizations[],MATCH(Main3WData14[[#This Row],[Acronym]],AcronymList,0),1)","v":"UNMAS"},{"$f":"INDEX(Organizations[],MATCH(Main3WData14[[#This Row],[Acronym]],AcronymList,0),3)","v":"UN"},"Protection","Regulier","Tombouctou",{"$f":"VLOOKUP(Main3WData14[[#This Row],[Admin Unit Name]],AdminUnits[],2,FALSE)","v":"ML06"},{"$f":"VLOOKUP(Main3WData14[[#This Row],[Admin Unit Name]],AdminUnits[],3,FALSE)","v":"Nord"},{"$f":"VLOOKUP(Main3WData14[[#This Row],[Admin Unit Name]],AdminUnits[],4,FALSE)","v":6},{"$f":"VLOOKUP(Main3WData14[[#This Row],[Sector]],Sectors[],2,FALSE)","v":5}]
[null,"UNMAS",{"$f":"INDEX(Organizations[],MATCH(Main3WData14[[#This Row],[Acronym]],AcronymList,0),1)","v":"UNMAS"},{"$f":"INDEX(Organizations[],MATCH(Main3WData14[[#This Row],[Acronym]],AcronymList,0),3)","v":"UN"},"Protection","Regulier","Gao",{"$f":"VLOOKUP(Main3WData14[[#This Row],[Admin Unit Name]],AdminUnits[],2,FALSE)","v":"ML07"},{"$f":"VLOOKUP(Main3WData14[[#This Row],[Admin Unit Name]],AdminUnits[],3,FALSE)","v":"Nord"},{"$f":"VLOOKUP(Main3WData14[[#This Row],[Admin Unit Name]],AdminUnits[],4,FALSE)","v":7},{"$f":"VLOOKUP(Main3WData14[[#This Row],[Sector]],Sectors[],2,FALSE)","v":5}]
[null,"UNMAS",{"$f":"INDEX(Organizations[],MATCH(Main3WData14[[#This Row],[Acronym]],AcronymList,0),1)","v":"UNMAS"},{"$f":"INDEX(Organizations[],MATCH(Main3WData14[[#This Row],[Acronym]],AcronymList,0),3)","v":"UN"},"Protection","Regulier","Mopti",{"$f":"VLOOKUP(Main3WData14[[#This Row],[Admin Unit Name]],AdminUnits[],2,FALSE)","v":"ML05"},{"$f":"VLOOKUP(Main3WData14[[#This Row],[Admin Unit Name]],AdminUnits[],3,FALSE)","v":"Sud"},{"$f":"VLOOKUP(Main3WData14[[#This Row],[Admin Unit Name]],AdminUnits[],4,FALSE)","v":5},{"$f":"VLOOKUP(Main3WData14[[#This Row],[Sector]],Sectors[],2,FALSE)","v":5}]
[null,"UNICEF",{"$f":"INDEX(Organizations[],MATCH(Main3WData14[[#This Row],[Acronym]],AcronymList,0),1)","v":"Fonds des Nations Unies pour l'Enfance"},{"$f":"INDEX(Organizations[],MATCH(Main3WData14[[#This Row],[Acronym]],AcronymList,0),3)","v":"UN"},"Protection","Regulier","Segou",{"$f":"VLOOKUP(Main3WData14[[#This Row],[Admin Unit Name]],AdminUnits[],2,FALSE)","v":"ML04"},{"$f":"VLOOKUP(Main3WData14[[#This Row],[Admin Unit Name]],AdminUnits[],3,FALSE)","v":"Sud"},{"$f":"VLOOKUP(Main3WData14[[#This Row],[Admin Unit Name]],AdminUnits[],4,FALSE)","v":4},{"$f":"VLOOKUP(Main3WData14[[#This Row],[Sector]],Sectors[],2,FALSE)","v":5}]
[null,"UNICEF",{"$f":"INDEX(Organizations[],MATCH(Main3WData14[[#This Row],[Acronym]],AcronymList,0),1)","v":"Fonds des Nations Unies pour l'Enfance"},{"$f":"INDEX(Organizations[],MATCH(Main3WData14[[#This Row],[Acronym]],AcronymList,0),3)","v":"UN"},"Protection","Regulier","Mopti",{"$f":"VLOOKUP(Main3WData14[[#This Row],[Admin Unit Name]],AdminUnits[],2,FALSE)","v":"ML05"},{"$f":"VLOOKUP(Main3WData14[[#This Row],[Admin Unit Name]],AdminUnits[],3,FALSE)","v":"Sud"},{"$f":"VLOOKUP(Main3WData14[[#This Row],[Admin Unit Name]],AdminUnits[],4,FALSE)","v":5},{"$f":"VLOOKUP(Main3WData14[[#This Row],[Sector]],Sectors[],2,FALSE)","v":5}]
[null,"UNICEF",{"$f":"INDEX(Organizations[],MATCH(Main3WData14[[#This Row],[Acronym]],AcronymList,0),1)","v":"Fonds des Nations Unies pour l'Enfance"},{"$f":"INDEX(Organizations[],MATCH(Main3WData14[[#This Row],[Acronym]],AcronymList,0),3)","v":"UN"},"Education","Regulier","Tombouctou",{"$f":"VLOOKUP(Main3WData14[[#This Row],[Admin Unit Name]],AdminUnits[],2,FALSE)","v":"ML06"},{"$f":"VLOOKUP(Main3WData14[[#This Row],[Admin Unit Name]],AdminUnits[],3,FALSE)","v":"Nord"},{"$f":"VLOOKUP(Main3WData14[[#This Row],[Admin Unit Name]],AdminUnits[],4,FALSE)","v":6},{"$f":"VLOOKUP(Main3WData14[[#This Row],[Sector]],Sectors[],2,FALSE)","v":3}]
[null,"UNICEF",{"$f":"INDEX(Organizations[],MATCH(Main3WData14[[#This Row],[Acronym]],AcronymList,0),1)","v":"Fonds des Nations Unies pour l'Enfance"},{"$f":"INDEX(Organizations[],MATCH(Main3WData14[[#This Row],[Acronym]],AcronymList,0),3)","v":"UN"},"Education","Regulier","Koulikoro",{"$f":"VLOOKUP(Main3WData14[[#This Row],[Admin Unit Name]],AdminUnits[],2,FALSE)","v":"ML02"},{"$f":"VLOOKUP(Main3WData14[[#This Row],[Admin Unit Name]],AdminUnits[],3,FALSE)","v":"Sud"},{"$f":"VLOOKUP(Main3WData14[[#This Row],[Admin Unit Name]],AdminUnits[],4,FALSE)","v":2},{"$f":"VLOOKUP(Main3WData14[[#This Row],[Sector]],Sectors[],2,FALSE)","v":3}]
[null,"UNICEF",{"$f":"INDEX(Organizations[],MATCH(Main3WData14[[#This Row],[Acronym]],AcronymList,0),1)","v":"Fonds des Nations Unies pour l'Enfance"},{"$f":"INDEX(Organizations[],MATCH(Main3WData14[[#This Row],[Acronym]],AcronymList,0),3)","v":"UN"},"Education","Regulier","Mopti",{"$f":"VLOOKUP(Main3WData14[[#This Row],[Admin Unit Name]],AdminUnits[],2,FALSE)","v":"ML05"},{"$f":"VLOOKUP(Main3WData14[[#This Row],[Admin Unit Name]],AdminUnits[],3,FALSE)","v":"Sud"},{"$f":"VLOOKUP(Main3WData14[[#This Row],[Admin Unit Name]],AdminUnits[],4,FALSE)","v":5},{"$f":"VLOOKUP(Main3WData14[[#This Row],[Sector]],Sectors[],2,FALSE)","v":3}]
[null,"UNICEF",{"$f":"INDEX(Organizations[],MATCH(Main3WData14[[#This Row],[Acronym]],AcronymList,0),1)","v":"Fonds des Nations Unies pour l'Enfance"},{"$f":"INDEX(Organizations[],MATCH(Main3WData14[[#This Row],[Acronym]],AcronymList,0),3)","v":"UN"},"Education","Regulier","Gao",{"$f":"VLOOKUP(Main3WData14[[#This Row],[Admin Unit Name]],AdminUnits[],2,FALSE)","v":"ML07"},{"$f":"VLOOKUP(Main3WData14[[#This Row],[Admin Unit Name]],AdminUnits[],3,FALSE)","v":"Nord"},{"$f":"VLOOKUP(Main3WData14[[#This Row],[Admin Unit Name]],AdminUnits[],4,FALSE)","v":7},{"$f":"VLOOKUP(Main3WData14[[#This Row],[Sector]],Sectors[],2,FALSE)","v":3}]
[null,"UNICEF",{"$f":"INDEX(Organizations[],MATCH(Main3WData14[[#This Row],[Acronym]],AcronymList,0),1)","v":"Fonds des Nations Unies pour l'Enfance"},{"$f":"INDEX(Organizations[],MATCH(Main3WData14[[#This Row],[Acronym]],AcronymList,0),3)","v":"UN"},"Education","Regulier","Segou",{"$f":"VLOOKUP(Main3WData14[[#This Row],[Admin Unit Name]],AdminUnits[],2,FALSE)","v":"ML04"},{"$f":"VLOOKUP(Main3WData14[[#This Row],[Admin Unit Name]],AdminUnits[],3,FALSE)","v":"Sud"},{"$f":"VLOOKUP(Main3WData14[[#This Row],[Admin Unit Name]],AdminUnits[],4,FALSE)","v":4},{"$f":"VLOOKUP(Main3WData14[[#This Row],[Sector]],Sectors[],2,FALSE)","v":3}]
[null,"UNICEF",{"$f":"INDEX(Organizations[],MATCH(Main3WData14[[#This Row],[Acronym]],AcronymList,0),1)","v":"Fonds des Nations Unies pour l'Enfance"},{"$f":"INDEX(Organizations[],MATCH(Main3WData14[[#This Row],[Acronym]],AcronymList,0),3)","v":"UN"},"Education","Regulier","Kayes",{"$f":"VLOOKUP(Main3WData14[[#This Row],[Admin Unit Name]],AdminUnits[],2,FALSE)","v":"ML01"},{"$f":"VLOOKUP(Main3WData14[[#This Row],[Admin Unit Name]],AdminUnits[],3,FALSE)","v":"Sud"},{"$f":"VLOOKUP(Main3WData14[[#This Row],[Admin Unit Name]],AdminUnits[],4,FALSE)","v":1},{"$f":"VLOOKUP(Main3WData14[[#This Row],[Sector]],Sectors[],2,FALSE)","v":3}]
[null,"UNICEF",{"$f":"INDEX(Organizations[],MATCH(Main3WData14[[#This Row],[Acronym]],AcronymList,0),1)","v":"Fonds des Nations Unies pour l'Enfance"},{"$f":"INDEX(Organizations[],MATCH(Main3WData14[[#This Row],[Acronym]],AcronymList,0),3)","v":"UN"},"Education","Regulier","Bamako",{"$f":"VLOOKUP(Main3WData14[[#This Row],[Admin Unit Name]],AdminUnits[],2,FALSE)","v":"ML09"},{"$f":"VLOOKUP(Main3WData14[[#This Row],[Admin Unit Name]],AdminUnits[],3,FALSE)","v":"Sud"},{"$f":"VLOOKUP(Main3WData14[[#This Row],[Admin Unit Name]],AdminUnits[],4,FALSE)","v":0},{"$f":"VLOOKUP(Main3WData14[[#This Row],[Sector]],Sectors[],2,FALSE)","v":3}]
[null,"UNICEF",{"$f":"INDEX(Organizations[],MATCH(Main3WData14[[#This Row],[Acronym]],AcronymList,0),1)","v":"Fonds des Nations Unies pour l'Enfance"},{"$f":"INDEX(Organizations[],MATCH(Main3WData14[[#This Row],[Acronym]],AcronymList,0),3)","v":"UN"},"Coordination","Regulier","Bamako",{"$f":"VLOOKUP(Main3WData14[[#This Row],[Admin Unit Name]],AdminUnits[],2,FALSE)","v":"ML09"},{"$f":"VLOOKUP(Main3WData14[[#This Row],[Admin Unit Name]],AdminUnits[],3,FALSE)","v":"Sud"},{"$f":"VLOOKUP(Main3WData14[[#This Row],[Admin Unit Name]],AdminUnits[],4,FALSE)","v":0},{"$f":"VLOOKUP(Main3WData14[[#This Row],[Sector]],Sectors[],2,FALSE)","v":2}]
[null,"UNHCR",{"$f":"INDEX(Organizations[],MATCH(Main3WData14[[#This Row],[Acronym]],AcronymList,0),1)","v":"Haut Commissariat des Nations Unies pour les réfugiés"},{"$f":"INDEX(Organizations[],MATCH(Main3WData14[[#This Row],[Acronym]],AcronymList,0),3)","v":"UN"},"Protection","Regulier","Mopti",{"$f":"VLOOKUP(Main3WData14[[#This Row],[Admin Unit Name]],AdminUnits[],2,FALSE)","v":"ML05"},{"$f":"VLOOKUP(Main3WData14[[#This Row],[Admin Unit Name]],AdminUnits[],3,FALSE)","v":"Sud"},{"$f":"VLOOKUP(Main3WData14[[#This Row],[Admin Unit Name]],AdminUnits[],4,FALSE)","v":5},{"$f":"VLOOKUP(Main3WData14[[#This Row],[Sector]],Sectors[],2,FALSE)","v":5}]
[null,"UNHCR",{"$f":"INDEX(Organizations[],MATCH(Main3WData14[[#This Row],[Acronym]],AcronymList,0),1)","v":"Haut Commissariat des Nations Unies pour les réfugiés"},{"$f":"INDEX(Organizations[],MATCH(Main3WData14[[#This Row],[Acronym]],AcronymList,0),3)","v":"UN"},"Protection","Regulier","Kidal",{"$f":"VLOOKUP(Main3WData14[[#This Row],[Admin Unit Name]],AdminUnits[],2,FALSE)","v":"ML08"},{"$f":"VLOOKUP(Main3WData14[[#This Row],[Admin Unit Name]],AdminUnits[],3,FALSE)","v":"Nord"},{"$f":"VLOOKUP(Main3WData14[[#This Row],[Admin Unit Name]],AdminUnits[],4,FALSE)","v":8},{"$f":"VLOOKUP(Main3WData14[[#This Row],[Sector]],Sectors[],2,FALSE)","v":5}]
[null,"UNHCR",{"$f":"INDEX(Organizations[],MATCH(Main3WData14[[#This Row],[Acronym]],AcronymList,0),1)","v":"Haut Commissariat des Nations Unies pour les réfugiés"},{"$f":"INDEX(Organizations[],MATCH(Main3WData14[[#This Row],[Acronym]],AcronymList,0),3)","v":"UN"},"Protection","Regulier","Tombouctou",{"$f":"VLOOKUP(Main3WData14[[#This Row],[Admin Unit Name]],AdminUnits[],2,FALSE)","v":"ML06"},{"$f":"VLOOKUP(Main3WData14[[#This Row],[Admin Unit Name]],AdminUnits[],3,FALSE)","v":"Nord"},{"$f":"VLOOKUP(Main3WData14[[#This Row],[Admin Unit Name]],AdminUnits[],4,FALSE)","v":6},{"$f":"VLOOKUP(Main3WData14[[#This Row],[Sector]],Sectors[],2,FALSE)","v":5}]
[null,"UNHCR",{"$f":"INDEX(Organizations[],MATCH(Main3WData14[[#This Row],[Acronym]],AcronymList,0),1)","v":"Haut Commissariat des Nations Unies pour les réfugiés"},{"$f":"INDEX(Organizations[],MATCH(Main3WData14[[#This Row],[Acronym]],AcronymList,0),3)","v":"UN"},"Protection","Regulier","Gao",{"$f":"VLOOKUP(Main3WData14[[#This Row],[Admin Unit Name]],AdminUnits[],2,FALSE)","v":"ML07"},{"$f":"VLOOKUP(Main3WData14[[#This Row],[Admin Unit Name]],AdminUnits[],3,FALSE)","v":"Nord"},{"$f":"VLOOKUP(Main3WData14[[#This Row],[Admin Unit Name]],AdminUnits[],4,FALSE)","v":7},{"$f":"VLOOKUP(Main3WData14[[#This Row],[Sector]],Sectors[],2,FALSE)","v":5}]
[null,"UNHCR",{"$f":"INDEX(Organizations[],MATCH(Main3WData14[[#This Row],[Acronym]],AcronymList,0),1)","v":"Haut Commissariat des Nations Unies pour les réfugiés"},{"$f":"INDEX(Organizations[],MATCH(Main3WData14[[#This Row],[Acronym]],AcronymList,0),3)","v":"UN"},"Protection","Regulier","Segou",{"$f":"VLOOKUP(Main3WData14[[#This Row],[Admin Unit Name]],AdminUnits[],2,FALSE)","v":"ML04"},{"$f":"VLOOKUP(Main3WData14[[#This Row],[Admin Unit Name]],AdminUnits[],3,FALSE)","v":"Sud"},{"$f":"VLOOKUP(Main3WData14[[#This Row],[Admin Unit Name]],AdminUnits[],4,FALSE)","v":4},{"$f":"VLOOKUP(Main3WData14[[#This Row],[Sector]],Sectors[],2,FALSE)","v":5}]
[null,"UNHCR",{"$f":"INDEX(Organizations[],MATCH(Main3WData14[[#This Row],[Acronym]],AcronymList,0),1)","v":"Haut Commissariat des Nations Unies pour les réfugiés"},{"$f":"INDEX(Organizations[],MATCH(Main3WData14[[#This Row],[Acronym]],AcronymList,0),3)","v":"UN"},"Protection","Regulier","Bamako",{"$f":"VLOOKUP(Main3WData14[[#This Row],[Admin Unit Name]],AdminUnits[],2,FALSE)","v":"ML09"},{"$f":"VLOOKUP(Main3WData14[[#This Row],[Admin Unit Name]],AdminUnits[],3,FALSE)","v":"Sud"},{"$f":"VLOOKUP(Main3WData14[[#This Row],[Admin Unit Name]],AdminUnits[],4,FALSE)","v":0},{"$f":"VLOOKUP(Main3WData14[[#This Row],[Sector]],Sectors[],2,FALSE)","v":5}]
[null,"UNHCR",{"$f":"INDEX(Organizations[],MATCH(Main3WData14[[#This Row],[Acronym]],AcronymList,0),1)","v":"Haut Commissariat des Nations Unies pour les réfugiés"},{"$f":"INDEX(Organizations[],MATCH(Main3WData14[[#This Row],[Acronym]],AcronymList,0),3)","v":"UN"},"Coordination","Regulier","Bamako",{"$f":"VLOOKUP(Main3WData14[[#This Row],[Admin Unit Name]],AdminUnits[],2,FALSE)","v":"ML09"},{"$f":"VLOOKUP(Main3WData14[[#This Row],[Admin Unit Name]],AdminUnits[],3,FALSE)","v":"Sud"},{"$f":"VLOOKUP(Main3WData14[[#This Row],[Admin Unit Name]],AdminUnits[],4,FALSE)","v":0},{"$f":"VLOOKUP(Main3WData14[[#This Row],[Sector]],Sectors[],2,FALSE)","v":2}]
[null,"UNHCR",{"$f":"INDEX(Organizations[],MATCH(Main3WData14[[#This Row],[Acronym]],AcronymList,0),1)","v":"Haut Commissariat des Nations Unies pour les réfugiés"},{"$f":"INDEX(Organizations[],MATCH(Main3WData14[[#This Row],[Acronym]],AcronymList,0),3)","v":"UN"},"Abris et NFI","Regulier","Mopti",{"$f":"VLOOKUP(Main3WData14[[#This Row],[Admin Unit Name]],AdminUnits[],2,FALSE)","v":"ML05"},{"$f":"VLOOKUP(Main3WData14[[#This Row],[Admin Unit Name]],AdminUnits[],3,FALSE)","v":"Sud"},{"$f":"VLOOKUP(Main3WData14[[#This Row],[Admin Unit Name]],AdminUnits[],4,FALSE)","v":5},{"$f":"VLOOKUP(Main3WData14[[#This Row],[Sector]],Sectors[],2,FALSE)","v":1}]
[null,"UNHCR",{"$f":"INDEX(Organizations[],MATCH(Main3WData14[[#This Row],[Acronym]],AcronymList,0),1)","v":"Haut Commissariat des Nations Unies pour les réfugiés"},{"$f":"INDEX(Organizations[],MATCH(Main3WData14[[#This Row],[Acronym]],AcronymList,0),3)","v":"UN"},"Abris et NFI","Regulier","Segou",{"$f":"VLOOKUP(Main3WData14[[#This Row],[Admin Unit Name]],AdminUnits[],2,FALSE)","v":"ML04"},{"$f":"VLOOKUP(Main3WData14[[#This Row],[Admin Unit Name]],AdminUnits[],3,FALSE)","v":"Sud"},{"$f":"VLOOKUP(Main3WData14[[#This Row],[Admin Unit Name]],AdminUnits[],4,FALSE)","v":4},{"$f":"VLOOKUP(Main3WData14[[#This Row],[Sector]],Sectors[],2,FALSE)","v":1}]
[null,"UNHCR",{"$f":"INDEX(Organizations[],MATCH(Main3WData14[[#This Row],[Acronym]],AcronymList,0),1)","v":"Haut Commissariat des Nations Unies pour les réfugiés"},{"$f":"INDEX(Organizations[],MATCH(Main3WData14[[#This Row],[Acronym]],AcronymList,0),3)","v":"UN"},"Abris et NFI","Regulier","Bamako",{"$f":"VLOOKUP(Main3WData14[[#This Row],[Admin Unit Name]],AdminUnits[],2,FALSE)","v":"ML09"},{"$f":"VLOOKUP(Main3WData14[[#This Row],[Admin Unit Name]],AdminUnits[],3,FALSE)","v":"Sud"},{"$f":"VLOOKUP(Main3WData14[[#This Row],[Admin Unit Name]],AdminUnits[],4,FALSE)","v":0},{"$f":"VLOOKUP(Main3WData14[[#This Row],[Sector]],Sectors[],2,FALSE)","v":1}]
[null,"UNFPA",{"$f":"INDEX(Organizations[],MATCH(Main3WData14[[#This Row],[Acronym]],AcronymList,0),1)","v":"Fonds des Nations Unies pour la Population"},{"$f":"INDEX(Organizations[],MATCH(Main3WData14[[#This Row],[Acronym]],AcronymList,0),3)","v":"UN"},"Coordination","Regulier","Bamako",{"$f":"VLOOKUP(Main3WData14[[#This Row],[Admin Unit Name]],AdminUnits[],2,FALSE)","v":"ML09"},{"$f":"VLOOKUP(Main3WData14[[#This Row],[Admin Unit Name]],AdminUnits[],3,FALSE)","v":"Sud"},{"$f":"VLOOKUP(Main3WData14[[#This Row],[Admin Unit Name]],AdminUnits[],4,FALSE)","v":0},{"$f":"VLOOKUP(Main3WData14[[#This Row],[Sector]],Sectors[],2,FALSE)","v":2}]
[null,"Terre des Hommes Lausanne",{"$f":"INDEX(Organizations[],MATCH(Main3WData14[[#This Row],[Acronym]],AcronymList,0),1)","v":{"$error":"#N/A"}},{"$f":"INDEX(Organizations[],MATCH(Main3WData14[[#This Row],[Acronym]],AcronymList,0),3)","v":{"$error":"#N/A"}},"Protection","Regulier","Segou",{"$f":"VLOOKUP(Main3WData14[[#This Row],[Admin Unit Name]],AdminUnits[],2,FALSE)","v":"ML04"},{"$f":"VLOOKUP(Main3WData14[[#This Row],[Admin Unit Name]],AdminUnits[],3,FALSE)","v":"Sud"},{"$f":"VLOOKUP(Main3WData14[[#This Row],[Admin Unit Name]],AdminUnits[],4,FALSE)","v":4},{"$f":"VLOOKUP(Main3WData14[[#This Row],[Sector]],Sectors[],2,FALSE)","v":5}]
[null,"Terre des Hommes Lausanne",{"$f":"INDEX(Organizations[],MATCH(Main3WData14[[#This Row],[Acronym]],AcronymList,0),1)","v":{"$error":"#N/A"}},{"$f":"INDEX(Organizations[],MATCH(Main3WData14[[#This Row],[Acronym]],AcronymList,0),3)","v":{"$error":"#N/A"}},"Nutrition","Regulier","Segou",{"$f":"VLOOKUP(Main3WData14[[#This Row],[Admin Unit Name]],AdminUnits[],2,FALSE)","v":"ML04"},{"$f":"VLOOKUP(Main3WData14[[#This Row],[Admin Unit Name]],AdminUnits[],3,FALSE)","v":"Sud"},{"$f":"VLOOKUP(Main3WData14[[#This Row],[Admin Unit Name]],AdminUnits[],4,FALSE)","v":4},{"$f":"VLOOKUP(Main3WData14[[#This Row],[Sector]],Sectors[],2,FALSE)","v":4}]
[null,"Terre des Hommes Lausanne",{"$f":"INDEX(Organizations[],MATCH(Main3WData14[[#This Row],[Acronym]],AcronymList,0),1)","v":{"$error":"#N/A"}},{"$f":"INDEX(Organizations[],MATCH(Main3WData14[[#This Row],[Acronym]],AcronymList,0),3)","v":{"$error":"#N/A"}},"EHA","Regulier","SEGOU",{"$f":"VLOOKUP(Main3WData14[[#This Row],[Admin Unit Name]],AdminUnits[],2,FALSE)","v":"ML04"},{"$f":"VLOOKUP(Main3WData14[[#This Row],[Admin Unit Name]],AdminUnits[],3,FALSE)","v":"Sud"},{"$f":"VLOOKUP(Main3WData14[[#This Row],[Admin Unit Name]],AdminUnits[],4,FALSE)","v":4},{"$f":"VLOOKUP(Main3WData14[[#This Row],[Sector]],Sectors[],2,FALSE)","v":8}]
[null,"Tassaght",{"$f":"INDEX(Organizations[],MATCH(Main3WData14[[#This Row],[Acronym]],AcronymList,0),1)","v":"Tassaght"},{"$f":"INDEX(Organizations[],MATCH(Main3WData14[[#This Row],[Acronym]],AcronymList,0),3)","v":"ONG Nat."},"Sécurité alimentaire","Regulier","Gao",{"$f":"VLOOKUP(Main3WData14[[#This Row],[Admin Unit Name]],AdminUnits[],2,FALSE)","v":"ML07"},{"$f":"VLOOKUP(Main3WData14[[#This Row],[Admin Unit Name]],AdminUnits[],3,FALSE)","v":"Nord"},{"$f":"VLOOKUP(Main3WData14[[#This Row],[Admin Unit Name]],AdminUnits[],4,FALSE)","v":7},{"$f":"VLOOKUP(Main3WData14[[#This Row],[Sector]],Sectors[],2,FALSE)","v":7}]
[null,"Tagne",{"$f":"INDEX(Organizations[],MATCH(Main3WData14[[#This Row],[Acronym]],AcronymList,0),1)","v":"Tagne"},{"$f":"INDEX(Organizations[],MATCH(Main3WData14[[#This Row],[Acronym]],AcronymList,0),3)","v":"ONG Nat."},"Protection","Regulier","Koulikoro",{"$f":"VLOOKUP(Main3WData14[[#This Row],[Admin Unit Name]],AdminUnits[],2,FALSE)","v":"ML02"},{"$f":"VLOOKUP(Main3WData14[[#This Row],[Admin Unit Name]],AdminUnits[],3,FALSE)","v":"Sud"},{"$f":"VLOOKUP(Main3WData14[[#This Row],[Admin Unit Name]],AdminUnits[],4,FALSE)","v":2},{"$f":"VLOOKUP(Main3WData14[[#This Row],[Sector]],Sectors[],2,FALSE)","v":5}]
[null,"Stop Sahel ",{"$f":"INDEX(Organizations[],MATCH(Main3WData14[[#This Row],[Acronym]],AcronymList,0),1)","v":{"$error":"#N/A"}},{"$f":"INDEX(Organizations[],MATCH(Main3WData14[[#This Row],[Acronym]],AcronymList,0),3)","v":{"$error":"#N/A"}},"Sécurité alimentaire","Regulier","Kayes",{"$f":"VLOOKUP(Main3WData14[[#This Row],[Admin Unit Name]],AdminUnits[],2,FALSE)","v":"ML01"},{"$f":"VLOOKUP(Main3WData14[[#This Row],[Admin Unit Name]],AdminUnits[],3,FALSE)","v":"Sud"},{"$f":"VLOOKUP(Main3WData14[[#This Row],[Admin Unit Name]],AdminUnits[],4,FALSE)","v":1},{"$f":"VLOOKUP(Main3WData14[[#This Row],[Sector]],Sectors[],2,FALSE)","v":7}]
[null,"SOS ATTITUDE",{"$f":"INDEX(Organizations[],MATCH(Main3WData14[[#This Row],[Acronym]],AcronymList,0),1)","v":"SOS ATTITUDE"},{"$f":"INDEX(Organizations[],MATCH(Main3WData14[[#This Row],[Acronym]],AcronymList,0),3)","v":"ONG Int."},"Abris et NFI","Regulier","Mopti",{"$f":"VLOOKUP(Main3WData14[[#This Row],[Admin Unit Name]],AdminUnits[],2,FALSE)","v":"ML05"},{"$f":"VLOOKUP(Main3WData14[[#This Row],[Admin Unit Name]],AdminUnits[],3,FALSE)","v":"Sud"},{"$f":"VLOOKUP(Main3WData14[[#This Row],[Admin Unit Name]],AdminUnits[],4,FALSE)","v":5},{"$f":"VLOOKUP(Main3WData14[[#This Row],[Sector]],Sectors[],2,FALSE)","v":1}]
[null,"SOS ATTITUDE",{"$f":"INDEX(Organizations[],MATCH(Main3WData14[[#This Row],[Acronym]],AcronymList,0),1)","v":"SOS ATTITUDE"},{"$f":"INDEX(Organizations[],MATCH(Main3WData14[[#This Row],[Acronym]],AcronymList,0),3)","v":"ONG Int."},"Abris et NFI","Regulier","Kidal",{"$f":"VLOOKUP(Main3WData14[[#This Row],[Admin Unit Name]],AdminUnits[],2,FALSE)","v":"ML08"},{"$f":"VLOOKUP(Main3WData14[[#This Row],[Admin Unit Name]],AdminUnits[],3,FALSE)","v":"Nord"},{"$f":"VLOOKUP(Main3WData14[[#This Row],[Admin Unit Name]],AdminUnits[],4,FALSE)","v":8},{"$f":"VLOOKUP(Main3WData14[[#This Row],[Sector]],Sectors[],2,FALSE)","v":1}]
[null,"Solidarité internationale",{"$f":"INDEX(Organizations[],MATCH(Main3WData14[[#This Row],[Acronym]],AcronymList,0),1)","v":{"$error":"#N/A"}},{"$f":"INDEX(Organizations[],MATCH(Main3WData14[[#This Row],[Acronym]],AcronymList,0),3)","v":{"$error":"#N/A"}},"Sécurité alimentaire","Regulier","Tombouctou",{"$f":"VLOOKUP(Main3WData14[[#This Row],[Admin Unit Name]],AdminUnits[],2,FALSE)","v":"ML06"},{"$f":"VLOOKUP(Main3WData14[[#This Row],[Admin Unit Name]],AdminUnits[],3,FALSE)","v":"Nord"},{"$f":"VLOOKUP(Main3WData14[[#This Row],[Admin Unit Name]],AdminUnits[],4,FALSE)","v":6},{"$f":"VLOOKUP(Main3WData14[[#This Row],[Sector]],Sectors[],2,FALSE)","v":7}]
[null,"Solidarité internationale",{"$f":"INDEX(Organizations[],MATCH(Main3WData14[[#This Row],[Acronym]],AcronymList,0),1)","v":{"$error":"#N/A"}},{"$f":"INDEX(Organizations[],MATCH(Main3WData14[[#This Row],[Acronym]],AcronymList,0),3)","v":{"$error":"#N/A"}},"Protection","Regulier","Kidal",{"$f":"VLOOKUP(Main3WData14[[#This Row],[Admin Unit Name]],AdminUnits[],2,FALSE)","v":"ML08"},{"$f":"VLOOKUP(Main3WData14[[#This Row],[Admin Unit Name]],AdminUnits[],3,FALSE)","v":"Nord"},{"$f":"VLOOKUP(Main3WData14[[#This Row],[Admin Unit Name]],AdminUnits[],4,FALSE)","v":8},{"$f":"VLOOKUP(Main3WData14[[#This Row],[Sector]],Sectors[],2,FALSE)","v":5}]
[null,"Solidarité internationale",{"$f":"INDEX(Organizations[],MATCH(Main3WData14[[#This Row],[Acronym]],AcronymList,0),1)","v":{"$error":"#N/A"}},{"$f":"INDEX(Organizations[],MATCH(Main3WData14[[#This Row],[Acronym]],AcronymList,0),3)","v":{"$error":"#N/A"}},"EHA","Regulier","GAO",{"$f":"VLOOKUP(Main3WData14[[#This Row],[Admin Unit Name]],AdminUnits[],2,FALSE)","v":"ML07"},{"$f":"VLOOKUP(Main3WData14[[#This Row],[Admin Unit Name]],AdminUnits[],3,FALSE)","v":"Nord"},{"$f":"VLOOKUP(Main3WData14[[#This Row],[Admin Unit Name]],AdminUnits[],4,FALSE)","v":7},{"$f":"VLOOKUP(Main3WData14[[#This Row],[Sector]],Sectors[],2,FALSE)","v":8}]
[null,"Solidarité internationale",{"$f":"INDEX(Organizations[],MATCH(Main3WData14[[#This Row],[Acronym]],AcronymList,0),1)","v":{"$error":"#N/A"}},{"$f":"INDEX(Organizations[],MATCH(Main3WData14[[#This Row],[Acronym]],AcronymList,0),3)","v":{"$error":"#N/A"}},"EHA","Regulier","KIDAL",{"$f":"VLOOKUP(Main3WData14[[#This Row],[Admin Unit Name]],AdminUnits[],2,FALSE)","v":"ML08"},{"$f":"VLOOKUP(Main3WData14[[#This Row],[Admin Unit Name]],AdminUnits[],3,FALSE)","v":"Nord"},{"$f":"VLOOKUP(Main3WData14[[#This Row],[Admin Unit Name]],AdminUnits[],4,FALSE)","v":8},{"$f":"VLOOKUP(Main3WData14[[#This Row],[Sector]],Sectors[],2,FALSE)","v":8}]
[null,"Solidarité internationale",{"$f":"INDEX(Organizations[],MATCH(Main3WData14[[#This Row],[Acronym]],AcronymList,0),1)","v":{"$error":"#N/A"}},{"$f":"INDEX(Organizations[],MATCH(Main3WData14[[#This Row],[Acronym]],AcronymList,0),3)","v":{"$error":"#N/A"}},"EHA","Regulier","MOPTI",{"$f":"VLOOKUP(Main3WData14[[#This Row],[Admin Unit Name]],AdminUnits[],2,FALSE)","v":"ML05"},{"$f":"VLOOKUP(Main3WData14[[#This Row],[Admin Unit Name]],AdminUnits[],3,FALSE)","v":"Sud"},{"$f":"VLOOKUP(Main3WData14[[#This Row],[Admin Unit Name]],AdminUnits[],4,FALSE)","v":5},{"$f":"VLOOKUP(Main3WData14[[#This Row],[Sector]],Sectors[],2,FALSE)","v":8}]
[null,"Solidarité internationale",{"$f":"INDEX(Organizations[],MATCH(Main3WData14[[#This Row],[Acronym]],AcronymList,0),1)","v":{"$error":"#N/A"}},{"$f":"INDEX(Organizations[],MATCH(Main3WData14[[#This Row],[Acronym]],AcronymList,0),3)","v":{"$error":"#N/A"}},"EHA","Regulier","TOMBOUCTOU",{"$f":"VLOOKUP(Main3WData14[[#This Row],[Admin Unit Name]],AdminUnits[],2,FALSE)","v":"ML06"},{"$f":"VLOOKUP(Main3WData14[[#This Row],[Admin Unit Name]],AdminUnits[],3,FALSE)","v":"Nord"},{"$f":"VLOOKUP(Main3WData14[[#This Row],[Admin Unit Name]],AdminUnits[],4,FALSE)","v":6},{"$f":"VLOOKUP(Main3WData14[[#This Row],[Sector]],Sectors[],2,FALSE)","v":8}]
[null,"SNV",{"$f":"INDEX(Organizations[],MATCH(Main3WData14[[#This Row],[Acronym]],AcronymList,0),1)","v":"Organisation Néerlandaise de Développement - Mali"},{"$f":"INDEX(Organizations[],MATCH(Main3WData14[[#This Row],[Acronym]],AcronymList,0),3)","v":"ONG Int."},"EHA","Regulier","Koulikoro",{"$f":"VLOOKUP(Main3WData14[[#This Row],[Admin Unit Name]],AdminUnits[],2,FALSE)","v":"ML02"},{"$f":"VLOOKUP(Main3WData14[[#This Row],[Admin Unit Name]],AdminUnits[],3,FALSE)","v":"Sud"},{"$f":"VLOOKUP(Main3WData14[[#This Row],[Admin Unit Name]],AdminUnits[],4,FALSE)","v":2},{"$f":"VLOOKUP(Main3WData14[[#This Row],[Sector]],Sectors[],2,FALSE)","v":8}]
[null,"SNV",{"$f":"INDEX(Organizations[],MATCH(Main3WData14[[#This Row],[Acronym]],AcronymList,0),1)","v":"Organisation Néerlandaise de Développement - Mali"},{"$f":"INDEX(Organizations[],MATCH(Main3WData14[[#This Row],[Acronym]],AcronymList,0),3)","v":"ONG Int."},"EHA","Regulier","SIKASSO",{"$f":"VLOOKUP(Main3WData14[[#This Row],[Admin Unit Name]],AdminUnits[],2,FALSE)","v":"ML03"},{"$f":"VLOOKUP(Main3WData14[[#This Row],[Admin Unit Name]],AdminUnits[],3,FALSE)","v":"Sud"},{"$f":"VLOOKUP(Main3WData14[[#This Row],[Admin Unit Name]],AdminUnits[],4,FALSE)","v":3},{"$f":"VLOOKUP(Main3WData14[[#This Row],[Sector]],Sectors[],2,FALSE)","v":8}]
[null,"SNV",{"$f":"INDEX(Organizations[],MATCH(Main3WData14[[#This Row],[Acronym]],AcronymList,0),1)","v":"Organisation Néerlandaise de Développement - Mali"},{"$f":"INDEX(Organizations[],MATCH(Main3WData14[[#This Row],[Acronym]],AcronymList,0),3)","v":"ONG Int."},"EHA","Regulier","BAMAKO",{"$f":"VLOOKUP(Main3WData14[[#This Row],[Admin Unit Name]],AdminUnits[],2,FALSE)","v":"ML09"},{"$f":"VLOOKUP(Main3WData14[[#This Row],[Admin Unit Name]],AdminUnits[],3,FALSE)","v":"Sud"},{"$f":"VLOOKUP(Main3WData14[[#This Row],[Admin Unit Name]],AdminUnits[],4,FALSE)","v":0},{"$f":"VLOOKUP(Main3WData14[[#This Row],[Sector]],Sectors[],2,FALSE)","v":8}]
[null,"SMARA",{"$f":"INDEX(Organizations[],MATCH(Main3WData14[[#This Row],[Acronym]],AcronymList,0),1)","v":"SMARA"},{"$f":"INDEX(Organizations[],MATCH(Main3WData14[[#This Row],[Acronym]],AcronymList,0),3)","v":"ONG Int."},"Santé","Regulier","TOMBOUCTOU",{"$f":"VLOOKUP(Main3WData14[[#This Row],[Admin Unit Name]],AdminUnits[],2,FALSE)","v":"ML06"},{"$f":"VLOOKUP(Main3WData14[[#This Row],[Admin Unit Name]],AdminUnits[],3,FALSE)","v":"Nord"},{"$f":"VLOOKUP(Main3WData14[[#This Row],[Admin Unit Name]],AdminUnits[],4,FALSE)","v":6},{"$f":"VLOOKUP(Main3WData14[[#This Row],[Sector]],Sectors[],2,FALSE)","v":6}]
[null,"Secours Islamique",{"$f":"INDEX(Organizations[],MATCH(Main3WData14[[#This Row],[Acronym]],AcronymList,0),1)","v":"Secours Islamique"},{"$f":"INDEX(Organizations[],MATCH(Main3WData14[[#This Row],[Acronym]],AcronymList,0),3)","v":"ONG Int."},"Protection","Regulier","Bamako",{"$f":"VLOOKUP(Main3WData14[[#This Row],[Admin Unit Name]],AdminUnits[],2,FALSE)","v":"ML09"},{"$f":"VLOOKUP(Main3WData14[[#This Row],[Admin Unit Name]],AdminUnits[],3,FALSE)","v":"Sud"},{"$f":"VLOOKUP(Main3WData14[[#This Row],[Admin Unit Name]],AdminUnits[],4,FALSE)","v":0},{"$f":"VLOOKUP(Main3WData14[[#This Row],[Sector]],Sectors[],2,FALSE)","v":5}]
[null,"Secours Islamique",{"$f":"INDEX(Organizations[],MATCH(Main3WData14[[#This Row],[Acronym]],AcronymList,0),1)","v":"Secours Islamique"},{"$f":"INDEX(Organizations[],MATCH(Main3WData14[[#This Row],[Acronym]],AcronymList,0),3)","v":"ONG Int."},"Protection","Regulier","Koulikoro",{"$f":"VLOOKUP(Main3WData14[[#This Row],[Admin Unit Name]],AdminUnits[],2,FALSE)","v":"ML02"},{"$f":"VLOOKUP(Main3WData14[[#This Row],[Admin Unit Name]],AdminUnits[],3,FALSE)","v":"Sud"},{"$f":"VLOOKUP(Main3WData14[[#This Row],[Admin Unit Name]],AdminUnits[],4,FALSE)","v":2},{"$f":"VLOOKUP(Main3WData14[[#This Row],[Sector]],Sectors[],2,FALSE)","v":5}]
[null,"SEAD",{"$f":"INDEX(Organizations[],MATCH(Main3WData14[[#This Row],[Acronym]],AcronymList,0),1)","v":"Sahel Etudes Actions pour le Développement"},{"$f":"INDEX(Organizations[],MATCH(Main3WData14[[#This Row],[Acronym]],AcronymList,0),3)","v":"ONG Nat."},"Protection","Regulier","Gao",{"$f":"VLOOKUP(Main3WData14[[#This Row],[Admin Unit Name]],AdminUnits[],2,FALSE)","v":"ML07"},{"$f":"VLOOKUP(Main3WData14[[#This Row],[Admin Unit Name]],AdminUnits[],3,FALSE)","v":"Nord"},{"$f":"VLOOKUP(Main3WData14[[#This Row],[Admin Unit Name]],AdminUnits[],4,FALSE)","v":7},{"$f":"VLOOKUP(Main3WData14[[#This Row],[Sector]],Sectors[],2,FALSE)","v":5}]
[null,"Save the children",{"$f":"INDEX(Organizations[],MATCH(Main3WData14[[#This Row],[Acronym]],AcronymList,0),1)","v":"Save the Children"},{"$f":"INDEX(Organizations[],MATCH(Main3WData14[[#This Row],[Acronym]],AcronymList,0),3)","v":"ONG Int."},"Sécurité alimentaire","Regulier","Kayes",{"$f":"VLOOKUP(Main3WData14[[#This Row],[Admin Unit Name]],AdminUnits[],2,FALSE)","v":"ML01"},{"$f":"VLOOKUP(Main3WData14[[#This Row],[Admin Unit Name]],AdminUnits[],3,FALSE)","v":"Sud"},{"$f":"VLOOKUP(Main3WData14[[#This Row],[Admin Unit Name]],AdminUnits[],4,FALSE)","v":1},{"$f":"VLOOKUP(Main3WData14[[#This Row],[Sector]],Sectors[],2,FALSE)","v":7}]
[null,"Save the Children",{"$f":"INDEX(Organizations[],MATCH(Main3WData14[[#This Row],[Acronym]],AcronymList,0),1)","v":"Save the Children"},{"$f":"INDEX(Organizations[],MATCH(Main3WData14[[#This Row],[Acronym]],AcronymList,0),3)","v":"ONG Int."},"Sécurité alimentaire","Regulier","Sikasso",{"$f":"VLOOKUP(Main3WData14[[#This Row],[Admin Unit Name]],AdminUnits[],2,FALSE)","v":"ML03"},{"$f":"VLOOKUP(Main3WData14[[#This Row],[Admin Unit Name]],AdminUnits[],3,FALSE)","v":"Sud"},{"$f":"VLOOKUP(Main3WData14[[#This Row],[Admin Unit Name]],AdminUnits[],4,FALSE)","v":3},{"$f":"VLOOKUP(Main3WData14[[#This Row],[Sector]],Sectors[],2,FALSE)","v":7}]
[null,"Save the Children",{"$f":"INDEX(Organizations[],MATCH(Main3WData14[[#This Row],[Acronym]],AcronymList,0),1)","v":"Save the Children"},{"$f":"INDEX(Organizations[],MATCH(Main3WData14[[#This Row],[Acronym]],AcronymList,0),3)","v":"ONG Int."},"Santé","Regulier","Gao",{"$f":"VLOOKUP(Main3WData14[[#This Row],[Admin Unit Name]],AdminUnits[],2,FALSE)","v":"ML07"},{"$f":"VLOOKUP(Main3WData14[[#This Row],[Admin Unit Name]],AdminUnits[],3,FALSE)","v":"Nord"},{"$f":"VLOOKUP(Main3WData14[[#This Row],[Admin Unit Name]],AdminUnits[],4,FALSE)","v":7},{"$f":"VLOOKUP(Main3WData14[[#This Row],[Sector]],Sectors[],2,FALSE)","v":6}]
[null,"SAVE THE CHILDREN",{"$f":"INDEX(Organizations[],MATCH(Main3WData14[[#This Row],[Acronym]],AcronymList,0),1)","v":"Save the Children"},{"$f":"INDEX(Organizations[],MATCH(Main3WData14[[#This Row],[Acronym]],AcronymList,0),3)","v":"ONG Int."},"Protection","Regulier","Mopti",{"$f":"VLOOKUP(Main3WData14[[#This Row],[Admin Unit Name]],AdminUnits[],2,FALSE)","v":"ML05"},{"$f":"VLOOKUP(Main3WData14[[#This Row],[Admin Unit Name]],AdminUnits[],3,FALSE)","v":"Sud"},{"$f":"VLOOKUP(Main3WData14[[#This Row],[Admin Unit Name]],AdminUnits[],4,FALSE)","v":5},{"$f":"VLOOKUP(Main3WData14[[#This Row],[Sector]],Sectors[],2,FALSE)","v":5}]
[null,"SAVE THE CHILDREN",{"$f":"INDEX(Organizations[],MATCH(Main3WData14[[#This Row],[Acronym]],AcronymList,0),1)","v":"Save the Children"},{"$f":"INDEX(Organizations[],MATCH(Main3WData14[[#This Row],[Acronym]],AcronymList,0),3)","v":"ONG Int."},"Protection","Regulier","Sikasso",{"$f":"VLOOKUP(Main3WData14[[#This Row],[Admin Unit Name]],AdminUnits[],2,FALSE)","v":"ML03"},{"$f":"VLOOKUP(Main3WData14[[#This Row],[Admin Unit Name]],AdminUnits[],3,FALSE)","v":"Sud"},{"$f":"VLOOKUP(Main3WData14[[#This Row],[Admin Unit Name]],AdminUnits[],4,FALSE)","v":3},{"$f":"VLOOKUP(Main3WData14[[#This Row],[Sector]],Sectors[],2,FALSE)","v":5}]
[null,"SAVE THE CHILDREN",{"$f":"INDEX(Organizations[],MATCH(Main3WData14[[#This Row],[Acronym]],AcronymList,0),1)","v":"Save the Children"},{"$f":"INDEX(Organizations[],MATCH(Main3WData14[[#This Row],[Acronym]],AcronymList,0),3)","v":"ONG Int."},"Protection","Regulier","Kayes",{"$f":"VLOOKUP(Main3WData14[[#This Row],[Admin Unit Name]],AdminUnits[],2,FALSE)","v":"ML01"},{"$f":"VLOOKUP(Main3WData14[[#This Row],[Admin Unit Name]],AdminUnits[],3,FALSE)","v":"Sud"},{"$f":"VLOOKUP(Main3WData14[[#This Row],[Admin Unit Name]],AdminUnits[],4,FALSE)","v":1},{"$f":"VLOOKUP(Main3WData14[[#This Row],[Sector]],Sectors[],2,FALSE)","v":5}]
[null,"SAVE THE CHILDREN",{"$f":"INDEX(Organizations[],MATCH(Main3WData14[[#This Row],[Acronym]],AcronymList,0),1)","v":"Save the Children"},{"$f":"INDEX(Organizations[],MATCH(Main3WData14[[#This Row],[Acronym]],AcronymList,0),3)","v":"ONG Int."},"Protection","Regulier","Segou",{"$f":"VLOOKUP(Main3WData14[[#This Row],[Admin Unit Name]],AdminUnits[],2,FALSE)","v":"ML04"},{"$f":"VLOOKUP(Main3WData14[[#This Row],[Admin Unit Name]],AdminUnits[],3,FALSE)","v":"Sud"},{"$f":"VLOOKUP(Main3WData14[[#This Row],[Admin Unit Name]],AdminUnits[],4,FALSE)","v":4},{"$f":"VLOOKUP(Main3WData14[[#This Row],[Sector]],Sectors[],2,FALSE)","v":5}]
[null,"Save The Children",{"$f":"INDEX(Organizations[],MATCH(Main3WData14[[#This Row],[Acronym]],AcronymList,0),1)","v":"Save the Children"},{"$f":"INDEX(Organizations[],MATCH(Main3WData14[[#This Row],[Acronym]],AcronymList,0),3)","v":"ONG Int."},"Nutrition","Regulier","Gao",{"$f":"VLOOKUP(Main3WData14[[#This Row],[Admin Unit Name]],AdminUnits[],2,FALSE)","v":"ML07"},{"$f":"VLOOKUP(Main3WData14[[#This Row],[Admin Unit Name]],AdminUnits[],3,FALSE)","v":"Nord"},{"$f":"VLOOKUP(Main3WData14[[#This Row],[Admin Unit Name]],AdminUnits[],4,FALSE)","v":7},{"$f":"VLOOKUP(Main3WData14[[#This Row],[Sector]],Sectors[],2,FALSE)","v":4}]
[null,"Save the Children",{"$f":"INDEX(Organizations[],MATCH(Main3WData14[[#This Row],[Acronym]],AcronymList,0),1)","v":"Save the Children"},{"$f":"INDEX(Organizations[],MATCH(Main3WData14[[#This Row],[Acronym]],AcronymList,0),3)","v":"ONG Int."},"Nutrition","Regulier","Mopti",{"$f":"VLOOKUP(Main3WData14[[#This Row],[Admin Unit Name]],AdminUnits[],2,FALSE)","v":"ML05"},{"$f":"VLOOKUP(Main3WData14[[#This Row],[Admin Unit Name]],AdminUnits[],3,FALSE)","v":"Sud"},{"$f":"VLOOKUP(Main3WData14[[#This Row],[Admin Unit Name]],AdminUnits[],4,FALSE)","v":5},{"$f":"VLOOKUP(Main3WData14[[#This Row],[Sector]],Sectors[],2,FALSE)","v":4}]
[null,"Save the Children",{"$f":"INDEX(Organizations[],MATCH(Main3WData14[[#This Row],[Acronym]],AcronymList,0),1)","v":"Save the Children"},{"$f":"INDEX(Organizations[],MATCH(Main3WData14[[#This Row],[Acronym]],AcronymList,0),3)","v":"ONG Int."},"Nutrition","Regulier","Sikasso",{"$f":"VLOOKUP(Main3WData14[[#This Row],[Admin Unit Name]],AdminUnits[],2,FALSE)","v":"ML03"},{"$f":"VLOOKUP(Main3WData14[[#This Row],[Admin Unit Name]],AdminUnits[],3,FALSE)","v":"Sud"},{"$f":"VLOOKUP(Main3WData14[[#This Row],[Admin Unit Name]],AdminUnits[],4,FALSE)","v":3},{"$f":"VLOOKUP(Main3WData14[[#This Row],[Sector]],Sectors[],2,FALSE)","v":4}]
[null,"Save the Children",{"$f":"INDEX(Organizations[],MATCH(Main3WData14[[#This Row],[Acronym]],AcronymList,0),1)","v":"Save the Children"},{"$f":"INDEX(Organizations[],MATCH(Main3WData14[[#This Row],[Acronym]],AcronymList,0),3)","v":"ONG Int."},"EHA","Regulier","GAO",{"$f":"VLOOKUP(Main3WData14[[#This Row],[Admin Unit Name]],AdminUnits[],2,FALSE)","v":"ML07"},{"$f":"VLOOKUP(Main3WData14[[#This Row],[Admin Unit Name]],AdminUnits[],3,FALSE)","v":"Nord"},{"$f":"VLOOKUP(Main3WData14[[#This Row],[Admin Unit Name]],AdminUnits[],4,FALSE)","v":7},{"$f":"VLOOKUP(Main3WData14[[#This Row],[Sector]],Sectors[],2,FALSE)","v":8}]
[null,"Save the Children",{"$f":"INDEX(Organizations[],MATCH(Main3WData14[[#This Row],[Acronym]],AcronymList,0),1)","v":"Save the Children"},{"$f":"INDEX(Organizations[],MATCH(Main3WData14[[#This Row],[Acronym]],AcronymList,0),3)","v":"ONG Int."},"EHA","Regulier","KAYES",{"$f":"VLOOKUP(Main3WData14[[#This Row],[Admin Unit Name]],AdminUnits[],2,FALSE)","v":"ML01"},{"$f":"VLOOKUP(Main3WData14[[#This Row],[Admin Unit Name]],AdminUnits[],3,FALSE)","v":"Sud"},{"$f":"VLOOKUP(Main3WData14[[#This Row],[Admin Unit Name]],AdminUnits[],4,FALSE)","v":1},{"$f":"VLOOKUP(Main3WData14[[#This Row],[Sector]],Sectors[],2,FALSE)","v":8}]
[null,"Save the Children",{"$f":"INDEX(Organizations[],MATCH(Main3WData14[[#This Row],[Acronym]],AcronymList,0),1)","v":"Save the Children"},{"$f":"INDEX(Organizations[],MATCH(Main3WData14[[#This Row],[Acronym]],AcronymList,0),3)","v":"ONG Int."},"EHA","Regulier","MOPTI",{"$f":"VLOOKUP(Main3WData14[[#This Row],[Admin Unit Name]],AdminUnits[],2,FALSE)","v":"ML05"},{"$f":"VLOOKUP(Main3WData14[[#This Row],[Admin Unit Name]],AdminUnits[],3,FALSE)","v":"Sud"},{"$f":"VLOOKUP(Main3WData14[[#This Row],[Admin Unit Name]],AdminUnits[],4,FALSE)","v":5},{"$f":"VLOOKUP(Main3WData14[[#This Row],[Sector]],Sectors[],2,FALSE)","v":8}]
[null,"Save the Children",{"$f":"INDEX(Organizations[],MATCH(Main3WData14[[#This Row],[Acronym]],AcronymList,0),1)","v":"Save the Children"},{"$f":"INDEX(Organizations[],MATCH(Main3WData14[[#This Row],[Acronym]],AcronymList,0),3)","v":"ONG Int."},"Education","Regulier","Segou",{"$f":"VLOOKUP(Main3WData14[[#This Row],[Admin Unit Name]],AdminUnits[],2,FALSE)","v":"ML04"},{"$f":"VLOOKUP(Main3WData14[[#This Row],[Admin Unit Name]],AdminUnits[],3,FALSE)","v":"Sud"},{"$f":"VLOOKUP(Main3WData14[[#This Row],[Admin Unit Name]],AdminUnits[],4,FALSE)","v":4},{"$f":"VLOOKUP(Main3WData14[[#This Row],[Sector]],Sectors[],2,FALSE)","v":3}]
[null,"Save the Children",{"$f":"INDEX(Organizations[],MATCH(Main3WData14[[#This Row],[Acronym]],AcronymList,0),1)","v":"Save the Children"},{"$f":"INDEX(Organizations[],MATCH(Main3WData14[[#This Row],[Acronym]],AcronymList,0),3)","v":"ONG Int."},"Education","Regulier","Mopti",{"$f":"VLOOKUP(Main3WData14[[#This Row],[Admin Unit Name]],AdminUnits[],2,FALSE)","v":"ML05"},{"$f":"VLOOKUP(Main3WData14[[#This Row],[Admin Unit Name]],AdminUnits[],3,FALSE)","v":"Sud"},{"$f":"VLOOKUP(Main3WData14[[#This Row],[Admin Unit Name]],AdminUnits[],4,FALSE)","v":5},{"$f":"VLOOKUP(Main3WData14[[#This Row],[Sector]],Sectors[],2,FALSE)","v":3}]
[null,"Save the Children",{"$f":"INDEX(Organizations[],MATCH(Main3WData14[[#This Row],[Acronym]],AcronymList,0),1)","v":"Save the Children"},{"$f":"INDEX(Organizations[],MATCH(Main3WData14[[#This Row],[Acronym]],AcronymList,0),3)","v":"ONG Int."},"Education","Regulier","Gao",{"$f":"VLOOKUP(Main3WData14[[#This Row],[Admin Unit Name]],AdminUnits[],2,FALSE)","v":"ML07"},{"$f":"VLOOKUP(Main3WData14[[#This Row],[Admin Unit Name]],AdminUnits[],3,FALSE)","v":"Nord"},{"$f":"VLOOKUP(Main3WData14[[#This Row],[Admin Unit Name]],AdminUnits[],4,FALSE)","v":7},{"$f":"VLOOKUP(Main3WData14[[#This Row],[Sector]],Sectors[],2,FALSE)","v":3}]
[null,"Save the Children",{"$f":"INDEX(Organizations[],MATCH(Main3WData14[[#This Row],[Acronym]],AcronymList,0),1)","v":"Save the Children"},{"$f":"INDEX(Organizations[],MATCH(Main3WData14[[#This Row],[Acronym]],AcronymList,0),3)","v":"ONG Int."},"Education","Regulier","Kayes",{"$f":"VLOOKUP(Main3WData14[[#This Row],[Admin Unit Name]],AdminUnits[],2,FALSE)","v":"ML01"},{"$f":"VLOOKUP(Main3WData14[[#This Row],[Admin Unit Name]],AdminUnits[],3,FALSE)","v":"Sud"},{"$f":"VLOOKUP(Main3WData14[[#This Row],[Admin Unit Name]],AdminUnits[],4,FALSE)","v":1},{"$f":"VLOOKUP(Main3WData14[[#This Row],[Sector]],Sectors[],2,FALSE)","v":3}]
[null,"Save the Children",{"$f":"INDEX(Organizations[],MATCH(Main3WData14[[#This Row],[Acronym]],AcronymList,0),1)","v":"Save the Children"},{"$f":"INDEX(Organizations[],MATCH(Main3WData14[[#This Row],[Acronym]],AcronymList,0),3)","v":"ONG Int."},"Education","Regulier","Bamako",{"$f":"VLOOKUP(Main3WData14[[#This Row],[Admin Unit Name]],AdminUnits[],2,FALSE)","v":"ML09"},{"$f":"VLOOKUP(Main3WData14[[#This Row],[Admin Unit Name]],AdminUnits[],3,FALSE)","v":"Sud"},{"$f":"VLOOKUP(Main3WData14[[#This Row],[Admin Unit Name]],AdminUnits[],4,FALSE)","v":0},{"$f":"VLOOKUP(Main3WData14[[#This Row],[Sector]],Sectors[],2,FALSE)","v":3}]
[null,"Santé Diabète",{"$f":"INDEX(Organizations[],MATCH(Main3WData14[[#This Row],[Acronym]],AcronymList,0),1)","v":"Santé Diabète"},{"$f":"INDEX(Organizations[],MATCH(Main3WData14[[#This Row],[Acronym]],AcronymList,0),3)","v":"ONG Nat."},"Santé","Regulier","Mopti",{"$f":"VLOOKUP(Main3WData14[[#This Row],[Admin Unit Name]],AdminUnits[],2,FALSE)","v":"ML05"},{"$f":"VLOOKUP(Main3WData14[[#This Row],[Admin Unit Name]],AdminUnits[],3,FALSE)","v":"Sud"},{"$f":"VLOOKUP(Main3WData14[[#This Row],[Admin Unit Name]],AdminUnits[],4,FALSE)","v":5},{"$f":"VLOOKUP(Main3WData14[[#This Row],[Sector]],Sectors[],2,FALSE)","v":6}]
[null,"Santé Diabète",{"$f":"INDEX(Organizations[],MATCH(Main3WData14[[#This Row],[Acronym]],AcronymList,0),1)","v":"Santé Diabète"},{"$f":"INDEX(Organizations[],MATCH(Main3WData14[[#This Row],[Acronym]],AcronymList,0),3)","v":"ONG Nat."},"Santé","Regulier","Bamako",{"$f":"VLOOKUP(Main3WData14[[#This Row],[Admin Unit Name]],AdminUnits[],2,FALSE)","v":"ML09"},{"$f":"VLOOKUP(Main3WData14[[#This Row],[Admin Unit Name]],AdminUnits[],3,FALSE)","v":"Sud"},{"$f":"VLOOKUP(Main3WData14[[#This Row],[Admin Unit Name]],AdminUnits[],4,FALSE)","v":0},{"$f":"VLOOKUP(Main3WData14[[#This Row],[Sector]],Sectors[],2,FALSE)","v":6}]
[null,"Santé Diabète",{"$f":"INDEX(Organizations[],MATCH(Main3WData14[[#This Row],[Acronym]],AcronymList,0),1)","v":"Santé Diabète"},{"$f":"INDEX(Organizations[],MATCH(Main3WData14[[#This Row],[Acronym]],AcronymList,0),3)","v":"ONG Nat."},"Santé","Regulier","Tombouctou",{"$f":"VLOOKUP(Main3WData14[[#This Row],[Admin Unit Name]],AdminUnits[],2,FALSE)","v":"ML06"},{"$f":"VLOOKUP(Main3WData14[[#This Row],[Admin Unit Name]],AdminUnits[],3,FALSE)","v":"Nord"},{"$f":"VLOOKUP(Main3WData14[[#This Row],[Admin Unit Name]],AdminUnits[],4,FALSE)","v":6},{"$f":"VLOOKUP(Main3WData14[[#This Row],[Sector]],Sectors[],2,FALSE)","v":6}]
[null,"Santé Diabète",{"$f":"INDEX(Organizations[],MATCH(Main3WData14[[#This Row],[Acronym]],AcronymList,0),1)","v":"Santé Diabète"},{"$f":"INDEX(Organizations[],MATCH(Main3WData14[[#This Row],[Acronym]],AcronymList,0),3)","v":"ONG Nat."},"Santé","Regulier","Gao",{"$f":"VLOOKUP(Main3WData14[[#This Row],[Admin Unit Name]],AdminUnits[],2,FALSE)","v":"ML07"},{"$f":"VLOOKUP(Main3WData14[[#This Row],[Admin Unit Name]],AdminUnits[],3,FALSE)","v":"Nord"},{"$f":"VLOOKUP(Main3WData14[[#This Row],[Admin Unit Name]],AdminUnits[],4,FALSE)","v":7},{"$f":"VLOOKUP(Main3WData14[[#This Row],[Sector]],Sectors[],2,FALSE)","v":6}]
[null,"Santé Diabète",{"$f":"INDEX(Organizations[],MATCH(Main3WData14[[#This Row],[Acronym]],AcronymList,0),1)","v":"Santé Diabète"},{"$f":"INDEX(Organizations[],MATCH(Main3WData14[[#This Row],[Acronym]],AcronymList,0),3)","v":"ONG Nat."},"Santé","Regulier","Kidal",{"$f":"VLOOKUP(Main3WData14[[#This Row],[Admin Unit Name]],AdminUnits[],2,FALSE)","v":"ML08"},{"$f":"VLOOKUP(Main3WData14[[#This Row],[Admin Unit Name]],AdminUnits[],3,FALSE)","v":"Nord"},{"$f":"VLOOKUP(Main3WData14[[#This Row],[Admin Unit Name]],AdminUnits[],4,FALSE)","v":8},{"$f":"VLOOKUP(Main3WData14[[#This Row],[Sector]],Sectors[],2,FALSE)","v":6}]
[null,"Samu Social Mali ",{"$f":"INDEX(Organizations[],MATCH(Main3WData14[[#This Row],[Acronym]],AcronymList,0),1)","v":"Samu Social Mali "},{"$f":"INDEX(Organizations[],MATCH(Main3WData14[[#This Row],[Acronym]],AcronymList,0),3)","v":"ONG Nat."},"Protection","Regulier","Bamako",{"$f":"VLOOKUP(Main3WData14[[#This Row],[Admin Unit Name]],AdminUnits[],2,FALSE)","v":"ML09"},{"$f":"VLOOKUP(Main3WData14[[#This Row],[Admin Unit Name]],AdminUnits[],3,FALSE)","v":"Sud"},{"$f":"VLOOKUP(Main3WData14[[#This Row],[Admin Unit Name]],AdminUnits[],4,FALSE)","v":0},{"$f":"VLOOKUP(Main3WData14[[#This Row],[Sector]],Sectors[],2,FALSE)","v":5}]
[null,"Sahel Consult",{"$f":"INDEX(Organizations[],MATCH(Main3WData14[[#This Row],[Acronym]],AcronymList,0),1)","v":"Sahel Consult"},{"$f":"INDEX(Organizations[],MATCH(Main3WData14[[#This Row],[Acronym]],AcronymList,0),3)","v":"ONG Nat."},"Sécurité alimentaire","Regulier","Gao",{"$f":"VLOOKUP(Main3WData14[[#This Row],[Admin Unit Name]],AdminUnits[],2,FALSE)","v":"ML07"},{"$f":"VLOOKUP(Main3WData14[[#This Row],[Admin Unit Name]],AdminUnits[],3,FALSE)","v":"Nord"},{"$f":"VLOOKUP(Main3WData14[[#This Row],[Admin Unit Name]],AdminUnits[],4,FALSE)","v":7},{"$f":"VLOOKUP(Main3WData14[[#This Row],[Sector]],Sectors[],2,FALSE)","v":7}]
[null,"Sahel Consult",{"$f":"INDEX(Organizations[],MATCH(Main3WData14[[#This Row],[Acronym]],AcronymList,0),1)","v":"Sahel Consult"},{"$f":"INDEX(Organizations[],MATCH(Main3WData14[[#This Row],[Acronym]],AcronymList,0),3)","v":"ONG Nat."},"Sécurité alimentaire","Regulier","Tombouctou",{"$f":"VLOOKUP(Main3WData14[[#This Row],[Admin Unit Name]],AdminUnits[],2,FALSE)","v":"ML06"},{"$f":"VLOOKUP(Main3WData14[[#This Row],[Admin Unit Name]],AdminUnits[],3,FALSE)","v":"Nord"},{"$f":"VLOOKUP(Main3WData14[[#This Row],[Admin Unit Name]],AdminUnits[],4,FALSE)","v":6},{"$f":"VLOOKUP(Main3WData14[[#This Row],[Sector]],Sectors[],2,FALSE)","v":7}]
[null,"Right To Play",{"$f":"INDEX(Organizations[],MATCH(Main3WData14[[#This Row],[Acronym]],AcronymList,0),1)","v":"Right to Play"},{"$f":"INDEX(Organizations[],MATCH(Main3WData14[[#This Row],[Acronym]],AcronymList,0),3)","v":"ONG Int."},"Protection","Regulier","Sikasso",{"$f":"VLOOKUP(Main3WData14[[#This Row],[Admin Unit Name]],AdminUnits[],2,FALSE)","v":"ML03"},{"$f":"VLOOKUP(Main3WData14[[#This Row],[Admin Unit Name]],AdminUnits[],3,FALSE)","v":"Sud"},{"$f":"VLOOKUP(Main3WData14[[#This Row],[Admin Unit Name]],AdminUnits[],4,FALSE)","v":3},{"$f":"VLOOKUP(Main3WData14[[#This Row],[Sector]],Sectors[],2,FALSE)","v":5}]
[null,"Right To Play",{"$f":"INDEX(Organizations[],MATCH(Main3WData14[[#This Row],[Acronym]],AcronymList,0),1)","v":"Right to Play"},{"$f":"INDEX(Organizations[],MATCH(Main3WData14[[#This Row],[Acronym]],AcronymList,0),3)","v":"ONG Int."},"Protection","Regulier","Segou",{"$f":"VLOOKUP(Main3WData14[[#This Row],[Admin Unit Name]],AdminUnits[],2,FALSE)","v":"ML04"},{"$f":"VLOOKUP(Main3WData14[[#This Row],[Admin Unit Name]],AdminUnits[],3,FALSE)","v":"Sud"},{"$f":"VLOOKUP(Main3WData14[[#This Row],[Admin Unit Name]],AdminUnits[],4,FALSE)","v":4},{"$f":"VLOOKUP(Main3WData14[[#This Row],[Sector]],Sectors[],2,FALSE)","v":5}]
[null,"Right To Play",{"$f":"INDEX(Organizations[],MATCH(Main3WData14[[#This Row],[Acronym]],AcronymList,0),1)","v":"Right to Play"},{"$f":"INDEX(Organizations[],MATCH(Main3WData14[[#This Row],[Acronym]],AcronymList,0),3)","v":"ONG Int."},"Protection","Regulier","Bamako",{"$f":"VLOOKUP(Main3WData14[[#This Row],[Admin Unit Name]],AdminUnits[],2,FALSE)","v":"ML09"},{"$f":"VLOOKUP(Main3WData14[[#This Row],[Admin Unit Name]],AdminUnits[],3,FALSE)","v":"Sud"},{"$f":"VLOOKUP(Main3WData14[[#This Row],[Admin Unit Name]],AdminUnits[],4,FALSE)","v":0},{"$f":"VLOOKUP(Main3WData14[[#This Row],[Sector]],Sectors[],2,FALSE)","v":5}]
[null,"Right to Play",{"$f":"INDEX(Organizations[],MATCH(Main3WData14[[#This Row],[Acronym]],AcronymList,0),1)","v":"Right to Play"},{"$f":"INDEX(Organizations[],MATCH(Main3WData14[[#This Row],[Acronym]],AcronymList,0),3)","v":"ONG Int."},"Education","Regulier","Bamako",{"$f":"VLOOKUP(Main3WData14[[#This Row],[Admin Unit Name]],AdminUnits[],2,FALSE)","v":"ML09"},{"$f":"VLOOKUP(Main3WData14[[#This Row],[Admin Unit Name]],AdminUnits[],3,FALSE)","v":"Sud"},{"$f":"VLOOKUP(Main3WData14[[#This Row],[Admin Unit Name]],AdminUnits[],4,FALSE)","v":0},{"$f":"VLOOKUP(Main3WData14[[#This Row],[Sector]],Sectors[],2,FALSE)","v":3}]
[null,"REACH ITALIA",{"$f":"INDEX(Organizations[],MATCH(Main3WData14[[#This Row],[Acronym]],AcronymList,0),1)","v":"Reach Italia"},{"$f":"INDEX(Organizations[],MATCH(Main3WData14[[#This Row],[Acronym]],AcronymList,0),3)","v":"ONG Int."},"Sécurité alimentaire","Regulier","Koulikoro",{"$f":"VLOOKUP(Main3WData14[[#This Row],[Admin Unit Name]],AdminUnits[],2,FALSE)","v":"ML02"},{"$f":"VLOOKUP(Main3WData14[[#This Row],[Admin Unit Name]],AdminUnits[],3,FALSE)","v":"Sud"},{"$f":"VLOOKUP(Main3WData14[[#This Row],[Admin Unit Name]],AdminUnits[],4,FALSE)","v":2},{"$f":"VLOOKUP(Main3WData14[[#This Row],[Sector]],Sectors[],2,FALSE)","v":7}]
[null,"PSI",{"$f":"INDEX(Organizations[],MATCH(Main3WData14[[#This Row],[Acronym]],AcronymList,0),1)","v":"Population Services International"},{"$f":"INDEX(Organizations[],MATCH(Main3WData14[[#This Row],[Acronym]],AcronymList,0),3)","v":"ONG Int."},"Santé","Regulier","Segou",{"$f":"VLOOKUP(Main3WData14[[#This Row],[Admin Unit Name]],AdminUnits[],2,FALSE)","v":"ML04"},{"$f":"VLOOKUP(Main3WData14[[#This Row],[Admin Unit Name]],AdminUnits[],3,FALSE)","v":"Sud"},{"$f":"VLOOKUP(Main3WData14[[#This Row],[Admin Unit Name]],AdminUnits[],4,FALSE)","v":4},{"$f":"VLOOKUP(Main3WData14[[#This Row],[Sector]],Sectors[],2,FALSE)","v":6}]
[null,"PROTOS",{"$f":"INDEX(Organizations[],MATCH(Main3WData14[[#This Row],[Acronym]],AcronymList,0),1)","v":"PROTOS"},{"$f":"INDEX(Organizations[],MATCH(Main3WData14[[#This Row],[Acronym]],AcronymList,0),3)","v":"ONG Nat."},"EHA","Regulier","BAMAKO",{"$f":"VLOOKUP(Main3WData14[[#This Row],[Admin Unit Name]],AdminUnits[],2,FALSE)","v":"ML09"},{"$f":"VLOOKUP(Main3WData14[[#This Row],[Admin Unit Name]],AdminUnits[],3,FALSE)","v":"Sud"},{"$f":"VLOOKUP(Main3WData14[[#This Row],[Admin Unit Name]],AdminUnits[],4,FALSE)","v":0},{"$f":"VLOOKUP(Main3WData14[[#This Row],[Sector]],Sectors[],2,FALSE)","v":8}]
[null,"PROTOS",{"$f":"INDEX(Organizations[],MATCH(Main3WData14[[#This Row],[Acronym]],AcronymList,0),1)","v":"PROTOS"},{"$f":"INDEX(Organizations[],MATCH(Main3WData14[[#This Row],[Acronym]],AcronymList,0),3)","v":"ONG Nat."},"EHA","Regulier","Koulikoro",{"$f":"VLOOKUP(Main3WData14[[#This Row],[Admin Unit Name]],AdminUnits[],2,FALSE)","v":"ML02"},{"$f":"VLOOKUP(Main3WData14[[#This Row],[Admin Unit Name]],AdminUnits[],3,FALSE)","v":"Sud"},{"$f":"VLOOKUP(Main3WData14[[#This Row],[Admin Unit Name]],AdminUnits[],4,FALSE)","v":2},{"$f":"VLOOKUP(Main3WData14[[#This Row],[Sector]],Sectors[],2,FALSE)","v":8}]
[null,"PROTOS",{"$f":"INDEX(Organizations[],MATCH(Main3WData14[[#This Row],[Acronym]],AcronymList,0),1)","v":"PROTOS"},{"$f":"INDEX(Organizations[],MATCH(Main3WData14[[#This Row],[Acronym]],AcronymList,0),3)","v":"ONG Nat."},"EHA","Regulier","MOPTI",{"$f":"VLOOKUP(Main3WData14[[#This Row],[Admin Unit Name]],AdminUnits[],2,FALSE)","v":"ML05"},{"$f":"VLOOKUP(Main3WData14[[#This Row],[Admin Unit Name]],AdminUnits[],3,FALSE)","v":"Sud"},{"$f":"VLOOKUP(Main3WData14[[#This Row],[Admin Unit Name]],AdminUnits[],4,FALSE)","v":5},{"$f":"VLOOKUP(Main3WData14[[#This Row],[Sector]],Sectors[],2,FALSE)","v":8}]
[null,"Plan Mali",{"$f":"INDEX(Organizations[],MATCH(Main3WData14[[#This Row],[Acronym]],AcronymList,0),1)","v":"Plan Mali"},{"$f":"INDEX(Organizations[],MATCH(Main3WData14[[#This Row],[Acronym]],AcronymList,0),3)","v":"ONG Int."},"Santé","Regulier","Mopti",{"$f":"VLOOKUP(Main3WData14[[#This Row],[Admin Unit Name]],AdminUnits[],2,FALSE)","v":"ML05"},{"$f":"VLOOKUP(Main3WData14[[#This Row],[Admin Unit Name]],AdminUnits[],3,FALSE)","v":"Sud"},{"$f":"VLOOKUP(Main3WData14[[#This Row],[Admin Unit Name]],AdminUnits[],4,FALSE)","v":5},{"$f":"VLOOKUP(Main3WData14[[#This Row],[Sector]],Sectors[],2,FALSE)","v":6}]
[null,"Plan Mali",{"$f":"INDEX(Organizations[],MATCH(Main3WData14[[#This Row],[Acronym]],AcronymList,0),1)","v":"Plan Mali"},{"$f":"INDEX(Organizations[],MATCH(Main3WData14[[#This Row],[Acronym]],AcronymList,0),3)","v":"ONG Int."},"Protection","Regulier","Mopti",{"$f":"VLOOKUP(Main3WData14[[#This Row],[Admin Unit Name]],AdminUnits[],2,FALSE)","v":"ML05"},{"$f":"VLOOKUP(Main3WData14[[#This Row],[Admin Unit Name]],AdminUnits[],3,FALSE)","v":"Sud"},{"$f":"VLOOKUP(Main3WData14[[#This Row],[Admin Unit Name]],AdminUnits[],4,FALSE)","v":5},{"$f":"VLOOKUP(Main3WData14[[#This Row],[Sector]],Sectors[],2,FALSE)","v":5}]
[null,"Plan Mali",{"$f":"INDEX(Organizations[],MATCH(Main3WData14[[#This Row],[Acronym]],AcronymList,0),1)","v":"Plan Mali"},{"$f":"INDEX(Organizations[],MATCH(Main3WData14[[#This Row],[Acronym]],AcronymList,0),3)","v":"ONG Int."},"Protection","Regulier","Segou",{"$f":"VLOOKUP(Main3WData14[[#This Row],[Admin Unit Name]],AdminUnits[],2,FALSE)","v":"ML04"},{"$f":"VLOOKUP(Main3WData14[[#This Row],[Admin Unit Name]],AdminUnits[],3,FALSE)","v":"Sud"},{"$f":"VLOOKUP(Main3WData14[[#This Row],[Admin Unit Name]],AdminUnits[],4,FALSE)","v":4},{"$f":"VLOOKUP(Main3WData14[[#This Row],[Sector]],Sectors[],2,FALSE)","v":5}]
[null,"PLAN MALI",{"$f":"INDEX(Organizations[],MATCH(Main3WData14[[#This Row],[Acronym]],AcronymList,0),1)","v":"Plan Mali"},{"$f":"INDEX(Organizations[],MATCH(Main3WData14[[#This Row],[Acronym]],AcronymList,0),3)","v":"ONG Int."},"Nutrition","Regulier","Kayes",{"$f":"VLOOKUP(Main3WData14[[#This Row],[Admin Unit Name]],AdminUnits[],2,FALSE)","v":"ML01"},{"$f":"VLOOKUP(Main3WData14[[#This Row],[Admin Unit Name]],AdminUnits[],3,FALSE)","v":"Sud"},{"$f":"VLOOKUP(Main3WData14[[#This Row],[Admin Unit Name]],AdminUnits[],4,FALSE)","v":1},{"$f":"VLOOKUP(Main3WData14[[#This Row],[Sector]],Sectors[],2,FALSE)","v":4}]
[null,"PLAN Mali",{"$f":"INDEX(Organizations[],MATCH(Main3WData14[[#This Row],[Acronym]],AcronymList,0),1)","v":"Plan Mali"},{"$f":"INDEX(Organizations[],MATCH(Main3WData14[[#This Row],[Acronym]],AcronymList,0),3)","v":"ONG Int."},"Nutrition","Regulier","Koulikoro",{"$f":"VLOOKUP(Main3WData14[[#This Row],[Admin Unit Name]],AdminUnits[],2,FALSE)","v":"ML02"},{"$f":"VLOOKUP(Main3WData14[[#This Row],[Admin Unit Name]],AdminUnits[],3,FALSE)","v":"Sud"},{"$f":"VLOOKUP(Main3WData14[[#This Row],[Admin Unit Name]],AdminUnits[],4,FALSE)","v":2},{"$f":"VLOOKUP(Main3WData14[[#This Row],[Sector]],Sectors[],2,FALSE)","v":4}]
[null,"PLAN Mali",{"$f":"INDEX(Organizations[],MATCH(Main3WData14[[#This Row],[Acronym]],AcronymList,0),1)","v":"Plan Mali"},{"$f":"INDEX(Organizations[],MATCH(Main3WData14[[#This Row],[Acronym]],AcronymList,0),3)","v":"ONG Int."},"Nutrition","Regulier","Segou",{"$f":"VLOOKUP(Main3WData14[[#This Row],[Admin Unit Name]],AdminUnits[],2,FALSE)","v":"ML04"},{"$f":"VLOOKUP(Main3WData14[[#This Row],[Admin Unit Name]],AdminUnits[],3,FALSE)","v":"Sud"},{"$f":"VLOOKUP(Main3WData14[[#This Row],[Admin Unit Name]],AdminUnits[],4,FALSE)","v":4},{"$f":"VLOOKUP(Main3WData14[[#This Row],[Sector]],Sectors[],2,FALSE)","v":4}]
[null,"Plan Mali",{"$f":"INDEX(Organizations[],MATCH(Main3WData14[[#This Row],[Acronym]],AcronymList,0),1)","v":"Plan Mali"},{"$f":"INDEX(Organizations[],MATCH(Main3WData14[[#This Row],[Acronym]],AcronymList,0),3)","v":"ONG Int."},"EHA","Regulier","KAYES",{"$f":"VLOOKUP(Main3WData14[[#This Row],[Admin Unit Name]],AdminUnits[],2,FALSE)","v":"ML01"},{"$f":"VLOOKUP(Main3WData14[[#This Row],[Admin Unit Name]],AdminUnits[],3,FALSE)","v":"Sud"},{"$f":"VLOOKUP(Main3WData14[[#This Row],[Admin Unit Name]],AdminUnits[],4,FALSE)","v":1},{"$f":"VLOOKUP(Main3WData14[[#This Row],[Sector]],Sectors[],2,FALSE)","v":8}]
[null,"Plan Mali",{"$f":"INDEX(Organizations[],MATCH(Main3WData14[[#This Row],[Acronym]],AcronymList,0),1)","v":"Plan Mali"},{"$f":"INDEX(Organizations[],MATCH(Main3WData14[[#This Row],[Acronym]],AcronymList,0),3)","v":"ONG Int."},"EHA","Regulier","Koulikoro",{"$f":"VLOOKUP(Main3WData14[[#This Row],[Admin Unit Name]],AdminUnits[],2,FALSE)","v":"ML02"},{"$f":"VLOOKUP(Main3WData14[[#This Row],[Admin Unit Name]],AdminUnits[],3,FALSE)","v":"Sud"},{"$f":"VLOOKUP(Main3WData14[[#This Row],[Admin Unit Name]],AdminUnits[],4,FALSE)","v":2},{"$f":"VLOOKUP(Main3WData14[[#This Row],[Sector]],Sectors[],2,FALSE)","v":8}]
[null,"Plan Mali",{"$f":"INDEX(Organizations[],MATCH(Main3WData14[[#This Row],[Acronym]],AcronymList,0),1)","v":"Plan Mali"},{"$f":"INDEX(Organizations[],MATCH(Main3WData14[[#This Row],[Acronym]],AcronymList,0),3)","v":"ONG Int."},"EHA","Regulier","MOPTI",{"$f":"VLOOKUP(Main3WData14[[#This Row],[Admin Unit Name]],AdminUnits[],2,FALSE)","v":"ML05"},{"$f":"VLOOKUP(Main3WData14[[#This Row],[Admin Unit Name]],AdminUnits[],3,FALSE)","v":"Sud"},{"$f":"VLOOKUP(Main3WData14[[#This Row],[Admin Unit Name]],AdminUnits[],4,FALSE)","v":5},{"$f":"VLOOKUP(Main3WData14[[#This Row],[Sector]],Sectors[],2,FALSE)","v":8}]
[null,"Plan Mali",{"$f":"INDEX(Organizations[],MATCH(Main3WData14[[#This Row],[Acronym]],AcronymList,0),1)","v":"Plan Mali"},{"$f":"INDEX(Organizations[],MATCH(Main3WData14[[#This Row],[Acronym]],AcronymList,0),3)","v":"ONG Int."},"EHA","Regulier","SEGOU",{"$f":"VLOOKUP(Main3WData14[[#This Row],[Admin Unit Name]],AdminUnits[],2,FALSE)","v":"ML04"},{"$f":"VLOOKUP(Main3WData14[[#This Row],[Admin Unit Name]],AdminUnits[],3,FALSE)","v":"Sud"},{"$f":"VLOOKUP(Main3WData14[[#This Row],[Admin Unit Name]],AdminUnits[],4,FALSE)","v":4},{"$f":"VLOOKUP(Main3WData14[[#This Row],[Sector]],Sectors[],2,FALSE)","v":8}]
[null,"Plan Mali",{"$f":"INDEX(Organizations[],MATCH(Main3WData14[[#This Row],[Acronym]],AcronymList,0),1)","v":"Plan Mali"},{"$f":"INDEX(Organizations[],MATCH(Main3WData14[[#This Row],[Acronym]],AcronymList,0),3)","v":"ONG Int."},"Education","Regulier","Segou",{"$f":"VLOOKUP(Main3WData14[[#This Row],[Admin Unit Name]],AdminUnits[],2,FALSE)","v":"ML04"},{"$f":"VLOOKUP(Main3WData14[[#This Row],[Admin Unit Name]],AdminUnits[],3,FALSE)","v":"Sud"},{"$f":"VLOOKUP(Main3WData14[[#This Row],[Admin Unit Name]],AdminUnits[],4,FALSE)","v":4},{"$f":"VLOOKUP(Main3WData14[[#This Row],[Sector]],Sectors[],2,FALSE)","v":3}]
[null,"Plan Mali",{"$f":"INDEX(Organizations[],MATCH(Main3WData14[[#This Row],[Acronym]],AcronymList,0),1)","v":"Plan Mali"},{"$f":"INDEX(Organizations[],MATCH(Main3WData14[[#This Row],[Acronym]],AcronymList,0),3)","v":"ONG Int."},"Education","Regulier","Mopti",{"$f":"VLOOKUP(Main3WData14[[#This Row],[Admin Unit Name]],AdminUnits[],2,FALSE)","v":"ML05"},{"$f":"VLOOKUP(Main3WData14[[#This Row],[Admin Unit Name]],AdminUnits[],3,FALSE)","v":"Sud"},{"$f":"VLOOKUP(Main3WData14[[#This Row],[Admin Unit Name]],AdminUnits[],4,FALSE)","v":5},{"$f":"VLOOKUP(Main3WData14[[#This Row],[Sector]],Sectors[],2,FALSE)","v":3}]
[null,"Plan Mali",{"$f":"INDEX(Organizations[],MATCH(Main3WData14[[#This Row],[Acronym]],AcronymList,0),1)","v":"Plan Mali"},{"$f":"INDEX(Organizations[],MATCH(Main3WData14[[#This Row],[Acronym]],AcronymList,0),3)","v":"ONG Int."},"Education","Regulier","Tombouctou",{"$f":"VLOOKUP(Main3WData14[[#This Row],[Admin Unit Name]],AdminUnits[],2,FALSE)","v":"ML06"},{"$f":"VLOOKUP(Main3WData14[[#This Row],[Admin Unit Name]],AdminUnits[],3,FALSE)","v":"Nord"},{"$f":"VLOOKUP(Main3WData14[[#This Row],[Admin Unit Name]],AdminUnits[],4,FALSE)","v":6},{"$f":"VLOOKUP(Main3WData14[[#This Row],[Sector]],Sectors[],2,FALSE)","v":3}]
[null,"PAM",{"$f":"INDEX(Organizations[],MATCH(Main3WData14[[#This Row],[Acronym]],AcronymList,0),1)","v":"Programme Alimentaire Mondial"},{"$f":"INDEX(Organizations[],MATCH(Main3WData14[[#This Row],[Acronym]],AcronymList,0),3)","v":"UN"},"Télécom.  d'urgence","Regulier","Mopti",{"$f":"VLOOKUP(Main3WData14[[#This Row],[Admin Unit Name]],AdminUnits[],2,FALSE)","v":"ML05"},{"$f":"VLOOKUP(Main3WData14[[#This Row],[Admin Unit Name]],AdminUnits[],3,FALSE)","v":"Sud"},{"$f":"VLOOKUP(Main3WData14[[#This Row],[Admin Unit Name]],AdminUnits[],4,FALSE)","v":5},{"$f":"VLOOKUP(Main3WData14[[#This Row],[Sector]],Sectors[],2,FALSE)","v":{"$error":"#N/A"}}]
[null,"PAM",{"$f":"INDEX(Organizations[],MATCH(Main3WData14[[#This Row],[Acronym]],AcronymList,0),1)","v":"Programme Alimentaire Mondial"},{"$f":"INDEX(Organizations[],MATCH(Main3WData14[[#This Row],[Acronym]],AcronymList,0),3)","v":"UN"},"Télécom.  d'urgence","Regulier","TOMBOUCTOU",{"$f":"VLOOKUP(Main3WData14[[#This Row],[Admin Unit Name]],AdminUnits[],2,FALSE)","v":"ML06"},{"$f":"VLOOKUP(Main3WData14[[#This Row],[Admin Unit Name]],AdminUnits[],3,FALSE)","v":"Nord"},{"$f":"VLOOKUP(Main3WData14[[#This Row],[Admin Unit Name]],AdminUnits[],4,FALSE)","v":6},{"$f":"VLOOKUP(Main3WData14[[#This Row],[Sector]],Sectors[],2,FALSE)","v":{"$error":"#N/A"}}]
[null,"PAM",{"$f":"INDEX(Organizations[],MATCH(Main3WData14[[#This Row],[Acronym]],AcronymList,0),1)","v":"Programme Alimentaire Mondial"},{"$f":"INDEX(Organizations[],MATCH(Main3WData14[[#This Row],[Acronym]],AcronymList,0),3)","v":"UN"},"Télécom.  d'urgence","Regulier","Bamako",{"$f":"VLOOKUP(Main3WData14[[#This Row],[Admin Unit Name]],AdminUnits[],2,FALSE)","v":"ML09"},{"$f":"VLOOKUP(Main3WData14[[#This Row],[Admin Unit Name]],AdminUnits[],3,FALSE)","v":"Sud"},{"$f":"VLOOKUP(Main3WData14[[#This Row],[Admin Unit Name]],AdminUnits[],4,FALSE)","v":0},{"$f":"VLOOKUP(Main3WData14[[#This Row],[Sector]],Sectors[],2,FALSE)","v":{"$error":"#N/A"}}]
[null,"PAM",{"$f":"INDEX(Organizations[],MATCH(Main3WData14[[#This Row],[Acronym]],AcronymList,0),1)","v":"Programme Alimentaire Mondial"},{"$f":"INDEX(Organizations[],MATCH(Main3WData14[[#This Row],[Acronym]],AcronymList,0),3)","v":"UN"},"Sécurité alimentaire","Regulier","Kayes",{"$f":"VLOOKUP(Main3WData14[[#This Row],[Admin Unit Name]],AdminUnits[],2,FALSE)","v":"ML01"},{"$f":"VLOOKUP(Main3WData14[[#This Row],[Admin Unit Name]],AdminUnits[],3,FALSE)","v":"Sud"},{"$f":"VLOOKUP(Main3WData14[[#This Row],[Admin Unit Name]],AdminUnits[],4,FALSE)","v":1},{"$f":"VLOOKUP(Main3WData14[[#This Row],[Sector]],Sectors[],2,FALSE)","v":7}]
[null,"PAM",{"$f":"INDEX(Organizations[],MATCH(Main3WData14[[#This Row],[Acronym]],AcronymList,0),1)","v":"Programme Alimentaire Mondial"},{"$f":"INDEX(Organizations[],MATCH(Main3WData14[[#This Row],[Acronym]],AcronymList,0),3)","v":"UN"},"Sécurité alimentaire","Regulier","Koulikoro",{"$f":"VLOOKUP(Main3WData14[[#This Row],[Admin Unit Name]],AdminUnits[],2,FALSE)","v":"ML02"},{"$f":"VLOOKUP(Main3WData14[[#This Row],[Admin Unit Name]],AdminUnits[],3,FALSE)","v":"Sud"},{"$f":"VLOOKUP(Main3WData14[[#This Row],[Admin Unit Name]],AdminUnits[],4,FALSE)","v":2},{"$f":"VLOOKUP(Main3WData14[[#This Row],[Sector]],Sectors[],2,FALSE)","v":7}]
[null,"PAM",{"$f":"INDEX(Organizations[],MATCH(Main3WData14[[#This Row],[Acronym]],AcronymList,0),1)","v":"Programme Alimentaire Mondial"},{"$f":"INDEX(Organizations[],MATCH(Main3WData14[[#This Row],[Acronym]],AcronymList,0),3)","v":"UN"},"Sécurité alimentaire","Regulier","Segou",{"$f":"VLOOKUP(Main3WData14[[#This Row],[Admin Unit Name]],AdminUnits[],2,FALSE)","v":"ML04"},{"$f":"VLOOKUP(Main3WData14[[#This Row],[Admin Unit Name]],AdminUnits[],3,FALSE)","v":"Sud"},{"$f":"VLOOKUP(Main3WData14[[#This Row],[Admin Unit Name]],AdminUnits[],4,FALSE)","v":4},{"$f":"VLOOKUP(Main3WData14[[#This Row],[Sector]],Sectors[],2,FALSE)","v":7}]
[null,"PAM",{"$f":"INDEX(Organizations[],MATCH(Main3WData14[[#This Row],[Acronym]],AcronymList,0),1)","v":"Programme Alimentaire Mondial"},{"$f":"INDEX(Organizations[],MATCH(Main3WData14[[#This Row],[Acronym]],AcronymList,0),3)","v":"UN"},"Sécurité alimentaire","Regulier","Gao",{"$f":"VLOOKUP(Main3WData14[[#This Row],[Admin Unit Name]],AdminUnits[],2,FALSE)","v":"ML07"},{"$f":"VLOOKUP(Main3WData14[[#This Row],[Admin Unit Name]],AdminUnits[],3,FALSE)","v":"Nord"},{"$f":"VLOOKUP(Main3WData14[[#This Row],[Admin Unit Name]],AdminUnits[],4,FALSE)","v":7},{"$f":"VLOOKUP(Main3WData14[[#This Row],[Sector]],Sectors[],2,FALSE)","v":7}]
[null,"PAM",{"$f":"INDEX(Organizations[],MATCH(Main3WData14[[#This Row],[Acronym]],AcronymList,0),1)","v":"Programme Alimentaire Mondial"},{"$f":"INDEX(Organizations[],MATCH(Main3WData14[[#This Row],[Acronym]],AcronymList,0),3)","v":"UN"},"Sécurité alimentaire","Regulier","Tombouctou",{"$f":"VLOOKUP(Main3WData14[[#This Row],[Admin Unit Name]],AdminUnits[],2,FALSE)","v":"ML06"},{"$f":"VLOOKUP(Main3WData14[[#This Row],[Admin Unit Name]],AdminUnits[],3,FALSE)","v":"Nord"},{"$f":"VLOOKUP(Main3WData14[[#This Row],[Admin Unit Name]],AdminUnits[],4,FALSE)","v":6},{"$f":"VLOOKUP(Main3WData14[[#This Row],[Sector]],Sectors[],2,FALSE)","v":7}]
[null,"PAM",{"$f":"INDEX(Organizations[],MATCH(Main3WData14[[#This Row],[Acronym]],AcronymList,0),1)","v":"Programme Alimentaire Mondial"},{"$f":"INDEX(Organizations[],MATCH(Main3WData14[[#This Row],[Acronym]],AcronymList,0),3)","v":"UN"},"Sécurité alimentaire","Regulier","Mopti",{"$f":"VLOOKUP(Main3WData14[[#This Row],[Admin Unit Name]],AdminUnits[],2,FALSE)","v":"ML05"},{"$f":"VLOOKUP(Main3WData14[[#This Row],[Admin Unit Name]],AdminUnits[],3,FALSE)","v":"Sud"},{"$f":"VLOOKUP(Main3WData14[[#This Row],[Admin Unit Name]],AdminUnits[],4,FALSE)","v":5},{"$f":"VLOOKUP(Main3WData14[[#This Row],[Sector]],Sectors[],2,FALSE)","v":7}]
[null,"PAM",{"$f":"INDEX(Organizations[],MATCH(Main3WData14[[#This Row],[Acronym]],AcronymList,0),1)","v":"Programme Alimentaire Mondial"},{"$f":"INDEX(Organizations[],MATCH(Main3WData14[[#This Row],[Acronym]],AcronymList,0),3)","v":"UN"},"Sécurité alimentaire","Regulier","Kidal",{"$f":"VLOOKUP(Main3WData14[[#This Row],[Admin Unit Name]],AdminUnits[],2,FALSE)","v":"ML08"},{"$f":"VLOOKUP(Main3WData14[[#This Row],[Admin Unit Name]],AdminUnits[],3,FALSE)","v":"Nord"},{"$f":"VLOOKUP(Main3WData14[[#This Row],[Admin Unit Name]],AdminUnits[],4,FALSE)","v":8},{"$f":"VLOOKUP(Main3WData14[[#This Row],[Sector]],Sectors[],2,FALSE)","v":7}]
[null,"PAM",{"$f":"INDEX(Organizations[],MATCH(Main3WData14[[#This Row],[Acronym]],AcronymList,0),1)","v":"Programme Alimentaire Mondial"},{"$f":"INDEX(Organizations[],MATCH(Main3WData14[[#This Row],[Acronym]],AcronymList,0),3)","v":"UN"},"Sécurité alimentaire","Regulier","Bamako",{"$f":"VLOOKUP(Main3WData14[[#This Row],[Admin Unit Name]],AdminUnits[],2,FALSE)","v":"ML09"},{"$f":"VLOOKUP(Main3WData14[[#This Row],[Admin Unit Name]],AdminUnits[],3,FALSE)","v":"Sud"},{"$f":"VLOOKUP(Main3WData14[[#This Row],[Admin Unit Name]],AdminUnits[],4,FALSE)","v":0},{"$f":"VLOOKUP(Main3WData14[[#This Row],[Sector]],Sectors[],2,FALSE)","v":7}]
[null,"PAM",{"$f":"INDEX(Organizations[],MATCH(Main3WData14[[#This Row],[Acronym]],AcronymList,0),1)","v":"Programme Alimentaire Mondial"},{"$f":"INDEX(Organizations[],MATCH(Main3WData14[[#This Row],[Acronym]],AcronymList,0),3)","v":"UN"},"Logistique","Regulier","Mopti",{"$f":"VLOOKUP(Main3WData14[[#This Row],[Admin Unit Name]],AdminUnits[],2,FALSE)","v":"ML05"},{"$f":"VLOOKUP(Main3WData14[[#This Row],[Admin Unit Name]],AdminUnits[],3,FALSE)","v":"Sud"},{"$f":"VLOOKUP(Main3WData14[[#This Row],[Admin Unit Name]],AdminUnits[],4,FALSE)","v":5},{"$f":"VLOOKUP(Main3WData14[[#This Row],[Sector]],Sectors[],2,FALSE)","v":{"$error":"#N/A"}}]
[null,"PAM",{"$f":"INDEX(Organizations[],MATCH(Main3WData14[[#This Row],[Acronym]],AcronymList,0),1)","v":"Programme Alimentaire Mondial"},{"$f":"INDEX(Organizations[],MATCH(Main3WData14[[#This Row],[Acronym]],AcronymList,0),3)","v":"UN"},"Logistique","Regulier","Bamako",{"$f":"VLOOKUP(Main3WData14[[#This Row],[Admin Unit Name]],AdminUnits[],2,FALSE)","v":"ML09"},{"$f":"VLOOKUP(Main3WData14[[#This Row],[Admin Unit Name]],AdminUnits[],3,FALSE)","v":"Sud"},{"$f":"VLOOKUP(Main3WData14[[#This Row],[Admin Unit Name]],AdminUnits[],4,FALSE)","v":0},{"$f":"VLOOKUP(Main3WData14[[#This Row],[Sector]],Sectors[],2,FALSE)","v":{"$error":"#N/A"}}]
[null,"PAM",{"$f":"INDEX(Organizations[],MATCH(Main3WData14[[#This Row],[Acronym]],AcronymList,0),1)","v":"Programme Alimentaire Mondial"},{"$f":"INDEX(Organizations[],MATCH(Main3WData14[[#This Row],[Acronym]],AcronymList,0),3)","v":"UN"},"Education","Regulier","Kayes",{"$f":"VLOOKUP(Main3WData14[[#This Row],[Admin Unit Name]],AdminUnits[],2,FALSE)","v":"ML01"},{"$f":"VLOOKUP(Main3WData14[[#This Row],[Admin Unit Name]],AdminUnits[],3,FALSE)","v":"Sud"},{"$f":"VLOOKUP(Main3WData14[[#This Row],[Admin Unit Name]],AdminUnits[],4,FALSE)","v":1},{"$f":"VLOOKUP(Main3WData14[[#This Row],[Sector]],Sectors[],2,FALSE)","v":3}]
[null,"PAM",{"$f":"INDEX(Organizations[],MATCH(Main3WData14[[#This Row],[Acronym]],AcronymList,0),1)","v":"Programme Alimentaire Mondial"},{"$f":"INDEX(Organizations[],MATCH(Main3WData14[[#This Row],[Acronym]],AcronymList,0),3)","v":"UN"},"Education","Regulier","Koulikoro",{"$f":"VLOOKUP(Main3WData14[[#This Row],[Admin Unit Name]],AdminUnits[],2,FALSE)","v":"ML02"},{"$f":"VLOOKUP(Main3WData14[[#This Row],[Admin Unit Name]],AdminUnits[],3,FALSE)","v":"Sud"},{"$f":"VLOOKUP(Main3WData14[[#This Row],[Admin Unit Name]],AdminUnits[],4,FALSE)","v":2},{"$f":"VLOOKUP(Main3WData14[[#This Row],[Sector]],Sectors[],2,FALSE)","v":3}]
[null,"PAM",{"$f":"INDEX(Organizations[],MATCH(Main3WData14[[#This Row],[Acronym]],AcronymList,0),1)","v":"Programme Alimentaire Mondial"},{"$f":"INDEX(Organizations[],MATCH(Main3WData14[[#This Row],[Acronym]],AcronymList,0),3)","v":"UN"},"Education","Regulier","Mopti",{"$f":"VLOOKUP(Main3WData14[[#This Row],[Admin Unit Name]],AdminUnits[],2,FALSE)","v":"ML05"},{"$f":"VLOOKUP(Main3WData14[[#This Row],[Admin Unit Name]],AdminUnits[],3,FALSE)","v":"Sud"},{"$f":"VLOOKUP(Main3WData14[[#This Row],[Admin Unit Name]],AdminUnits[],4,FALSE)","v":5},{"$f":"VLOOKUP(Main3WData14[[#This Row],[Sector]],Sectors[],2,FALSE)","v":3}]
[null,"PAM",{"$f":"INDEX(Organizations[],MATCH(Main3WData14[[#This Row],[Acronym]],AcronymList,0),1)","v":"Programme Alimentaire Mondial"},{"$f":"INDEX(Organizations[],MATCH(Main3WData14[[#This Row],[Acronym]],AcronymList,0),3)","v":"UN"},"Education","Regulier","Gao",{"$f":"VLOOKUP(Main3WData14[[#This Row],[Admin Unit Name]],AdminUnits[],2,FALSE)","v":"ML07"},{"$f":"VLOOKUP(Main3WData14[[#This Row],[Admin Unit Name]],AdminUnits[],3,FALSE)","v":"Nord"},{"$f":"VLOOKUP(Main3WData14[[#This Row],[Admin Unit Name]],AdminUnits[],4,FALSE)","v":7},{"$f":"VLOOKUP(Main3WData14[[#This Row],[Sector]],Sectors[],2,FALSE)","v":3}]
[null,"PAM",{"$f":"INDEX(Organizations[],MATCH(Main3WData14[[#This Row],[Acronym]],AcronymList,0),1)","v":"Programme Alimentaire Mondial"},{"$f":"INDEX(Organizations[],MATCH(Main3WData14[[#This Row],[Acronym]],AcronymList,0),3)","v":"UN"},"Education","Regulier","Tombouctou",{"$f":"VLOOKUP(Main3WData14[[#This Row],[Admin Unit Name]],AdminUnits[],2,FALSE)","v":"ML06"},{"$f":"VLOOKUP(Main3WData14[[#This Row],[Admin Unit Name]],AdminUnits[],3,FALSE)","v":"Nord"},{"$f":"VLOOKUP(Main3WData14[[#This Row],[Admin Unit Name]],AdminUnits[],4,FALSE)","v":6},{"$f":"VLOOKUP(Main3WData14[[#This Row],[Sector]],Sectors[],2,FALSE)","v":3}]
[null,"PAM",{"$f":"INDEX(Organizations[],MATCH(Main3WData14[[#This Row],[Acronym]],AcronymList,0),1)","v":"Programme Alimentaire Mondial"},{"$f":"INDEX(Organizations[],MATCH(Main3WData14[[#This Row],[Acronym]],AcronymList,0),3)","v":"UN"},"Coordination","Regulier","Bamako",{"$f":"VLOOKUP(Main3WData14[[#This Row],[Admin Unit Name]],AdminUnits[],2,FALSE)","v":"ML09"},{"$f":"VLOOKUP(Main3WData14[[#This Row],[Admin Unit Name]],AdminUnits[],3,FALSE)","v":"Sud"},{"$f":"VLOOKUP(Main3WData14[[#This Row],[Admin Unit Name]],AdminUnits[],4,FALSE)","v":0},{"$f":"VLOOKUP(Main3WData14[[#This Row],[Sector]],Sectors[],2,FALSE)","v":2}]
[null,"OXFAM GB",{"$f":"INDEX(Organizations[],MATCH(Main3WData14[[#This Row],[Acronym]],AcronymList,0),1)","v":"OXFAM GB"},{"$f":"INDEX(Organizations[],MATCH(Main3WData14[[#This Row],[Acronym]],AcronymList,0),3)","v":"ONG Int."},"Sécurité alimentaire","Regulier","Gao",{"$f":"VLOOKUP(Main3WData14[[#This Row],[Admin Unit Name]],AdminUnits[],2,FALSE)","v":"ML07"},{"$f":"VLOOKUP(Main3WData14[[#This Row],[Admin Unit Name]],AdminUnits[],3,FALSE)","v":"Nord"},{"$f":"VLOOKUP(Main3WData14[[#This Row],[Admin Unit Name]],AdminUnits[],4,FALSE)","v":7},{"$f":"VLOOKUP(Main3WData14[[#This Row],[Sector]],Sectors[],2,FALSE)","v":7}]
[null,"OXFAM GB",{"$f":"INDEX(Organizations[],MATCH(Main3WData14[[#This Row],[Acronym]],AcronymList,0),1)","v":"OXFAM GB"},{"$f":"INDEX(Organizations[],MATCH(Main3WData14[[#This Row],[Acronym]],AcronymList,0),3)","v":"ONG Int."},"Sécurité alimentaire","Regulier","Kayes",{"$f":"VLOOKUP(Main3WData14[[#This Row],[Admin Unit Name]],AdminUnits[],2,FALSE)","v":"ML01"},{"$f":"VLOOKUP(Main3WData14[[#This Row],[Admin Unit Name]],AdminUnits[],3,FALSE)","v":"Sud"},{"$f":"VLOOKUP(Main3WData14[[#This Row],[Admin Unit Name]],AdminUnits[],4,FALSE)","v":1},{"$f":"VLOOKUP(Main3WData14[[#This Row],[Sector]],Sectors[],2,FALSE)","v":7}]
[null,"OXFAM GB",{"$f":"INDEX(Organizations[],MATCH(Main3WData14[[#This Row],[Acronym]],AcronymList,0),1)","v":"OXFAM GB"},{"$f":"INDEX(Organizations[],MATCH(Main3WData14[[#This Row],[Acronym]],AcronymList,0),3)","v":"ONG Int."},"Protection","Regulier","Gao",{"$f":"VLOOKUP(Main3WData14[[#This Row],[Admin Unit Name]],AdminUnits[],2,FALSE)","v":"ML07"},{"$f":"VLOOKUP(Main3WData14[[#This Row],[Admin Unit Name]],AdminUnits[],3,FALSE)","v":"Nord"},{"$f":"VLOOKUP(Main3WData14[[#This Row],[Admin Unit Name]],AdminUnits[],4,FALSE)","v":7},{"$f":"VLOOKUP(Main3WData14[[#This Row],[Sector]],Sectors[],2,FALSE)","v":5}]
[null,"OXFAM GB",{"$f":"INDEX(Organizations[],MATCH(Main3WData14[[#This Row],[Acronym]],AcronymList,0),1)","v":"OXFAM GB"},{"$f":"INDEX(Organizations[],MATCH(Main3WData14[[#This Row],[Acronym]],AcronymList,0),3)","v":"ONG Int."},"EHA","Regulier","GAO",{"$f":"VLOOKUP(Main3WData14[[#This Row],[Admin Unit Name]],AdminUnits[],2,FALSE)","v":"ML07"},{"$f":"VLOOKUP(Main3WData14[[#This Row],[Admin Unit Name]],AdminUnits[],3,FALSE)","v":"Nord"},{"$f":"VLOOKUP(Main3WData14[[#This Row],[Admin Unit Name]],AdminUnits[],4,FALSE)","v":7},{"$f":"VLOOKUP(Main3WData14[[#This Row],[Sector]],Sectors[],2,FALSE)","v":8}]
[null,"OXFAM GB",{"$f":"INDEX(Organizations[],MATCH(Main3WData14[[#This Row],[Acronym]],AcronymList,0),1)","v":"OXFAM GB"},{"$f":"INDEX(Organizations[],MATCH(Main3WData14[[#This Row],[Acronym]],AcronymList,0),3)","v":"ONG Int."},"EHA","Regulier","KAYES",{"$f":"VLOOKUP(Main3WData14[[#This Row],[Admin Unit Name]],AdminUnits[],2,FALSE)","v":"ML01"},{"$f":"VLOOKUP(Main3WData14[[#This Row],[Admin Unit Name]],AdminUnits[],3,FALSE)","v":"Sud"},{"$f":"VLOOKUP(Main3WData14[[#This Row],[Admin Unit Name]],AdminUnits[],4,FALSE)","v":1},{"$f":"VLOOKUP(Main3WData14[[#This Row],[Sector]],Sectors[],2,FALSE)","v":8}]
[null,"OMS",{"$f":"INDEX(Organizations[],MATCH(Main3WData14[[#This Row],[Acronym]],AcronymList,0),1)","v":"Organisation Mondiale de la Sante"},{"$f":"INDEX(Organizations[],MATCH(Main3WData14[[#This Row],[Acronym]],AcronymList,0),3)","v":"UN"},"Santé","Regulier","GAO",{"$f":"VLOOKUP(Main3WData14[[#This Row],[Admin Unit Name]],AdminUnits[],2,FALSE)","v":"ML07"},{"$f":"VLOOKUP(Main3WData14[[#This Row],[Admin Unit Name]],AdminUnits[],3,FALSE)","v":"Nord"},{"$f":"VLOOKUP(Main3WData14[[#This Row],[Admin Unit Name]],AdminUnits[],4,FALSE)","v":7},{"$f":"VLOOKUP(Main3WData14[[#This Row],[Sector]],Sectors[],2,FALSE)","v":6}]
[null,"OMS",{"$f":"INDEX(Organizations[],MATCH(Main3WData14[[#This Row],[Acronym]],AcronymList,0),1)","v":"Organisation Mondiale de la Sante"},{"$f":"INDEX(Organizations[],MATCH(Main3WData14[[#This Row],[Acronym]],AcronymList,0),3)","v":"UN"},"Santé","Regulier","KIDAL",{"$f":"VLOOKUP(Main3WData14[[#This Row],[Admin Unit Name]],AdminUnits[],2,FALSE)","v":"ML08"},{"$f":"VLOOKUP(Main3WData14[[#This Row],[Admin Unit Name]],AdminUnits[],3,FALSE)","v":"Nord"},{"$f":"VLOOKUP(Main3WData14[[#This Row],[Admin Unit Name]],AdminUnits[],4,FALSE)","v":8},{"$f":"VLOOKUP(Main3WData14[[#This Row],[Sector]],Sectors[],2,FALSE)","v":6}]
[null,"OMS",{"$f":"INDEX(Organizations[],MATCH(Main3WData14[[#This Row],[Acronym]],AcronymList,0),1)","v":"Organisation Mondiale de la Sante"},{"$f":"INDEX(Organizations[],MATCH(Main3WData14[[#This Row],[Acronym]],AcronymList,0),3)","v":"UN"},"Santé","Regulier","TOMBOUCTOU",{"$f":"VLOOKUP(Main3WData14[[#This Row],[Admin Unit Name]],AdminUnits[],2,FALSE)","v":"ML06"},{"$f":"VLOOKUP(Main3WData14[[#This Row],[Admin Unit Name]],AdminUnits[],3,FALSE)","v":"Nord"},{"$f":"VLOOKUP(Main3WData14[[#This Row],[Admin Unit Name]],AdminUnits[],4,FALSE)","v":6},{"$f":"VLOOKUP(Main3WData14[[#This Row],[Sector]],Sectors[],2,FALSE)","v":6}]
[null,"OMS",{"$f":"INDEX(Organizations[],MATCH(Main3WData14[[#This Row],[Acronym]],AcronymList,0),1)","v":"Organisation Mondiale de la Sante"},{"$f":"INDEX(Organizations[],MATCH(Main3WData14[[#This Row],[Acronym]],AcronymList,0),3)","v":"UN"},"Coordination","Regulier","Bamako",{"$f":"VLOOKUP(Main3WData14[[#This Row],[Admin Unit Name]],AdminUnits[],2,FALSE)","v":"ML09"},{"$f":"VLOOKUP(Main3WData14[[#This Row],[Admin Unit Name]],AdminUnits[],3,FALSE)","v":"Sud"},{"$f":"VLOOKUP(Main3WData14[[#This Row],[Admin Unit Name]],AdminUnits[],4,FALSE)","v":0},{"$f":"VLOOKUP(Main3WData14[[#This Row],[Sector]],Sectors[],2,FALSE)","v":2}]
[null,"OMAES",{"$f":"INDEX(Organizations[],MATCH(Main3WData14[[#This Row],[Acronym]],AcronymList,0),1)","v":"Œuvre Malienne d'Aide à l'Enfance du Sahel"},{"$f":"INDEX(Organizations[],MATCH(Main3WData14[[#This Row],[Acronym]],AcronymList,0),3)","v":"ONG Nat."},"Sécurité alimentaire","Regulier","Tombouctou",{"$f":"VLOOKUP(Main3WData14[[#This Row],[Admin Unit Name]],AdminUnits[],2,FALSE)","v":"ML06"},{"$f":"VLOOKUP(Main3WData14[[#This Row],[Admin Unit Name]],AdminUnits[],3,FALSE)","v":"Nord"},{"$f":"VLOOKUP(Main3WData14[[#This Row],[Admin Unit Name]],AdminUnits[],4,FALSE)","v":6},{"$f":"VLOOKUP(Main3WData14[[#This Row],[Sector]],Sectors[],2,FALSE)","v":7}]
[null,"OIM",{"$f":"INDEX(Organizations[],MATCH(Main3WData14[[#This Row],[Acronym]],AcronymList,0),1)","v":"Organisation Internationale pour les Migrations"},{"$f":"INDEX(Organizations[],MATCH(Main3WData14[[#This Row],[Acronym]],AcronymList,0),3)","v":"Org Int."},"Santé","Regulier","Mopti",{"$f":"VLOOKUP(Main3WData14[[#This Row],[Admin Unit Name]],AdminUnits[],2,FALSE)","v":"ML05"},{"$f":"VLOOKUP(Main3WData14[[#This Row],[Admin Unit Name]],AdminUnits[],3,FALSE)","v":"Sud"},{"$f":"VLOOKUP(Main3WData14[[#This Row],[Admin Unit Name]],AdminUnits[],4,FALSE)","v":5},{"$f":"VLOOKUP(Main3WData14[[#This Row],[Sector]],Sectors[],2,FALSE)","v":6}]
[null,"OIM",{"$f":"INDEX(Organizations[],MATCH(Main3WData14[[#This Row],[Acronym]],AcronymList,0),1)","v":"Organisation Internationale pour les Migrations"},{"$f":"INDEX(Organizations[],MATCH(Main3WData14[[#This Row],[Acronym]],AcronymList,0),3)","v":"Org Int."},"Santé","Regulier","Bamako",{"$f":"VLOOKUP(Main3WData14[[#This Row],[Admin Unit Name]],AdminUnits[],2,FALSE)","v":"ML09"},{"$f":"VLOOKUP(Main3WData14[[#This Row],[Admin Unit Name]],AdminUnits[],3,FALSE)","v":"Sud"},{"$f":"VLOOKUP(Main3WData14[[#This Row],[Admin Unit Name]],AdminUnits[],4,FALSE)","v":0},{"$f":"VLOOKUP(Main3WData14[[#This Row],[Sector]],Sectors[],2,FALSE)","v":6}]
[null,"OIM",{"$f":"INDEX(Organizations[],MATCH(Main3WData14[[#This Row],[Acronym]],AcronymList,0),1)","v":"Organisation Internationale pour les Migrations"},{"$f":"INDEX(Organizations[],MATCH(Main3WData14[[#This Row],[Acronym]],AcronymList,0),3)","v":"Org Int."},"Protection","Regulier","Gao",{"$f":"VLOOKUP(Main3WData14[[#This Row],[Admin Unit Name]],AdminUnits[],2,FALSE)","v":"ML07"},{"$f":"VLOOKUP(Main3WData14[[#This Row],[Admin Unit Name]],AdminUnits[],3,FALSE)","v":"Nord"},{"$f":"VLOOKUP(Main3WData14[[#This Row],[Admin Unit Name]],AdminUnits[],4,FALSE)","v":7},{"$f":"VLOOKUP(Main3WData14[[#This Row],[Sector]],Sectors[],2,FALSE)","v":5}]
[null,"OIM",{"$f":"INDEX(Organizations[],MATCH(Main3WData14[[#This Row],[Acronym]],AcronymList,0),1)","v":"Organisation Internationale pour les Migrations"},{"$f":"INDEX(Organizations[],MATCH(Main3WData14[[#This Row],[Acronym]],AcronymList,0),3)","v":"Org Int."},"Protection","Regulier","Tombouctou",{"$f":"VLOOKUP(Main3WData14[[#This Row],[Admin Unit Name]],AdminUnits[],2,FALSE)","v":"ML06"},{"$f":"VLOOKUP(Main3WData14[[#This Row],[Admin Unit Name]],AdminUnits[],3,FALSE)","v":"Nord"},{"$f":"VLOOKUP(Main3WData14[[#This Row],[Admin Unit Name]],AdminUnits[],4,FALSE)","v":6},{"$f":"VLOOKUP(Main3WData14[[#This Row],[Sector]],Sectors[],2,FALSE)","v":5}]
[null,"OIM",{"$f":"INDEX(Organizations[],MATCH(Main3WData14[[#This Row],[Acronym]],AcronymList,0),1)","v":"Organisation Internationale pour les Migrations"},{"$f":"INDEX(Organizations[],MATCH(Main3WData14[[#This Row],[Acronym]],AcronymList,0),3)","v":"Org Int."},"Protection","Regulier","Koulikoro",{"$f":"VLOOKUP(Main3WData14[[#This Row],[Admin Unit Name]],AdminUnits[],2,FALSE)","v":"ML02"},{"$f":"VLOOKUP(Main3WData14[[#This Row],[Admin Unit Name]],AdminUnits[],3,FALSE)","v":"Sud"},{"$f":"VLOOKUP(Main3WData14[[#This Row],[Admin Unit Name]],AdminUnits[],4,FALSE)","v":2},{"$f":"VLOOKUP(Main3WData14[[#This Row],[Sector]],Sectors[],2,FALSE)","v":5}]
[null,"OIM",{"$f":"INDEX(Organizations[],MATCH(Main3WData14[[#This Row],[Acronym]],AcronymList,0),1)","v":"Organisation Internationale pour les Migrations"},{"$f":"INDEX(Organizations[],MATCH(Main3WData14[[#This Row],[Acronym]],AcronymList,0),3)","v":"Org Int."},"Protection","Regulier","Mopti",{"$f":"VLOOKUP(Main3WData14[[#This Row],[Admin Unit Name]],AdminUnits[],2,FALSE)","v":"ML05"},{"$f":"VLOOKUP(Main3WData14[[#This Row],[Admin Unit Name]],AdminUnits[],3,FALSE)","v":"Sud"},{"$f":"VLOOKUP(Main3WData14[[#This Row],[Admin Unit Name]],AdminUnits[],4,FALSE)","v":5},{"$f":"VLOOKUP(Main3WData14[[#This Row],[Sector]],Sectors[],2,FALSE)","v":5}]
[null,"OIM",{"$f":"INDEX(Organizations[],MATCH(Main3WData14[[#This Row],[Acronym]],AcronymList,0),1)","v":"Organisation Internationale pour les Migrations"},{"$f":"INDEX(Organizations[],MATCH(Main3WData14[[#This Row],[Acronym]],AcronymList,0),3)","v":"Org Int."},"Protection","Regulier","Kayes",{"$f":"VLOOKUP(Main3WData14[[#This Row],[Admin Unit Name]],AdminUnits[],2,FALSE)","v":"ML01"},{"$f":"VLOOKUP(Main3WData14[[#This Row],[Admin Unit Name]],AdminUnits[],3,FALSE)","v":"Sud"},{"$f":"VLOOKUP(Main3WData14[[#This Row],[Admin Unit Name]],AdminUnits[],4,FALSE)","v":1},{"$f":"VLOOKUP(Main3WData14[[#This Row],[Sector]],Sectors[],2,FALSE)","v":5}]
[null,"OIM",{"$f":"INDEX(Organizations[],MATCH(Main3WData14[[#This Row],[Acronym]],AcronymList,0),1)","v":"Organisation Internationale pour les Migrations"},{"$f":"INDEX(Organizations[],MATCH(Main3WData14[[#This Row],[Acronym]],AcronymList,0),3)","v":"Org Int."},"Protection","Regulier","Kidal",{"$f":"VLOOKUP(Main3WData14[[#This Row],[Admin Unit Name]],AdminUnits[],2,FALSE)","v":"ML08"},{"$f":"VLOOKUP(Main3WData14[[#This Row],[Admin Unit Name]],AdminUnits[],3,FALSE)","v":"Nord"},{"$f":"VLOOKUP(Main3WData14[[#This Row],[Admin Unit Name]],AdminUnits[],4,FALSE)","v":8},{"$f":"VLOOKUP(Main3WData14[[#This Row],[Sector]],Sectors[],2,FALSE)","v":5}]
[null,"OIM",{"$f":"INDEX(Organizations[],MATCH(Main3WData14[[#This Row],[Acronym]],AcronymList,0),1)","v":"Organisation Internationale pour les Migrations"},{"$f":"INDEX(Organizations[],MATCH(Main3WData14[[#This Row],[Acronym]],AcronymList,0),3)","v":"Org Int."},"Protection","Regulier","Sikasso",{"$f":"VLOOKUP(Main3WData14[[#This Row],[Admin Unit Name]],AdminUnits[],2,FALSE)","v":"ML03"},{"$f":"VLOOKUP(Main3WData14[[#This Row],[Admin Unit Name]],AdminUnits[],3,FALSE)","v":"Sud"},{"$f":"VLOOKUP(Main3WData14[[#This Row],[Admin Unit Name]],AdminUnits[],4,FALSE)","v":3},{"$f":"VLOOKUP(Main3WData14[[#This Row],[Sector]],Sectors[],2,FALSE)","v":5}]
[null,"OIM",{"$f":"INDEX(Organizations[],MATCH(Main3WData14[[#This Row],[Acronym]],AcronymList,0),1)","v":"Organisation Internationale pour les Migrations"},{"$f":"INDEX(Organizations[],MATCH(Main3WData14[[#This Row],[Acronym]],AcronymList,0),3)","v":"Org Int."},"Protection","Regulier","Segou",{"$f":"VLOOKUP(Main3WData14[[#This Row],[Admin Unit Name]],AdminUnits[],2,FALSE)","v":"ML04"},{"$f":"VLOOKUP(Main3WData14[[#This Row],[Admin Unit Name]],AdminUnits[],3,FALSE)","v":"Sud"},{"$f":"VLOOKUP(Main3WData14[[#This Row],[Admin Unit Name]],AdminUnits[],4,FALSE)","v":4},{"$f":"VLOOKUP(Main3WData14[[#This Row],[Sector]],Sectors[],2,FALSE)","v":5}]
[null,"OIM",{"$f":"INDEX(Organizations[],MATCH(Main3WData14[[#This Row],[Acronym]],AcronymList,0),1)","v":"Organisation Internationale pour les Migrations"},{"$f":"INDEX(Organizations[],MATCH(Main3WData14[[#This Row],[Acronym]],AcronymList,0),3)","v":"Org Int."},"Protection","Regulier","Bamako",{"$f":"VLOOKUP(Main3WData14[[#This Row],[Admin Unit Name]],AdminUnits[],2,FALSE)","v":"ML09"},{"$f":"VLOOKUP(Main3WData14[[#This Row],[Admin Unit Name]],AdminUnits[],3,FALSE)","v":"Sud"},{"$f":"VLOOKUP(Main3WData14[[#This Row],[Admin Unit Name]],AdminUnits[],4,FALSE)","v":0},{"$f":"VLOOKUP(Main3WData14[[#This Row],[Sector]],Sectors[],2,FALSE)","v":5}]
[null,"OIM",{"$f":"INDEX(Organizations[],MATCH(Main3WData14[[#This Row],[Acronym]],AcronymList,0),1)","v":"Organisation Internationale pour les Migrations"},{"$f":"INDEX(Organizations[],MATCH(Main3WData14[[#This Row],[Acronym]],AcronymList,0),3)","v":"Org Int."},"EHA","Regulier","BAMAKO",{"$f":"VLOOKUP(Main3WData14[[#This Row],[Admin Unit Name]],AdminUnits[],2,FALSE)","v":"ML09"},{"$f":"VLOOKUP(Main3WData14[[#This Row],[Admin Unit Name]],AdminUnits[],3,FALSE)","v":"Sud"},{"$f":"VLOOKUP(Main3WData14[[#This Row],[Admin Unit Name]],AdminUnits[],4,FALSE)","v":0},{"$f":"VLOOKUP(Main3WData14[[#This Row],[Sector]],Sectors[],2,FALSE)","v":8}]
[null,"OIM",{"$f":"INDEX(Organizations[],MATCH(Main3WData14[[#This Row],[Acronym]],AcronymList,0),1)","v":"Organisation Internationale pour les Migrations"},{"$f":"INDEX(Organizations[],MATCH(Main3WData14[[#This Row],[Acronym]],AcronymList,0),3)","v":"Org Int."},"Coordination","Regulier","Bamako",{"$f":"VLOOKUP(Main3WData14[[#This Row],[Admin Unit Name]],AdminUnits[],2,FALSE)","v":"ML09"},{"$f":"VLOOKUP(Main3WData14[[#This Row],[Admin Unit Name]],AdminUnits[],3,FALSE)","v":"Sud"},{"$f":"VLOOKUP(Main3WData14[[#This Row],[Admin Unit Name]],AdminUnits[],4,FALSE)","v":0},{"$f":"VLOOKUP(Main3WData14[[#This Row],[Sector]],Sectors[],2,FALSE)","v":2}]
[null,"OIM",{"$f":"INDEX(Organizations[],MATCH(Main3WData14[[#This Row],[Acronym]],AcronymList,0),1)","v":"Organisation Internationale pour les Migrations"},{"$f":"INDEX(Organizations[],MATCH(Main3WData14[[#This Row],[Acronym]],AcronymList,0),3)","v":"Org Int."},"Abris et NFI","Regulier","Mopti",{"$f":"VLOOKUP(Main3WData14[[#This Row],[Admin Unit Name]],AdminUnits[],2,FALSE)","v":"ML05"},{"$f":"VLOOKUP(Main3WData14[[#This Row],[Admin Unit Name]],AdminUnits[],3,FALSE)","v":"Sud"},{"$f":"VLOOKUP(Main3WData14[[#This Row],[Admin Unit Name]],AdminUnits[],4,FALSE)","v":5},{"$f":"VLOOKUP(Main3WData14[[#This Row],[Sector]],Sectors[],2,FALSE)","v":1}]
[null,"OIM",{"$f":"INDEX(Organizations[],MATCH(Main3WData14[[#This Row],[Acronym]],AcronymList,0),1)","v":"Organisation Internationale pour les Migrations"},{"$f":"INDEX(Organizations[],MATCH(Main3WData14[[#This Row],[Acronym]],AcronymList,0),3)","v":"Org Int."},"Abris et NFI","Regulier","Tombouctou",{"$f":"VLOOKUP(Main3WData14[[#This Row],[Admin Unit Name]],AdminUnits[],2,FALSE)","v":"ML06"},{"$f":"VLOOKUP(Main3WData14[[#This Row],[Admin Unit Name]],AdminUnits[],3,FALSE)","v":"Nord"},{"$f":"VLOOKUP(Main3WData14[[#This Row],[Admin Unit Name]],AdminUnits[],4,FALSE)","v":6},{"$f":"VLOOKUP(Main3WData14[[#This Row],[Sector]],Sectors[],2,FALSE)","v":1}]
[null,"OIM",{"$f":"INDEX(Organizations[],MATCH(Main3WData14[[#This Row],[Acronym]],AcronymList,0),1)","v":"Organisation Internationale pour les Migrations"},{"$f":"INDEX(Organizations[],MATCH(Main3WData14[[#This Row],[Acronym]],AcronymList,0),3)","v":"Org Int."},"Abris et NFI","Regulier","segou",{"$f":"VLOOKUP(Main3WData14[[#This Row],[Admin Unit Name]],AdminUnits[],2,FALSE)","v":"ML04"},{"$f":"VLOOKUP(Main3WData14[[#This Row],[Admin Unit Name]],AdminUnits[],3,FALSE)","v":"Sud"},{"$f":"VLOOKUP(Main3WData14[[#This Row],[Admin Unit Name]],AdminUnits[],4,FALSE)","v":4},{"$f":"VLOOKUP(Main3WData14[[#This Row],[Sector]],Sectors[],2,FALSE)","v":1}]
[null,"OIM",{"$f":"INDEX(Organizations[],MATCH(Main3WData14[[#This Row],[Acronym]],AcronymList,0),1)","v":"Organisation Internationale pour les Migrations"},{"$f":"INDEX(Organizations[],MATCH(Main3WData14[[#This Row],[Acronym]],AcronymList,0),3)","v":"Org Int."},"Abris et NFI","Regulier","Bamako",{"$f":"VLOOKUP(Main3WData14[[#This Row],[Admin Unit Name]],AdminUnits[],2,FALSE)","v":"ML09"},{"$f":"VLOOKUP(Main3WData14[[#This Row],[Admin Unit Name]],AdminUnits[],3,FALSE)","v":"Sud"},{"$f":"VLOOKUP(Main3WData14[[#This Row],[Admin Unit Name]],AdminUnits[],4,FALSE)","v":0},{"$f":"VLOOKUP(Main3WData14[[#This Row],[Sector]],Sectors[],2,FALSE)","v":1}]
[null,"OGES",{"$f":"INDEX(Organizations[],MATCH(Main3WData14[[#This Row],[Acronym]],AcronymList,0),1)","v":"OGES"},{"$f":"INDEX(Organizations[],MATCH(Main3WData14[[#This Row],[Acronym]],AcronymList,0),3)","v":"ONG Nat."},"Sécurité alimentaire","Regulier","Mopti",{"$f":"VLOOKUP(Main3WData14[[#This Row],[Admin Unit Name]],AdminUnits[],2,FALSE)","v":"ML05"},{"$f":"VLOOKUP(Main3WData14[[#This Row],[Admin Unit Name]],AdminUnits[],3,FALSE)","v":"Sud"},{"$f":"VLOOKUP(Main3WData14[[#This Row],[Admin Unit Name]],AdminUnits[],4,FALSE)","v":5},{"$f":"VLOOKUP(Main3WData14[[#This Row],[Sector]],Sectors[],2,FALSE)","v":7}]
[null,"OCHA",{"$f":"INDEX(Organizations[],MATCH(Main3WData14[[#This Row],[Acronym]],AcronymList,0),1)","v":"Bureau de coordination des affaires humanitaires"},{"$f":"INDEX(Organizations[],MATCH(Main3WData14[[#This Row],[Acronym]],AcronymList,0),3)","v":"UN"},"Coordination","Regulier","Bamako",{"$f":"VLOOKUP(Main3WData14[[#This Row],[Admin Unit Name]],AdminUnits[],2,FALSE)","v":"ML09"},{"$f":"VLOOKUP(Main3WData14[[#This Row],[Admin Unit Name]],AdminUnits[],3,FALSE)","v":"Sud"},{"$f":"VLOOKUP(Main3WData14[[#This Row],[Admin Unit Name]],AdminUnits[],4,FALSE)","v":0},{"$f":"VLOOKUP(Main3WData14[[#This Row],[Sector]],Sectors[],2,FALSE)","v":2}]
[null,"OCHA",{"$f":"INDEX(Organizations[],MATCH(Main3WData14[[#This Row],[Acronym]],AcronymList,0),1)","v":"Bureau de coordination des affaires humanitaires"},{"$f":"INDEX(Organizations[],MATCH(Main3WData14[[#This Row],[Acronym]],AcronymList,0),3)","v":"UN"},"Coordination","Regulier","Kayes",{"$f":"VLOOKUP(Main3WData14[[#This Row],[Admin Unit Name]],AdminUnits[],2,FALSE)","v":"ML01"},{"$f":"VLOOKUP(Main3WData14[[#This Row],[Admin Unit Name]],AdminUnits[],3,FALSE)","v":"Sud"},{"$f":"VLOOKUP(Main3WData14[[#This Row],[Admin Unit Name]],AdminUnits[],4,FALSE)","v":1},{"$f":"VLOOKUP(Main3WData14[[#This Row],[Sector]],Sectors[],2,FALSE)","v":2}]
[null,"OCHA",{"$f":"INDEX(Organizations[],MATCH(Main3WData14[[#This Row],[Acronym]],AcronymList,0),1)","v":"Bureau de coordination des affaires humanitaires"},{"$f":"INDEX(Organizations[],MATCH(Main3WData14[[#This Row],[Acronym]],AcronymList,0),3)","v":"UN"},"Coordination","Regulier","Mopti",{"$f":"VLOOKUP(Main3WData14[[#This Row],[Admin Unit Name]],AdminUnits[],2,FALSE)","v":"ML05"},{"$f":"VLOOKUP(Main3WData14[[#This Row],[Admin Unit Name]],AdminUnits[],3,FALSE)","v":"Sud"},{"$f":"VLOOKUP(Main3WData14[[#This Row],[Admin Unit Name]],AdminUnits[],4,FALSE)","v":5},{"$f":"VLOOKUP(Main3WData14[[#This Row],[Sector]],Sectors[],2,FALSE)","v":2}]
[null,"OCHA",{"$f":"INDEX(Organizations[],MATCH(Main3WData14[[#This Row],[Acronym]],AcronymList,0),1)","v":"Bureau de coordination des affaires humanitaires"},{"$f":"INDEX(Organizations[],MATCH(Main3WData14[[#This Row],[Acronym]],AcronymList,0),3)","v":"UN"},"Coordination","Regulier","Tombouctou",{"$f":"VLOOKUP(Main3WData14[[#This Row],[Admin Unit Name]],AdminUnits[],2,FALSE)","v":"ML06"},{"$f":"VLOOKUP(Main3WData14[[#This Row],[Admin Unit Name]],AdminUnits[],3,FALSE)","v":"Nord"},{"$f":"VLOOKUP(Main3WData14[[#This Row],[Admin Unit Name]],AdminUnits[],4,FALSE)","v":6},{"$f":"VLOOKUP(Main3WData14[[#This Row],[Sector]],Sectors[],2,FALSE)","v":2}]
[null,"OCHA",{"$f":"INDEX(Organizations[],MATCH(Main3WData14[[#This Row],[Acronym]],AcronymList,0),1)","v":"Bureau de coordination des affaires humanitaires"},{"$f":"INDEX(Organizations[],MATCH(Main3WData14[[#This Row],[Acronym]],AcronymList,0),3)","v":"UN"},"Coordination","Regulier","Gao",{"$f":"VLOOKUP(Main3WData14[[#This Row],[Admin Unit Name]],AdminUnits[],2,FALSE)","v":"ML07"},{"$f":"VLOOKUP(Main3WData14[[#This Row],[Admin Unit Name]],AdminUnits[],3,FALSE)","v":"Nord"},{"$f":"VLOOKUP(Main3WData14[[#This Row],[Admin Unit Name]],AdminUnits[],4,FALSE)","v":7},{"$f":"VLOOKUP(Main3WData14[[#This Row],[Sector]],Sectors[],2,FALSE)","v":2}]
[null,"NRC",{"$f":"INDEX(Organizations[],MATCH(Main3WData14[[#This Row],[Acronym]],AcronymList,0),1)","v":"Norwegian Refugee Council "},{"$f":"INDEX(Organizations[],MATCH(Main3WData14[[#This Row],[Acronym]],AcronymList,0),3)","v":"ONG Int."},"Protection","Regulier","Segou",{"$f":"VLOOKUP(Main3WData14[[#This Row],[Admin Unit Name]],AdminUnits[],2,FALSE)","v":"ML04"},{"$f":"VLOOKUP(Main3WData14[[#This Row],[Admin Unit Name]],AdminUnits[],3,FALSE)","v":"Sud"},{"$f":"VLOOKUP(Main3WData14[[#This Row],[Admin Unit Name]],AdminUnits[],4,FALSE)","v":4},{"$f":"VLOOKUP(Main3WData14[[#This Row],[Sector]],Sectors[],2,FALSE)","v":5}]
[null,"NRC",{"$f":"INDEX(Organizations[],MATCH(Main3WData14[[#This Row],[Acronym]],AcronymList,0),1)","v":"Norwegian Refugee Council "},{"$f":"INDEX(Organizations[],MATCH(Main3WData14[[#This Row],[Acronym]],AcronymList,0),3)","v":"ONG Int."},"Protection","Regulier","Mopti",{"$f":"VLOOKUP(Main3WData14[[#This Row],[Admin Unit Name]],AdminUnits[],2,FALSE)","v":"ML05"},{"$f":"VLOOKUP(Main3WData14[[#This Row],[Admin Unit Name]],AdminUnits[],3,FALSE)","v":"Sud"},{"$f":"VLOOKUP(Main3WData14[[#This Row],[Admin Unit Name]],AdminUnits[],4,FALSE)","v":5},{"$f":"VLOOKUP(Main3WData14[[#This Row],[Sector]],Sectors[],2,FALSE)","v":5}]
[null,"NRC",{"$f":"INDEX(Organizations[],MATCH(Main3WData14[[#This Row],[Acronym]],AcronymList,0),1)","v":"Norwegian Refugee Council "},{"$f":"INDEX(Organizations[],MATCH(Main3WData14[[#This Row],[Acronym]],AcronymList,0),3)","v":"ONG Int."},"Protection","Regulier","Bamako",{"$f":"VLOOKUP(Main3WData14[[#This Row],[Admin Unit Name]],AdminUnits[],2,FALSE)","v":"ML09"},{"$f":"VLOOKUP(Main3WData14[[#This Row],[Admin Unit Name]],AdminUnits[],3,FALSE)","v":"Sud"},{"$f":"VLOOKUP(Main3WData14[[#This Row],[Admin Unit Name]],AdminUnits[],4,FALSE)","v":0},{"$f":"VLOOKUP(Main3WData14[[#This Row],[Sector]],Sectors[],2,FALSE)","v":5}]
[null,"NRC",{"$f":"INDEX(Organizations[],MATCH(Main3WData14[[#This Row],[Acronym]],AcronymList,0),1)","v":"Norwegian Refugee Council "},{"$f":"INDEX(Organizations[],MATCH(Main3WData14[[#This Row],[Acronym]],AcronymList,0),3)","v":"ONG Int."},"Education","Regulier","Bamako",{"$f":"VLOOKUP(Main3WData14[[#This Row],[Admin Unit Name]],AdminUnits[],2,FALSE)","v":"ML09"},{"$f":"VLOOKUP(Main3WData14[[#This Row],[Admin Unit Name]],AdminUnits[],3,FALSE)","v":"Sud"},{"$f":"VLOOKUP(Main3WData14[[#This Row],[Admin Unit Name]],AdminUnits[],4,FALSE)","v":0},{"$f":"VLOOKUP(Main3WData14[[#This Row],[Sector]],Sectors[],2,FALSE)","v":3}]
[null,"NRC",{"$f":"INDEX(Organizations[],MATCH(Main3WData14[[#This Row],[Acronym]],AcronymList,0),1)","v":"Norwegian Refugee Council "},{"$f":"INDEX(Organizations[],MATCH(Main3WData14[[#This Row],[Acronym]],AcronymList,0),3)","v":"ONG Int."},"Education","Regulier","Segou",{"$f":"VLOOKUP(Main3WData14[[#This Row],[Admin Unit Name]],AdminUnits[],2,FALSE)","v":"ML04"},{"$f":"VLOOKUP(Main3WData14[[#This Row],[Admin Unit Name]],AdminUnits[],3,FALSE)","v":"Sud"},{"$f":"VLOOKUP(Main3WData14[[#This Row],[Admin Unit Name]],AdminUnits[],4,FALSE)","v":4},{"$f":"VLOOKUP(Main3WData14[[#This Row],[Sector]],Sectors[],2,FALSE)","v":3}]
[null,"NRC",{"$f":"INDEX(Organizations[],MATCH(Main3WData14[[#This Row],[Acronym]],AcronymList,0),1)","v":"Norwegian Refugee Council "},{"$f":"INDEX(Organizations[],MATCH(Main3WData14[[#This Row],[Acronym]],AcronymList,0),3)","v":"ONG Int."},"Education","Regulier","Mopti",{"$f":"VLOOKUP(Main3WData14[[#This Row],[Admin Unit Name]],AdminUnits[],2,FALSE)","v":"ML05"},{"$f":"VLOOKUP(Main3WData14[[#This Row],[Admin Unit Name]],AdminUnits[],3,FALSE)","v":"Sud"},{"$f":"VLOOKUP(Main3WData14[[#This Row],[Admin Unit Name]],AdminUnits[],4,FALSE)","v":5},{"$f":"VLOOKUP(Main3WData14[[#This Row],[Sector]],Sectors[],2,FALSE)","v":3}]
[null,"NRC",{"$f":"INDEX(Organizations[],MATCH(Main3WData14[[#This Row],[Acronym]],AcronymList,0),1)","v":"Norwegian Refugee Council "},{"$f":"INDEX(Organizations[],MATCH(Main3WData14[[#This Row],[Acronym]],AcronymList,0),3)","v":"ONG Int."},"Abris et NFI","Regulier","Bamako",{"$f":"VLOOKUP(Main3WData14[[#This Row],[Admin Unit Name]],AdminUnits[],2,FALSE)","v":"ML09"},{"$f":"VLOOKUP(Main3WData14[[#This Row],[Admin Unit Name]],AdminUnits[],3,FALSE)","v":"Sud"},{"$f":"VLOOKUP(Main3WData14[[#This Row],[Admin Unit Name]],AdminUnits[],4,FALSE)","v":0},{"$f":"VLOOKUP(Main3WData14[[#This Row],[Sector]],Sectors[],2,FALSE)","v":1}]
[null,"NRC",{"$f":"INDEX(Organizations[],MATCH(Main3WData14[[#This Row],[Acronym]],AcronymList,0),1)","v":"Norwegian Refugee Council "},{"$f":"INDEX(Organizations[],MATCH(Main3WData14[[#This Row],[Acronym]],AcronymList,0),3)","v":"ONG Int."},"Abris et NFI","Regulier","Segou",{"$f":"VLOOKUP(Main3WData14[[#This Row],[Admin Unit Name]],AdminUnits[],2,FALSE)","v":"ML04"},{"$f":"VLOOKUP(Main3WData14[[#This Row],[Admin Unit Name]],AdminUnits[],3,FALSE)","v":"Sud"},{"$f":"VLOOKUP(Main3WData14[[#This Row],[Admin Unit Name]],AdminUnits[],4,FALSE)","v":4},{"$f":"VLOOKUP(Main3WData14[[#This Row],[Sector]],Sectors[],2,FALSE)","v":1}]
[null,"NRC",{"$f":"INDEX(Organizations[],MATCH(Main3WData14[[#This Row],[Acronym]],AcronymList,0),1)","v":"Norwegian Refugee Council "},{"$f":"INDEX(Organizations[],MATCH(Main3WData14[[#This Row],[Acronym]],AcronymList,0),3)","v":"ONG Int."},"Abris et NFI","Regulier","Mopti",{"$f":"VLOOKUP(Main3WData14[[#This Row],[Admin Unit Name]],AdminUnits[],2,FALSE)","v":"ML05"},{"$f":"VLOOKUP(Main3WData14[[#This Row],[Admin Unit Name]],AdminUnits[],3,FALSE)","v":"Sud"},{"$f":"VLOOKUP(Main3WData14[[#This Row],[Admin Unit Name]],AdminUnits[],4,FALSE)","v":5},{"$f":"VLOOKUP(Main3WData14[[#This Row],[Sector]],Sectors[],2,FALSE)","v":1}]
[null,"NCA",{"$f":"INDEX(Organizations[],MATCH(Main3WData14[[#This Row],[Acronym]],AcronymList,0),1)","v":"Norwegian Church Aid"},{"$f":"INDEX(Organizations[],MATCH(Main3WData14[[#This Row],[Acronym]],AcronymList,0),3)","v":"ONG Int."},"Sécurité alimentaire","Regulier","Kidal",{"$f":"VLOOKUP(Main3WData14[[#This Row],[Admin Unit Name]],AdminUnits[],2,FALSE)","v":"ML08"},{"$f":"VLOOKUP(Main3WData14[[#This Row],[Admin Unit Name]],AdminUnits[],3,FALSE)","v":"Nord"},{"$f":"VLOOKUP(Main3WData14[[#This Row],[Admin Unit Name]],AdminUnits[],4,FALSE)","v":8},{"$f":"VLOOKUP(Main3WData14[[#This Row],[Sector]],Sectors[],2,FALSE)","v":7}]
[null,"MSI",{"$f":"INDEX(Organizations[],MATCH(Main3WData14[[#This Row],[Acronym]],AcronymList,0),1)","v":"Marie Stopes International"},{"$f":"INDEX(Organizations[],MATCH(Main3WData14[[#This Row],[Acronym]],AcronymList,0),3)","v":"ONG Int."},"Santé","Regulier","Segou",{"$f":"VLOOKUP(Main3WData14[[#This Row],[Admin Unit Name]],AdminUnits[],2,FALSE)","v":"ML04"},{"$f":"VLOOKUP(Main3WData14[[#This Row],[Admin Unit Name]],AdminUnits[],3,FALSE)","v":"Sud"},{"$f":"VLOOKUP(Main3WData14[[#This Row],[Admin Unit Name]],AdminUnits[],4,FALSE)","v":4},{"$f":"VLOOKUP(Main3WData14[[#This Row],[Sector]],Sectors[],2,FALSE)","v":6}]
[null,"MSF",{"$f":"INDEX(Organizations[],MATCH(Main3WData14[[#This Row],[Acronym]],AcronymList,0),1)","v":"Médecins Sans Frontières"},{"$f":"INDEX(Organizations[],MATCH(Main3WData14[[#This Row],[Acronym]],AcronymList,0),3)","v":"ONG Int."},"Santé","Regulier","GAO",{"$f":"VLOOKUP(Main3WData14[[#This Row],[Admin Unit Name]],AdminUnits[],2,FALSE)","v":"ML07"},{"$f":"VLOOKUP(Main3WData14[[#This Row],[Admin Unit Name]],AdminUnits[],3,FALSE)","v":"Nord"},{"$f":"VLOOKUP(Main3WData14[[#This Row],[Admin Unit Name]],AdminUnits[],4,FALSE)","v":7},{"$f":"VLOOKUP(Main3WData14[[#This Row],[Sector]],Sectors[],2,FALSE)","v":6}]
[null,"MSF",{"$f":"INDEX(Organizations[],MATCH(Main3WData14[[#This Row],[Acronym]],AcronymList,0),1)","v":"Médecins Sans Frontières"},{"$f":"INDEX(Organizations[],MATCH(Main3WData14[[#This Row],[Acronym]],AcronymList,0),3)","v":"ONG Int."},"Santé","Regulier","TOMBOUCTOU",{"$f":"VLOOKUP(Main3WData14[[#This Row],[Admin Unit Name]],AdminUnits[],2,FALSE)","v":"ML06"},{"$f":"VLOOKUP(Main3WData14[[#This Row],[Admin Unit Name]],AdminUnits[],3,FALSE)","v":"Nord"},{"$f":"VLOOKUP(Main3WData14[[#This Row],[Admin Unit Name]],AdminUnits[],4,FALSE)","v":6},{"$f":"VLOOKUP(Main3WData14[[#This Row],[Sector]],Sectors[],2,FALSE)","v":6}]
[null,"MSF",{"$f":"INDEX(Organizations[],MATCH(Main3WData14[[#This Row],[Acronym]],AcronymList,0),1)","v":"Médecins Sans Frontières"},{"$f":"INDEX(Organizations[],MATCH(Main3WData14[[#This Row],[Acronym]],AcronymList,0),3)","v":"ONG Int."},"Santé","Regulier","MOPTI",{"$f":"VLOOKUP(Main3WData14[[#This Row],[Admin Unit Name]],AdminUnits[],2,FALSE)","v":"ML05"},{"$f":"VLOOKUP(Main3WData14[[#This Row],[Admin Unit Name]],AdminUnits[],3,FALSE)","v":"Sud"},{"$f":"VLOOKUP(Main3WData14[[#This Row],[Admin Unit Name]],AdminUnits[],4,FALSE)","v":5},{"$f":"VLOOKUP(Main3WData14[[#This Row],[Sector]],Sectors[],2,FALSE)","v":6}]
[null,"MSF",{"$f":"INDEX(Organizations[],MATCH(Main3WData14[[#This Row],[Acronym]],AcronymList,0),1)","v":"Médecins Sans Frontières"},{"$f":"INDEX(Organizations[],MATCH(Main3WData14[[#This Row],[Acronym]],AcronymList,0),3)","v":"ONG Int."},"Santé","Regulier","Tombouctou",{"$f":"VLOOKUP(Main3WData14[[#This Row],[Admin Unit Name]],AdminUnits[],2,FALSE)","v":"ML06"},{"$f":"VLOOKUP(Main3WData14[[#This Row],[Admin Unit Name]],AdminUnits[],3,FALSE)","v":"Nord"},{"$f":"VLOOKUP(Main3WData14[[#This Row],[Admin Unit Name]],AdminUnits[],4,FALSE)","v":6},{"$f":"VLOOKUP(Main3WData14[[#This Row],[Sector]],Sectors[],2,FALSE)","v":6}]
[null,"MSF",{"$f":"INDEX(Organizations[],MATCH(Main3WData14[[#This Row],[Acronym]],AcronymList,0),1)","v":"Médecins Sans Frontières"},{"$f":"INDEX(Organizations[],MATCH(Main3WData14[[#This Row],[Acronym]],AcronymList,0),3)","v":"ONG Int."},"Nutrition","Regulier","Mopti",{"$f":"VLOOKUP(Main3WData14[[#This Row],[Admin Unit Name]],AdminUnits[],2,FALSE)","v":"ML05"},{"$f":"VLOOKUP(Main3WData14[[#This Row],[Admin Unit Name]],AdminUnits[],3,FALSE)","v":"Sud"},{"$f":"VLOOKUP(Main3WData14[[#This Row],[Admin Unit Name]],AdminUnits[],4,FALSE)","v":5},{"$f":"VLOOKUP(Main3WData14[[#This Row],[Sector]],Sectors[],2,FALSE)","v":4}]
[null,"MSF",{"$f":"INDEX(Organizations[],MATCH(Main3WData14[[#This Row],[Acronym]],AcronymList,0),1)","v":"Médecins Sans Frontières"},{"$f":"INDEX(Organizations[],MATCH(Main3WData14[[#This Row],[Acronym]],AcronymList,0),3)","v":"ONG Int."},"Nutrition","Regulier","Sikasso",{"$f":"VLOOKUP(Main3WData14[[#This Row],[Admin Unit Name]],AdminUnits[],2,FALSE)","v":"ML03"},{"$f":"VLOOKUP(Main3WData14[[#This Row],[Admin Unit Name]],AdminUnits[],3,FALSE)","v":"Sud"},{"$f":"VLOOKUP(Main3WData14[[#This Row],[Admin Unit Name]],AdminUnits[],4,FALSE)","v":3},{"$f":"VLOOKUP(Main3WData14[[#This Row],[Sector]],Sectors[],2,FALSE)","v":4}]
[null,"MSF",{"$f":"INDEX(Organizations[],MATCH(Main3WData14[[#This Row],[Acronym]],AcronymList,0),1)","v":"Médecins Sans Frontières"},{"$f":"INDEX(Organizations[],MATCH(Main3WData14[[#This Row],[Acronym]],AcronymList,0),3)","v":"ONG Int."},"Nutrition","Regulier","Tombouctou",{"$f":"VLOOKUP(Main3WData14[[#This Row],[Admin Unit Name]],AdminUnits[],2,FALSE)","v":"ML06"},{"$f":"VLOOKUP(Main3WData14[[#This Row],[Admin Unit Name]],AdminUnits[],3,FALSE)","v":"Nord"},{"$f":"VLOOKUP(Main3WData14[[#This Row],[Admin Unit Name]],AdminUnits[],4,FALSE)","v":6},{"$f":"VLOOKUP(Main3WData14[[#This Row],[Sector]],Sectors[],2,FALSE)","v":4}]
[null,"MPDL",{"$f":"INDEX(Organizations[],MATCH(Main3WData14[[#This Row],[Acronym]],AcronymList,0),1)","v":"Mouvement pour la Paix "},{"$f":"INDEX(Organizations[],MATCH(Main3WData14[[#This Row],[Acronym]],AcronymList,0),3)","v":"ONG Int."},"Nutrition","Regulier","Kayes",{"$f":"VLOOKUP(Main3WData14[[#This Row],[Admin Unit Name]],AdminUnits[],2,FALSE)","v":"ML01"},{"$f":"VLOOKUP(Main3WData14[[#This Row],[Admin Unit Name]],AdminUnits[],3,FALSE)","v":"Sud"},{"$f":"VLOOKUP(Main3WData14[[#This Row],[Admin Unit Name]],AdminUnits[],4,FALSE)","v":1},{"$f":"VLOOKUP(Main3WData14[[#This Row],[Sector]],Sectors[],2,FALSE)","v":4}]
[null,"Molibemo",{"$f":"INDEX(Organizations[],MATCH(Main3WData14[[#This Row],[Acronym]],AcronymList,0),1)","v":"Molibemo"},{"$f":"INDEX(Organizations[],MATCH(Main3WData14[[#This Row],[Acronym]],AcronymList,0),3)","v":"ONG Nat."},"Sécurité alimentaire","Regulier","Mopti",{"$f":"VLOOKUP(Main3WData14[[#This Row],[Admin Unit Name]],AdminUnits[],2,FALSE)","v":"ML05"},{"$f":"VLOOKUP(Main3WData14[[#This Row],[Admin Unit Name]],AdminUnits[],3,FALSE)","v":"Sud"},{"$f":"VLOOKUP(Main3WData14[[#This Row],[Admin Unit Name]],AdminUnits[],4,FALSE)","v":5},{"$f":"VLOOKUP(Main3WData14[[#This Row],[Sector]],Sectors[],2,FALSE)","v":7}]
[null,"MERLIN",{"$f":"INDEX(Organizations[],MATCH(Main3WData14[[#This Row],[Acronym]],AcronymList,0),1)","v":"MERLIN"},{"$f":"INDEX(Organizations[],MATCH(Main3WData14[[#This Row],[Acronym]],AcronymList,0),3)","v":"ONG Int."},"Santé","Regulier","Tombouctou",{"$f":"VLOOKUP(Main3WData14[[#This Row],[Admin Unit Name]],AdminUnits[],2,FALSE)","v":"ML06"},{"$f":"VLOOKUP(Main3WData14[[#This Row],[Admin Unit Name]],AdminUnits[],3,FALSE)","v":"Nord"},{"$f":"VLOOKUP(Main3WData14[[#This Row],[Admin Unit Name]],AdminUnits[],4,FALSE)","v":6},{"$f":"VLOOKUP(Main3WData14[[#This Row],[Sector]],Sectors[],2,FALSE)","v":6}]
[null,"MDM France",{"$f":"INDEX(Organizations[],MATCH(Main3WData14[[#This Row],[Acronym]],AcronymList,0),1)","v":"Médecins Du Monde France"},{"$f":"INDEX(Organizations[],MATCH(Main3WData14[[#This Row],[Acronym]],AcronymList,0),3)","v":"ONG Int."},"Santé","Regulier","MOPTI",{"$f":"VLOOKUP(Main3WData14[[#This Row],[Admin Unit Name]],AdminUnits[],2,FALSE)","v":"ML05"},{"$f":"VLOOKUP(Main3WData14[[#This Row],[Admin Unit Name]],AdminUnits[],3,FALSE)","v":"Sud"},{"$f":"VLOOKUP(Main3WData14[[#This Row],[Admin Unit Name]],AdminUnits[],4,FALSE)","v":5},{"$f":"VLOOKUP(Main3WData14[[#This Row],[Sector]],Sectors[],2,FALSE)","v":6}]
[null,"MDM France",{"$f":"INDEX(Organizations[],MATCH(Main3WData14[[#This Row],[Acronym]],AcronymList,0),1)","v":"Médecins Du Monde France"},{"$f":"INDEX(Organizations[],MATCH(Main3WData14[[#This Row],[Acronym]],AcronymList,0),3)","v":"ONG Int."},"Santé","Regulier","BAMAKO",{"$f":"VLOOKUP(Main3WData14[[#This Row],[Admin Unit Name]],AdminUnits[],2,FALSE)","v":"ML09"},{"$f":"VLOOKUP(Main3WData14[[#This Row],[Admin Unit Name]],AdminUnits[],3,FALSE)","v":"Sud"},{"$f":"VLOOKUP(Main3WData14[[#This Row],[Admin Unit Name]],AdminUnits[],4,FALSE)","v":0},{"$f":"VLOOKUP(Main3WData14[[#This Row],[Sector]],Sectors[],2,FALSE)","v":6}]
[null,"MDM France",{"$f":"INDEX(Organizations[],MATCH(Main3WData14[[#This Row],[Acronym]],AcronymList,0),1)","v":"Médecins Du Monde France"},{"$f":"INDEX(Organizations[],MATCH(Main3WData14[[#This Row],[Acronym]],AcronymList,0),3)","v":"ONG Int."},"Nutrition","Regulier","Mopti",{"$f":"VLOOKUP(Main3WData14[[#This Row],[Admin Unit Name]],AdminUnits[],2,FALSE)","v":"ML05"},{"$f":"VLOOKUP(Main3WData14[[#This Row],[Admin Unit Name]],AdminUnits[],3,FALSE)","v":"Sud"},{"$f":"VLOOKUP(Main3WData14[[#This Row],[Admin Unit Name]],AdminUnits[],4,FALSE)","v":5},{"$f":"VLOOKUP(Main3WData14[[#This Row],[Sector]],Sectors[],2,FALSE)","v":4}]
[null,"MDM Belgique",{"$f":"INDEX(Organizations[],MATCH(Main3WData14[[#This Row],[Acronym]],AcronymList,0),1)","v":"Médecins Du Monde Belgique"},{"$f":"INDEX(Organizations[],MATCH(Main3WData14[[#This Row],[Acronym]],AcronymList,0),3)","v":"ONG Int."},"Santé","Regulier","KIDAL",{"$f":"VLOOKUP(Main3WData14[[#This Row],[Admin Unit Name]],AdminUnits[],2,FALSE)","v":"ML08"},{"$f":"VLOOKUP(Main3WData14[[#This Row],[Admin Unit Name]],AdminUnits[],3,FALSE)","v":"Nord"},{"$f":"VLOOKUP(Main3WData14[[#This Row],[Admin Unit Name]],AdminUnits[],4,FALSE)","v":8},{"$f":"VLOOKUP(Main3WData14[[#This Row],[Sector]],Sectors[],2,FALSE)","v":6}]
[null,"MDM Belgique",{"$f":"INDEX(Organizations[],MATCH(Main3WData14[[#This Row],[Acronym]],AcronymList,0),1)","v":"Médecins Du Monde Belgique"},{"$f":"INDEX(Organizations[],MATCH(Main3WData14[[#This Row],[Acronym]],AcronymList,0),3)","v":"ONG Int."},"Santé","Regulier","GAO",{"$f":"VLOOKUP(Main3WData14[[#This Row],[Admin Unit Name]],AdminUnits[],2,FALSE)","v":"ML07"},{"$f":"VLOOKUP(Main3WData14[[#This Row],[Admin Unit Name]],AdminUnits[],3,FALSE)","v":"Nord"},{"$f":"VLOOKUP(Main3WData14[[#This Row],[Admin Unit Name]],AdminUnits[],4,FALSE)","v":7},{"$f":"VLOOKUP(Main3WData14[[#This Row],[Sector]],Sectors[],2,FALSE)","v":6}]
[null,"MDM Belgique",{"$f":"INDEX(Organizations[],MATCH(Main3WData14[[#This Row],[Acronym]],AcronymList,0),1)","v":"Médecins Du Monde Belgique"},{"$f":"INDEX(Organizations[],MATCH(Main3WData14[[#This Row],[Acronym]],AcronymList,0),3)","v":"ONG Int."},"Nutrition","Regulier","Gao",{"$f":"VLOOKUP(Main3WData14[[#This Row],[Admin Unit Name]],AdminUnits[],2,FALSE)","v":"ML07"},{"$f":"VLOOKUP(Main3WData14[[#This Row],[Admin Unit Name]],AdminUnits[],3,FALSE)","v":"Nord"},{"$f":"VLOOKUP(Main3WData14[[#This Row],[Admin Unit Name]],AdminUnits[],4,FALSE)","v":7},{"$f":"VLOOKUP(Main3WData14[[#This Row],[Sector]],Sectors[],2,FALSE)","v":4}]
[null,"MDM Belgique",{"$f":"INDEX(Organizations[],MATCH(Main3WData14[[#This Row],[Acronym]],AcronymList,0),1)","v":"Médecins Du Monde Belgique"},{"$f":"INDEX(Organizations[],MATCH(Main3WData14[[#This Row],[Acronym]],AcronymList,0),3)","v":"ONG Int."},"Nutrition","Regulier","Gao",{"$f":"VLOOKUP(Main3WData14[[#This Row],[Admin Unit Name]],AdminUnits[],2,FALSE)","v":"ML07"},{"$f":"VLOOKUP(Main3WData14[[#This Row],[Admin Unit Name]],AdminUnits[],3,FALSE)","v":"Nord"},{"$f":"VLOOKUP(Main3WData14[[#This Row],[Admin Unit Name]],AdminUnits[],4,FALSE)","v":7},{"$f":"VLOOKUP(Main3WData14[[#This Row],[Sector]],Sectors[],2,FALSE)","v":4}]
[null,"MDM Belgique",{"$f":"INDEX(Organizations[],MATCH(Main3WData14[[#This Row],[Acronym]],AcronymList,0),1)","v":"Médecins Du Monde Belgique"},{"$f":"INDEX(Organizations[],MATCH(Main3WData14[[#This Row],[Acronym]],AcronymList,0),3)","v":"ONG Int."},"Nutrition","Regulier","Kidal",{"$f":"VLOOKUP(Main3WData14[[#This Row],[Admin Unit Name]],AdminUnits[],2,FALSE)","v":"ML08"},{"$f":"VLOOKUP(Main3WData14[[#This Row],[Admin Unit Name]],AdminUnits[],3,FALSE)","v":"Nord"},{"$f":"VLOOKUP(Main3WData14[[#This Row],[Admin Unit Name]],AdminUnits[],4,FALSE)","v":8},{"$f":"VLOOKUP(Main3WData14[[#This Row],[Sector]],Sectors[],2,FALSE)","v":4}]
[null,"Lux Dev.",{"$f":"INDEX(Organizations[],MATCH(Main3WData14[[#This Row],[Acronym]],AcronymList,0),1)","v":"Lux Developpement"},{"$f":"INDEX(Organizations[],MATCH(Main3WData14[[#This Row],[Acronym]],AcronymList,0),3)","v":"ONG Int."},"Santé","Regulier","Segou",{"$f":"VLOOKUP(Main3WData14[[#This Row],[Admin Unit Name]],AdminUnits[],2,FALSE)","v":"ML04"},{"$f":"VLOOKUP(Main3WData14[[#This Row],[Admin Unit Name]],AdminUnits[],3,FALSE)","v":"Sud"},{"$f":"VLOOKUP(Main3WData14[[#This Row],[Admin Unit Name]],AdminUnits[],4,FALSE)","v":4},{"$f":"VLOOKUP(Main3WData14[[#This Row],[Sector]],Sectors[],2,FALSE)","v":6}]
[null,"Lux Dev.",{"$f":"INDEX(Organizations[],MATCH(Main3WData14[[#This Row],[Acronym]],AcronymList,0),1)","v":"Lux Developpement"},{"$f":"INDEX(Organizations[],MATCH(Main3WData14[[#This Row],[Acronym]],AcronymList,0),3)","v":"ONG Int."},"Santé","Regulier","Tombouctou",{"$f":"VLOOKUP(Main3WData14[[#This Row],[Admin Unit Name]],AdminUnits[],2,FALSE)","v":"ML06"},{"$f":"VLOOKUP(Main3WData14[[#This Row],[Admin Unit Name]],AdminUnits[],3,FALSE)","v":"Nord"},{"$f":"VLOOKUP(Main3WData14[[#This Row],[Admin Unit Name]],AdminUnits[],4,FALSE)","v":6},{"$f":"VLOOKUP(Main3WData14[[#This Row],[Sector]],Sectors[],2,FALSE)","v":6}]
[null,"JEKATAANIEN",{"$f":"INDEX(Organizations[],MATCH(Main3WData14[[#This Row],[Acronym]],AcronymList,0),1)","v":"JEKATAANIEN"},{"$f":"INDEX(Organizations[],MATCH(Main3WData14[[#This Row],[Acronym]],AcronymList,0),3)","v":"ONG Nat."},"Sécurité alimentaire","Regulier","Sikasso",{"$f":"VLOOKUP(Main3WData14[[#This Row],[Admin Unit Name]],AdminUnits[],2,FALSE)","v":"ML03"},{"$f":"VLOOKUP(Main3WData14[[#This Row],[Admin Unit Name]],AdminUnits[],3,FALSE)","v":"Sud"},{"$f":"VLOOKUP(Main3WData14[[#This Row],[Admin Unit Name]],AdminUnits[],4,FALSE)","v":3},{"$f":"VLOOKUP(Main3WData14[[#This Row],[Sector]],Sectors[],2,FALSE)","v":7}]
[null,"ISLAMIC RELIEF",{"$f":"INDEX(Organizations[],MATCH(Main3WData14[[#This Row],[Acronym]],AcronymList,0),1)","v":"Islamic Relief"},{"$f":"INDEX(Organizations[],MATCH(Main3WData14[[#This Row],[Acronym]],AcronymList,0),3)","v":"ONG Int."},"Sécurité alimentaire","Regulier","Mopti",{"$f":"VLOOKUP(Main3WData14[[#This Row],[Admin Unit Name]],AdminUnits[],2,FALSE)","v":"ML05"},{"$f":"VLOOKUP(Main3WData14[[#This Row],[Admin Unit Name]],AdminUnits[],3,FALSE)","v":"Sud"},{"$f":"VLOOKUP(Main3WData14[[#This Row],[Admin Unit Name]],AdminUnits[],4,FALSE)","v":5},{"$f":"VLOOKUP(Main3WData14[[#This Row],[Sector]],Sectors[],2,FALSE)","v":7}]
[null,"ISLAMIC RELIEF",{"$f":"INDEX(Organizations[],MATCH(Main3WData14[[#This Row],[Acronym]],AcronymList,0),1)","v":"Islamic Relief"},{"$f":"INDEX(Organizations[],MATCH(Main3WData14[[#This Row],[Acronym]],AcronymList,0),3)","v":"ONG Int."},"Sécurité alimentaire","Regulier","Tombouctou",{"$f":"VLOOKUP(Main3WData14[[#This Row],[Admin Unit Name]],AdminUnits[],2,FALSE)","v":"ML06"},{"$f":"VLOOKUP(Main3WData14[[#This Row],[Admin Unit Name]],AdminUnits[],3,FALSE)","v":"Nord"},{"$f":"VLOOKUP(Main3WData14[[#This Row],[Admin Unit Name]],AdminUnits[],4,FALSE)","v":6},{"$f":"VLOOKUP(Main3WData14[[#This Row],[Sector]],Sectors[],2,FALSE)","v":7}]
[null,"ISLAMIC RELIEF",{"$f":"INDEX(Organizations[],MATCH(Main3WData14[[#This Row],[Acronym]],AcronymList,0),1)","v":"Islamic Relief"},{"$f":"INDEX(Organizations[],MATCH(Main3WData14[[#This Row],[Acronym]],AcronymList,0),3)","v":"ONG Int."},"EHA","Regulier","Koulikoro",{"$f":"VLOOKUP(Main3WData14[[#This Row],[Admin Unit Name]],AdminUnits[],2,FALSE)","v":"ML02"},{"$f":"VLOOKUP(Main3WData14[[#This Row],[Admin Unit Name]],AdminUnits[],3,FALSE)","v":"Sud"},{"$f":"VLOOKUP(Main3WData14[[#This Row],[Admin Unit Name]],AdminUnits[],4,FALSE)","v":2},{"$f":"VLOOKUP(Main3WData14[[#This Row],[Sector]],Sectors[],2,FALSE)","v":8}]
[null,"ISLAMIC RELIEF",{"$f":"INDEX(Organizations[],MATCH(Main3WData14[[#This Row],[Acronym]],AcronymList,0),1)","v":"Islamic Relief"},{"$f":"INDEX(Organizations[],MATCH(Main3WData14[[#This Row],[Acronym]],AcronymList,0),3)","v":"ONG Int."},"EHA","Regulier","TOMBOUCTOU",{"$f":"VLOOKUP(Main3WData14[[#This Row],[Admin Unit Name]],AdminUnits[],2,FALSE)","v":"ML06"},{"$f":"VLOOKUP(Main3WData14[[#This Row],[Admin Unit Name]],AdminUnits[],3,FALSE)","v":"Nord"},{"$f":"VLOOKUP(Main3WData14[[#This Row],[Admin Unit Name]],AdminUnits[],4,FALSE)","v":6},{"$f":"VLOOKUP(Main3WData14[[#This Row],[Sector]],Sectors[],2,FALSE)","v":8}]
[null,"Islamic Relief",{"$f":"INDEX(Organizations[],MATCH(Main3WData14[[#This Row],[Acronym]],AcronymList,0),1)","v":"Islamic Relief"},{"$f":"INDEX(Organizations[],MATCH(Main3WData14[[#This Row],[Acronym]],AcronymList,0),3)","v":"ONG Int."},"Education","Regulier","Koulikoro",{"$f":"VLOOKUP(Main3WData14[[#This Row],[Admin Unit Name]],AdminUnits[],2,FALSE)","v":"ML02"},{"$f":"VLOOKUP(Main3WData14[[#This Row],[Admin Unit Name]],AdminUnits[],3,FALSE)","v":"Sud"},{"$f":"VLOOKUP(Main3WData14[[#This Row],[Admin Unit Name]],AdminUnits[],4,FALSE)","v":2},{"$f":"VLOOKUP(Main3WData14[[#This Row],[Sector]],Sectors[],2,FALSE)","v":3}]
[null,"IRC",{"$f":"INDEX(Organizations[],MATCH(Main3WData14[[#This Row],[Acronym]],AcronymList,0),1)","v":"International Rescue Committee"},{"$f":"INDEX(Organizations[],MATCH(Main3WData14[[#This Row],[Acronym]],AcronymList,0),3)","v":"ONG Int."},"Santé","Regulier","Koulikoro",{"$f":"VLOOKUP(Main3WData14[[#This Row],[Admin Unit Name]],AdminUnits[],2,FALSE)","v":"ML02"},{"$f":"VLOOKUP(Main3WData14[[#This Row],[Admin Unit Name]],AdminUnits[],3,FALSE)","v":"Sud"},{"$f":"VLOOKUP(Main3WData14[[#This Row],[Admin Unit Name]],AdminUnits[],4,FALSE)","v":2},{"$f":"VLOOKUP(Main3WData14[[#This Row],[Sector]],Sectors[],2,FALSE)","v":6}]
[null,"IRC",{"$f":"INDEX(Organizations[],MATCH(Main3WData14[[#This Row],[Acronym]],AcronymList,0),1)","v":"International Rescue Committee"},{"$f":"INDEX(Organizations[],MATCH(Main3WData14[[#This Row],[Acronym]],AcronymList,0),3)","v":"ONG Int."},"Santé","Regulier","Gao",{"$f":"VLOOKUP(Main3WData14[[#This Row],[Admin Unit Name]],AdminUnits[],2,FALSE)","v":"ML07"},{"$f":"VLOOKUP(Main3WData14[[#This Row],[Admin Unit Name]],AdminUnits[],3,FALSE)","v":"Nord"},{"$f":"VLOOKUP(Main3WData14[[#This Row],[Admin Unit Name]],AdminUnits[],4,FALSE)","v":7},{"$f":"VLOOKUP(Main3WData14[[#This Row],[Sector]],Sectors[],2,FALSE)","v":6}]
[null,"IRC",{"$f":"INDEX(Organizations[],MATCH(Main3WData14[[#This Row],[Acronym]],AcronymList,0),1)","v":"International Rescue Committee"},{"$f":"INDEX(Organizations[],MATCH(Main3WData14[[#This Row],[Acronym]],AcronymList,0),3)","v":"ONG Int."},"Protection","Regulier","Koulikoro",{"$f":"VLOOKUP(Main3WData14[[#This Row],[Admin Unit Name]],AdminUnits[],2,FALSE)","v":"ML02"},{"$f":"VLOOKUP(Main3WData14[[#This Row],[Admin Unit Name]],AdminUnits[],3,FALSE)","v":"Sud"},{"$f":"VLOOKUP(Main3WData14[[#This Row],[Admin Unit Name]],AdminUnits[],4,FALSE)","v":2},{"$f":"VLOOKUP(Main3WData14[[#This Row],[Sector]],Sectors[],2,FALSE)","v":5}]
[null,"IRC",{"$f":"INDEX(Organizations[],MATCH(Main3WData14[[#This Row],[Acronym]],AcronymList,0),1)","v":"International Rescue Committee"},{"$f":"INDEX(Organizations[],MATCH(Main3WData14[[#This Row],[Acronym]],AcronymList,0),3)","v":"ONG Int."},"Protection","Regulier","Gao",{"$f":"VLOOKUP(Main3WData14[[#This Row],[Admin Unit Name]],AdminUnits[],2,FALSE)","v":"ML07"},{"$f":"VLOOKUP(Main3WData14[[#This Row],[Admin Unit Name]],AdminUnits[],3,FALSE)","v":"Nord"},{"$f":"VLOOKUP(Main3WData14[[#This Row],[Admin Unit Name]],AdminUnits[],4,FALSE)","v":7},{"$f":"VLOOKUP(Main3WData14[[#This Row],[Sector]],Sectors[],2,FALSE)","v":5}]
[null,"IRC",{"$f":"INDEX(Organizations[],MATCH(Main3WData14[[#This Row],[Acronym]],AcronymList,0),1)","v":"International Rescue Committee"},{"$f":"INDEX(Organizations[],MATCH(Main3WData14[[#This Row],[Acronym]],AcronymList,0),3)","v":"ONG Int."},"Protection","Regulier","Mopti",{"$f":"VLOOKUP(Main3WData14[[#This Row],[Admin Unit Name]],AdminUnits[],2,FALSE)","v":"ML05"},{"$f":"VLOOKUP(Main3WData14[[#This Row],[Admin Unit Name]],AdminUnits[],3,FALSE)","v":"Sud"},{"$f":"VLOOKUP(Main3WData14[[#This Row],[Admin Unit Name]],AdminUnits[],4,FALSE)","v":5},{"$f":"VLOOKUP(Main3WData14[[#This Row],[Sector]],Sectors[],2,FALSE)","v":5}]
[null,"IRC",{"$f":"INDEX(Organizations[],MATCH(Main3WData14[[#This Row],[Acronym]],AcronymList,0),1)","v":"International Rescue Committee"},{"$f":"INDEX(Organizations[],MATCH(Main3WData14[[#This Row],[Acronym]],AcronymList,0),3)","v":"ONG Int."},"Nutrition","Regulier","Gao",{"$f":"VLOOKUP(Main3WData14[[#This Row],[Admin Unit Name]],AdminUnits[],2,FALSE)","v":"ML07"},{"$f":"VLOOKUP(Main3WData14[[#This Row],[Admin Unit Name]],AdminUnits[],3,FALSE)","v":"Nord"},{"$f":"VLOOKUP(Main3WData14[[#This Row],[Admin Unit Name]],AdminUnits[],4,FALSE)","v":7},{"$f":"VLOOKUP(Main3WData14[[#This Row],[Sector]],Sectors[],2,FALSE)","v":4}]
[null,"IRC",{"$f":"INDEX(Organizations[],MATCH(Main3WData14[[#This Row],[Acronym]],AcronymList,0),1)","v":"International Rescue Committee"},{"$f":"INDEX(Organizations[],MATCH(Main3WData14[[#This Row],[Acronym]],AcronymList,0),3)","v":"ONG Int."},"Nutrition","Regulier","Koulikoro",{"$f":"VLOOKUP(Main3WData14[[#This Row],[Admin Unit Name]],AdminUnits[],2,FALSE)","v":"ML02"},{"$f":"VLOOKUP(Main3WData14[[#This Row],[Admin Unit Name]],AdminUnits[],3,FALSE)","v":"Sud"},{"$f":"VLOOKUP(Main3WData14[[#This Row],[Admin Unit Name]],AdminUnits[],4,FALSE)","v":2},{"$f":"VLOOKUP(Main3WData14[[#This Row],[Sector]],Sectors[],2,FALSE)","v":4}]
[null,"IRC",{"$f":"INDEX(Organizations[],MATCH(Main3WData14[[#This Row],[Acronym]],AcronymList,0),1)","v":"International Rescue Committee"},{"$f":"INDEX(Organizations[],MATCH(Main3WData14[[#This Row],[Acronym]],AcronymList,0),3)","v":"ONG Int."},"EHA","Regulier","GAO",{"$f":"VLOOKUP(Main3WData14[[#This Row],[Admin Unit Name]],AdminUnits[],2,FALSE)","v":"ML07"},{"$f":"VLOOKUP(Main3WData14[[#This Row],[Admin Unit Name]],AdminUnits[],3,FALSE)","v":"Nord"},{"$f":"VLOOKUP(Main3WData14[[#This Row],[Admin Unit Name]],AdminUnits[],4,FALSE)","v":7},{"$f":"VLOOKUP(Main3WData14[[#This Row],[Sector]],Sectors[],2,FALSE)","v":8}]
[null,"IRC",{"$f":"INDEX(Organizations[],MATCH(Main3WData14[[#This Row],[Acronym]],AcronymList,0),1)","v":"International Rescue Committee"},{"$f":"INDEX(Organizations[],MATCH(Main3WData14[[#This Row],[Acronym]],AcronymList,0),3)","v":"ONG Int."},"EHA","Regulier","Koulikoro",{"$f":"VLOOKUP(Main3WData14[[#This Row],[Admin Unit Name]],AdminUnits[],2,FALSE)","v":"ML02"},{"$f":"VLOOKUP(Main3WData14[[#This Row],[Admin Unit Name]],AdminUnits[],3,FALSE)","v":"Sud"},{"$f":"VLOOKUP(Main3WData14[[#This Row],[Admin Unit Name]],AdminUnits[],4,FALSE)","v":2},{"$f":"VLOOKUP(Main3WData14[[#This Row],[Sector]],Sectors[],2,FALSE)","v":8}]
[null,"IRC",{"$f":"INDEX(Organizations[],MATCH(Main3WData14[[#This Row],[Acronym]],AcronymList,0),1)","v":"International Rescue Committee"},{"$f":"INDEX(Organizations[],MATCH(Main3WData14[[#This Row],[Acronym]],AcronymList,0),3)","v":"ONG Int."},"Education","Regulier","Koulikoro",{"$f":"VLOOKUP(Main3WData14[[#This Row],[Admin Unit Name]],AdminUnits[],2,FALSE)","v":"ML02"},{"$f":"VLOOKUP(Main3WData14[[#This Row],[Admin Unit Name]],AdminUnits[],3,FALSE)","v":"Sud"},{"$f":"VLOOKUP(Main3WData14[[#This Row],[Admin Unit Name]],AdminUnits[],4,FALSE)","v":2},{"$f":"VLOOKUP(Main3WData14[[#This Row],[Sector]],Sectors[],2,FALSE)","v":3}]
[null,"IRC",{"$f":"INDEX(Organizations[],MATCH(Main3WData14[[#This Row],[Acronym]],AcronymList,0),1)","v":"International Rescue Committee"},{"$f":"INDEX(Organizations[],MATCH(Main3WData14[[#This Row],[Acronym]],AcronymList,0),3)","v":"ONG Int."},"Education","Regulier","Gao",{"$f":"VLOOKUP(Main3WData14[[#This Row],[Admin Unit Name]],AdminUnits[],2,FALSE)","v":"ML07"},{"$f":"VLOOKUP(Main3WData14[[#This Row],[Admin Unit Name]],AdminUnits[],3,FALSE)","v":"Nord"},{"$f":"VLOOKUP(Main3WData14[[#This Row],[Admin Unit Name]],AdminUnits[],4,FALSE)","v":7},{"$f":"VLOOKUP(Main3WData14[[#This Row],[Sector]],Sectors[],2,FALSE)","v":3}]
[null,"Intervida",{"$f":"INDEX(Organizations[],MATCH(Main3WData14[[#This Row],[Acronym]],AcronymList,0),1)","v":"Intervida"},{"$f":"INDEX(Organizations[],MATCH(Main3WData14[[#This Row],[Acronym]],AcronymList,0),3)","v":"ONG Int."},"Education","Regulier","Segou",{"$f":"VLOOKUP(Main3WData14[[#This Row],[Admin Unit Name]],AdminUnits[],2,FALSE)","v":"ML04"},{"$f":"VLOOKUP(Main3WData14[[#This Row],[Admin Unit Name]],AdminUnits[],3,FALSE)","v":"Sud"},{"$f":"VLOOKUP(Main3WData14[[#This Row],[Admin Unit Name]],AdminUnits[],4,FALSE)","v":4},{"$f":"VLOOKUP(Main3WData14[[#This Row],[Sector]],Sectors[],2,FALSE)","v":3}]
[null,"INTERSOS",{"$f":"INDEX(Organizations[],MATCH(Main3WData14[[#This Row],[Acronym]],AcronymList,0),1)","v":"Intersos"},{"$f":"INDEX(Organizations[],MATCH(Main3WData14[[#This Row],[Acronym]],AcronymList,0),3)","v":"ONG Int."},"Protection","Regulier","Mopti",{"$f":"VLOOKUP(Main3WData14[[#This Row],[Admin Unit Name]],AdminUnits[],2,FALSE)","v":"ML05"},{"$f":"VLOOKUP(Main3WData14[[#This Row],[Admin Unit Name]],AdminUnits[],3,FALSE)","v":"Sud"},{"$f":"VLOOKUP(Main3WData14[[#This Row],[Admin Unit Name]],AdminUnits[],4,FALSE)","v":5},{"$f":"VLOOKUP(Main3WData14[[#This Row],[Sector]],Sectors[],2,FALSE)","v":5}]
[null,"Intersos",{"$f":"INDEX(Organizations[],MATCH(Main3WData14[[#This Row],[Acronym]],AcronymList,0),1)","v":"Intersos"},{"$f":"INDEX(Organizations[],MATCH(Main3WData14[[#This Row],[Acronym]],AcronymList,0),3)","v":"ONG Int."},"Abris et NFI","Regulier","Mopti",{"$f":"VLOOKUP(Main3WData14[[#This Row],[Admin Unit Name]],AdminUnits[],2,FALSE)","v":"ML05"},{"$f":"VLOOKUP(Main3WData14[[#This Row],[Admin Unit Name]],AdminUnits[],3,FALSE)","v":"Sud"},{"$f":"VLOOKUP(Main3WData14[[#This Row],[Admin Unit Name]],AdminUnits[],4,FALSE)","v":5},{"$f":"VLOOKUP(Main3WData14[[#This Row],[Sector]],Sectors[],2,FALSE)","v":1}]
[null,"IMC",{"$f":"INDEX(Organizations[],MATCH(Main3WData14[[#This Row],[Acronym]],AcronymList,0),1)","v":"International Medical Corps"},{"$f":"INDEX(Organizations[],MATCH(Main3WData14[[#This Row],[Acronym]],AcronymList,0),3)","v":"ONG Int."},"Santé","Regulier","TOMBOUCTOU",{"$f":"VLOOKUP(Main3WData14[[#This Row],[Admin Unit Name]],AdminUnits[],2,FALSE)","v":"ML06"},{"$f":"VLOOKUP(Main3WData14[[#This Row],[Admin Unit Name]],AdminUnits[],3,FALSE)","v":"Nord"},{"$f":"VLOOKUP(Main3WData14[[#This Row],[Admin Unit Name]],AdminUnits[],4,FALSE)","v":6},{"$f":"VLOOKUP(Main3WData14[[#This Row],[Sector]],Sectors[],2,FALSE)","v":6}]
[null,"IMC",{"$f":"INDEX(Organizations[],MATCH(Main3WData14[[#This Row],[Acronym]],AcronymList,0),1)","v":"International Medical Corps"},{"$f":"INDEX(Organizations[],MATCH(Main3WData14[[#This Row],[Acronym]],AcronymList,0),3)","v":"ONG Int."},"Santé","Regulier","Gao",{"$f":"VLOOKUP(Main3WData14[[#This Row],[Admin Unit Name]],AdminUnits[],2,FALSE)","v":"ML07"},{"$f":"VLOOKUP(Main3WData14[[#This Row],[Admin Unit Name]],AdminUnits[],3,FALSE)","v":"Nord"},{"$f":"VLOOKUP(Main3WData14[[#This Row],[Admin Unit Name]],AdminUnits[],4,FALSE)","v":7},{"$f":"VLOOKUP(Main3WData14[[#This Row],[Sector]],Sectors[],2,FALSE)","v":6}]
[null,"IMC",{"$f":"INDEX(Organizations[],MATCH(Main3WData14[[#This Row],[Acronym]],AcronymList,0),1)","v":"International Medical Corps"},{"$f":"INDEX(Organizations[],MATCH(Main3WData14[[#This Row],[Acronym]],AcronymList,0),3)","v":"ONG Int."},"Nutrition","Regulier","Tombouctou",{"$f":"VLOOKUP(Main3WData14[[#This Row],[Admin Unit Name]],AdminUnits[],2,FALSE)","v":"ML06"},{"$f":"VLOOKUP(Main3WData14[[#This Row],[Admin Unit Name]],AdminUnits[],3,FALSE)","v":"Nord"},{"$f":"VLOOKUP(Main3WData14[[#This Row],[Admin Unit Name]],AdminUnits[],4,FALSE)","v":6},{"$f":"VLOOKUP(Main3WData14[[#This Row],[Sector]],Sectors[],2,FALSE)","v":4}]
[null,"IMADEL",{"$f":"INDEX(Organizations[],MATCH(Main3WData14[[#This Row],[Acronym]],AcronymList,0),1)","v":"Initiative Malienne d'Appui au Développement Loca"},{"$f":"INDEX(Organizations[],MATCH(Main3WData14[[#This Row],[Acronym]],AcronymList,0),3)","v":"Association"},"Protection","Regulier","Tombouctou",{"$f":"VLOOKUP(Main3WData14[[#This Row],[Admin Unit Name]],AdminUnits[],2,FALSE)","v":"ML06"},{"$f":"VLOOKUP(Main3WData14[[#This Row],[Admin Unit Name]],AdminUnits[],3,FALSE)","v":"Nord"},{"$f":"VLOOKUP(Main3WData14[[#This Row],[Admin Unit Name]],AdminUnits[],4,FALSE)","v":6},{"$f":"VLOOKUP(Main3WData14[[#This Row],[Sector]],Sectors[],2,FALSE)","v":5}]
[null,"ICCO",{"$f":"INDEX(Organizations[],MATCH(Main3WData14[[#This Row],[Acronym]],AcronymList,0),1)","v":"ICCO"},{"$f":"INDEX(Organizations[],MATCH(Main3WData14[[#This Row],[Acronym]],AcronymList,0),3)","v":"ONG Int."},"Sécurité alimentaire","Regulier","Segou",{"$f":"VLOOKUP(Main3WData14[[#This Row],[Admin Unit Name]],AdminUnits[],2,FALSE)","v":"ML04"},{"$f":"VLOOKUP(Main3WData14[[#This Row],[Admin Unit Name]],AdminUnits[],3,FALSE)","v":"Sud"},{"$f":"VLOOKUP(Main3WData14[[#This Row],[Admin Unit Name]],AdminUnits[],4,FALSE)","v":4},{"$f":"VLOOKUP(Main3WData14[[#This Row],[Sector]],Sectors[],2,FALSE)","v":7}]
[null,"ICCO",{"$f":"INDEX(Organizations[],MATCH(Main3WData14[[#This Row],[Acronym]],AcronymList,0),1)","v":"ICCO"},{"$f":"INDEX(Organizations[],MATCH(Main3WData14[[#This Row],[Acronym]],AcronymList,0),3)","v":"ONG Int."},"Sécurité alimentaire","Regulier","Tombouctou",{"$f":"VLOOKUP(Main3WData14[[#This Row],[Admin Unit Name]],AdminUnits[],2,FALSE)","v":"ML06"},{"$f":"VLOOKUP(Main3WData14[[#This Row],[Admin Unit Name]],AdminUnits[],3,FALSE)","v":"Nord"},{"$f":"VLOOKUP(Main3WData14[[#This Row],[Admin Unit Name]],AdminUnits[],4,FALSE)","v":6},{"$f":"VLOOKUP(Main3WData14[[#This Row],[Sector]],Sectors[],2,FALSE)","v":7}]
[null,"ICCO",{"$f":"INDEX(Organizations[],MATCH(Main3WData14[[#This Row],[Acronym]],AcronymList,0),1)","v":"ICCO"},{"$f":"INDEX(Organizations[],MATCH(Main3WData14[[#This Row],[Acronym]],AcronymList,0),3)","v":"ONG Int."},"Sécurité alimentaire","Regulier","Mopti",{"$f":"VLOOKUP(Main3WData14[[#This Row],[Admin Unit Name]],AdminUnits[],2,FALSE)","v":"ML05"},{"$f":"VLOOKUP(Main3WData14[[#This Row],[Admin Unit Name]],AdminUnits[],3,FALSE)","v":"Sud"},{"$f":"VLOOKUP(Main3WData14[[#This Row],[Admin Unit Name]],AdminUnits[],4,FALSE)","v":5},{"$f":"VLOOKUP(Main3WData14[[#This Row],[Sector]],Sectors[],2,FALSE)","v":7}]
[null,"HKI",{"$f":"INDEX(Organizations[],MATCH(Main3WData14[[#This Row],[Acronym]],AcronymList,0),1)","v":"Helen Keller International"},{"$f":"INDEX(Organizations[],MATCH(Main3WData14[[#This Row],[Acronym]],AcronymList,0),3)","v":"ONG Int."},"Nutrition","Regulier","Koulikoro",{"$f":"VLOOKUP(Main3WData14[[#This Row],[Admin Unit Name]],AdminUnits[],2,FALSE)","v":"ML02"},{"$f":"VLOOKUP(Main3WData14[[#This Row],[Admin Unit Name]],AdminUnits[],3,FALSE)","v":"Sud"},{"$f":"VLOOKUP(Main3WData14[[#This Row],[Admin Unit Name]],AdminUnits[],4,FALSE)","v":2},{"$f":"VLOOKUP(Main3WData14[[#This Row],[Sector]],Sectors[],2,FALSE)","v":4}]
[null,"HKI",{"$f":"INDEX(Organizations[],MATCH(Main3WData14[[#This Row],[Acronym]],AcronymList,0),1)","v":"Helen Keller International"},{"$f":"INDEX(Organizations[],MATCH(Main3WData14[[#This Row],[Acronym]],AcronymList,0),3)","v":"ONG Int."},"Nutrition","Regulier","Mopti",{"$f":"VLOOKUP(Main3WData14[[#This Row],[Admin Unit Name]],AdminUnits[],2,FALSE)","v":"ML05"},{"$f":"VLOOKUP(Main3WData14[[#This Row],[Admin Unit Name]],AdminUnits[],3,FALSE)","v":"Sud"},{"$f":"VLOOKUP(Main3WData14[[#This Row],[Admin Unit Name]],AdminUnits[],4,FALSE)","v":5},{"$f":"VLOOKUP(Main3WData14[[#This Row],[Sector]],Sectors[],2,FALSE)","v":4}]
[null,"HKI",{"$f":"INDEX(Organizations[],MATCH(Main3WData14[[#This Row],[Acronym]],AcronymList,0),1)","v":"Helen Keller International"},{"$f":"INDEX(Organizations[],MATCH(Main3WData14[[#This Row],[Acronym]],AcronymList,0),3)","v":"ONG Int."},"Nutrition","Regulier","Segou",{"$f":"VLOOKUP(Main3WData14[[#This Row],[Admin Unit Name]],AdminUnits[],2,FALSE)","v":"ML04"},{"$f":"VLOOKUP(Main3WData14[[#This Row],[Admin Unit Name]],AdminUnits[],3,FALSE)","v":"Sud"},{"$f":"VLOOKUP(Main3WData14[[#This Row],[Admin Unit Name]],AdminUnits[],4,FALSE)","v":4},{"$f":"VLOOKUP(Main3WData14[[#This Row],[Sector]],Sectors[],2,FALSE)","v":4}]
[null,"HKI",{"$f":"INDEX(Organizations[],MATCH(Main3WData14[[#This Row],[Acronym]],AcronymList,0),1)","v":"Helen Keller International"},{"$f":"INDEX(Organizations[],MATCH(Main3WData14[[#This Row],[Acronym]],AcronymList,0),3)","v":"ONG Int."},"Nutrition","Regulier","Sikasso",{"$f":"VLOOKUP(Main3WData14[[#This Row],[Admin Unit Name]],AdminUnits[],2,FALSE)","v":"ML03"},{"$f":"VLOOKUP(Main3WData14[[#This Row],[Admin Unit Name]],AdminUnits[],3,FALSE)","v":"Sud"},{"$f":"VLOOKUP(Main3WData14[[#This Row],[Admin Unit Name]],AdminUnits[],4,FALSE)","v":3},{"$f":"VLOOKUP(Main3WData14[[#This Row],[Sector]],Sectors[],2,FALSE)","v":4}]
[null,"Handicap International",{"$f":"INDEX(Organizations[],MATCH(Main3WData14[[#This Row],[Acronym]],AcronymList,0),1)","v":{"$error":"#N/A"}},{"$f":"INDEX(Organizations[],MATCH(Main3WData14[[#This Row],[Acronym]],AcronymList,0),3)","v":{"$error":"#N/A"}},"Sécurité alimentaire","Regulier","Tombouctou",{"$f":"VLOOKUP(Main3WData14[[#This Row],[Admin Unit Name]],AdminUnits[],2,FALSE)","v":"ML06"},{"$f":"VLOOKUP(Main3WData14[[#This Row],[Admin Unit Name]],AdminUnits[],3,FALSE)","v":"Nord"},{"$f":"VLOOKUP(Main3WData14[[#This Row],[Admin Unit Name]],AdminUnits[],4,FALSE)","v":6},{"$f":"VLOOKUP(Main3WData14[[#This Row],[Sector]],Sectors[],2,FALSE)","v":7}]
[null,"Handicap International",{"$f":"INDEX(Organizations[],MATCH(Main3WData14[[#This Row],[Acronym]],AcronymList,0),1)","v":{"$error":"#N/A"}},{"$f":"INDEX(Organizations[],MATCH(Main3WData14[[#This Row],[Acronym]],AcronymList,0),3)","v":{"$error":"#N/A"}},"Santé","Regulier","Mopti",{"$f":"VLOOKUP(Main3WData14[[#This Row],[Admin Unit Name]],AdminUnits[],2,FALSE)","v":"ML05"},{"$f":"VLOOKUP(Main3WData14[[#This Row],[Admin Unit Name]],AdminUnits[],3,FALSE)","v":"Sud"},{"$f":"VLOOKUP(Main3WData14[[#This Row],[Admin Unit Name]],AdminUnits[],4,FALSE)","v":5},{"$f":"VLOOKUP(Main3WData14[[#This Row],[Sector]],Sectors[],2,FALSE)","v":6}]
[null,"Handicap International",{"$f":"INDEX(Organizations[],MATCH(Main3WData14[[#This Row],[Acronym]],AcronymList,0),1)","v":{"$error":"#N/A"}},{"$f":"INDEX(Organizations[],MATCH(Main3WData14[[#This Row],[Acronym]],AcronymList,0),3)","v":{"$error":"#N/A"}},"Santé","Regulier","Tombouctou",{"$f":"VLOOKUP(Main3WData14[[#This Row],[Admin Unit Name]],AdminUnits[],2,FALSE)","v":"ML06"},{"$f":"VLOOKUP(Main3WData14[[#This Row],[Admin Unit Name]],AdminUnits[],3,FALSE)","v":"Nord"},{"$f":"VLOOKUP(Main3WData14[[#This Row],[Admin Unit Name]],AdminUnits[],4,FALSE)","v":6},{"$f":"VLOOKUP(Main3WData14[[#This Row],[Sector]],Sectors[],2,FALSE)","v":6}]
[null,"Handicap International",{"$f":"INDEX(Organizations[],MATCH(Main3WData14[[#This Row],[Acronym]],AcronymList,0),1)","v":{"$error":"#N/A"}},{"$f":"INDEX(Organizations[],MATCH(Main3WData14[[#This Row],[Acronym]],AcronymList,0),3)","v":{"$error":"#N/A"}},"Protection","Regulier","Tombouctou",{"$f":"VLOOKUP(Main3WData14[[#This Row],[Admin Unit Name]],AdminUnits[],2,FALSE)","v":"ML06"},{"$f":"VLOOKUP(Main3WData14[[#This Row],[Admin Unit Name]],AdminUnits[],3,FALSE)","v":"Nord"},{"$f":"VLOOKUP(Main3WData14[[#This Row],[Admin Unit Name]],AdminUnits[],4,FALSE)","v":6},{"$f":"VLOOKUP(Main3WData14[[#This Row],[Sector]],Sectors[],2,FALSE)","v":5}]
[null,"Handicap International",{"$f":"INDEX(Organizations[],MATCH(Main3WData14[[#This Row],[Acronym]],AcronymList,0),1)","v":{"$error":"#N/A"}},{"$f":"INDEX(Organizations[],MATCH(Main3WData14[[#This Row],[Acronym]],AcronymList,0),3)","v":{"$error":"#N/A"}},"Protection","Regulier","Mopti",{"$f":"VLOOKUP(Main3WData14[[#This Row],[Admin Unit Name]],AdminUnits[],2,FALSE)","v":"ML05"},{"$f":"VLOOKUP(Main3WData14[[#This Row],[Admin Unit Name]],AdminUnits[],3,FALSE)","v":"Sud"},{"$f":"VLOOKUP(Main3WData14[[#This Row],[Admin Unit Name]],AdminUnits[],4,FALSE)","v":5},{"$f":"VLOOKUP(Main3WData14[[#This Row],[Sector]],Sectors[],2,FALSE)","v":5}]
[null,"HANDICAP INTERNATIONAL",{"$f":"INDEX(Organizations[],MATCH(Main3WData14[[#This Row],[Acronym]],AcronymList,0),1)","v":{"$error":"#N/A"}},{"$f":"INDEX(Organizations[],MATCH(Main3WData14[[#This Row],[Acronym]],AcronymList,0),3)","v":{"$error":"#N/A"}},"Nutrition","Regulier","Tombouctou",{"$f":"VLOOKUP(Main3WData14[[#This Row],[Admin Unit Name]],AdminUnits[],2,FALSE)","v":"ML06"},{"$f":"VLOOKUP(Main3WData14[[#This Row],[Admin Unit Name]],AdminUnits[],3,FALSE)","v":"Nord"},{"$f":"VLOOKUP(Main3WData14[[#This Row],[Admin Unit Name]],AdminUnits[],4,FALSE)","v":6},{"$f":"VLOOKUP(Main3WData14[[#This Row],[Sector]],Sectors[],2,FALSE)","v":4}]
[null,"Handicap International",{"$f":"INDEX(Organizations[],MATCH(Main3WData14[[#This Row],[Acronym]],AcronymList,0),1)","v":{"$error":"#N/A"}},{"$f":"INDEX(Organizations[],MATCH(Main3WData14[[#This Row],[Acronym]],AcronymList,0),3)","v":{"$error":"#N/A"}},"EHA","Regulier","TOMBOUCTOU",{"$f":"VLOOKUP(Main3WData14[[#This Row],[Admin Unit Name]],AdminUnits[],2,FALSE)","v":"ML06"},{"$f":"VLOOKUP(Main3WData14[[#This Row],[Admin Unit Name]],AdminUnits[],3,FALSE)","v":"Nord"},{"$f":"VLOOKUP(Main3WData14[[#This Row],[Admin Unit Name]],AdminUnits[],4,FALSE)","v":6},{"$f":"VLOOKUP(Main3WData14[[#This Row],[Sector]],Sectors[],2,FALSE)","v":8}]
[null,"Handicap International",{"$f":"INDEX(Organizations[],MATCH(Main3WData14[[#This Row],[Acronym]],AcronymList,0),1)","v":{"$error":"#N/A"}},{"$f":"INDEX(Organizations[],MATCH(Main3WData14[[#This Row],[Acronym]],AcronymList,0),3)","v":{"$error":"#N/A"}},"Education","Regulier","Bamako",{"$f":"VLOOKUP(Main3WData14[[#This Row],[Admin Unit Name]],AdminUnits[],2,FALSE)","v":"ML09"},{"$f":"VLOOKUP(Main3WData14[[#This Row],[Admin Unit Name]],AdminUnits[],3,FALSE)","v":"Sud"},{"$f":"VLOOKUP(Main3WData14[[#This Row],[Admin Unit Name]],AdminUnits[],4,FALSE)","v":0},{"$f":"VLOOKUP(Main3WData14[[#This Row],[Sector]],Sectors[],2,FALSE)","v":3}]
[null,"Handicap International",{"$f":"INDEX(Organizations[],MATCH(Main3WData14[[#This Row],[Acronym]],AcronymList,0),1)","v":{"$error":"#N/A"}},{"$f":"INDEX(Organizations[],MATCH(Main3WData14[[#This Row],[Acronym]],AcronymList,0),3)","v":{"$error":"#N/A"}},"Education","Regulier","Sikasso",{"$f":"VLOOKUP(Main3WData14[[#This Row],[Admin Unit Name]],AdminUnits[],2,FALSE)","v":"ML03"},{"$f":"VLOOKUP(Main3WData14[[#This Row],[Admin Unit Name]],AdminUnits[],3,FALSE)","v":"Sud"},{"$f":"VLOOKUP(Main3WData14[[#This Row],[Admin Unit Name]],AdminUnits[],4,FALSE)","v":3},{"$f":"VLOOKUP(Main3WData14[[#This Row],[Sector]],Sectors[],2,FALSE)","v":3}]
[null,"GREFFA",{"$f":"INDEX(Organizations[],MATCH(Main3WData14[[#This Row],[Acronym]],AcronymList,0),1)","v":"GREFFA"},{"$f":"INDEX(Organizations[],MATCH(Main3WData14[[#This Row],[Acronym]],AcronymList,0),3)","v":"ONG Nat."},"Protection","Regulier","Bamako",{"$f":"VLOOKUP(Main3WData14[[#This Row],[Admin Unit Name]],AdminUnits[],2,FALSE)","v":"ML09"},{"$f":"VLOOKUP(Main3WData14[[#This Row],[Admin Unit Name]],AdminUnits[],3,FALSE)","v":"Sud"},{"$f":"VLOOKUP(Main3WData14[[#This Row],[Admin Unit Name]],AdminUnits[],4,FALSE)","v":0},{"$f":"VLOOKUP(Main3WData14[[#This Row],[Sector]],Sectors[],2,FALSE)","v":5}]
[null,"GREFFA",{"$f":"INDEX(Organizations[],MATCH(Main3WData14[[#This Row],[Acronym]],AcronymList,0),1)","v":"GREFFA"},{"$f":"INDEX(Organizations[],MATCH(Main3WData14[[#This Row],[Acronym]],AcronymList,0),3)","v":"ONG Nat."},"Protection","Regulier","Kidal",{"$f":"VLOOKUP(Main3WData14[[#This Row],[Admin Unit Name]],AdminUnits[],2,FALSE)","v":"ML08"},{"$f":"VLOOKUP(Main3WData14[[#This Row],[Admin Unit Name]],AdminUnits[],3,FALSE)","v":"Nord"},{"$f":"VLOOKUP(Main3WData14[[#This Row],[Admin Unit Name]],AdminUnits[],4,FALSE)","v":8},{"$f":"VLOOKUP(Main3WData14[[#This Row],[Sector]],Sectors[],2,FALSE)","v":5}]
[null,"GREFFA",{"$f":"INDEX(Organizations[],MATCH(Main3WData14[[#This Row],[Acronym]],AcronymList,0),1)","v":"GREFFA"},{"$f":"INDEX(Organizations[],MATCH(Main3WData14[[#This Row],[Acronym]],AcronymList,0),3)","v":"ONG Nat."},"Protection","Regulier","Tombouctou",{"$f":"VLOOKUP(Main3WData14[[#This Row],[Admin Unit Name]],AdminUnits[],2,FALSE)","v":"ML06"},{"$f":"VLOOKUP(Main3WData14[[#This Row],[Admin Unit Name]],AdminUnits[],3,FALSE)","v":"Nord"},{"$f":"VLOOKUP(Main3WData14[[#This Row],[Admin Unit Name]],AdminUnits[],4,FALSE)","v":6},{"$f":"VLOOKUP(Main3WData14[[#This Row],[Sector]],Sectors[],2,FALSE)","v":5}]
[null,"GREFFA",{"$f":"INDEX(Organizations[],MATCH(Main3WData14[[#This Row],[Acronym]],AcronymList,0),1)","v":"GREFFA"},{"$f":"INDEX(Organizations[],MATCH(Main3WData14[[#This Row],[Acronym]],AcronymList,0),3)","v":"ONG Nat."},"Protection","Regulier","Gao",{"$f":"VLOOKUP(Main3WData14[[#This Row],[Admin Unit Name]],AdminUnits[],2,FALSE)","v":"ML07"},{"$f":"VLOOKUP(Main3WData14[[#This Row],[Admin Unit Name]],AdminUnits[],3,FALSE)","v":"Nord"},{"$f":"VLOOKUP(Main3WData14[[#This Row],[Admin Unit Name]],AdminUnits[],4,FALSE)","v":7},{"$f":"VLOOKUP(Main3WData14[[#This Row],[Sector]],Sectors[],2,FALSE)","v":5}]
[null,"GREFFA",{"$f":"INDEX(Organizations[],MATCH(Main3WData14[[#This Row],[Acronym]],AcronymList,0),1)","v":"GREFFA"},{"$f":"INDEX(Organizations[],MATCH(Main3WData14[[#This Row],[Acronym]],AcronymList,0),3)","v":"ONG Nat."},"Protection","Regulier","Segou",{"$f":"VLOOKUP(Main3WData14[[#This Row],[Admin Unit Name]],AdminUnits[],2,FALSE)","v":"ML04"},{"$f":"VLOOKUP(Main3WData14[[#This Row],[Admin Unit Name]],AdminUnits[],3,FALSE)","v":"Sud"},{"$f":"VLOOKUP(Main3WData14[[#This Row],[Admin Unit Name]],AdminUnits[],4,FALSE)","v":4},{"$f":"VLOOKUP(Main3WData14[[#This Row],[Sector]],Sectors[],2,FALSE)","v":5}]
[null,"GRAT",{"$f":"INDEX(Organizations[],MATCH(Main3WData14[[#This Row],[Acronym]],AcronymList,0),1)","v":"GRAT"},{"$f":"INDEX(Organizations[],MATCH(Main3WData14[[#This Row],[Acronym]],AcronymList,0),3)","v":"ONG Nat."},"Sécurité alimentaire","Regulier","Mopti",{"$f":"VLOOKUP(Main3WData14[[#This Row],[Admin Unit Name]],AdminUnits[],2,FALSE)","v":"ML05"},{"$f":"VLOOKUP(Main3WData14[[#This Row],[Admin Unit Name]],AdminUnits[],3,FALSE)","v":"Sud"},{"$f":"VLOOKUP(Main3WData14[[#This Row],[Admin Unit Name]],AdminUnits[],4,FALSE)","v":5},{"$f":"VLOOKUP(Main3WData14[[#This Row],[Sector]],Sectors[],2,FALSE)","v":7}]
[null,"GADEV",{"$f":"INDEX(Organizations[],MATCH(Main3WData14[[#This Row],[Acronym]],AcronymList,0),1)","v":"GADEV"},{"$f":"INDEX(Organizations[],MATCH(Main3WData14[[#This Row],[Acronym]],AcronymList,0),3)","v":"ONG Nat."},"Protection","Regulier","Mopti",{"$f":"VLOOKUP(Main3WData14[[#This Row],[Admin Unit Name]],AdminUnits[],2,FALSE)","v":"ML05"},{"$f":"VLOOKUP(Main3WData14[[#This Row],[Admin Unit Name]],AdminUnits[],3,FALSE)","v":"Sud"},{"$f":"VLOOKUP(Main3WData14[[#This Row],[Admin Unit Name]],AdminUnits[],4,FALSE)","v":5},{"$f":"VLOOKUP(Main3WData14[[#This Row],[Sector]],Sectors[],2,FALSE)","v":5}]
[null,"Fondation Novartis",{"$f":"INDEX(Organizations[],MATCH(Main3WData14[[#This Row],[Acronym]],AcronymList,0),1)","v":"Fondation Novartis"},{"$f":"INDEX(Organizations[],MATCH(Main3WData14[[#This Row],[Acronym]],AcronymList,0),3)","v":"Fondation"},"Santé","Regulier","Segou",{"$f":"VLOOKUP(Main3WData14[[#This Row],[Admin Unit Name]],AdminUnits[],2,FALSE)","v":"ML04"},{"$f":"VLOOKUP(Main3WData14[[#This Row],[Admin Unit Name]],AdminUnits[],3,FALSE)","v":"Sud"},{"$f":"VLOOKUP(Main3WData14[[#This Row],[Admin Unit Name]],AdminUnits[],4,FALSE)","v":4},{"$f":"VLOOKUP(Main3WData14[[#This Row],[Sector]],Sectors[],2,FALSE)","v":6}]
[null,"Fondation Intervida",{"$f":"INDEX(Organizations[],MATCH(Main3WData14[[#This Row],[Acronym]],AcronymList,0),1)","v":"Fondation Intervida"},{"$f":"INDEX(Organizations[],MATCH(Main3WData14[[#This Row],[Acronym]],AcronymList,0),3)","v":"Fondation"},"Santé","Regulier","Segou",{"$f":"VLOOKUP(Main3WData14[[#This Row],[Admin Unit Name]],AdminUnits[],2,FALSE)","v":"ML04"},{"$f":"VLOOKUP(Main3WData14[[#This Row],[Admin Unit Name]],AdminUnits[],3,FALSE)","v":"Sud"},{"$f":"VLOOKUP(Main3WData14[[#This Row],[Admin Unit Name]],AdminUnits[],4,FALSE)","v":4},{"$f":"VLOOKUP(Main3WData14[[#This Row],[Sector]],Sectors[],2,FALSE)","v":6}]
[null,"FIDA",{"$f":"INDEX(Organizations[],MATCH(Main3WData14[[#This Row],[Acronym]],AcronymList,0),1)","v":"Fonds international de développement agricole"},{"$f":"INDEX(Organizations[],MATCH(Main3WData14[[#This Row],[Acronym]],AcronymList,0),3)","v":"UN"},"Santé","Regulier","GAO",{"$f":"VLOOKUP(Main3WData14[[#This Row],[Admin Unit Name]],AdminUnits[],2,FALSE)","v":"ML07"},{"$f":"VLOOKUP(Main3WData14[[#This Row],[Admin Unit Name]],AdminUnits[],3,FALSE)","v":"Nord"},{"$f":"VLOOKUP(Main3WData14[[#This Row],[Admin Unit Name]],AdminUnits[],4,FALSE)","v":7},{"$f":"VLOOKUP(Main3WData14[[#This Row],[Sector]],Sectors[],2,FALSE)","v":6}]
[null,"FIDA",{"$f":"INDEX(Organizations[],MATCH(Main3WData14[[#This Row],[Acronym]],AcronymList,0),1)","v":"Fonds international de développement agricole"},{"$f":"INDEX(Organizations[],MATCH(Main3WData14[[#This Row],[Acronym]],AcronymList,0),3)","v":"UN"},"Santé","Regulier","KIDAL",{"$f":"VLOOKUP(Main3WData14[[#This Row],[Admin Unit Name]],AdminUnits[],2,FALSE)","v":"ML08"},{"$f":"VLOOKUP(Main3WData14[[#This Row],[Admin Unit Name]],AdminUnits[],3,FALSE)","v":"Nord"},{"$f":"VLOOKUP(Main3WData14[[#This Row],[Admin Unit Name]],AdminUnits[],4,FALSE)","v":8},{"$f":"VLOOKUP(Main3WData14[[#This Row],[Sector]],Sectors[],2,FALSE)","v":6}]
[null,"FIDA",{"$f":"INDEX(Organizations[],MATCH(Main3WData14[[#This Row],[Acronym]],AcronymList,0),1)","v":"Fonds international de développement agricole"},{"$f":"INDEX(Organizations[],MATCH(Main3WData14[[#This Row],[Acronym]],AcronymList,0),3)","v":"UN"},"Santé","Regulier","TOMBOUCTOU",{"$f":"VLOOKUP(Main3WData14[[#This Row],[Admin Unit Name]],AdminUnits[],2,FALSE)","v":"ML06"},{"$f":"VLOOKUP(Main3WData14[[#This Row],[Admin Unit Name]],AdminUnits[],3,FALSE)","v":"Nord"},{"$f":"VLOOKUP(Main3WData14[[#This Row],[Admin Unit Name]],AdminUnits[],4,FALSE)","v":6},{"$f":"VLOOKUP(Main3WData14[[#This Row],[Sector]],Sectors[],2,FALSE)","v":6}]
[null,"FAO",{"$f":"INDEX(Organizations[],MATCH(Main3WData14[[#This Row],[Acronym]],AcronymList,0),1)","v":"United Nations Food and Agriculture Organization"},{"$f":"INDEX(Organizations[],MATCH(Main3WData14[[#This Row],[Acronym]],AcronymList,0),3)","v":"UN"},"Sécurité alimentaire","Regulier","Tombouctou",{"$f":"VLOOKUP(Main3WData14[[#This Row],[Admin Unit Name]],AdminUnits[],2,FALSE)","v":"ML06"},{"$f":"VLOOKUP(Main3WData14[[#This Row],[Admin Unit Name]],AdminUnits[],3,FALSE)","v":"Nord"},{"$f":"VLOOKUP(Main3WData14[[#This Row],[Admin Unit Name]],AdminUnits[],4,FALSE)","v":6},{"$f":"VLOOKUP(Main3WData14[[#This Row],[Sector]],Sectors[],2,FALSE)","v":7}]
[null,"FAO",{"$f":"INDEX(Organizations[],MATCH(Main3WData14[[#This Row],[Acronym]],AcronymList,0),1)","v":"United Nations Food and Agriculture Organization"},{"$f":"INDEX(Organizations[],MATCH(Main3WData14[[#This Row],[Acronym]],AcronymList,0),3)","v":"UN"},"Sécurité alimentaire","Regulier","Koulikoro",{"$f":"VLOOKUP(Main3WData14[[#This Row],[Admin Unit Name]],AdminUnits[],2,FALSE)","v":"ML02"},{"$f":"VLOOKUP(Main3WData14[[#This Row],[Admin Unit Name]],AdminUnits[],3,FALSE)","v":"Sud"},{"$f":"VLOOKUP(Main3WData14[[#This Row],[Admin Unit Name]],AdminUnits[],4,FALSE)","v":2},{"$f":"VLOOKUP(Main3WData14[[#This Row],[Sector]],Sectors[],2,FALSE)","v":7}]
[null,"FAO",{"$f":"INDEX(Organizations[],MATCH(Main3WData14[[#This Row],[Acronym]],AcronymList,0),1)","v":"United Nations Food and Agriculture Organization"},{"$f":"INDEX(Organizations[],MATCH(Main3WData14[[#This Row],[Acronym]],AcronymList,0),3)","v":"UN"},"Sécurité alimentaire","Regulier","Segou",{"$f":"VLOOKUP(Main3WData14[[#This Row],[Admin Unit Name]],AdminUnits[],2,FALSE)","v":"ML04"},{"$f":"VLOOKUP(Main3WData14[[#This Row],[Admin Unit Name]],AdminUnits[],3,FALSE)","v":"Sud"},{"$f":"VLOOKUP(Main3WData14[[#This Row],[Admin Unit Name]],AdminUnits[],4,FALSE)","v":4},{"$f":"VLOOKUP(Main3WData14[[#This Row],[Sector]],Sectors[],2,FALSE)","v":7}]
[null,"FAO",{"$f":"INDEX(Organizations[],MATCH(Main3WData14[[#This Row],[Acronym]],AcronymList,0),1)","v":"United Nations Food and Agriculture Organization"},{"$f":"INDEX(Organizations[],MATCH(Main3WData14[[#This Row],[Acronym]],AcronymList,0),3)","v":"UN"},"Coordination","Regulier","Bamako",{"$f":"VLOOKUP(Main3WData14[[#This Row],[Admin Unit Name]],AdminUnits[],2,FALSE)","v":"ML09"},{"$f":"VLOOKUP(Main3WData14[[#This Row],[Admin Unit Name]],AdminUnits[],3,FALSE)","v":"Sud"},{"$f":"VLOOKUP(Main3WData14[[#This Row],[Admin Unit Name]],AdminUnits[],4,FALSE)","v":0},{"$f":"VLOOKUP(Main3WData14[[#This Row],[Sector]],Sectors[],2,FALSE)","v":2}]
[null,"ENDA TIERS MONDE",{"$f":"INDEX(Organizations[],MATCH(Main3WData14[[#This Row],[Acronym]],AcronymList,0),1)","v":"ENDA TIERS MONDE"},{"$f":"INDEX(Organizations[],MATCH(Main3WData14[[#This Row],[Acronym]],AcronymList,0),3)","v":"ONG Int."},"Sécurité alimentaire","Regulier","Mopti",{"$f":"VLOOKUP(Main3WData14[[#This Row],[Admin Unit Name]],AdminUnits[],2,FALSE)","v":"ML05"},{"$f":"VLOOKUP(Main3WData14[[#This Row],[Admin Unit Name]],AdminUnits[],3,FALSE)","v":"Sud"},{"$f":"VLOOKUP(Main3WData14[[#This Row],[Admin Unit Name]],AdminUnits[],4,FALSE)","v":5},{"$f":"VLOOKUP(Main3WData14[[#This Row],[Sector]],Sectors[],2,FALSE)","v":7}]
[null,"Eau Vive",{"$f":"INDEX(Organizations[],MATCH(Main3WData14[[#This Row],[Acronym]],AcronymList,0),1)","v":"Eau Vive"},{"$f":"INDEX(Organizations[],MATCH(Main3WData14[[#This Row],[Acronym]],AcronymList,0),3)","v":"ONG Int."},"EHA","Regulier","Koulikoro",{"$f":"VLOOKUP(Main3WData14[[#This Row],[Admin Unit Name]],AdminUnits[],2,FALSE)","v":"ML02"},{"$f":"VLOOKUP(Main3WData14[[#This Row],[Admin Unit Name]],AdminUnits[],3,FALSE)","v":"Sud"},{"$f":"VLOOKUP(Main3WData14[[#This Row],[Admin Unit Name]],AdminUnits[],4,FALSE)","v":2},{"$f":"VLOOKUP(Main3WData14[[#This Row],[Sector]],Sectors[],2,FALSE)","v":8}]
[null,"Eau Vive",{"$f":"INDEX(Organizations[],MATCH(Main3WData14[[#This Row],[Acronym]],AcronymList,0),1)","v":"Eau Vive"},{"$f":"INDEX(Organizations[],MATCH(Main3WData14[[#This Row],[Acronym]],AcronymList,0),3)","v":"ONG Int."},"EHA","Regulier","MOPTI",{"$f":"VLOOKUP(Main3WData14[[#This Row],[Admin Unit Name]],AdminUnits[],2,FALSE)","v":"ML05"},{"$f":"VLOOKUP(Main3WData14[[#This Row],[Admin Unit Name]],AdminUnits[],3,FALSE)","v":"Sud"},{"$f":"VLOOKUP(Main3WData14[[#This Row],[Admin Unit Name]],AdminUnits[],4,FALSE)","v":5},{"$f":"VLOOKUP(Main3WData14[[#This Row],[Sector]],Sectors[],2,FALSE)","v":8}]
[null,"DRC",{"$f":"INDEX(Organizations[],MATCH(Main3WData14[[#This Row],[Acronym]],AcronymList,0),1)","v":"Danish Refugee Council"},{"$f":"INDEX(Organizations[],MATCH(Main3WData14[[#This Row],[Acronym]],AcronymList,0),3)","v":"ONG Int."},"Protection","Regulier","Mopti",{"$f":"VLOOKUP(Main3WData14[[#This Row],[Admin Unit Name]],AdminUnits[],2,FALSE)","v":"ML05"},{"$f":"VLOOKUP(Main3WData14[[#This Row],[Admin Unit Name]],AdminUnits[],3,FALSE)","v":"Sud"},{"$f":"VLOOKUP(Main3WData14[[#This Row],[Admin Unit Name]],AdminUnits[],4,FALSE)","v":5},{"$f":"VLOOKUP(Main3WData14[[#This Row],[Sector]],Sectors[],2,FALSE)","v":5}]
[null,"DRC",{"$f":"INDEX(Organizations[],MATCH(Main3WData14[[#This Row],[Acronym]],AcronymList,0),1)","v":"Danish Refugee Council"},{"$f":"INDEX(Organizations[],MATCH(Main3WData14[[#This Row],[Acronym]],AcronymList,0),3)","v":"ONG Int."},"Education","Regulier","Mopti",{"$f":"VLOOKUP(Main3WData14[[#This Row],[Admin Unit Name]],AdminUnits[],2,FALSE)","v":"ML05"},{"$f":"VLOOKUP(Main3WData14[[#This Row],[Admin Unit Name]],AdminUnits[],3,FALSE)","v":"Sud"},{"$f":"VLOOKUP(Main3WData14[[#This Row],[Admin Unit Name]],AdminUnits[],4,FALSE)","v":5},{"$f":"VLOOKUP(Main3WData14[[#This Row],[Sector]],Sectors[],2,FALSE)","v":3}]
[null,"DGPC",{"$f":"INDEX(Organizations[],MATCH(Main3WData14[[#This Row],[Acronym]],AcronymList,0),1)","v":"Direction Générale de la Protection Civile"},{"$f":"INDEX(Organizations[],MATCH(Main3WData14[[#This Row],[Acronym]],AcronymList,0),3)","v":"Gouvernement"},"EHA","Regulier","BAMAKO",{"$f":"VLOOKUP(Main3WData14[[#This Row],[Admin Unit Name]],AdminUnits[],2,FALSE)","v":"ML09"},{"$f":"VLOOKUP(Main3WData14[[#This Row],[Admin Unit Name]],AdminUnits[],3,FALSE)","v":"Sud"},{"$f":"VLOOKUP(Main3WData14[[#This Row],[Admin Unit Name]],AdminUnits[],4,FALSE)","v":0},{"$f":"VLOOKUP(Main3WData14[[#This Row],[Sector]],Sectors[],2,FALSE)","v":8}]
[null,"DGPC",{"$f":"INDEX(Organizations[],MATCH(Main3WData14[[#This Row],[Acronym]],AcronymList,0),1)","v":"Direction Générale de la Protection Civile"},{"$f":"INDEX(Organizations[],MATCH(Main3WData14[[#This Row],[Acronym]],AcronymList,0),3)","v":"Gouvernement"},"EHA","Regulier","KAYES",{"$f":"VLOOKUP(Main3WData14[[#This Row],[Admin Unit Name]],AdminUnits[],2,FALSE)","v":"ML01"},{"$f":"VLOOKUP(Main3WData14[[#This Row],[Admin Unit Name]],AdminUnits[],3,FALSE)","v":"Sud"},{"$f":"VLOOKUP(Main3WData14[[#This Row],[Admin Unit Name]],AdminUnits[],4,FALSE)","v":1},{"$f":"VLOOKUP(Main3WData14[[#This Row],[Sector]],Sectors[],2,FALSE)","v":8}]
[null,"DGPC",{"$f":"INDEX(Organizations[],MATCH(Main3WData14[[#This Row],[Acronym]],AcronymList,0),1)","v":"Direction Générale de la Protection Civile"},{"$f":"INDEX(Organizations[],MATCH(Main3WData14[[#This Row],[Acronym]],AcronymList,0),3)","v":"Gouvernement"},"EHA","Regulier","Koulikoro",{"$f":"VLOOKUP(Main3WData14[[#This Row],[Admin Unit Name]],AdminUnits[],2,FALSE)","v":"ML02"},{"$f":"VLOOKUP(Main3WData14[[#This Row],[Admin Unit Name]],AdminUnits[],3,FALSE)","v":"Sud"},{"$f":"VLOOKUP(Main3WData14[[#This Row],[Admin Unit Name]],AdminUnits[],4,FALSE)","v":2},{"$f":"VLOOKUP(Main3WData14[[#This Row],[Sector]],Sectors[],2,FALSE)","v":8}]
[null,"DGPC",{"$f":"INDEX(Organizations[],MATCH(Main3WData14[[#This Row],[Acronym]],AcronymList,0),1)","v":"Direction Générale de la Protection Civile"},{"$f":"INDEX(Organizations[],MATCH(Main3WData14[[#This Row],[Acronym]],AcronymList,0),3)","v":"Gouvernement"},"EHA","Regulier","MOPTI",{"$f":"VLOOKUP(Main3WData14[[#This Row],[Admin Unit Name]],AdminUnits[],2,FALSE)","v":"ML05"},{"$f":"VLOOKUP(Main3WData14[[#This Row],[Admin Unit Name]],AdminUnits[],3,FALSE)","v":"Sud"},{"$f":"VLOOKUP(Main3WData14[[#This Row],[Admin Unit Name]],AdminUnits[],4,FALSE)","v":5},{"$f":"VLOOKUP(Main3WData14[[#This Row],[Sector]],Sectors[],2,FALSE)","v":8}]
[null,"DGPC",{"$f":"INDEX(Organizations[],MATCH(Main3WData14[[#This Row],[Acronym]],AcronymList,0),1)","v":"Direction Générale de la Protection Civile"},{"$f":"INDEX(Organizations[],MATCH(Main3WData14[[#This Row],[Acronym]],AcronymList,0),3)","v":"Gouvernement"},"EHA","Regulier","SEGOU",{"$f":"VLOOKUP(Main3WData14[[#This Row],[Admin Unit Name]],AdminUnits[],2,FALSE)","v":"ML04"},{"$f":"VLOOKUP(Main3WData14[[#This Row],[Admin Unit Name]],AdminUnits[],3,FALSE)","v":"Sud"},{"$f":"VLOOKUP(Main3WData14[[#This Row],[Admin Unit Name]],AdminUnits[],4,FALSE)","v":4},{"$f":"VLOOKUP(Main3WData14[[#This Row],[Sector]],Sectors[],2,FALSE)","v":8}]
[null,"DGPC",{"$f":"INDEX(Organizations[],MATCH(Main3WData14[[#This Row],[Acronym]],AcronymList,0),1)","v":"Direction Générale de la Protection Civile"},{"$f":"INDEX(Organizations[],MATCH(Main3WData14[[#This Row],[Acronym]],AcronymList,0),3)","v":"Gouvernement"},"EHA","Regulier","SIKASSO",{"$f":"VLOOKUP(Main3WData14[[#This Row],[Admin Unit Name]],AdminUnits[],2,FALSE)","v":"ML03"},{"$f":"VLOOKUP(Main3WData14[[#This Row],[Admin Unit Name]],AdminUnits[],3,FALSE)","v":"Sud"},{"$f":"VLOOKUP(Main3WData14[[#This Row],[Admin Unit Name]],AdminUnits[],4,FALSE)","v":3},{"$f":"VLOOKUP(Main3WData14[[#This Row],[Sector]],Sectors[],2,FALSE)","v":8}]
[null,"Delta Survie",{"$f":"INDEX(Organizations[],MATCH(Main3WData14[[#This Row],[Acronym]],AcronymList,0),1)","v":"Delta Survie"},{"$f":"INDEX(Organizations[],MATCH(Main3WData14[[#This Row],[Acronym]],AcronymList,0),3)","v":"ONG Nat."},"Abris et NFI","Regulier","Mopti",{"$f":"VLOOKUP(Main3WData14[[#This Row],[Admin Unit Name]],AdminUnits[],2,FALSE)","v":"ML05"},{"$f":"VLOOKUP(Main3WData14[[#This Row],[Admin Unit Name]],AdminUnits[],3,FALSE)","v":"Sud"},{"$f":"VLOOKUP(Main3WData14[[#This Row],[Admin Unit Name]],AdminUnits[],4,FALSE)","v":5},{"$f":"VLOOKUP(Main3WData14[[#This Row],[Sector]],Sectors[],2,FALSE)","v":1}]
[null,"DDRK",{"$f":"INDEX(Organizations[],MATCH(Main3WData14[[#This Row],[Acronym]],AcronymList,0),1)","v":"Developpement Durable dans la Region de Kidal"},{"$f":"INDEX(Organizations[],MATCH(Main3WData14[[#This Row],[Acronym]],AcronymList,0),3)","v":"Association"},"Education","Regulier","Kidal",{"$f":"VLOOKUP(Main3WData14[[#This Row],[Admin Unit Name]],AdminUnits[],2,FALSE)","v":"ML08"},{"$f":"VLOOKUP(Main3WData14[[#This Row],[Admin Unit Name]],AdminUnits[],3,FALSE)","v":"Nord"},{"$f":"VLOOKUP(Main3WData14[[#This Row],[Admin Unit Name]],AdminUnits[],4,FALSE)","v":8},{"$f":"VLOOKUP(Main3WData14[[#This Row],[Sector]],Sectors[],2,FALSE)","v":3}]
[null,"DanChurchAid",{"$f":"INDEX(Organizations[],MATCH(Main3WData14[[#This Row],[Acronym]],AcronymList,0),1)","v":"DanChurchAid"},{"$f":"INDEX(Organizations[],MATCH(Main3WData14[[#This Row],[Acronym]],AcronymList,0),3)","v":"ONG Int."},"Protection","Regulier","Gao",{"$f":"VLOOKUP(Main3WData14[[#This Row],[Admin Unit Name]],AdminUnits[],2,FALSE)","v":"ML07"},{"$f":"VLOOKUP(Main3WData14[[#This Row],[Admin Unit Name]],AdminUnits[],3,FALSE)","v":"Nord"},{"$f":"VLOOKUP(Main3WData14[[#This Row],[Admin Unit Name]],AdminUnits[],4,FALSE)","v":7},{"$f":"VLOOKUP(Main3WData14[[#This Row],[Sector]],Sectors[],2,FALSE)","v":5}]
[null,"CSPEEDA",{"$f":"INDEX(Organizations[],MATCH(Main3WData14[[#This Row],[Acronym]],AcronymList,0),1)","v":"CSPEEDA"},{"$f":"INDEX(Organizations[],MATCH(Main3WData14[[#This Row],[Acronym]],AcronymList,0),3)","v":"ONG Nat."},"Sécurité alimentaire","Regulier","Koulikoro",{"$f":"VLOOKUP(Main3WData14[[#This Row],[Admin Unit Name]],AdminUnits[],2,FALSE)","v":"ML02"},{"$f":"VLOOKUP(Main3WData14[[#This Row],[Admin Unit Name]],AdminUnits[],3,FALSE)","v":"Sud"},{"$f":"VLOOKUP(Main3WData14[[#This Row],[Admin Unit Name]],AdminUnits[],4,FALSE)","v":2},{"$f":"VLOOKUP(Main3WData14[[#This Row],[Sector]],Sectors[],2,FALSE)","v":7}]
[null,"CRS",{"$f":"INDEX(Organizations[],MATCH(Main3WData14[[#This Row],[Acronym]],AcronymList,0),1)","v":"Catholic Relief Services"},{"$f":"INDEX(Organizations[],MATCH(Main3WData14[[#This Row],[Acronym]],AcronymList,0),3)","v":"ONG Int."},"Sécurité alimentaire","Regulier","Segou",{"$f":"VLOOKUP(Main3WData14[[#This Row],[Admin Unit Name]],AdminUnits[],2,FALSE)","v":"ML04"},{"$f":"VLOOKUP(Main3WData14[[#This Row],[Admin Unit Name]],AdminUnits[],3,FALSE)","v":"Sud"},{"$f":"VLOOKUP(Main3WData14[[#This Row],[Admin Unit Name]],AdminUnits[],4,FALSE)","v":4},{"$f":"VLOOKUP(Main3WData14[[#This Row],[Sector]],Sectors[],2,FALSE)","v":7}]
[null,"CRS",{"$f":"INDEX(Organizations[],MATCH(Main3WData14[[#This Row],[Acronym]],AcronymList,0),1)","v":"Catholic Relief Services"},{"$f":"INDEX(Organizations[],MATCH(Main3WData14[[#This Row],[Acronym]],AcronymList,0),3)","v":"ONG Int."},"Sécurité alimentaire","Regulier","Mopti",{"$f":"VLOOKUP(Main3WData14[[#This Row],[Admin Unit Name]],AdminUnits[],2,FALSE)","v":"ML05"},{"$f":"VLOOKUP(Main3WData14[[#This Row],[Admin Unit Name]],AdminUnits[],3,FALSE)","v":"Sud"},{"$f":"VLOOKUP(Main3WData14[[#This Row],[Admin Unit Name]],AdminUnits[],4,FALSE)","v":5},{"$f":"VLOOKUP(Main3WData14[[#This Row],[Sector]],Sectors[],2,FALSE)","v":7}]
[null,"CRS",{"$f":"INDEX(Organizations[],MATCH(Main3WData14[[#This Row],[Acronym]],AcronymList,0),1)","v":"Catholic Relief Services"},{"$f":"INDEX(Organizations[],MATCH(Main3WData14[[#This Row],[Acronym]],AcronymList,0),3)","v":"ONG Int."},"Sécurité alimentaire","Regulier","Koulikoro",{"$f":"VLOOKUP(Main3WData14[[#This Row],[Admin Unit Name]],AdminUnits[],2,FALSE)","v":"ML02"},{"$f":"VLOOKUP(Main3WData14[[#This Row],[Admin Unit Name]],AdminUnits[],3,FALSE)","v":"Sud"},{"$f":"VLOOKUP(Main3WData14[[#This Row],[Admin Unit Name]],AdminUnits[],4,FALSE)","v":2},{"$f":"VLOOKUP(Main3WData14[[#This Row],[Sector]],Sectors[],2,FALSE)","v":7}]
[null,"CRS",{"$f":"INDEX(Organizations[],MATCH(Main3WData14[[#This Row],[Acronym]],AcronymList,0),1)","v":"Catholic Relief Services"},{"$f":"INDEX(Organizations[],MATCH(Main3WData14[[#This Row],[Acronym]],AcronymList,0),3)","v":"ONG Int."},"Sécurité alimentaire","Regulier","Sikasso",{"$f":"VLOOKUP(Main3WData14[[#This Row],[Admin Unit Name]],AdminUnits[],2,FALSE)","v":"ML03"},{"$f":"VLOOKUP(Main3WData14[[#This Row],[Admin Unit Name]],AdminUnits[],3,FALSE)","v":"Sud"},{"$f":"VLOOKUP(Main3WData14[[#This Row],[Admin Unit Name]],AdminUnits[],4,FALSE)","v":3},{"$f":"VLOOKUP(Main3WData14[[#This Row],[Sector]],Sectors[],2,FALSE)","v":7}]
[null,"CRS",{"$f":"INDEX(Organizations[],MATCH(Main3WData14[[#This Row],[Acronym]],AcronymList,0),1)","v":"Catholic Relief Services"},{"$f":"INDEX(Organizations[],MATCH(Main3WData14[[#This Row],[Acronym]],AcronymList,0),3)","v":"ONG Int."},"Nutrition","Regulier","Koulikoro",{"$f":"VLOOKUP(Main3WData14[[#This Row],[Admin Unit Name]],AdminUnits[],2,FALSE)","v":"ML02"},{"$f":"VLOOKUP(Main3WData14[[#This Row],[Admin Unit Name]],AdminUnits[],3,FALSE)","v":"Sud"},{"$f":"VLOOKUP(Main3WData14[[#This Row],[Admin Unit Name]],AdminUnits[],4,FALSE)","v":2},{"$f":"VLOOKUP(Main3WData14[[#This Row],[Sector]],Sectors[],2,FALSE)","v":4}]
[null,"CRS",{"$f":"INDEX(Organizations[],MATCH(Main3WData14[[#This Row],[Acronym]],AcronymList,0),1)","v":"Catholic Relief Services"},{"$f":"INDEX(Organizations[],MATCH(Main3WData14[[#This Row],[Acronym]],AcronymList,0),3)","v":"ONG Int."},"Nutrition","Regulier","Mopti",{"$f":"VLOOKUP(Main3WData14[[#This Row],[Admin Unit Name]],AdminUnits[],2,FALSE)","v":"ML05"},{"$f":"VLOOKUP(Main3WData14[[#This Row],[Admin Unit Name]],AdminUnits[],3,FALSE)","v":"Sud"},{"$f":"VLOOKUP(Main3WData14[[#This Row],[Admin Unit Name]],AdminUnits[],4,FALSE)","v":5},{"$f":"VLOOKUP(Main3WData14[[#This Row],[Sector]],Sectors[],2,FALSE)","v":4}]
[null,"CRS",{"$f":"INDEX(Organizations[],MATCH(Main3WData14[[#This Row],[Acronym]],AcronymList,0),1)","v":"Catholic Relief Services"},{"$f":"INDEX(Organizations[],MATCH(Main3WData14[[#This Row],[Acronym]],AcronymList,0),3)","v":"ONG Int."},"EHA","Regulier","MOPTI",{"$f":"VLOOKUP(Main3WData14[[#This Row],[Admin Unit Name]],AdminUnits[],2,FALSE)","v":"ML05"},{"$f":"VLOOKUP(Main3WData14[[#This Row],[Admin Unit Name]],AdminUnits[],3,FALSE)","v":"Sud"},{"$f":"VLOOKUP(Main3WData14[[#This Row],[Admin Unit Name]],AdminUnits[],4,FALSE)","v":5},{"$f":"VLOOKUP(Main3WData14[[#This Row],[Sector]],Sectors[],2,FALSE)","v":8}]
[null,"CRS",{"$f":"INDEX(Organizations[],MATCH(Main3WData14[[#This Row],[Acronym]],AcronymList,0),1)","v":"Catholic Relief Services"},{"$f":"INDEX(Organizations[],MATCH(Main3WData14[[#This Row],[Acronym]],AcronymList,0),3)","v":"ONG Int."},"Education","Regulier","Mopti",{"$f":"VLOOKUP(Main3WData14[[#This Row],[Admin Unit Name]],AdminUnits[],2,FALSE)","v":"ML05"},{"$f":"VLOOKUP(Main3WData14[[#This Row],[Admin Unit Name]],AdminUnits[],3,FALSE)","v":"Sud"},{"$f":"VLOOKUP(Main3WData14[[#This Row],[Admin Unit Name]],AdminUnits[],4,FALSE)","v":5},{"$f":"VLOOKUP(Main3WData14[[#This Row],[Sector]],Sectors[],2,FALSE)","v":3}]
[null,"CRS",{"$f":"INDEX(Organizations[],MATCH(Main3WData14[[#This Row],[Acronym]],AcronymList,0),1)","v":"Catholic Relief Services"},{"$f":"INDEX(Organizations[],MATCH(Main3WData14[[#This Row],[Acronym]],AcronymList,0),3)","v":"ONG Int."},"Education","Regulier","Koulikoro",{"$f":"VLOOKUP(Main3WData14[[#This Row],[Admin Unit Name]],AdminUnits[],2,FALSE)","v":"ML02"},{"$f":"VLOOKUP(Main3WData14[[#This Row],[Admin Unit Name]],AdminUnits[],3,FALSE)","v":"Sud"},{"$f":"VLOOKUP(Main3WData14[[#This Row],[Admin Unit Name]],AdminUnits[],4,FALSE)","v":2},{"$f":"VLOOKUP(Main3WData14[[#This Row],[Sector]],Sectors[],2,FALSE)","v":3}]
[null,"CR-Mali",{"$f":"INDEX(Organizations[],MATCH(Main3WData14[[#This Row],[Acronym]],AcronymList,0),1)","v":"Croix-Rouge Mali"},{"$f":"INDEX(Organizations[],MATCH(Main3WData14[[#This Row],[Acronym]],AcronymList,0),3)","v":"Mouv. Croix-rouge"},"Sécurité alimentaire","Regulier","SEGOU",{"$f":"VLOOKUP(Main3WData14[[#This Row],[Admin Unit Name]],AdminUnits[],2,FALSE)","v":"ML04"},{"$f":"VLOOKUP(Main3WData14[[#This Row],[Admin Unit Name]],AdminUnits[],3,FALSE)","v":"Sud"},{"$f":"VLOOKUP(Main3WData14[[#This Row],[Admin Unit Name]],AdminUnits[],4,FALSE)","v":4},{"$f":"VLOOKUP(Main3WData14[[#This Row],[Sector]],Sectors[],2,FALSE)","v":7}]
[null,"CR-Mali",{"$f":"INDEX(Organizations[],MATCH(Main3WData14[[#This Row],[Acronym]],AcronymList,0),1)","v":"Croix-Rouge Mali"},{"$f":"INDEX(Organizations[],MATCH(Main3WData14[[#This Row],[Acronym]],AcronymList,0),3)","v":"Mouv. Croix-rouge"},"Sécurité alimentaire","Regulier","Mopti",{"$f":"VLOOKUP(Main3WData14[[#This Row],[Admin Unit Name]],AdminUnits[],2,FALSE)","v":"ML05"},{"$f":"VLOOKUP(Main3WData14[[#This Row],[Admin Unit Name]],AdminUnits[],3,FALSE)","v":"Sud"},{"$f":"VLOOKUP(Main3WData14[[#This Row],[Admin Unit Name]],AdminUnits[],4,FALSE)","v":5},{"$f":"VLOOKUP(Main3WData14[[#This Row],[Sector]],Sectors[],2,FALSE)","v":7}]
[null,"CR-Mali",{"$f":"INDEX(Organizations[],MATCH(Main3WData14[[#This Row],[Acronym]],AcronymList,0),1)","v":"Croix-Rouge Mali"},{"$f":"INDEX(Organizations[],MATCH(Main3WData14[[#This Row],[Acronym]],AcronymList,0),3)","v":"Mouv. Croix-rouge"},"Sécurité alimentaire","Regulier","Tombouctou",{"$f":"VLOOKUP(Main3WData14[[#This Row],[Admin Unit Name]],AdminUnits[],2,FALSE)","v":"ML06"},{"$f":"VLOOKUP(Main3WData14[[#This Row],[Admin Unit Name]],AdminUnits[],3,FALSE)","v":"Nord"},{"$f":"VLOOKUP(Main3WData14[[#This Row],[Admin Unit Name]],AdminUnits[],4,FALSE)","v":6},{"$f":"VLOOKUP(Main3WData14[[#This Row],[Sector]],Sectors[],2,FALSE)","v":7}]
[null,"CR-Mali",{"$f":"INDEX(Organizations[],MATCH(Main3WData14[[#This Row],[Acronym]],AcronymList,0),1)","v":"Croix-Rouge Mali"},{"$f":"INDEX(Organizations[],MATCH(Main3WData14[[#This Row],[Acronym]],AcronymList,0),3)","v":"Mouv. Croix-rouge"},"Santé","Regulier","Kayes",{"$f":"VLOOKUP(Main3WData14[[#This Row],[Admin Unit Name]],AdminUnits[],2,FALSE)","v":"ML01"},{"$f":"VLOOKUP(Main3WData14[[#This Row],[Admin Unit Name]],AdminUnits[],3,FALSE)","v":"Sud"},{"$f":"VLOOKUP(Main3WData14[[#This Row],[Admin Unit Name]],AdminUnits[],4,FALSE)","v":1},{"$f":"VLOOKUP(Main3WData14[[#This Row],[Sector]],Sectors[],2,FALSE)","v":6}]
[null,"CR-Mali",{"$f":"INDEX(Organizations[],MATCH(Main3WData14[[#This Row],[Acronym]],AcronymList,0),1)","v":"Croix-Rouge Mali"},{"$f":"INDEX(Organizations[],MATCH(Main3WData14[[#This Row],[Acronym]],AcronymList,0),3)","v":"Mouv. Croix-rouge"},"EHA","Regulier","BAMAKO",{"$f":"VLOOKUP(Main3WData14[[#This Row],[Admin Unit Name]],AdminUnits[],2,FALSE)","v":"ML09"},{"$f":"VLOOKUP(Main3WData14[[#This Row],[Admin Unit Name]],AdminUnits[],3,FALSE)","v":"Sud"},{"$f":"VLOOKUP(Main3WData14[[#This Row],[Admin Unit Name]],AdminUnits[],4,FALSE)","v":0},{"$f":"VLOOKUP(Main3WData14[[#This Row],[Sector]],Sectors[],2,FALSE)","v":8}]
[null,"CR-Mali",{"$f":"INDEX(Organizations[],MATCH(Main3WData14[[#This Row],[Acronym]],AcronymList,0),1)","v":"Croix-Rouge Mali"},{"$f":"INDEX(Organizations[],MATCH(Main3WData14[[#This Row],[Acronym]],AcronymList,0),3)","v":"Mouv. Croix-rouge"},"EHA","Regulier","KAYES",{"$f":"VLOOKUP(Main3WData14[[#This Row],[Admin Unit Name]],AdminUnits[],2,FALSE)","v":"ML01"},{"$f":"VLOOKUP(Main3WData14[[#This Row],[Admin Unit Name]],AdminUnits[],3,FALSE)","v":"Sud"},{"$f":"VLOOKUP(Main3WData14[[#This Row],[Admin Unit Name]],AdminUnits[],4,FALSE)","v":1},{"$f":"VLOOKUP(Main3WData14[[#This Row],[Sector]],Sectors[],2,FALSE)","v":8}]
[null,"CR-Mali",{"$f":"INDEX(Organizations[],MATCH(Main3WData14[[#This Row],[Acronym]],AcronymList,0),1)","v":"Croix-Rouge Mali"},{"$f":"INDEX(Organizations[],MATCH(Main3WData14[[#This Row],[Acronym]],AcronymList,0),3)","v":"Mouv. Croix-rouge"},"EHA","Regulier","SEGOU",{"$f":"VLOOKUP(Main3WData14[[#This Row],[Admin Unit Name]],AdminUnits[],2,FALSE)","v":"ML04"},{"$f":"VLOOKUP(Main3WData14[[#This Row],[Admin Unit Name]],AdminUnits[],3,FALSE)","v":"Sud"},{"$f":"VLOOKUP(Main3WData14[[#This Row],[Admin Unit Name]],AdminUnits[],4,FALSE)","v":4},{"$f":"VLOOKUP(Main3WData14[[#This Row],[Sector]],Sectors[],2,FALSE)","v":8}]
[null,"CR-Mali",{"$f":"INDEX(Organizations[],MATCH(Main3WData14[[#This Row],[Acronym]],AcronymList,0),1)","v":"Croix-Rouge Mali"},{"$f":"INDEX(Organizations[],MATCH(Main3WData14[[#This Row],[Acronym]],AcronymList,0),3)","v":"Mouv. Croix-rouge"},"Abris et NFI","Regulier","Mopti",{"$f":"VLOOKUP(Main3WData14[[#This Row],[Admin Unit Name]],AdminUnits[],2,FALSE)","v":"ML05"},{"$f":"VLOOKUP(Main3WData14[[#This Row],[Admin Unit Name]],AdminUnits[],3,FALSE)","v":"Sud"},{"$f":"VLOOKUP(Main3WData14[[#This Row],[Admin Unit Name]],AdminUnits[],4,FALSE)","v":5},{"$f":"VLOOKUP(Main3WData14[[#This Row],[Sector]],Sectors[],2,FALSE)","v":1}]
[null,"Cri de Cœur",{"$f":"INDEX(Organizations[],MATCH(Main3WData14[[#This Row],[Acronym]],AcronymList,0),1)","v":"Cri de Cœur"},{"$f":"INDEX(Organizations[],MATCH(Main3WData14[[#This Row],[Acronym]],AcronymList,0),3)","v":"ONG Nat."},"Education","Regulier","Bamako",{"$f":"VLOOKUP(Main3WData14[[#This Row],[Admin Unit Name]],AdminUnits[],2,FALSE)","v":"ML09"},{"$f":"VLOOKUP(Main3WData14[[#This Row],[Admin Unit Name]],AdminUnits[],3,FALSE)","v":"Sud"},{"$f":"VLOOKUP(Main3WData14[[#This Row],[Admin Unit Name]],AdminUnits[],4,FALSE)","v":0},{"$f":"VLOOKUP(Main3WData14[[#This Row],[Sector]],Sectors[],2,FALSE)","v":3}]
[null,"CR-France",{"$f":"INDEX(Organizations[],MATCH(Main3WData14[[#This Row],[Acronym]],AcronymList,0),1)","v":"Croix Rouge France"},{"$f":"INDEX(Organizations[],MATCH(Main3WData14[[#This Row],[Acronym]],AcronymList,0),3)","v":"Mouv. Croix-rouge"},"Santé","Regulier","Gao",{"$f":"VLOOKUP(Main3WData14[[#This Row],[Admin Unit Name]],AdminUnits[],2,FALSE)","v":"ML07"},{"$f":"VLOOKUP(Main3WData14[[#This Row],[Admin Unit Name]],AdminUnits[],3,FALSE)","v":"Nord"},{"$f":"VLOOKUP(Main3WData14[[#This Row],[Admin Unit Name]],AdminUnits[],4,FALSE)","v":7},{"$f":"VLOOKUP(Main3WData14[[#This Row],[Sector]],Sectors[],2,FALSE)","v":6}]
[null,"CR-France",{"$f":"INDEX(Organizations[],MATCH(Main3WData14[[#This Row],[Acronym]],AcronymList,0),1)","v":"Croix Rouge France"},{"$f":"INDEX(Organizations[],MATCH(Main3WData14[[#This Row],[Acronym]],AcronymList,0),3)","v":"Mouv. Croix-rouge"},"Nutrition","Regulier","Bamako",{"$f":"VLOOKUP(Main3WData14[[#This Row],[Admin Unit Name]],AdminUnits[],2,FALSE)","v":"ML09"},{"$f":"VLOOKUP(Main3WData14[[#This Row],[Admin Unit Name]],AdminUnits[],3,FALSE)","v":"Sud"},{"$f":"VLOOKUP(Main3WData14[[#This Row],[Admin Unit Name]],AdminUnits[],4,FALSE)","v":0},{"$f":"VLOOKUP(Main3WData14[[#This Row],[Sector]],Sectors[],2,FALSE)","v":4}]
[null,"CR-France",{"$f":"INDEX(Organizations[],MATCH(Main3WData14[[#This Row],[Acronym]],AcronymList,0),1)","v":"Croix Rouge France"},{"$f":"INDEX(Organizations[],MATCH(Main3WData14[[#This Row],[Acronym]],AcronymList,0),3)","v":"Mouv. Croix-rouge"},"Nutrition","Regulier","Kayes",{"$f":"VLOOKUP(Main3WData14[[#This Row],[Admin Unit Name]],AdminUnits[],2,FALSE)","v":"ML01"},{"$f":"VLOOKUP(Main3WData14[[#This Row],[Admin Unit Name]],AdminUnits[],3,FALSE)","v":"Sud"},{"$f":"VLOOKUP(Main3WData14[[#This Row],[Admin Unit Name]],AdminUnits[],4,FALSE)","v":1},{"$f":"VLOOKUP(Main3WData14[[#This Row],[Sector]],Sectors[],2,FALSE)","v":4}]
[null,"CR-France",{"$f":"INDEX(Organizations[],MATCH(Main3WData14[[#This Row],[Acronym]],AcronymList,0),1)","v":"Croix Rouge France"},{"$f":"INDEX(Organizations[],MATCH(Main3WData14[[#This Row],[Acronym]],AcronymList,0),3)","v":"Mouv. Croix-rouge"},"EHA","Regulier","BAMAKO",{"$f":"VLOOKUP(Main3WData14[[#This Row],[Admin Unit Name]],AdminUnits[],2,FALSE)","v":"ML09"},{"$f":"VLOOKUP(Main3WData14[[#This Row],[Admin Unit Name]],AdminUnits[],3,FALSE)","v":"Sud"},{"$f":"VLOOKUP(Main3WData14[[#This Row],[Admin Unit Name]],AdminUnits[],4,FALSE)","v":0},{"$f":"VLOOKUP(Main3WData14[[#This Row],[Sector]],Sectors[],2,FALSE)","v":8}]
[null,"CR-France",{"$f":"INDEX(Organizations[],MATCH(Main3WData14[[#This Row],[Acronym]],AcronymList,0),1)","v":"Croix Rouge France"},{"$f":"INDEX(Organizations[],MATCH(Main3WData14[[#This Row],[Acronym]],AcronymList,0),3)","v":"Mouv. Croix-rouge"},"EHA","Regulier","KAYES",{"$f":"VLOOKUP(Main3WData14[[#This Row],[Admin Unit Name]],AdminUnits[],2,FALSE)","v":"ML01"},{"$f":"VLOOKUP(Main3WData14[[#This Row],[Admin Unit Name]],AdminUnits[],3,FALSE)","v":"Sud"},{"$f":"VLOOKUP(Main3WData14[[#This Row],[Admin Unit Name]],AdminUnits[],4,FALSE)","v":1},{"$f":"VLOOKUP(Main3WData14[[#This Row],[Sector]],Sectors[],2,FALSE)","v":8}]
[null,"CR-France",{"$f":"INDEX(Organizations[],MATCH(Main3WData14[[#This Row],[Acronym]],AcronymList,0),1)","v":"Croix Rouge France"},{"$f":"INDEX(Organizations[],MATCH(Main3WData14[[#This Row],[Acronym]],AcronymList,0),3)","v":"Mouv. Croix-rouge"},"EHA","Regulier","SEGOU",{"$f":"VLOOKUP(Main3WData14[[#This Row],[Admin Unit Name]],AdminUnits[],2,FALSE)","v":"ML04"},{"$f":"VLOOKUP(Main3WData14[[#This Row],[Admin Unit Name]],AdminUnits[],3,FALSE)","v":"Sud"},{"$f":"VLOOKUP(Main3WData14[[#This Row],[Admin Unit Name]],AdminUnits[],4,FALSE)","v":4},{"$f":"VLOOKUP(Main3WData14[[#This Row],[Sector]],Sectors[],2,FALSE)","v":8}]
[null,"CR-Belgique",{"$f":"INDEX(Organizations[],MATCH(Main3WData14[[#This Row],[Acronym]],AcronymList,0),1)","v":"Croix Rouge Belgique"},{"$f":"INDEX(Organizations[],MATCH(Main3WData14[[#This Row],[Acronym]],AcronymList,0),3)","v":"Mouv. Croix-rouge"},"Nutrition","Regulier","Kayes",{"$f":"VLOOKUP(Main3WData14[[#This Row],[Admin Unit Name]],AdminUnits[],2,FALSE)","v":"ML01"},{"$f":"VLOOKUP(Main3WData14[[#This Row],[Admin Unit Name]],AdminUnits[],3,FALSE)","v":"Sud"},{"$f":"VLOOKUP(Main3WData14[[#This Row],[Admin Unit Name]],AdminUnits[],4,FALSE)","v":1},{"$f":"VLOOKUP(Main3WData14[[#This Row],[Sector]],Sectors[],2,FALSE)","v":4}]
[null,"CR-Belgique",{"$f":"INDEX(Organizations[],MATCH(Main3WData14[[#This Row],[Acronym]],AcronymList,0),1)","v":"Croix Rouge Belgique"},{"$f":"INDEX(Organizations[],MATCH(Main3WData14[[#This Row],[Acronym]],AcronymList,0),3)","v":"Mouv. Croix-rouge"},"Nutrition","Regulier","Koulikoro",{"$f":"VLOOKUP(Main3WData14[[#This Row],[Admin Unit Name]],AdminUnits[],2,FALSE)","v":"ML02"},{"$f":"VLOOKUP(Main3WData14[[#This Row],[Admin Unit Name]],AdminUnits[],3,FALSE)","v":"Sud"},{"$f":"VLOOKUP(Main3WData14[[#This Row],[Admin Unit Name]],AdminUnits[],4,FALSE)","v":2},{"$f":"VLOOKUP(Main3WData14[[#This Row],[Sector]],Sectors[],2,FALSE)","v":4}]
[null,"CR-Belgique",{"$f":"INDEX(Organizations[],MATCH(Main3WData14[[#This Row],[Acronym]],AcronymList,0),1)","v":"Croix Rouge Belgique"},{"$f":"INDEX(Organizations[],MATCH(Main3WData14[[#This Row],[Acronym]],AcronymList,0),3)","v":"Mouv. Croix-rouge"},"Nutrition","Regulier","Segou",{"$f":"VLOOKUP(Main3WData14[[#This Row],[Admin Unit Name]],AdminUnits[],2,FALSE)","v":"ML04"},{"$f":"VLOOKUP(Main3WData14[[#This Row],[Admin Unit Name]],AdminUnits[],3,FALSE)","v":"Sud"},{"$f":"VLOOKUP(Main3WData14[[#This Row],[Admin Unit Name]],AdminUnits[],4,FALSE)","v":4},{"$f":"VLOOKUP(Main3WData14[[#This Row],[Sector]],Sectors[],2,FALSE)","v":4}]
[null,"COREN",{"$f":"INDEX(Organizations[],MATCH(Main3WData14[[#This Row],[Acronym]],AcronymList,0),1)","v":"COREN"},{"$f":"INDEX(Organizations[],MATCH(Main3WData14[[#This Row],[Acronym]],AcronymList,0),3)","v":"Association"},"Protection","Regulier","Segou",{"$f":"VLOOKUP(Main3WData14[[#This Row],[Admin Unit Name]],AdminUnits[],2,FALSE)","v":"ML04"},{"$f":"VLOOKUP(Main3WData14[[#This Row],[Admin Unit Name]],AdminUnits[],3,FALSE)","v":"Sud"},{"$f":"VLOOKUP(Main3WData14[[#This Row],[Admin Unit Name]],AdminUnits[],4,FALSE)","v":4},{"$f":"VLOOKUP(Main3WData14[[#This Row],[Sector]],Sectors[],2,FALSE)","v":5}]
[null,"COOPI",{"$f":"INDEX(Organizations[],MATCH(Main3WData14[[#This Row],[Acronym]],AcronymList,0),1)","v":"COOPI"},{"$f":"INDEX(Organizations[],MATCH(Main3WData14[[#This Row],[Acronym]],AcronymList,0),3)","v":"ONG Int."},"Nutrition","Regulier","Segou",{"$f":"VLOOKUP(Main3WData14[[#This Row],[Admin Unit Name]],AdminUnits[],2,FALSE)","v":"ML04"},{"$f":"VLOOKUP(Main3WData14[[#This Row],[Admin Unit Name]],AdminUnits[],3,FALSE)","v":"Sud"},{"$f":"VLOOKUP(Main3WData14[[#This Row],[Admin Unit Name]],AdminUnits[],4,FALSE)","v":4},{"$f":"VLOOKUP(Main3WData14[[#This Row],[Sector]],Sectors[],2,FALSE)","v":4}]
[null,"CISV",{"$f":"INDEX(Organizations[],MATCH(Main3WData14[[#This Row],[Acronym]],AcronymList,0),1)","v":"Comunità Impegno Servizio Volontariato"},{"$f":"INDEX(Organizations[],MATCH(Main3WData14[[#This Row],[Acronym]],AcronymList,0),3)","v":"ONG Nat."},"Sécurité alimentaire","Regulier","Koulikoro",{"$f":"VLOOKUP(Main3WData14[[#This Row],[Admin Unit Name]],AdminUnits[],2,FALSE)","v":"ML02"},{"$f":"VLOOKUP(Main3WData14[[#This Row],[Admin Unit Name]],AdminUnits[],3,FALSE)","v":"Sud"},{"$f":"VLOOKUP(Main3WData14[[#This Row],[Admin Unit Name]],AdminUnits[],4,FALSE)","v":2},{"$f":"VLOOKUP(Main3WData14[[#This Row],[Sector]],Sectors[],2,FALSE)","v":7}]
[null,"CISV",{"$f":"INDEX(Organizations[],MATCH(Main3WData14[[#This Row],[Acronym]],AcronymList,0),1)","v":"Comunità Impegno Servizio Volontariato"},{"$f":"INDEX(Organizations[],MATCH(Main3WData14[[#This Row],[Acronym]],AcronymList,0),3)","v":"ONG Nat."},"Sécurité alimentaire","Regulier","Segou",{"$f":"VLOOKUP(Main3WData14[[#This Row],[Admin Unit Name]],AdminUnits[],2,FALSE)","v":"ML04"},{"$f":"VLOOKUP(Main3WData14[[#This Row],[Admin Unit Name]],AdminUnits[],3,FALSE)","v":"Sud"},{"$f":"VLOOKUP(Main3WData14[[#This Row],[Admin Unit Name]],AdminUnits[],4,FALSE)","v":4},{"$f":"VLOOKUP(Main3WData14[[#This Row],[Sector]],Sectors[],2,FALSE)","v":7}]
[null,"CISV",{"$f":"INDEX(Organizations[],MATCH(Main3WData14[[#This Row],[Acronym]],AcronymList,0),1)","v":"Comunità Impegno Servizio Volontariato"},{"$f":"INDEX(Organizations[],MATCH(Main3WData14[[#This Row],[Acronym]],AcronymList,0),3)","v":"ONG Nat."},"Sécurité alimentaire","Regulier","Mopti",{"$f":"VLOOKUP(Main3WData14[[#This Row],[Admin Unit Name]],AdminUnits[],2,FALSE)","v":"ML05"},{"$f":"VLOOKUP(Main3WData14[[#This Row],[Admin Unit Name]],AdminUnits[],3,FALSE)","v":"Sud"},{"$f":"VLOOKUP(Main3WData14[[#This Row],[Admin Unit Name]],AdminUnits[],4,FALSE)","v":5},{"$f":"VLOOKUP(Main3WData14[[#This Row],[Sector]],Sectors[],2,FALSE)","v":7}]
[null,"Caritas Segou",{"$f":"INDEX(Organizations[],MATCH(Main3WData14[[#This Row],[Acronym]],AcronymList,0),1)","v":"Caritas Segou"},{"$f":"INDEX(Organizations[],MATCH(Main3WData14[[#This Row],[Acronym]],AcronymList,0),3)","v":"ONG Int."},"Protection","Regulier","Segou",{"$f":"VLOOKUP(Main3WData14[[#This Row],[Admin Unit Name]],AdminUnits[],2,FALSE)","v":"ML04"},{"$f":"VLOOKUP(Main3WData14[[#This Row],[Admin Unit Name]],AdminUnits[],3,FALSE)","v":"Sud"},{"$f":"VLOOKUP(Main3WData14[[#This Row],[Admin Unit Name]],AdminUnits[],4,FALSE)","v":4},{"$f":"VLOOKUP(Main3WData14[[#This Row],[Sector]],Sectors[],2,FALSE)","v":5}]
[null,"Caritas San",{"$f":"INDEX(Organizations[],MATCH(Main3WData14[[#This Row],[Acronym]],AcronymList,0),1)","v":"Caritas San"},{"$f":"INDEX(Organizations[],MATCH(Main3WData14[[#This Row],[Acronym]],AcronymList,0),3)","v":"ONG Int."},"Sécurité alimentaire","Regulier","Segou",{"$f":"VLOOKUP(Main3WData14[[#This Row],[Admin Unit Name]],AdminUnits[],2,FALSE)","v":"ML04"},{"$f":"VLOOKUP(Main3WData14[[#This Row],[Admin Unit Name]],AdminUnits[],3,FALSE)","v":"Sud"},{"$f":"VLOOKUP(Main3WData14[[#This Row],[Admin Unit Name]],AdminUnits[],4,FALSE)","v":4},{"$f":"VLOOKUP(Main3WData14[[#This Row],[Sector]],Sectors[],2,FALSE)","v":7}]
[null,"Caritas Mopti",{"$f":"INDEX(Organizations[],MATCH(Main3WData14[[#This Row],[Acronym]],AcronymList,0),1)","v":"Caritas Mopti"},{"$f":"INDEX(Organizations[],MATCH(Main3WData14[[#This Row],[Acronym]],AcronymList,0),3)","v":"ONG Int."},"Sécurité alimentaire","Regulier","Mopti",{"$f":"VLOOKUP(Main3WData14[[#This Row],[Admin Unit Name]],AdminUnits[],2,FALSE)","v":"ML05"},{"$f":"VLOOKUP(Main3WData14[[#This Row],[Admin Unit Name]],AdminUnits[],3,FALSE)","v":"Sud"},{"$f":"VLOOKUP(Main3WData14[[#This Row],[Admin Unit Name]],AdminUnits[],4,FALSE)","v":5},{"$f":"VLOOKUP(Main3WData14[[#This Row],[Sector]],Sectors[],2,FALSE)","v":7}]
[null,"Caritas Mopti",{"$f":"INDEX(Organizations[],MATCH(Main3WData14[[#This Row],[Acronym]],AcronymList,0),1)","v":"Caritas Mopti"},{"$f":"INDEX(Organizations[],MATCH(Main3WData14[[#This Row],[Acronym]],AcronymList,0),3)","v":"ONG Int."},"Protection","Regulier","Mopti",{"$f":"VLOOKUP(Main3WData14[[#This Row],[Admin Unit Name]],AdminUnits[],2,FALSE)","v":"ML05"},{"$f":"VLOOKUP(Main3WData14[[#This Row],[Admin Unit Name]],AdminUnits[],3,FALSE)","v":"Sud"},{"$f":"VLOOKUP(Main3WData14[[#This Row],[Admin Unit Name]],AdminUnits[],4,FALSE)","v":5},{"$f":"VLOOKUP(Main3WData14[[#This Row],[Sector]],Sectors[],2,FALSE)","v":5}]
[null,"Caritas",{"$f":"INDEX(Organizations[],MATCH(Main3WData14[[#This Row],[Acronym]],AcronymList,0),1)","v":"CARITAS Mali"},{"$f":"INDEX(Organizations[],MATCH(Main3WData14[[#This Row],[Acronym]],AcronymList,0),3)","v":"ONG Int."},"Santé","Regulier","Segou",{"$f":"VLOOKUP(Main3WData14[[#This Row],[Admin Unit Name]],AdminUnits[],2,FALSE)","v":"ML04"},{"$f":"VLOOKUP(Main3WData14[[#This Row],[Admin Unit Name]],AdminUnits[],3,FALSE)","v":"Sud"},{"$f":"VLOOKUP(Main3WData14[[#This Row],[Admin Unit Name]],AdminUnits[],4,FALSE)","v":4},{"$f":"VLOOKUP(Main3WData14[[#This Row],[Sector]],Sectors[],2,FALSE)","v":6}]
[null,"CARE Mali",{"$f":"INDEX(Organizations[],MATCH(Main3WData14[[#This Row],[Acronym]],AcronymList,0),1)","v":"CARE Interntional Mali"},{"$f":"INDEX(Organizations[],MATCH(Main3WData14[[#This Row],[Acronym]],AcronymList,0),3)","v":"ONG Int."},"Sécurité alimentaire","Regulier","Segou",{"$f":"VLOOKUP(Main3WData14[[#This Row],[Admin Unit Name]],AdminUnits[],2,FALSE)","v":"ML04"},{"$f":"VLOOKUP(Main3WData14[[#This Row],[Admin Unit Name]],AdminUnits[],3,FALSE)","v":"Sud"},{"$f":"VLOOKUP(Main3WData14[[#This Row],[Admin Unit Name]],AdminUnits[],4,FALSE)","v":4},{"$f":"VLOOKUP(Main3WData14[[#This Row],[Sector]],Sectors[],2,FALSE)","v":7}]
[null,"CARE Mali",{"$f":"INDEX(Organizations[],MATCH(Main3WData14[[#This Row],[Acronym]],AcronymList,0),1)","v":"CARE Interntional Mali"},{"$f":"INDEX(Organizations[],MATCH(Main3WData14[[#This Row],[Acronym]],AcronymList,0),3)","v":"ONG Int."},"Sécurité alimentaire","Regulier","Mopti",{"$f":"VLOOKUP(Main3WData14[[#This Row],[Admin Unit Name]],AdminUnits[],2,FALSE)","v":"ML05"},{"$f":"VLOOKUP(Main3WData14[[#This Row],[Admin Unit Name]],AdminUnits[],3,FALSE)","v":"Sud"},{"$f":"VLOOKUP(Main3WData14[[#This Row],[Admin Unit Name]],AdminUnits[],4,FALSE)","v":5},{"$f":"VLOOKUP(Main3WData14[[#This Row],[Sector]],Sectors[],2,FALSE)","v":7}]
[null,"CARE Mali",{"$f":"INDEX(Organizations[],MATCH(Main3WData14[[#This Row],[Acronym]],AcronymList,0),1)","v":"CARE Interntional Mali"},{"$f":"INDEX(Organizations[],MATCH(Main3WData14[[#This Row],[Acronym]],AcronymList,0),3)","v":"ONG Int."},"Sécurité alimentaire","Regulier","Tombouctou",{"$f":"VLOOKUP(Main3WData14[[#This Row],[Admin Unit Name]],AdminUnits[],2,FALSE)","v":"ML06"},{"$f":"VLOOKUP(Main3WData14[[#This Row],[Admin Unit Name]],AdminUnits[],3,FALSE)","v":"Nord"},{"$f":"VLOOKUP(Main3WData14[[#This Row],[Admin Unit Name]],AdminUnits[],4,FALSE)","v":6},{"$f":"VLOOKUP(Main3WData14[[#This Row],[Sector]],Sectors[],2,FALSE)","v":7}]
[null,"CARE Mali",{"$f":"INDEX(Organizations[],MATCH(Main3WData14[[#This Row],[Acronym]],AcronymList,0),1)","v":"CARE Interntional Mali"},{"$f":"INDEX(Organizations[],MATCH(Main3WData14[[#This Row],[Acronym]],AcronymList,0),3)","v":"ONG Int."},"Santé","Regulier","Segou",{"$f":"VLOOKUP(Main3WData14[[#This Row],[Admin Unit Name]],AdminUnits[],2,FALSE)","v":"ML04"},{"$f":"VLOOKUP(Main3WData14[[#This Row],[Admin Unit Name]],AdminUnits[],3,FALSE)","v":"Sud"},{"$f":"VLOOKUP(Main3WData14[[#This Row],[Admin Unit Name]],AdminUnits[],4,FALSE)","v":4},{"$f":"VLOOKUP(Main3WData14[[#This Row],[Sector]],Sectors[],2,FALSE)","v":6}]
[null,"CARE Mali",{"$f":"INDEX(Organizations[],MATCH(Main3WData14[[#This Row],[Acronym]],AcronymList,0),1)","v":"CARE Interntional Mali"},{"$f":"INDEX(Organizations[],MATCH(Main3WData14[[#This Row],[Acronym]],AcronymList,0),3)","v":"ONG Int."},"Santé","Regulier","Tombouctou",{"$f":"VLOOKUP(Main3WData14[[#This Row],[Admin Unit Name]],AdminUnits[],2,FALSE)","v":"ML06"},{"$f":"VLOOKUP(Main3WData14[[#This Row],[Admin Unit Name]],AdminUnits[],3,FALSE)","v":"Nord"},{"$f":"VLOOKUP(Main3WData14[[#This Row],[Admin Unit Name]],AdminUnits[],4,FALSE)","v":6},{"$f":"VLOOKUP(Main3WData14[[#This Row],[Sector]],Sectors[],2,FALSE)","v":6}]
[null,"CARE Mali",{"$f":"INDEX(Organizations[],MATCH(Main3WData14[[#This Row],[Acronym]],AcronymList,0),1)","v":"CARE Interntional Mali"},{"$f":"INDEX(Organizations[],MATCH(Main3WData14[[#This Row],[Acronym]],AcronymList,0),3)","v":"ONG Int."},"Nutrition","Regulier","Mopti",{"$f":"VLOOKUP(Main3WData14[[#This Row],[Admin Unit Name]],AdminUnits[],2,FALSE)","v":"ML05"},{"$f":"VLOOKUP(Main3WData14[[#This Row],[Admin Unit Name]],AdminUnits[],3,FALSE)","v":"Sud"},{"$f":"VLOOKUP(Main3WData14[[#This Row],[Admin Unit Name]],AdminUnits[],4,FALSE)","v":5},{"$f":"VLOOKUP(Main3WData14[[#This Row],[Sector]],Sectors[],2,FALSE)","v":4}]
[null,"CARE Mali",{"$f":"INDEX(Organizations[],MATCH(Main3WData14[[#This Row],[Acronym]],AcronymList,0),1)","v":"CARE Interntional Mali"},{"$f":"INDEX(Organizations[],MATCH(Main3WData14[[#This Row],[Acronym]],AcronymList,0),3)","v":"ONG Int."},"Nutrition","Regulier","Tombouctou",{"$f":"VLOOKUP(Main3WData14[[#This Row],[Admin Unit Name]],AdminUnits[],2,FALSE)","v":"ML06"},{"$f":"VLOOKUP(Main3WData14[[#This Row],[Admin Unit Name]],AdminUnits[],3,FALSE)","v":"Nord"},{"$f":"VLOOKUP(Main3WData14[[#This Row],[Admin Unit Name]],AdminUnits[],4,FALSE)","v":6},{"$f":"VLOOKUP(Main3WData14[[#This Row],[Sector]],Sectors[],2,FALSE)","v":4}]
[null,"CARE Mali",{"$f":"INDEX(Organizations[],MATCH(Main3WData14[[#This Row],[Acronym]],AcronymList,0),1)","v":"CARE Interntional Mali"},{"$f":"INDEX(Organizations[],MATCH(Main3WData14[[#This Row],[Acronym]],AcronymList,0),3)","v":"ONG Int."},"EHA","Regulier","MOPTI",{"$f":"VLOOKUP(Main3WData14[[#This Row],[Admin Unit Name]],AdminUnits[],2,FALSE)","v":"ML05"},{"$f":"VLOOKUP(Main3WData14[[#This Row],[Admin Unit Name]],AdminUnits[],3,FALSE)","v":"Sud"},{"$f":"VLOOKUP(Main3WData14[[#This Row],[Admin Unit Name]],AdminUnits[],4,FALSE)","v":5},{"$f":"VLOOKUP(Main3WData14[[#This Row],[Sector]],Sectors[],2,FALSE)","v":8}]
[null,"CARE Mali",{"$f":"INDEX(Organizations[],MATCH(Main3WData14[[#This Row],[Acronym]],AcronymList,0),1)","v":"CARE Interntional Mali"},{"$f":"INDEX(Organizations[],MATCH(Main3WData14[[#This Row],[Acronym]],AcronymList,0),3)","v":"ONG Int."},"EHA","Regulier","SEGOU",{"$f":"VLOOKUP(Main3WData14[[#This Row],[Admin Unit Name]],AdminUnits[],2,FALSE)","v":"ML04"},{"$f":"VLOOKUP(Main3WData14[[#This Row],[Admin Unit Name]],AdminUnits[],3,FALSE)","v":"Sud"},{"$f":"VLOOKUP(Main3WData14[[#This Row],[Admin Unit Name]],AdminUnits[],4,FALSE)","v":4},{"$f":"VLOOKUP(Main3WData14[[#This Row],[Sector]],Sectors[],2,FALSE)","v":8}]
[null,"CARE Mali",{"$f":"INDEX(Organizations[],MATCH(Main3WData14[[#This Row],[Acronym]],AcronymList,0),1)","v":"CARE Interntional Mali"},{"$f":"INDEX(Organizations[],MATCH(Main3WData14[[#This Row],[Acronym]],AcronymList,0),3)","v":"ONG Int."},"EHA","Regulier","TOMBOUCTOU",{"$f":"VLOOKUP(Main3WData14[[#This Row],[Admin Unit Name]],AdminUnits[],2,FALSE)","v":"ML06"},{"$f":"VLOOKUP(Main3WData14[[#This Row],[Admin Unit Name]],AdminUnits[],3,FALSE)","v":"Nord"},{"$f":"VLOOKUP(Main3WData14[[#This Row],[Admin Unit Name]],AdminUnits[],4,FALSE)","v":6},{"$f":"VLOOKUP(Main3WData14[[#This Row],[Sector]],Sectors[],2,FALSE)","v":8}]
[null,"CARE Mali",{"$f":"INDEX(Organizations[],MATCH(Main3WData14[[#This Row],[Acronym]],AcronymList,0),1)","v":"CARE Interntional Mali"},{"$f":"INDEX(Organizations[],MATCH(Main3WData14[[#This Row],[Acronym]],AcronymList,0),3)","v":"ONG Int."},"Abris et NFI","Regulier","Segou",{"$f":"VLOOKUP(Main3WData14[[#This Row],[Admin Unit Name]],AdminUnits[],2,FALSE)","v":"ML04"},{"$f":"VLOOKUP(Main3WData14[[#This Row],[Admin Unit Name]],AdminUnits[],3,FALSE)","v":"Sud"},{"$f":"VLOOKUP(Main3WData14[[#This Row],[Admin Unit Name]],AdminUnits[],4,FALSE)","v":4},{"$f":"VLOOKUP(Main3WData14[[#This Row],[Sector]],Sectors[],2,FALSE)","v":1}]
[null,"CARE Mali",{"$f":"INDEX(Organizations[],MATCH(Main3WData14[[#This Row],[Acronym]],AcronymList,0),1)","v":"CARE Interntional Mali"},{"$f":"INDEX(Organizations[],MATCH(Main3WData14[[#This Row],[Acronym]],AcronymList,0),3)","v":"ONG Int."},"Abris et NFI","Regulier","Mopti",{"$f":"VLOOKUP(Main3WData14[[#This Row],[Admin Unit Name]],AdminUnits[],2,FALSE)","v":"ML05"},{"$f":"VLOOKUP(Main3WData14[[#This Row],[Admin Unit Name]],AdminUnits[],3,FALSE)","v":"Sud"},{"$f":"VLOOKUP(Main3WData14[[#This Row],[Admin Unit Name]],AdminUnits[],4,FALSE)","v":5},{"$f":"VLOOKUP(Main3WData14[[#This Row],[Sector]],Sectors[],2,FALSE)","v":1}]
[null,"CAES",{"$f":"INDEX(Organizations[],MATCH(Main3WData14[[#This Row],[Acronym]],AcronymList,0),1)","v":"CAES"},{"$f":"INDEX(Organizations[],MATCH(Main3WData14[[#This Row],[Acronym]],AcronymList,0),3)","v":"ONG Nat."},"Sécurité alimentaire","Regulier","Segou",{"$f":"VLOOKUP(Main3WData14[[#This Row],[Admin Unit Name]],AdminUnits[],2,FALSE)","v":"ML04"},{"$f":"VLOOKUP(Main3WData14[[#This Row],[Admin Unit Name]],AdminUnits[],3,FALSE)","v":"Sud"},{"$f":"VLOOKUP(Main3WData14[[#This Row],[Admin Unit Name]],AdminUnits[],4,FALSE)","v":4},{"$f":"VLOOKUP(Main3WData14[[#This Row],[Sector]],Sectors[],2,FALSE)","v":7}]
[null,"BØRNEfonden",{"$f":"INDEX(Organizations[],MATCH(Main3WData14[[#This Row],[Acronym]],AcronymList,0),1)","v":"BØRNEfonden"},{"$f":"INDEX(Organizations[],MATCH(Main3WData14[[#This Row],[Acronym]],AcronymList,0),3)","v":"ONG Int."},"Nutrition","Regulier","Koulikoro",{"$f":"VLOOKUP(Main3WData14[[#This Row],[Admin Unit Name]],AdminUnits[],2,FALSE)","v":"ML02"},{"$f":"VLOOKUP(Main3WData14[[#This Row],[Admin Unit Name]],AdminUnits[],3,FALSE)","v":"Sud"},{"$f":"VLOOKUP(Main3WData14[[#This Row],[Admin Unit Name]],AdminUnits[],4,FALSE)","v":2},{"$f":"VLOOKUP(Main3WData14[[#This Row],[Sector]],Sectors[],2,FALSE)","v":4}]
[null,"BØRNEfonden",{"$f":"INDEX(Organizations[],MATCH(Main3WData14[[#This Row],[Acronym]],AcronymList,0),1)","v":"BØRNEfonden"},{"$f":"INDEX(Organizations[],MATCH(Main3WData14[[#This Row],[Acronym]],AcronymList,0),3)","v":"ONG Int."},"Nutrition","Regulier","Sikasso",{"$f":"VLOOKUP(Main3WData14[[#This Row],[Admin Unit Name]],AdminUnits[],2,FALSE)","v":"ML03"},{"$f":"VLOOKUP(Main3WData14[[#This Row],[Admin Unit Name]],AdminUnits[],3,FALSE)","v":"Sud"},{"$f":"VLOOKUP(Main3WData14[[#This Row],[Admin Unit Name]],AdminUnits[],4,FALSE)","v":3},{"$f":"VLOOKUP(Main3WData14[[#This Row],[Sector]],Sectors[],2,FALSE)","v":4}]
[null,"BNCE",{"$f":"INDEX(Organizations[],MATCH(Main3WData14[[#This Row],[Acronym]],AcronymList,0),1)","v":"Bureau National Catholique pour l'Enfance"},{"$f":"INDEX(Organizations[],MATCH(Main3WData14[[#This Row],[Acronym]],AcronymList,0),3)","v":"ONG Nat."},"Protection","Regulier","Sikasso",{"$f":"VLOOKUP(Main3WData14[[#This Row],[Admin Unit Name]],AdminUnits[],2,FALSE)","v":"ML03"},{"$f":"VLOOKUP(Main3WData14[[#This Row],[Admin Unit Name]],AdminUnits[],3,FALSE)","v":"Sud"},{"$f":"VLOOKUP(Main3WData14[[#This Row],[Admin Unit Name]],AdminUnits[],4,FALSE)","v":3},{"$f":"VLOOKUP(Main3WData14[[#This Row],[Sector]],Sectors[],2,FALSE)","v":5}]
[null,"AVSF",{"$f":"INDEX(Organizations[],MATCH(Main3WData14[[#This Row],[Acronym]],AcronymList,0),1)","v":"Agronomes et Vétérinaires Sans Frontières"},{"$f":"INDEX(Organizations[],MATCH(Main3WData14[[#This Row],[Acronym]],AcronymList,0),3)","v":"ONG Int."},"Santé","Regulier","Tombouctou",{"$f":"VLOOKUP(Main3WData14[[#This Row],[Admin Unit Name]],AdminUnits[],2,FALSE)","v":"ML06"},{"$f":"VLOOKUP(Main3WData14[[#This Row],[Admin Unit Name]],AdminUnits[],3,FALSE)","v":"Nord"},{"$f":"VLOOKUP(Main3WData14[[#This Row],[Admin Unit Name]],AdminUnits[],4,FALSE)","v":6},{"$f":"VLOOKUP(Main3WData14[[#This Row],[Sector]],Sectors[],2,FALSE)","v":6}]
[null,"AVSF",{"$f":"INDEX(Organizations[],MATCH(Main3WData14[[#This Row],[Acronym]],AcronymList,0),1)","v":"Agronomes et Vétérinaires Sans Frontières"},{"$f":"INDEX(Organizations[],MATCH(Main3WData14[[#This Row],[Acronym]],AcronymList,0),3)","v":"ONG Int."},"Nutrition","Regulier","Gao",{"$f":"VLOOKUP(Main3WData14[[#This Row],[Admin Unit Name]],AdminUnits[],2,FALSE)","v":"ML07"},{"$f":"VLOOKUP(Main3WData14[[#This Row],[Admin Unit Name]],AdminUnits[],3,FALSE)","v":"Nord"},{"$f":"VLOOKUP(Main3WData14[[#This Row],[Admin Unit Name]],AdminUnits[],4,FALSE)","v":7},{"$f":"VLOOKUP(Main3WData14[[#This Row],[Sector]],Sectors[],2,FALSE)","v":4}]
[null,"AVSF",{"$f":"INDEX(Organizations[],MATCH(Main3WData14[[#This Row],[Acronym]],AcronymList,0),1)","v":"Agronomes et Vétérinaires Sans Frontières"},{"$f":"INDEX(Organizations[],MATCH(Main3WData14[[#This Row],[Acronym]],AcronymList,0),3)","v":"ONG Int."},"Nutrition","Regulier","Tombouctou",{"$f":"VLOOKUP(Main3WData14[[#This Row],[Admin Unit Name]],AdminUnits[],2,FALSE)","v":"ML06"},{"$f":"VLOOKUP(Main3WData14[[#This Row],[Admin Unit Name]],AdminUnits[],3,FALSE)","v":"Nord"},{"$f":"VLOOKUP(Main3WData14[[#This Row],[Admin Unit Name]],AdminUnits[],4,FALSE)","v":6},{"$f":"VLOOKUP(Main3WData14[[#This Row],[Sector]],Sectors[],2,FALSE)","v":4}]
[null,"AVSF",{"$f":"INDEX(Organizations[],MATCH(Main3WData14[[#This Row],[Acronym]],AcronymList,0),1)","v":"Agronomes et Vétérinaires Sans Frontières"},{"$f":"INDEX(Organizations[],MATCH(Main3WData14[[#This Row],[Acronym]],AcronymList,0),3)","v":"ONG Int."},"EHA","Regulier","TOMBOUCTOU",{"$f":"VLOOKUP(Main3WData14[[#This Row],[Admin Unit Name]],AdminUnits[],2,FALSE)","v":"ML06"},{"$f":"VLOOKUP(Main3WData14[[#This Row],[Admin Unit Name]],AdminUnits[],3,FALSE)","v":"Nord"},{"$f":"VLOOKUP(Main3WData14[[#This Row],[Admin Unit Name]],AdminUnits[],4,FALSE)","v":6},{"$f":"VLOOKUP(Main3WData14[[#This Row],[Sector]],Sectors[],2,FALSE)","v":8}]
[null,"AVES",{"$f":"INDEX(Organizations[],MATCH(Main3WData14[[#This Row],[Acronym]],AcronymList,0),1)","v":"Avenir Enfance Sahel"},{"$f":"INDEX(Organizations[],MATCH(Main3WData14[[#This Row],[Acronym]],AcronymList,0),3)","v":"ONG Nat."},"Protection","Regulier","Bamako",{"$f":"VLOOKUP(Main3WData14[[#This Row],[Admin Unit Name]],AdminUnits[],2,FALSE)","v":"ML09"},{"$f":"VLOOKUP(Main3WData14[[#This Row],[Admin Unit Name]],AdminUnits[],3,FALSE)","v":"Sud"},{"$f":"VLOOKUP(Main3WData14[[#This Row],[Admin Unit Name]],AdminUnits[],4,FALSE)","v":0},{"$f":"VLOOKUP(Main3WData14[[#This Row],[Sector]],Sectors[],2,FALSE)","v":5}]
[null,"AVES",{"$f":"INDEX(Organizations[],MATCH(Main3WData14[[#This Row],[Acronym]],AcronymList,0),1)","v":"Avenir Enfance Sahel"},{"$f":"INDEX(Organizations[],MATCH(Main3WData14[[#This Row],[Acronym]],AcronymList,0),3)","v":"ONG Nat."},"Protection","Regulier","Mopti",{"$f":"VLOOKUP(Main3WData14[[#This Row],[Admin Unit Name]],AdminUnits[],2,FALSE)","v":"ML05"},{"$f":"VLOOKUP(Main3WData14[[#This Row],[Admin Unit Name]],AdminUnits[],3,FALSE)","v":"Sud"},{"$f":"VLOOKUP(Main3WData14[[#This Row],[Admin Unit Name]],AdminUnits[],4,FALSE)","v":5},{"$f":"VLOOKUP(Main3WData14[[#This Row],[Sector]],Sectors[],2,FALSE)","v":5}]
[null,"AVES",{"$f":"INDEX(Organizations[],MATCH(Main3WData14[[#This Row],[Acronym]],AcronymList,0),1)","v":"Avenir Enfance Sahel"},{"$f":"INDEX(Organizations[],MATCH(Main3WData14[[#This Row],[Acronym]],AcronymList,0),3)","v":"ONG Nat."},"Protection","Regulier","Segou",{"$f":"VLOOKUP(Main3WData14[[#This Row],[Admin Unit Name]],AdminUnits[],2,FALSE)","v":"ML04"},{"$f":"VLOOKUP(Main3WData14[[#This Row],[Admin Unit Name]],AdminUnits[],3,FALSE)","v":"Sud"},{"$f":"VLOOKUP(Main3WData14[[#This Row],[Admin Unit Name]],AdminUnits[],4,FALSE)","v":4},{"$f":"VLOOKUP(Main3WData14[[#This Row],[Sector]],Sectors[],2,FALSE)","v":5}]
[null,"AVES",{"$f":"INDEX(Organizations[],MATCH(Main3WData14[[#This Row],[Acronym]],AcronymList,0),1)","v":"Avenir Enfance Sahel"},{"$f":"INDEX(Organizations[],MATCH(Main3WData14[[#This Row],[Acronym]],AcronymList,0),3)","v":"ONG Nat."},"Protection","Regulier","Kayes",{"$f":"VLOOKUP(Main3WData14[[#This Row],[Admin Unit Name]],AdminUnits[],2,FALSE)","v":"ML01"},{"$f":"VLOOKUP(Main3WData14[[#This Row],[Admin Unit Name]],AdminUnits[],3,FALSE)","v":"Sud"},{"$f":"VLOOKUP(Main3WData14[[#This Row],[Admin Unit Name]],AdminUnits[],4,FALSE)","v":1},{"$f":"VLOOKUP(Main3WData14[[#This Row],[Sector]],Sectors[],2,FALSE)","v":5}]
[null,"ASSAFE",{"$f":"INDEX(Organizations[],MATCH(Main3WData14[[#This Row],[Acronym]],AcronymList,0),1)","v":"ASSAFE"},{"$f":"INDEX(Organizations[],MATCH(Main3WData14[[#This Row],[Acronym]],AcronymList,0),3)","v":"ONG Nat."},"Protection","Regulier","Segou",{"$f":"VLOOKUP(Main3WData14[[#This Row],[Admin Unit Name]],AdminUnits[],2,FALSE)","v":"ML04"},{"$f":"VLOOKUP(Main3WData14[[#This Row],[Admin Unit Name]],AdminUnits[],3,FALSE)","v":"Sud"},{"$f":"VLOOKUP(Main3WData14[[#This Row],[Admin Unit Name]],AdminUnits[],4,FALSE)","v":4},{"$f":"VLOOKUP(Main3WData14[[#This Row],[Sector]],Sectors[],2,FALSE)","v":5}]
[null,"ASSAFE",{"$f":"INDEX(Organizations[],MATCH(Main3WData14[[#This Row],[Acronym]],AcronymList,0),1)","v":"ASSAFE"},{"$f":"INDEX(Organizations[],MATCH(Main3WData14[[#This Row],[Acronym]],AcronymList,0),3)","v":"ONG Nat."},"Abris et NFI","Regulier","Segou",{"$f":"VLOOKUP(Main3WData14[[#This Row],[Admin Unit Name]],AdminUnits[],2,FALSE)","v":"ML04"},{"$f":"VLOOKUP(Main3WData14[[#This Row],[Admin Unit Name]],AdminUnits[],3,FALSE)","v":"Sud"},{"$f":"VLOOKUP(Main3WData14[[#This Row],[Admin Unit Name]],AdminUnits[],4,FALSE)","v":4},{"$f":"VLOOKUP(Main3WData14[[#This Row],[Sector]],Sectors[],2,FALSE)","v":1}]
[null,"ASDAP",{"$f":"INDEX(Organizations[],MATCH(Main3WData14[[#This Row],[Acronym]],AcronymList,0),1)","v":"Association pour le Soutien du Développement des Activités de Population"},{"$f":"INDEX(Organizations[],MATCH(Main3WData14[[#This Row],[Acronym]],AcronymList,0),3)","v":"ONG Nat."},"Santé","Regulier","Mopti",{"$f":"VLOOKUP(Main3WData14[[#This Row],[Admin Unit Name]],AdminUnits[],2,FALSE)","v":"ML05"},{"$f":"VLOOKUP(Main3WData14[[#This Row],[Admin Unit Name]],AdminUnits[],3,FALSE)","v":"Sud"},{"$f":"VLOOKUP(Main3WData14[[#This Row],[Admin Unit Name]],AdminUnits[],4,FALSE)","v":5},{"$f":"VLOOKUP(Main3WData14[[#This Row],[Sector]],Sectors[],2,FALSE)","v":6}]
[null,"ASDAP",{"$f":"INDEX(Organizations[],MATCH(Main3WData14[[#This Row],[Acronym]],AcronymList,0),1)","v":"Association pour le Soutien du Développement des Activités de Population"},{"$f":"INDEX(Organizations[],MATCH(Main3WData14[[#This Row],[Acronym]],AcronymList,0),3)","v":"ONG Nat."},"Nutrition","Regulier","Mopti",{"$f":"VLOOKUP(Main3WData14[[#This Row],[Admin Unit Name]],AdminUnits[],2,FALSE)","v":"ML05"},{"$f":"VLOOKUP(Main3WData14[[#This Row],[Admin Unit Name]],AdminUnits[],3,FALSE)","v":"Sud"},{"$f":"VLOOKUP(Main3WData14[[#This Row],[Admin Unit Name]],AdminUnits[],4,FALSE)","v":5},{"$f":"VLOOKUP(Main3WData14[[#This Row],[Sector]],Sectors[],2,FALSE)","v":4}]
[null,"ASDAP",{"$f":"INDEX(Organizations[],MATCH(Main3WData14[[#This Row],[Acronym]],AcronymList,0),1)","v":"Association pour le Soutien du Développement des Activités de Population"},{"$f":"INDEX(Organizations[],MATCH(Main3WData14[[#This Row],[Acronym]],AcronymList,0),3)","v":"ONG Nat."},"Nutrition","Regulier","Segou",{"$f":"VLOOKUP(Main3WData14[[#This Row],[Admin Unit Name]],AdminUnits[],2,FALSE)","v":"ML04"},{"$f":"VLOOKUP(Main3WData14[[#This Row],[Admin Unit Name]],AdminUnits[],3,FALSE)","v":"Sud"},{"$f":"VLOOKUP(Main3WData14[[#This Row],[Admin Unit Name]],AdminUnits[],4,FALSE)","v":4},{"$f":"VLOOKUP(Main3WData14[[#This Row],[Sector]],Sectors[],2,FALSE)","v":4}]
[null,"ASDAP",{"$f":"INDEX(Organizations[],MATCH(Main3WData14[[#This Row],[Acronym]],AcronymList,0),1)","v":"Association pour le Soutien du Développement des Activités de Population"},{"$f":"INDEX(Organizations[],MATCH(Main3WData14[[#This Row],[Acronym]],AcronymList,0),3)","v":"ONG Nat."},"Nutrition","Regulier","Sikasso",{"$f":"VLOOKUP(Main3WData14[[#This Row],[Admin Unit Name]],AdminUnits[],2,FALSE)","v":"ML03"},{"$f":"VLOOKUP(Main3WData14[[#This Row],[Admin Unit Name]],AdminUnits[],3,FALSE)","v":"Sud"},{"$f":"VLOOKUP(Main3WData14[[#This Row],[Admin Unit Name]],AdminUnits[],4,FALSE)","v":3},{"$f":"VLOOKUP(Main3WData14[[#This Row],[Sector]],Sectors[],2,FALSE)","v":4}]
[null,"ARAW",{"$f":"INDEX(Organizations[],MATCH(Main3WData14[[#This Row],[Acronym]],AcronymList,0),1)","v":"ARAW"},{"$f":"INDEX(Organizations[],MATCH(Main3WData14[[#This Row],[Acronym]],AcronymList,0),3)","v":"ONG Nat."},"Abris et NFI","Regulier","Tombouctou",{"$f":"VLOOKUP(Main3WData14[[#This Row],[Admin Unit Name]],AdminUnits[],2,FALSE)","v":"ML06"},{"$f":"VLOOKUP(Main3WData14[[#This Row],[Admin Unit Name]],AdminUnits[],3,FALSE)","v":"Nord"},{"$f":"VLOOKUP(Main3WData14[[#This Row],[Admin Unit Name]],AdminUnits[],4,FALSE)","v":6},{"$f":"VLOOKUP(Main3WData14[[#This Row],[Sector]],Sectors[],2,FALSE)","v":1}]
[null,"ARAW",{"$f":"INDEX(Organizations[],MATCH(Main3WData14[[#This Row],[Acronym]],AcronymList,0),1)","v":"ARAW"},{"$f":"INDEX(Organizations[],MATCH(Main3WData14[[#This Row],[Acronym]],AcronymList,0),3)","v":"ONG Nat."},"Abris et NFI","Regulier","Gao",{"$f":"VLOOKUP(Main3WData14[[#This Row],[Admin Unit Name]],AdminUnits[],2,FALSE)","v":"ML07"},{"$f":"VLOOKUP(Main3WData14[[#This Row],[Admin Unit Name]],AdminUnits[],3,FALSE)","v":"Nord"},{"$f":"VLOOKUP(Main3WData14[[#This Row],[Admin Unit Name]],AdminUnits[],4,FALSE)","v":7},{"$f":"VLOOKUP(Main3WData14[[#This Row],[Sector]],Sectors[],2,FALSE)","v":1}]
[null,"ARAW",{"$f":"INDEX(Organizations[],MATCH(Main3WData14[[#This Row],[Acronym]],AcronymList,0),1)","v":"ARAW"},{"$f":"INDEX(Organizations[],MATCH(Main3WData14[[#This Row],[Acronym]],AcronymList,0),3)","v":"ONG Nat."},"Abris et NFI","Regulier","Kidal",{"$f":"VLOOKUP(Main3WData14[[#This Row],[Admin Unit Name]],AdminUnits[],2,FALSE)","v":"ML08"},{"$f":"VLOOKUP(Main3WData14[[#This Row],[Admin Unit Name]],AdminUnits[],3,FALSE)","v":"Nord"},{"$f":"VLOOKUP(Main3WData14[[#This Row],[Admin Unit Name]],AdminUnits[],4,FALSE)","v":8},{"$f":"VLOOKUP(Main3WData14[[#This Row],[Sector]],Sectors[],2,FALSE)","v":1}]
[null,"AOPP - FEBEVIM",{"$f":"INDEX(Organizations[],MATCH(Main3WData14[[#This Row],[Acronym]],AcronymList,0),1)","v":{"$error":"#N/A"}},{"$f":"INDEX(Organizations[],MATCH(Main3WData14[[#This Row],[Acronym]],AcronymList,0),3)","v":{"$error":"#N/A"}},"Sécurité alimentaire","Regulier","Mopti",{"$f":"VLOOKUP(Main3WData14[[#This Row],[Admin Unit Name]],AdminUnits[],2,FALSE)","v":"ML05"},{"$f":"VLOOKUP(Main3WData14[[#This Row],[Admin Unit Name]],AdminUnits[],3,FALSE)","v":"Sud"},{"$f":"VLOOKUP(Main3WData14[[#This Row],[Admin Unit Name]],AdminUnits[],4,FALSE)","v":5},{"$f":"VLOOKUP(Main3WData14[[#This Row],[Sector]],Sectors[],2,FALSE)","v":7}]
[null,"AMSS",{"$f":"INDEX(Organizations[],MATCH(Main3WData14[[#This Row],[Acronym]],AcronymList,0),1)","v":"Association Malienne pour la Survie au Sahel"},{"$f":"INDEX(Organizations[],MATCH(Main3WData14[[#This Row],[Acronym]],AcronymList,0),3)","v":"ONG Nat."},"Sécurité alimentaire","Regulier","Tombouctou",{"$f":"VLOOKUP(Main3WData14[[#This Row],[Admin Unit Name]],AdminUnits[],2,FALSE)","v":"ML06"},{"$f":"VLOOKUP(Main3WData14[[#This Row],[Admin Unit Name]],AdminUnits[],3,FALSE)","v":"Nord"},{"$f":"VLOOKUP(Main3WData14[[#This Row],[Admin Unit Name]],AdminUnits[],4,FALSE)","v":6},{"$f":"VLOOKUP(Main3WData14[[#This Row],[Sector]],Sectors[],2,FALSE)","v":7}]
[null,"Alphalog",{"$f":"INDEX(Organizations[],MATCH(Main3WData14[[#This Row],[Acronym]],AcronymList,0),1)","v":"ALPHALOG"},{"$f":"INDEX(Organizations[],MATCH(Main3WData14[[#This Row],[Acronym]],AcronymList,0),3)","v":"ONG Nat."},"Sécurité alimentaire","Regulier","Segou",{"$f":"VLOOKUP(Main3WData14[[#This Row],[Admin Unit Name]],AdminUnits[],2,FALSE)","v":"ML04"},{"$f":"VLOOKUP(Main3WData14[[#This Row],[Admin Unit Name]],AdminUnits[],3,FALSE)","v":"Sud"},{"$f":"VLOOKUP(Main3WData14[[#This Row],[Admin Unit Name]],AdminUnits[],4,FALSE)","v":4},{"$f":"VLOOKUP(Main3WData14[[#This Row],[Sector]],Sectors[],2,FALSE)","v":7}]
[null,"ALIMA/AMCP",{"$f":"INDEX(Organizations[],MATCH(Main3WData14[[#This Row],[Acronym]],AcronymList,0),1)","v":"Alliance Internationale for Medical Action"},{"$f":"INDEX(Organizations[],MATCH(Main3WData14[[#This Row],[Acronym]],AcronymList,0),3)","v":"ONG Int."},"Santé","Regulier","TOMBOUCTOU",{"$f":"VLOOKUP(Main3WData14[[#This Row],[Admin Unit Name]],AdminUnits[],2,FALSE)","v":"ML06"},{"$f":"VLOOKUP(Main3WData14[[#This Row],[Admin Unit Name]],AdminUnits[],3,FALSE)","v":"Nord"},{"$f":"VLOOKUP(Main3WData14[[#This Row],[Admin Unit Name]],AdminUnits[],4,FALSE)","v":6},{"$f":"VLOOKUP(Main3WData14[[#This Row],[Sector]],Sectors[],2,FALSE)","v":6}]
[null,"ALIMA",{"$f":"INDEX(Organizations[],MATCH(Main3WData14[[#This Row],[Acronym]],AcronymList,0),1)","v":"Alliance Internationale for Medical Action"},{"$f":"INDEX(Organizations[],MATCH(Main3WData14[[#This Row],[Acronym]],AcronymList,0),3)","v":"ONG Int."},"Nutrition","Regulier","Koulikoro",{"$f":"VLOOKUP(Main3WData14[[#This Row],[Admin Unit Name]],AdminUnits[],2,FALSE)","v":"ML02"},{"$f":"VLOOKUP(Main3WData14[[#This Row],[Admin Unit Name]],AdminUnits[],3,FALSE)","v":"Sud"},{"$f":"VLOOKUP(Main3WData14[[#This Row],[Admin Unit Name]],AdminUnits[],4,FALSE)","v":2},{"$f":"VLOOKUP(Main3WData14[[#This Row],[Sector]],Sectors[],2,FALSE)","v":4}]
[null,"ALIMA",{"$f":"INDEX(Organizations[],MATCH(Main3WData14[[#This Row],[Acronym]],AcronymList,0),1)","v":"Alliance Internationale for Medical Action"},{"$f":"INDEX(Organizations[],MATCH(Main3WData14[[#This Row],[Acronym]],AcronymList,0),3)","v":"ONG Int."},"Nutrition","Regulier","Tombouctou",{"$f":"VLOOKUP(Main3WData14[[#This Row],[Admin Unit Name]],AdminUnits[],2,FALSE)","v":"ML06"},{"$f":"VLOOKUP(Main3WData14[[#This Row],[Admin Unit Name]],AdminUnits[],3,FALSE)","v":"Nord"},{"$f":"VLOOKUP(Main3WData14[[#This Row],[Admin Unit Name]],AdminUnits[],4,FALSE)","v":6},{"$f":"VLOOKUP(Main3WData14[[#This Row],[Sector]],Sectors[],2,FALSE)","v":4}]
[null,"AKF",{"$f":"INDEX(Organizations[],MATCH(Main3WData14[[#This Row],[Acronym]],AcronymList,0),1)","v":"Aga Khan Foundation"},{"$f":"INDEX(Organizations[],MATCH(Main3WData14[[#This Row],[Acronym]],AcronymList,0),3)","v":"Fondation"},"Sécurité alimentaire","Regulier","MOPTI",{"$f":"VLOOKUP(Main3WData14[[#This Row],[Admin Unit Name]],AdminUnits[],2,FALSE)","v":"ML05"},{"$f":"VLOOKUP(Main3WData14[[#This Row],[Admin Unit Name]],AdminUnits[],3,FALSE)","v":"Sud"},{"$f":"VLOOKUP(Main3WData14[[#This Row],[Admin Unit Name]],AdminUnits[],4,FALSE)","v":5},{"$f":"VLOOKUP(Main3WData14[[#This Row],[Sector]],Sectors[],2,FALSE)","v":7}]
[null,"AKF",{"$f":"INDEX(Organizations[],MATCH(Main3WData14[[#This Row],[Acronym]],AcronymList,0),1)","v":"Aga Khan Foundation"},{"$f":"INDEX(Organizations[],MATCH(Main3WData14[[#This Row],[Acronym]],AcronymList,0),3)","v":"Fondation"},"Education","Regulier","Mopti",{"$f":"VLOOKUP(Main3WData14[[#This Row],[Admin Unit Name]],AdminUnits[],2,FALSE)","v":"ML05"},{"$f":"VLOOKUP(Main3WData14[[#This Row],[Admin Unit Name]],AdminUnits[],3,FALSE)","v":"Sud"},{"$f":"VLOOKUP(Main3WData14[[#This Row],[Admin Unit Name]],AdminUnits[],4,FALSE)","v":5},{"$f":"VLOOKUP(Main3WData14[[#This Row],[Sector]],Sectors[],2,FALSE)","v":3}]
[null,"AJDM",{"$f":"INDEX(Organizations[],MATCH(Main3WData14[[#This Row],[Acronym]],AcronymList,0),1)","v":"AJDM"},{"$f":"INDEX(Organizations[],MATCH(Main3WData14[[#This Row],[Acronym]],AcronymList,0),3)","v":"Association"},"Protection","Regulier","Bamako",{"$f":"VLOOKUP(Main3WData14[[#This Row],[Admin Unit Name]],AdminUnits[],2,FALSE)","v":"ML09"},{"$f":"VLOOKUP(Main3WData14[[#This Row],[Admin Unit Name]],AdminUnits[],3,FALSE)","v":"Sud"},{"$f":"VLOOKUP(Main3WData14[[#This Row],[Admin Unit Name]],AdminUnits[],4,FALSE)","v":0},{"$f":"VLOOKUP(Main3WData14[[#This Row],[Sector]],Sectors[],2,FALSE)","v":5}]
[null,"AJDM",{"$f":"INDEX(Organizations[],MATCH(Main3WData14[[#This Row],[Acronym]],AcronymList,0),1)","v":"AJDM"},{"$f":"INDEX(Organizations[],MATCH(Main3WData14[[#This Row],[Acronym]],AcronymList,0),3)","v":"Association"},"Protection","Regulier","Segou",{"$f":"VLOOKUP(Main3WData14[[#This Row],[Admin Unit Name]],AdminUnits[],2,FALSE)","v":"ML04"},{"$f":"VLOOKUP(Main3WData14[[#This Row],[Admin Unit Name]],AdminUnits[],3,FALSE)","v":"Sud"},{"$f":"VLOOKUP(Main3WData14[[#This Row],[Admin Unit Name]],AdminUnits[],4,FALSE)","v":4},{"$f":"VLOOKUP(Main3WData14[[#This Row],[Sector]],Sectors[],2,FALSE)","v":5}]
[null,"AJDM",{"$f":"INDEX(Organizations[],MATCH(Main3WData14[[#This Row],[Acronym]],AcronymList,0),1)","v":"AJDM"},{"$f":"INDEX(Organizations[],MATCH(Main3WData14[[#This Row],[Acronym]],AcronymList,0),3)","v":"Association"},"Protection","Regulier","Sikasso",{"$f":"VLOOKUP(Main3WData14[[#This Row],[Admin Unit Name]],AdminUnits[],2,FALSE)","v":"ML03"},{"$f":"VLOOKUP(Main3WData14[[#This Row],[Admin Unit Name]],AdminUnits[],3,FALSE)","v":"Sud"},{"$f":"VLOOKUP(Main3WData14[[#This Row],[Admin Unit Name]],AdminUnits[],4,FALSE)","v":3},{"$f":"VLOOKUP(Main3WData14[[#This Row],[Sector]],Sectors[],2,FALSE)","v":5}]
[null,"Aidemet",{"$f":"INDEX(Organizations[],MATCH(Main3WData14[[#This Row],[Acronym]],AcronymList,0),1)","v":"Aide au Développement de la Médecine Traditionnelle"},{"$f":"INDEX(Organizations[],MATCH(Main3WData14[[#This Row],[Acronym]],AcronymList,0),3)","v":"ONG Nat."},"EHA","Regulier","KAYES",{"$f":"VLOOKUP(Main3WData14[[#This Row],[Admin Unit Name]],AdminUnits[],2,FALSE)","v":"ML01"},{"$f":"VLOOKUP(Main3WData14[[#This Row],[Admin Unit Name]],AdminUnits[],3,FALSE)","v":"Sud"},{"$f":"VLOOKUP(Main3WData14[[#This Row],[Admin Unit Name]],AdminUnits[],4,FALSE)","v":1},{"$f":"VLOOKUP(Main3WData14[[#This Row],[Sector]],Sectors[],2,FALSE)","v":8}]
[null,"Aidemet",{"$f":"INDEX(Organizations[],MATCH(Main3WData14[[#This Row],[Acronym]],AcronymList,0),1)","v":"Aide au Développement de la Médecine Traditionnelle"},{"$f":"INDEX(Organizations[],MATCH(Main3WData14[[#This Row],[Acronym]],AcronymList,0),3)","v":"ONG Nat."},"EHA","Regulier","MOPTI",{"$f":"VLOOKUP(Main3WData14[[#This Row],[Admin Unit Name]],AdminUnits[],2,FALSE)","v":"ML05"},{"$f":"VLOOKUP(Main3WData14[[#This Row],[Admin Unit Name]],AdminUnits[],3,FALSE)","v":"Sud"},{"$f":"VLOOKUP(Main3WData14[[#This Row],[Admin Unit Name]],AdminUnits[],4,FALSE)","v":5},{"$f":"VLOOKUP(Main3WData14[[#This Row],[Sector]],Sectors[],2,FALSE)","v":8}]
[null,"Aidemet",{"$f":"INDEX(Organizations[],MATCH(Main3WData14[[#This Row],[Acronym]],AcronymList,0),1)","v":"Aide au Développement de la Médecine Traditionnelle"},{"$f":"INDEX(Organizations[],MATCH(Main3WData14[[#This Row],[Acronym]],AcronymList,0),3)","v":"ONG Nat."},"EHA","Regulier","SEGOU",{"$f":"VLOOKUP(Main3WData14[[#This Row],[Admin Unit Name]],AdminUnits[],2,FALSE)","v":"ML04"},{"$f":"VLOOKUP(Main3WData14[[#This Row],[Admin Unit Name]],AdminUnits[],3,FALSE)","v":"Sud"},{"$f":"VLOOKUP(Main3WData14[[#This Row],[Admin Unit Name]],AdminUnits[],4,FALSE)","v":4},{"$f":"VLOOKUP(Main3WData14[[#This Row],[Sector]],Sectors[],2,FALSE)","v":8}]
[null,"AFRICARE",{"$f":"INDEX(Organizations[],MATCH(Main3WData14[[#This Row],[Acronym]],AcronymList,0),1)","v":"AFRICARE"},{"$f":"INDEX(Organizations[],MATCH(Main3WData14[[#This Row],[Acronym]],AcronymList,0),3)","v":"ONG Int."},"Sécurité alimentaire","Regulier","Tombouctou",{"$f":"VLOOKUP(Main3WData14[[#This Row],[Admin Unit Name]],AdminUnits[],2,FALSE)","v":"ML06"},{"$f":"VLOOKUP(Main3WData14[[#This Row],[Admin Unit Name]],AdminUnits[],3,FALSE)","v":"Nord"},{"$f":"VLOOKUP(Main3WData14[[#This Row],[Admin Unit Name]],AdminUnits[],4,FALSE)","v":6},{"$f":"VLOOKUP(Main3WData14[[#This Row],[Sector]],Sectors[],2,FALSE)","v":7}]
[null,"AFRICARE",{"$f":"INDEX(Organizations[],MATCH(Main3WData14[[#This Row],[Acronym]],AcronymList,0),1)","v":"AFRICARE"},{"$f":"INDEX(Organizations[],MATCH(Main3WData14[[#This Row],[Acronym]],AcronymList,0),3)","v":"ONG Int."},"Sécurité alimentaire","Regulier","Koulikoro",{"$f":"VLOOKUP(Main3WData14[[#This Row],[Admin Unit Name]],AdminUnits[],2,FALSE)","v":"ML02"},{"$f":"VLOOKUP(Main3WData14[[#This Row],[Admin Unit Name]],AdminUnits[],3,FALSE)","v":"Sud"},{"$f":"VLOOKUP(Main3WData14[[#This Row],[Admin Unit Name]],AdminUnits[],4,FALSE)","v":2},{"$f":"VLOOKUP(Main3WData14[[#This Row],[Sector]],Sectors[],2,FALSE)","v":7}]
[null,"AED",{"$f":"INDEX(Organizations[],MATCH(Main3WData14[[#This Row],[Acronym]],AcronymList,0),1)","v":"AED"},{"$f":"INDEX(Organizations[],MATCH(Main3WData14[[#This Row],[Acronym]],AcronymList,0),3)","v":"ONG Nat."},"Sécurité alimentaire","Regulier","Segou",{"$f":"VLOOKUP(Main3WData14[[#This Row],[Admin Unit Name]],AdminUnits[],2,FALSE)","v":"ML04"},{"$f":"VLOOKUP(Main3WData14[[#This Row],[Admin Unit Name]],AdminUnits[],3,FALSE)","v":"Sud"},{"$f":"VLOOKUP(Main3WData14[[#This Row],[Admin Unit Name]],AdminUnits[],4,FALSE)","v":4},{"$f":"VLOOKUP(Main3WData14[[#This Row],[Sector]],Sectors[],2,FALSE)","v":7}]
[null,"ADR",{"$f":"INDEX(Organizations[],MATCH(Main3WData14[[#This Row],[Acronym]],AcronymList,0),1)","v":"ADR"},{"$f":"INDEX(Organizations[],MATCH(Main3WData14[[#This Row],[Acronym]],AcronymList,0),3)","v":"ONG Nat."},"Sécurité alimentaire","Regulier","Kayes",{"$f":"VLOOKUP(Main3WData14[[#This Row],[Admin Unit Name]],AdminUnits[],2,FALSE)","v":"ML01"},{"$f":"VLOOKUP(Main3WData14[[#This Row],[Admin Unit Name]],AdminUnits[],3,FALSE)","v":"Sud"},{"$f":"VLOOKUP(Main3WData14[[#This Row],[Admin Unit Name]],AdminUnits[],4,FALSE)","v":1},{"$f":"VLOOKUP(Main3WData14[[#This Row],[Sector]],Sectors[],2,FALSE)","v":7}]
[null,"ADICO",{"$f":"INDEX(Organizations[],MATCH(Main3WData14[[#This Row],[Acronym]],AcronymList,0),1)","v":"ADICO"},{"$f":"INDEX(Organizations[],MATCH(Main3WData14[[#This Row],[Acronym]],AcronymList,0),3)","v":"ONG Nat."},"Protection","Regulier","Segou",{"$f":"VLOOKUP(Main3WData14[[#This Row],[Admin Unit Name]],AdminUnits[],2,FALSE)","v":"ML04"},{"$f":"VLOOKUP(Main3WData14[[#This Row],[Admin Unit Name]],AdminUnits[],3,FALSE)","v":"Sud"},{"$f":"VLOOKUP(Main3WData14[[#This Row],[Admin Unit Name]],AdminUnits[],4,FALSE)","v":4},{"$f":"VLOOKUP(Main3WData14[[#This Row],[Sector]],Sectors[],2,FALSE)","v":5}]
[null,"ADG",{"$f":"INDEX(Organizations[],MATCH(Main3WData14[[#This Row],[Acronym]],AcronymList,0),1)","v":"ADG"},{"$f":"INDEX(Organizations[],MATCH(Main3WData14[[#This Row],[Acronym]],AcronymList,0),3)","v":"ONG Nat."},"Sécurité alimentaire","Regulier","Kayes",{"$f":"VLOOKUP(Main3WData14[[#This Row],[Admin Unit Name]],AdminUnits[],2,FALSE)","v":"ML01"},{"$f":"VLOOKUP(Main3WData14[[#This Row],[Admin Unit Name]],AdminUnits[],3,FALSE)","v":"Sud"},{"$f":"VLOOKUP(Main3WData14[[#This Row],[Admin Unit Name]],AdminUnits[],4,FALSE)","v":1},{"$f":"VLOOKUP(Main3WData14[[#This Row],[Sector]],Sectors[],2,FALSE)","v":7}]
[null,"ADAC",{"$f":"INDEX(Organizations[],MATCH(Main3WData14[[#This Row],[Acronym]],AcronymList,0),1)","v":"TOUCHE ADAC"},{"$f":"INDEX(Organizations[],MATCH(Main3WData14[[#This Row],[Acronym]],AcronymList,0),3)","v":"ONG Nat."},"Protection","Regulier","Bamako",{"$f":"VLOOKUP(Main3WData14[[#This Row],[Admin Unit Name]],AdminUnits[],2,FALSE)","v":"ML09"},{"$f":"VLOOKUP(Main3WData14[[#This Row],[Admin Unit Name]],AdminUnits[],3,FALSE)","v":"Sud"},{"$f":"VLOOKUP(Main3WData14[[#This Row],[Admin Unit Name]],AdminUnits[],4,FALSE)","v":0},{"$f":"VLOOKUP(Main3WData14[[#This Row],[Sector]],Sectors[],2,FALSE)","v":5}]
[null,"ACTED",{"$f":"INDEX(Organizations[],MATCH(Main3WData14[[#This Row],[Acronym]],AcronymList,0),1)","v":"Agence d'aide à la coopération technique et au développement"},{"$f":"INDEX(Organizations[],MATCH(Main3WData14[[#This Row],[Acronym]],AcronymList,0),3)","v":"ONG Int."},"Sécurité alimentaire","Regulier","Gao",{"$f":"VLOOKUP(Main3WData14[[#This Row],[Admin Unit Name]],AdminUnits[],2,FALSE)","v":"ML07"},{"$f":"VLOOKUP(Main3WData14[[#This Row],[Admin Unit Name]],AdminUnits[],3,FALSE)","v":"Nord"},{"$f":"VLOOKUP(Main3WData14[[#This Row],[Admin Unit Name]],AdminUnits[],4,FALSE)","v":7},{"$f":"VLOOKUP(Main3WData14[[#This Row],[Sector]],Sectors[],2,FALSE)","v":7}]
[null,"ACTED",{"$f":"INDEX(Organizations[],MATCH(Main3WData14[[#This Row],[Acronym]],AcronymList,0),1)","v":"Agence d'aide à la coopération technique et au développement"},{"$f":"INDEX(Organizations[],MATCH(Main3WData14[[#This Row],[Acronym]],AcronymList,0),3)","v":"ONG Int."},"Sécurité alimentaire","Regulier","Bamako",{"$f":"VLOOKUP(Main3WData14[[#This Row],[Admin Unit Name]],AdminUnits[],2,FALSE)","v":"ML09"},{"$f":"VLOOKUP(Main3WData14[[#This Row],[Admin Unit Name]],AdminUnits[],3,FALSE)","v":"Sud"},{"$f":"VLOOKUP(Main3WData14[[#This Row],[Admin Unit Name]],AdminUnits[],4,FALSE)","v":0},{"$f":"VLOOKUP(Main3WData14[[#This Row],[Sector]],Sectors[],2,FALSE)","v":7}]
[null,"ACTED",{"$f":"INDEX(Organizations[],MATCH(Main3WData14[[#This Row],[Acronym]],AcronymList,0),1)","v":"Agence d'aide à la coopération technique et au développement"},{"$f":"INDEX(Organizations[],MATCH(Main3WData14[[#This Row],[Acronym]],AcronymList,0),3)","v":"ONG Int."},"Protection","Regulier","Bamako",{"$f":"VLOOKUP(Main3WData14[[#This Row],[Admin Unit Name]],AdminUnits[],2,FALSE)","v":"ML09"},{"$f":"VLOOKUP(Main3WData14[[#This Row],[Admin Unit Name]],AdminUnits[],3,FALSE)","v":"Sud"},{"$f":"VLOOKUP(Main3WData14[[#This Row],[Admin Unit Name]],AdminUnits[],4,FALSE)","v":0},{"$f":"VLOOKUP(Main3WData14[[#This Row],[Sector]],Sectors[],2,FALSE)","v":5}]
[null,"ACTED",{"$f":"INDEX(Organizations[],MATCH(Main3WData14[[#This Row],[Acronym]],AcronymList,0),1)","v":"Agence d'aide à la coopération technique et au développement"},{"$f":"INDEX(Organizations[],MATCH(Main3WData14[[#This Row],[Acronym]],AcronymList,0),3)","v":"ONG Int."},"Protection","Regulier","Koulikoro",{"$f":"VLOOKUP(Main3WData14[[#This Row],[Admin Unit Name]],AdminUnits[],2,FALSE)","v":"ML02"},{"$f":"VLOOKUP(Main3WData14[[#This Row],[Admin Unit Name]],AdminUnits[],3,FALSE)","v":"Sud"},{"$f":"VLOOKUP(Main3WData14[[#This Row],[Admin Unit Name]],AdminUnits[],4,FALSE)","v":2},{"$f":"VLOOKUP(Main3WData14[[#This Row],[Sector]],Sectors[],2,FALSE)","v":5}]
[null,"ACTED",{"$f":"INDEX(Organizations[],MATCH(Main3WData14[[#This Row],[Acronym]],AcronymList,0),1)","v":"Agence d'aide à la coopération technique et au développement"},{"$f":"INDEX(Organizations[],MATCH(Main3WData14[[#This Row],[Acronym]],AcronymList,0),3)","v":"ONG Int."},"Nutrition","Regulier","Bamako",{"$f":"VLOOKUP(Main3WData14[[#This Row],[Admin Unit Name]],AdminUnits[],2,FALSE)","v":"ML09"},{"$f":"VLOOKUP(Main3WData14[[#This Row],[Admin Unit Name]],AdminUnits[],3,FALSE)","v":"Sud"},{"$f":"VLOOKUP(Main3WData14[[#This Row],[Admin Unit Name]],AdminUnits[],4,FALSE)","v":0},{"$f":"VLOOKUP(Main3WData14[[#This Row],[Sector]],Sectors[],2,FALSE)","v":4}]
[null,"ACTED",{"$f":"INDEX(Organizations[],MATCH(Main3WData14[[#This Row],[Acronym]],AcronymList,0),1)","v":"Agence d'aide à la coopération technique et au développement"},{"$f":"INDEX(Organizations[],MATCH(Main3WData14[[#This Row],[Acronym]],AcronymList,0),3)","v":"ONG Int."},"EHA","Regulier","SEGOU",{"$f":"VLOOKUP(Main3WData14[[#This Row],[Admin Unit Name]],AdminUnits[],2,FALSE)","v":"ML04"},{"$f":"VLOOKUP(Main3WData14[[#This Row],[Admin Unit Name]],AdminUnits[],3,FALSE)","v":"Sud"},{"$f":"VLOOKUP(Main3WData14[[#This Row],[Admin Unit Name]],AdminUnits[],4,FALSE)","v":4},{"$f":"VLOOKUP(Main3WData14[[#This Row],[Sector]],Sectors[],2,FALSE)","v":8}]
[null,"ACF – Espagne",{"$f":"INDEX(Organizations[],MATCH(Main3WData14[[#This Row],[Acronym]],AcronymList,0),1)","v":"Action contre la faim Espagne"},{"$f":"INDEX(Organizations[],MATCH(Main3WData14[[#This Row],[Acronym]],AcronymList,0),3)","v":"ONG Int."},"Sécurité alimentaire","Regulier","Kayes",{"$f":"VLOOKUP(Main3WData14[[#This Row],[Admin Unit Name]],AdminUnits[],2,FALSE)","v":"ML01"},{"$f":"VLOOKUP(Main3WData14[[#This Row],[Admin Unit Name]],AdminUnits[],3,FALSE)","v":"Sud"},{"$f":"VLOOKUP(Main3WData14[[#This Row],[Admin Unit Name]],AdminUnits[],4,FALSE)","v":1},{"$f":"VLOOKUP(Main3WData14[[#This Row],[Sector]],Sectors[],2,FALSE)","v":7}]
[null,"ACF – Espagne",{"$f":"INDEX(Organizations[],MATCH(Main3WData14[[#This Row],[Acronym]],AcronymList,0),1)","v":"Action contre la faim Espagne"},{"$f":"INDEX(Organizations[],MATCH(Main3WData14[[#This Row],[Acronym]],AcronymList,0),3)","v":"ONG Int."},"Sécurité alimentaire","Regulier","Koulikoro",{"$f":"VLOOKUP(Main3WData14[[#This Row],[Admin Unit Name]],AdminUnits[],2,FALSE)","v":"ML02"},{"$f":"VLOOKUP(Main3WData14[[#This Row],[Admin Unit Name]],AdminUnits[],3,FALSE)","v":"Sud"},{"$f":"VLOOKUP(Main3WData14[[#This Row],[Admin Unit Name]],AdminUnits[],4,FALSE)","v":2},{"$f":"VLOOKUP(Main3WData14[[#This Row],[Sector]],Sectors[],2,FALSE)","v":7}]
[null,"ACF – Espagne",{"$f":"INDEX(Organizations[],MATCH(Main3WData14[[#This Row],[Acronym]],AcronymList,0),1)","v":"Action contre la faim Espagne"},{"$f":"INDEX(Organizations[],MATCH(Main3WData14[[#This Row],[Acronym]],AcronymList,0),3)","v":"ONG Int."},"Santé","Regulier","GAO",{"$f":"VLOOKUP(Main3WData14[[#This Row],[Admin Unit Name]],AdminUnits[],2,FALSE)","v":"ML07"},{"$f":"VLOOKUP(Main3WData14[[#This Row],[Admin Unit Name]],AdminUnits[],3,FALSE)","v":"Nord"},{"$f":"VLOOKUP(Main3WData14[[#This Row],[Admin Unit Name]],AdminUnits[],4,FALSE)","v":7},{"$f":"VLOOKUP(Main3WData14[[#This Row],[Sector]],Sectors[],2,FALSE)","v":6}]
[null,"ACF – Espagne",{"$f":"INDEX(Organizations[],MATCH(Main3WData14[[#This Row],[Acronym]],AcronymList,0),1)","v":"Action contre la faim Espagne"},{"$f":"INDEX(Organizations[],MATCH(Main3WData14[[#This Row],[Acronym]],AcronymList,0),3)","v":"ONG Int."},"Nutrition","Regulier","Bamako",{"$f":"VLOOKUP(Main3WData14[[#This Row],[Admin Unit Name]],AdminUnits[],2,FALSE)","v":"ML09"},{"$f":"VLOOKUP(Main3WData14[[#This Row],[Admin Unit Name]],AdminUnits[],3,FALSE)","v":"Sud"},{"$f":"VLOOKUP(Main3WData14[[#This Row],[Admin Unit Name]],AdminUnits[],4,FALSE)","v":0},{"$f":"VLOOKUP(Main3WData14[[#This Row],[Sector]],Sectors[],2,FALSE)","v":4}]
[null,"ACF – Espagne",{"$f":"INDEX(Organizations[],MATCH(Main3WData14[[#This Row],[Acronym]],AcronymList,0),1)","v":"Action contre la faim Espagne"},{"$f":"INDEX(Organizations[],MATCH(Main3WData14[[#This Row],[Acronym]],AcronymList,0),3)","v":"ONG Int."},"Nutrition","Regulier","Gao",{"$f":"VLOOKUP(Main3WData14[[#This Row],[Admin Unit Name]],AdminUnits[],2,FALSE)","v":"ML07"},{"$f":"VLOOKUP(Main3WData14[[#This Row],[Admin Unit Name]],AdminUnits[],3,FALSE)","v":"Nord"},{"$f":"VLOOKUP(Main3WData14[[#This Row],[Admin Unit Name]],AdminUnits[],4,FALSE)","v":7},{"$f":"VLOOKUP(Main3WData14[[#This Row],[Sector]],Sectors[],2,FALSE)","v":4}]
[null,"ACF – Espagne",{"$f":"INDEX(Organizations[],MATCH(Main3WData14[[#This Row],[Acronym]],AcronymList,0),1)","v":"Action contre la faim Espagne"},{"$f":"INDEX(Organizations[],MATCH(Main3WData14[[#This Row],[Acronym]],AcronymList,0),3)","v":"ONG Int."},"Nutrition","Regulier","Kayes",{"$f":"VLOOKUP(Main3WData14[[#This Row],[Admin Unit Name]],AdminUnits[],2,FALSE)","v":"ML01"},{"$f":"VLOOKUP(Main3WData14[[#This Row],[Admin Unit Name]],AdminUnits[],3,FALSE)","v":"Sud"},{"$f":"VLOOKUP(Main3WData14[[#This Row],[Admin Unit Name]],AdminUnits[],4,FALSE)","v":1},{"$f":"VLOOKUP(Main3WData14[[#This Row],[Sector]],Sectors[],2,FALSE)","v":4}]
[null,"ACF – Espagne",{"$f":"INDEX(Organizations[],MATCH(Main3WData14[[#This Row],[Acronym]],AcronymList,0),1)","v":"Action contre la faim Espagne"},{"$f":"INDEX(Organizations[],MATCH(Main3WData14[[#This Row],[Acronym]],AcronymList,0),3)","v":"ONG Int."},"EHA","Regulier","BAMAKO",{"$f":"VLOOKUP(Main3WData14[[#This Row],[Admin Unit Name]],AdminUnits[],2,FALSE)","v":"ML09"},{"$f":"VLOOKUP(Main3WData14[[#This Row],[Admin Unit Name]],AdminUnits[],3,FALSE)","v":"Sud"},{"$f":"VLOOKUP(Main3WData14[[#This Row],[Admin Unit Name]],AdminUnits[],4,FALSE)","v":0},{"$f":"VLOOKUP(Main3WData14[[#This Row],[Sector]],Sectors[],2,FALSE)","v":8}]
[null,"ACF – Espagne",{"$f":"INDEX(Organizations[],MATCH(Main3WData14[[#This Row],[Acronym]],AcronymList,0),1)","v":"Action contre la faim Espagne"},{"$f":"INDEX(Organizations[],MATCH(Main3WData14[[#This Row],[Acronym]],AcronymList,0),3)","v":"ONG Int."},"EHA","Regulier","GAO",{"$f":"VLOOKUP(Main3WData14[[#This Row],[Admin Unit Name]],AdminUnits[],2,FALSE)","v":"ML07"},{"$f":"VLOOKUP(Main3WData14[[#This Row],[Admin Unit Name]],AdminUnits[],3,FALSE)","v":"Nord"},{"$f":"VLOOKUP(Main3WData14[[#This Row],[Admin Unit Name]],AdminUnits[],4,FALSE)","v":7},{"$f":"VLOOKUP(Main3WData14[[#This Row],[Sector]],Sectors[],2,FALSE)","v":8}]
[null,"ACF – Espagne",{"$f":"INDEX(Organizations[],MATCH(Main3WData14[[#This Row],[Acronym]],AcronymList,0),1)","v":"Action contre la faim Espagne"},{"$f":"INDEX(Organizations[],MATCH(Main3WData14[[#This Row],[Acronym]],AcronymList,0),3)","v":"ONG Int."},"EHA","Regulier","Koulikoro",{"$f":"VLOOKUP(Main3WData14[[#This Row],[Admin Unit Name]],AdminUnits[],2,FALSE)","v":"ML02"},{"$f":"VLOOKUP(Main3WData14[[#This Row],[Admin Unit Name]],AdminUnits[],3,FALSE)","v":"Sud"},{"$f":"VLOOKUP(Main3WData14[[#This Row],[Admin Unit Name]],AdminUnits[],4,FALSE)","v":2},{"$f":"VLOOKUP(Main3WData14[[#This Row],[Sector]],Sectors[],2,FALSE)","v":8}]
[null,"AAG-Gao",{"$f":"INDEX(Organizations[],MATCH(Main3WData14[[#This Row],[Acronym]],AcronymList,0),1)","v":"AAG-Gao"},{"$f":"INDEX(Organizations[],MATCH(Main3WData14[[#This Row],[Acronym]],AcronymList,0),3)","v":"ONG Nat."},"Nutrition","Regulier","Gao",{"$f":"VLOOKUP(Main3WData14[[#This Row],[Admin Unit Name]],AdminUnits[],2,FALSE)","v":"ML07"},{"$f":"VLOOKUP(Main3WData14[[#This Row],[Admin Unit Name]],AdminUnits[],3,FALSE)","v":"Nord"},{"$f":"VLOOKUP(Main3WData14[[#This Row],[Admin Unit Name]],AdminUnits[],4,FALSE)","v":7},{"$f":"VLOOKUP(Main3WData14[[#This Row],[Sector]],Sectors[],2,FALSE)","v":4}]
[null,"AAA",{"$f":"INDEX(Organizations[],MATCH(Main3WData14[[#This Row],[Acronym]],AcronymList,0),1)","v":"Agro-Action allemande"},{"$f":"INDEX(Organizations[],MATCH(Main3WData14[[#This Row],[Acronym]],AcronymList,0),3)","v":"ONG Int."},"Sécurité alimentaire","Regulier","Kayes",{"$f":"VLOOKUP(Main3WData14[[#This Row],[Admin Unit Name]],AdminUnits[],2,FALSE)","v":"ML01"},{"$f":"VLOOKUP(Main3WData14[[#This Row],[Admin Unit Name]],AdminUnits[],3,FALSE)","v":"Sud"},{"$f":"VLOOKUP(Main3WData14[[#This Row],[Admin Unit Name]],AdminUnits[],4,FALSE)","v":1},{"$f":"VLOOKUP(Main3WData14[[#This Row],[Sector]],Sectors[],2,FALSE)","v":7}]
[null,"AAA",{"$f":"INDEX(Organizations[],MATCH(Main3WData14[[#This Row],[Acronym]],AcronymList,0),1)","v":"Agro-Action allemande"},{"$f":"INDEX(Organizations[],MATCH(Main3WData14[[#This Row],[Acronym]],AcronymList,0),3)","v":"ONG Int."},"Sécurité alimentaire","Regulier","Koulikoro",{"$f":"VLOOKUP(Main3WData14[[#This Row],[Admin Unit Name]],AdminUnits[],2,FALSE)","v":"ML02"},{"$f":"VLOOKUP(Main3WData14[[#This Row],[Admin Unit Name]],AdminUnits[],3,FALSE)","v":"Sud"},{"$f":"VLOOKUP(Main3WData14[[#This Row],[Admin Unit Name]],AdminUnits[],4,FALSE)","v":2},{"$f":"VLOOKUP(Main3WData14[[#This Row],[Sector]],Sectors[],2,FALSE)","v":7}]

{"sheet":"Data-Nov","index":3,"n_rows":397,"n_cols":11,"rows_kept":397,"cut":false,"hidden":true,"merged":[[0,1,0,6]]}
[null,"3W Data Entry"]
[null,null,"Add a new organisation"]
[]
[null,"Acronym","Organisation","Org Type","Sector","Activity Type","Admin Unit Name","Pcode","Autre","I. Admin","I. Sector"]
[null,"ACTED",{"$f":"INDEX(Organizations[],MATCH(Main3WData15[[#This Row],[Acronym]],AcronymList,0),1)","v":"Agence d'aide à la coopération technique et au développement"},{"$f":"INDEX(Organizations[],MATCH(Main3WData15[[#This Row],[Acronym]],AcronymList,0),3)","v":"ONG Int."},"Abris et NFI","Regulier","Segou",{"$f":"VLOOKUP(Main3WData15[[#This Row],[Admin Unit Name]],AdminUnits[],2,FALSE)","v":"ML04"},{"$f":"VLOOKUP(Main3WData15[[#This Row],[Admin Unit Name]],AdminUnits[],3,FALSE)","v":"Sud"},{"$f":"VLOOKUP(Main3WData15[[#This Row],[Admin Unit Name]],AdminUnits[],4,FALSE)","v":4},{"$f":"VLOOKUP(Main3WData15[[#This Row],[Sector]],Sectors[],2,FALSE)","v":1}]
[null,"ACTED",{"$f":"INDEX(Organizations[],MATCH(Main3WData15[[#This Row],[Acronym]],AcronymList,0),1)","v":"Agence d'aide à la coopération technique et au développement"},{"$f":"INDEX(Organizations[],MATCH(Main3WData15[[#This Row],[Acronym]],AcronymList,0),3)","v":"ONG Int."},"Abris et NFI","Regulier","Bamako",{"$f":"VLOOKUP(Main3WData15[[#This Row],[Admin Unit Name]],AdminUnits[],2,FALSE)","v":"ML09"},{"$f":"VLOOKUP(Main3WData15[[#This Row],[Admin Unit Name]],AdminUnits[],3,FALSE)","v":"Sud"},{"$f":"VLOOKUP(Main3WData15[[#This Row],[Admin Unit Name]],AdminUnits[],4,FALSE)","v":0},{"$f":"VLOOKUP(Main3WData15[[#This Row],[Sector]],Sectors[],2,FALSE)","v":1}]
[null,"CR-Mali",{"$f":"INDEX(Organizations[],MATCH(Main3WData15[[#This Row],[Acronym]],AcronymList,0),1)","v":"Croix-Rouge Mali"},{"$f":"INDEX(Organizations[],MATCH(Main3WData15[[#This Row],[Acronym]],AcronymList,0),3)","v":"Mouv. Croix-rouge"},"Abris et NFI","Regulier","Mopti",{"$f":"VLOOKUP(Main3WData15[[#This Row],[Admin Unit Name]],AdminUnits[],2,FALSE)","v":"ML05"},{"$f":"VLOOKUP(Main3WData15[[#This Row],[Admin Unit Name]],AdminUnits[],3,FALSE)","v":"Sud"},{"$f":"VLOOKUP(Main3WData15[[#This Row],[Admin Unit Name]],AdminUnits[],4,FALSE)","v":5},{"$f":"VLOOKUP(Main3WData15[[#This Row],[Sector]],Sectors[],2,FALSE)","v":1}]
[null,"CR-Mali",{"$f":"INDEX(Organizations[],MATCH(Main3WData15[[#This Row],[Acronym]],AcronymList,0),1)","v":"Croix-Rouge Mali"},{"$f":"INDEX(Organizations[],MATCH(Main3WData15[[#This Row],[Acronym]],AcronymList,0),3)","v":"Mouv. Croix-rouge"},"Abris et NFI","Regulier","Segou",{"$f":"VLOOKUP(Main3WData15[[#This Row],[Admin Unit Name]],AdminUnits[],2,FALSE)","v":"ML04"},{"$f":"VLOOKUP(Main3WData15[[#This Row],[Admin Unit Name]],AdminUnits[],3,FALSE)","v":"Sud"},{"$f":"VLOOKUP(Main3WData15[[#This Row],[Admin Unit Name]],AdminUnits[],4,FALSE)","v":4},{"$f":"VLOOKUP(Main3WData15[[#This Row],[Sector]],Sectors[],2,FALSE)","v":1}]
[null,"CR-Mali",{"$f":"INDEX(Organizations[],MATCH(Main3WData15[[#This Row],[Acronym]],AcronymList,0),1)","v":"Croix-Rouge Mali"},{"$f":"INDEX(Organizations[],MATCH(Main3WData15[[#This Row],[Acronym]],AcronymList,0),3)","v":"Mouv. Croix-rouge"},"Abris et NFI","Regulier","Tombouctou",{"$f":"VLOOKUP(Main3WData15[[#This Row],[Admin Unit Name]],AdminUnits[],2,FALSE)","v":"ML06"},{"$f":"VLOOKUP(Main3WData15[[#This Row],[Admin Unit Name]],AdminUnits[],3,FALSE)","v":"Nord"},{"$f":"VLOOKUP(Main3WData15[[#This Row],[Admin Unit Name]],AdminUnits[],4,FALSE)","v":6},{"$f":"VLOOKUP(Main3WData15[[#This Row],[Sector]],Sectors[],2,FALSE)","v":1}]
[null,"CR-Mali",{"$f":"INDEX(Organizations[],MATCH(Main3WData15[[#This Row],[Acronym]],AcronymList,0),1)","v":"Croix-Rouge Mali"},{"$f":"INDEX(Organizations[],MATCH(Main3WData15[[#This Row],[Acronym]],AcronymList,0),3)","v":"Mouv. Croix-rouge"},"Abris et NFI","Regulier","Bamako",{"$f":"VLOOKUP(Main3WData15[[#This Row],[Admin Unit Name]],AdminUnits[],2,FALSE)","v":"ML09"},{"$f":"VLOOKUP(Main3WData15[[#This Row],[Admin Unit Name]],AdminUnits[],3,FALSE)","v":"Sud"},{"$f":"VLOOKUP(Main3WData15[[#This Row],[Admin Unit Name]],AdminUnits[],4,FALSE)","v":0},{"$f":"VLOOKUP(Main3WData15[[#This Row],[Sector]],Sectors[],2,FALSE)","v":1}]
[null,"CR-Mali",{"$f":"INDEX(Organizations[],MATCH(Main3WData15[[#This Row],[Acronym]],AcronymList,0),1)","v":"Croix-Rouge Mali"},{"$f":"INDEX(Organizations[],MATCH(Main3WData15[[#This Row],[Acronym]],AcronymList,0),3)","v":"Mouv. Croix-rouge"},"Abris et NFI","Regulier","Kayes",{"$f":"VLOOKUP(Main3WData15[[#This Row],[Admin Unit Name]],AdminUnits[],2,FALSE)","v":"ML01"},{"$f":"VLOOKUP(Main3WData15[[#This Row],[Admin Unit Name]],AdminUnits[],3,FALSE)","v":"Sud"},{"$f":"VLOOKUP(Main3WData15[[#This Row],[Admin Unit Name]],AdminUnits[],4,FALSE)","v":1},{"$f":"VLOOKUP(Main3WData15[[#This Row],[Sector]],Sectors[],2,FALSE)","v":1}]
[null,"CR-Mali",{"$f":"INDEX(Organizations[],MATCH(Main3WData15[[#This Row],[Acronym]],AcronymList,0),1)","v":"Croix-Rouge Mali"},{"$f":"INDEX(Organizations[],MATCH(Main3WData15[[#This Row],[Acronym]],AcronymList,0),3)","v":"Mouv. Croix-rouge"},"Abris et NFI","Regulier","Gao",{"$f":"VLOOKUP(Main3WData15[[#This Row],[Admin Unit Name]],AdminUnits[],2,FALSE)","v":"ML07"},{"$f":"VLOOKUP(Main3WData15[[#This Row],[Admin Unit Name]],AdminUnits[],3,FALSE)","v":"Nord"},{"$f":"VLOOKUP(Main3WData15[[#This Row],[Admin Unit Name]],AdminUnits[],4,FALSE)","v":7},{"$f":"VLOOKUP(Main3WData15[[#This Row],[Sector]],Sectors[],2,FALSE)","v":1}]
[null,"CR-Mali",{"$f":"INDEX(Organizations[],MATCH(Main3WData15[[#This Row],[Acronym]],AcronymList,0),1)","v":"Croix-Rouge Mali"},{"$f":"INDEX(Organizations[],MATCH(Main3WData15[[#This Row],[Acronym]],AcronymList,0),3)","v":"Mouv. Croix-rouge"},"Abris et NFI","Regulier","Koulikoro",{"$f":"VLOOKUP(Main3WData15[[#This Row],[Admin Unit Name]],AdminUnits[],2,FALSE)","v":"ML02"},{"$f":"VLOOKUP(Main3WData15[[#This Row],[Admin Unit Name]],AdminUnits[],3,FALSE)","v":"Sud"},{"$f":"VLOOKUP(Main3WData15[[#This Row],[Admin Unit Name]],AdminUnits[],4,FALSE)","v":2},{"$f":"VLOOKUP(Main3WData15[[#This Row],[Sector]],Sectors[],2,FALSE)","v":1}]
[null,"Intersos",{"$f":"INDEX(Organizations[],MATCH(Main3WData15[[#This Row],[Acronym]],AcronymList,0),1)","v":"Intersos"},{"$f":"INDEX(Organizations[],MATCH(Main3WData15[[#This Row],[Acronym]],AcronymList,0),3)","v":"ONG Int."},"Abris et NFI","Regulier","Mopti",{"$f":"VLOOKUP(Main3WData15[[#This Row],[Admin Unit Name]],AdminUnits[],2,FALSE)","v":"ML05"},{"$f":"VLOOKUP(Main3WData15[[#This Row],[Admin Unit Name]],AdminUnits[],3,FALSE)","v":"Sud"},{"$f":"VLOOKUP(Main3WData15[[#This Row],[Admin Unit Name]],AdminUnits[],4,FALSE)","v":5},{"$f":"VLOOKUP(Main3WData15[[#This Row],[Sector]],Sectors[],2,FALSE)","v":1}]
[null,"NRC",{"$f":"INDEX(Organizations[],MATCH(Main3WData15[[#This Row],[Acronym]],AcronymList,0),1)","v":"Norwegian Refugee Council "},{"$f":"INDEX(Organizations[],MATCH(Main3WData15[[#This Row],[Acronym]],AcronymList,0),3)","v":"ONG Int."},"Abris et NFI","Regulier","Mopti",{"$f":"VLOOKUP(Main3WData15[[#This Row],[Admin Unit Name]],AdminUnits[],2,FALSE)","v":"ML05"},{"$f":"VLOOKUP(Main3WData15[[#This Row],[Admin Unit Name]],AdminUnits[],3,FALSE)","v":"Sud"},{"$f":"VLOOKUP(Main3WData15[[#This Row],[Admin Unit Name]],AdminUnits[],4,FALSE)","v":5},{"$f":"VLOOKUP(Main3WData15[[#This Row],[Sector]],Sectors[],2,FALSE)","v":1}]
[null,"NRC",{"$f":"INDEX(Organizations[],MATCH(Main3WData15[[#This Row],[Acronym]],AcronymList,0),1)","v":"Norwegian Refugee Council "},{"$f":"INDEX(Organizations[],MATCH(Main3WData15[[#This Row],[Acronym]],AcronymList,0),3)","v":"ONG Int."},"Abris et NFI","Regulier","Segou",{"$f":"VLOOKUP(Main3WData15[[#This Row],[Admin Unit Name]],AdminUnits[],2,FALSE)","v":"ML04"},{"$f":"VLOOKUP(Main3WData15[[#This Row],[Admin Unit Name]],AdminUnits[],3,FALSE)","v":"Sud"},{"$f":"VLOOKUP(Main3WData15[[#This Row],[Admin Unit Name]],AdminUnits[],4,FALSE)","v":4},{"$f":"VLOOKUP(Main3WData15[[#This Row],[Sector]],Sectors[],2,FALSE)","v":1}]
[null,"NRC",{"$f":"INDEX(Organizations[],MATCH(Main3WData15[[#This Row],[Acronym]],AcronymList,0),1)","v":"Norwegian Refugee Council "},{"$f":"INDEX(Organizations[],MATCH(Main3WData15[[#This Row],[Acronym]],AcronymList,0),3)","v":"ONG Int."},"Abris et NFI","Regulier","Tombouctou",{"$f":"VLOOKUP(Main3WData15[[#This Row],[Admin Unit Name]],AdminUnits[],2,FALSE)","v":"ML06"},{"$f":"VLOOKUP(Main3WData15[[#This Row],[Admin Unit Name]],AdminUnits[],3,FALSE)","v":"Nord"},{"$f":"VLOOKUP(Main3WData15[[#This Row],[Admin Unit Name]],AdminUnits[],4,FALSE)","v":6},{"$f":"VLOOKUP(Main3WData15[[#This Row],[Sector]],Sectors[],2,FALSE)","v":1}]
[null,"NRC",{"$f":"INDEX(Organizations[],MATCH(Main3WData15[[#This Row],[Acronym]],AcronymList,0),1)","v":"Norwegian Refugee Council "},{"$f":"INDEX(Organizations[],MATCH(Main3WData15[[#This Row],[Acronym]],AcronymList,0),3)","v":"ONG Int."},"Abris et NFI","Regulier","Bamako",{"$f":"VLOOKUP(Main3WData15[[#This Row],[Admin Unit Name]],AdminUnits[],2,FALSE)","v":"ML09"},{"$f":"VLOOKUP(Main3WData15[[#This Row],[Admin Unit Name]],AdminUnits[],3,FALSE)","v":"Sud"},{"$f":"VLOOKUP(Main3WData15[[#This Row],[Admin Unit Name]],AdminUnits[],4,FALSE)","v":0},{"$f":"VLOOKUP(Main3WData15[[#This Row],[Sector]],Sectors[],2,FALSE)","v":1}]
[null,"OIM",{"$f":"INDEX(Organizations[],MATCH(Main3WData15[[#This Row],[Acronym]],AcronymList,0),1)","v":"Organisation Internationale pour les Migrations"},{"$f":"INDEX(Organizations[],MATCH(Main3WData15[[#This Row],[Acronym]],AcronymList,0),3)","v":"Org Int."},"Abris et NFI","Regulier","Mopti",{"$f":"VLOOKUP(Main3WData15[[#This Row],[Admin Unit Name]],AdminUnits[],2,FALSE)","v":"ML05"},{"$f":"VLOOKUP(Main3WData15[[#This Row],[Admin Unit Name]],AdminUnits[],3,FALSE)","v":"Sud"},{"$f":"VLOOKUP(Main3WData15[[#This Row],[Admin Unit Name]],AdminUnits[],4,FALSE)","v":5},{"$f":"VLOOKUP(Main3WData15[[#This Row],[Sector]],Sectors[],2,FALSE)","v":1}]
[null,"OIM",{"$f":"INDEX(Organizations[],MATCH(Main3WData15[[#This Row],[Acronym]],AcronymList,0),1)","v":"Organisation Internationale pour les Migrations"},{"$f":"INDEX(Organizations[],MATCH(Main3WData15[[#This Row],[Acronym]],AcronymList,0),3)","v":"Org Int."},"Abris et NFI","Regulier","Bamako",{"$f":"VLOOKUP(Main3WData15[[#This Row],[Admin Unit Name]],AdminUnits[],2,FALSE)","v":"ML09"},{"$f":"VLOOKUP(Main3WData15[[#This Row],[Admin Unit Name]],AdminUnits[],3,FALSE)","v":"Sud"},{"$f":"VLOOKUP(Main3WData15[[#This Row],[Admin Unit Name]],AdminUnits[],4,FALSE)","v":0},{"$f":"VLOOKUP(Main3WData15[[#This Row],[Sector]],Sectors[],2,FALSE)","v":1}]
[null,"UNHCR",{"$f":"INDEX(Organizations[],MATCH(Main3WData15[[#This Row],[Acronym]],AcronymList,0),1)","v":"Haut Commissariat des Nations Unies pour les réfugiés"},{"$f":"INDEX(Organizations[],MATCH(Main3WData15[[#This Row],[Acronym]],AcronymList,0),3)","v":"UN"},"Abris et NFI","Regulier","Mopti",{"$f":"VLOOKUP(Main3WData15[[#This Row],[Admin Unit Name]],AdminUnits[],2,FALSE)","v":"ML05"},{"$f":"VLOOKUP(Main3WData15[[#This Row],[Admin Unit Name]],AdminUnits[],3,FALSE)","v":"Sud"},{"$f":"VLOOKUP(Main3WData15[[#This Row],[Admin Unit Name]],AdminUnits[],4,FALSE)","v":5},{"$f":"VLOOKUP(Main3WData15[[#This Row],[Sector]],Sectors[],2,FALSE)","v":1}]
[null,"UNHCR",{"$f":"INDEX(Organizations[],MATCH(Main3WData15[[#This Row],[Acronym]],AcronymList,0),1)","v":"Haut Commissariat des Nations Unies pour les réfugiés"},{"$f":"INDEX(Organizations[],MATCH(Main3WData15[[#This Row],[Acronym]],AcronymList,0),3)","v":"UN"},"Abris et NFI","Regulier","Segou",{"$f":"VLOOKUP(Main3WData15[[#This Row],[Admin Unit Name]],AdminUnits[],2,FALSE)","v":"ML04"},{"$f":"VLOOKUP(Main3WData15[[#This Row],[Admin Unit Name]],AdminUnits[],3,FALSE)","v":"Sud"},{"$f":"VLOOKUP(Main3WData15[[#This Row],[Admin Unit Name]],AdminUnits[],4,FALSE)","v":4},{"$f":"VLOOKUP(Main3WData15[[#This Row],[Sector]],Sectors[],2,FALSE)","v":1}]
[null,"UNHCR",{"$f":"INDEX(Organizations[],MATCH(Main3WData15[[#This Row],[Acronym]],AcronymList,0),1)","v":"Haut Commissariat des Nations Unies pour les réfugiés"},{"$f":"INDEX(Organizations[],MATCH(Main3WData15[[#This Row],[Acronym]],AcronymList,0),3)","v":"UN"},"Abris et NFI","Regulier","Tombouctou",{"$f":"VLOOKUP(Main3WData15[[#This Row],[Admin Unit Name]],AdminUnits[],2,FALSE)","v":"ML06"},{"$f":"VLOOKUP(Main3WData15[[#This Row],[Admin Unit Name]],AdminUnits[],3,FALSE)","v":"Nord"},{"$f":"VLOOKUP(Main3WData15[[#This Row],[Admin Unit Name]],AdminUnits[],4,FALSE)","v":6},{"$f":"VLOOKUP(Main3WData15[[#This Row],[Sector]],Sectors[],2,FALSE)","v":1}]
[null,"UNHCR",{"$f":"INDEX(Organizations[],MATCH(Main3WData15[[#This Row],[Acronym]],AcronymList,0),1)","v":"Haut Commissariat des Nations Unies pour les réfugiés"},{"$f":"INDEX(Organizations[],MATCH(Main3WData15[[#This Row],[Acronym]],AcronymList,0),3)","v":"UN"},"Abris et NFI","Regulier","Bamako",{"$f":"VLOOKUP(Main3WData15[[#This Row],[Admin Unit Name]],AdminUnits[],2,FALSE)","v":"ML09"},{"$f":"VLOOKUP(Main3WData15[[#This Row],[Admin Unit Name]],AdminUnits[],3,FALSE)","v":"Sud"},{"$f":"VLOOKUP(Main3WData15[[#This Row],[Admin Unit Name]],AdminUnits[],4,FALSE)","v":0},{"$f":"VLOOKUP(Main3WData15[[#This Row],[Sector]],Sectors[],2,FALSE)","v":1}]
[null,"NRC",{"$f":"INDEX(Organizations[],MATCH(Main3WData15[[#This Row],[Acronym]],AcronymList,0),1)","v":"Norwegian Refugee Council "},{"$f":"INDEX(Organizations[],MATCH(Main3WData15[[#This Row],[Acronym]],AcronymList,0),3)","v":"ONG Int."},"Abris et NFI","Regulier","Gao",{"$f":"VLOOKUP(Main3WData15[[#This Row],[Admin Unit Name]],AdminUnits[],2,FALSE)","v":"ML07"},{"$f":"VLOOKUP(Main3WData15[[#This Row],[Admin Unit Name]],AdminUnits[],3,FALSE)","v":"Nord"},{"$f":"VLOOKUP(Main3WData15[[#This Row],[Admin Unit Name]],AdminUnits[],4,FALSE)","v":7},{"$f":"VLOOKUP(Main3WData15[[#This Row],[Sector]],Sectors[],2,FALSE)","v":1}]
[null,"DGPC",{"$f":"INDEX(Organizations[],MATCH(Main3WData15[[#This Row],[Acronym]],AcronymList,0),1)","v":"Direction Générale de la Protection Civile"},{"$f":"INDEX(Organizations[],MATCH(Main3WData15[[#This Row],[Acronym]],AcronymList,0),3)","v":"Gouvernement"},"Abris et NFI","Regulier","Mopti",{"$f":"VLOOKUP(Main3WData15[[#This Row],[Admin Unit Name]],AdminUnits[],2,FALSE)","v":"ML05"},{"$f":"VLOOKUP(Main3WData15[[#This Row],[Admin Unit Name]],AdminUnits[],3,FALSE)","v":"Sud"},{"$f":"VLOOKUP(Main3WData15[[#This Row],[Admin Unit Name]],AdminUnits[],4,FALSE)","v":5},{"$f":"VLOOKUP(Main3WData15[[#This Row],[Sector]],Sectors[],2,FALSE)","v":1}]
[null,"DGPC",{"$f":"INDEX(Organizations[],MATCH(Main3WData15[[#This Row],[Acronym]],AcronymList,0),1)","v":"Direction Générale de la Protection Civile"},{"$f":"INDEX(Organizations[],MATCH(Main3WData15[[#This Row],[Acronym]],AcronymList,0),3)","v":"Gouvernement"},"Abris et NFI","Regulier","Segou",{"$f":"VLOOKUP(Main3WData15[[#This Row],[Admin Unit Name]],AdminUnits[],2,FALSE)","v":"ML04"},{"$f":"VLOOKUP(Main3WData15[[#This Row],[Admin Unit Name]],AdminUnits[],3,FALSE)","v":"Sud"},{"$f":"VLOOKUP(Main3WData15[[#This Row],[Admin Unit Name]],AdminUnits[],4,FALSE)","v":4},{"$f":"VLOOKUP(Main3WData15[[#This Row],[Sector]],Sectors[],2,FALSE)","v":1}]
[null,"DGPC",{"$f":"INDEX(Organizations[],MATCH(Main3WData15[[#This Row],[Acronym]],AcronymList,0),1)","v":"Direction Générale de la Protection Civile"},{"$f":"INDEX(Organizations[],MATCH(Main3WData15[[#This Row],[Acronym]],AcronymList,0),3)","v":"Gouvernement"},"Abris et NFI","Regulier","Bamako",{"$f":"VLOOKUP(Main3WData15[[#This Row],[Admin Unit Name]],AdminUnits[],2,FALSE)","v":"ML09"},{"$f":"VLOOKUP(Main3WData15[[#This Row],[Admin Unit Name]],AdminUnits[],3,FALSE)","v":"Sud"},{"$f":"VLOOKUP(Main3WData15[[#This Row],[Admin Unit Name]],AdminUnits[],4,FALSE)","v":0},{"$f":"VLOOKUP(Main3WData15[[#This Row],[Sector]],Sectors[],2,FALSE)","v":1}]
[null,"DGPC",{"$f":"INDEX(Organizations[],MATCH(Main3WData15[[#This Row],[Acronym]],AcronymList,0),1)","v":"Direction Générale de la Protection Civile"},{"$f":"INDEX(Organizations[],MATCH(Main3WData15[[#This Row],[Acronym]],AcronymList,0),3)","v":"Gouvernement"},"Abris et NFI","Regulier","Kayes",{"$f":"VLOOKUP(Main3WData15[[#This Row],[Admin Unit Name]],AdminUnits[],2,FALSE)","v":"ML01"},{"$f":"VLOOKUP(Main3WData15[[#This Row],[Admin Unit Name]],AdminUnits[],3,FALSE)","v":"Sud"},{"$f":"VLOOKUP(Main3WData15[[#This Row],[Admin Unit Name]],AdminUnits[],4,FALSE)","v":1},{"$f":"VLOOKUP(Main3WData15[[#This Row],[Sector]],Sectors[],2,FALSE)","v":1}]
[null,"World Vision",{"$f":"INDEX(Organizations[],MATCH(Main3WData15[[#This Row],[Acronym]],AcronymList,0),1)","v":"World Vision"},{"$f":"INDEX(Organizations[],MATCH(Main3WData15[[#This Row],[Acronym]],AcronymList,0),3)","v":"ONG Int."},"Abris et NFI","Regulier","Segou",{"$f":"VLOOKUP(Main3WData15[[#This Row],[Admin Unit Name]],AdminUnits[],2,FALSE)","v":"ML04"},{"$f":"VLOOKUP(Main3WData15[[#This Row],[Admin Unit Name]],AdminUnits[],3,FALSE)","v":"Sud"},{"$f":"VLOOKUP(Main3WData15[[#This Row],[Admin Unit Name]],AdminUnits[],4,FALSE)","v":4},{"$f":"VLOOKUP(Main3WData15[[#This Row],[Sector]],Sectors[],2,FALSE)","v":1}]
[null,"World Vision",{"$f":"INDEX(Organizations[],MATCH(Main3WData15[[#This Row],[Acronym]],AcronymList,0),1)","v":"World Vision"},{"$f":"INDEX(Organizations[],MATCH(Main3WData15[[#This Row],[Acronym]],AcronymList,0),3)","v":"ONG Int."},"Abris et NFI","Regulier","Bamako",{"$f":"VLOOKUP(Main3WData15[[#This Row],[Admin Unit Name]],AdminUnits[],2,FALSE)","v":"ML09"},{"$f":"VLOOKUP(Main3WData15[[#This Row],[Admin Unit Name]],AdminUnits[],3,FALSE)","v":"Sud"},{"$f":"VLOOKUP(Main3WData15[[#This Row],[Admin Unit Name]],AdminUnits[],4,FALSE)","v":0},{"$f":"VLOOKUP(Main3WData15[[#This Row],[Sector]],Sectors[],2,FALSE)","v":1}]
[null,"FAO",{"$f":"INDEX(Organizations[],MATCH(Main3WData15[[#This Row],[Acronym]],AcronymList,0),1)","v":"United Nations Food and Agriculture Organization"},{"$f":"INDEX(Organizations[],MATCH(Main3WData15[[#This Row],[Acronym]],AcronymList,0),3)","v":"UN"},"Coordination","Regulier","Bamako",{"$f":"VLOOKUP(Main3WData15[[#This Row],[Admin Unit Name]],AdminUnits[],2,FALSE)","v":"ML09"},{"$f":"VLOOKUP(Main3WData15[[#This Row],[Admin Unit Name]],AdminUnits[],3,FALSE)","v":"Sud"},{"$f":"VLOOKUP(Main3WData15[[#This Row],[Admin Unit Name]],AdminUnits[],4,FALSE)","v":0},{"$f":"VLOOKUP(Main3WData15[[#This Row],[Sector]],Sectors[],2,FALSE)","v":2}]
[null,"OCHA",{"$f":"INDEX(Organizations[],MATCH(Main3WData15[[#This Row],[Acronym]],AcronymList,0),1)","v":"Bureau de coordination des affaires humanitaires"},{"$f":"INDEX(Organizations[],MATCH(Main3WData15[[#This Row],[Acronym]],AcronymList,0),3)","v":"UN"},"Coordination","Regulier","Bamako",{"$f":"VLOOKUP(Main3WData15[[#This Row],[Admin Unit Name]],AdminUnits[],2,FALSE)","v":"ML09"},{"$f":"VLOOKUP(Main3WData15[[#This Row],[Admin Unit Name]],AdminUnits[],3,FALSE)","v":"Sud"},{"$f":"VLOOKUP(Main3WData15[[#This Row],[Admin Unit Name]],AdminUnits[],4,FALSE)","v":0},{"$f":"VLOOKUP(Main3WData15[[#This Row],[Sector]],Sectors[],2,FALSE)","v":2}]
[null,"OCHA",{"$f":"INDEX(Organizations[],MATCH(Main3WData15[[#This Row],[Acronym]],AcronymList,0),1)","v":"Bureau de coordination des affaires humanitaires"},{"$f":"INDEX(Organizations[],MATCH(Main3WData15[[#This Row],[Acronym]],AcronymList,0),3)","v":"UN"},"Coordination","Regulier","Kayes",{"$f":"VLOOKUP(Main3WData15[[#This Row],[Admin Unit Name]],AdminUnits[],2,FALSE)","v":"ML01"},{"$f":"VLOOKUP(Main3WData15[[#This Row],[Admin Unit Name]],AdminUnits[],3,FALSE)","v":"Sud"},{"$f":"VLOOKUP(Main3WData15[[#This Row],[Admin Unit Name]],AdminUnits[],4,FALSE)","v":1},{"$f":"VLOOKUP(Main3WData15[[#This Row],[Sector]],Sectors[],2,FALSE)","v":2}]
[null,"OCHA",{"$f":"INDEX(Organizations[],MATCH(Main3WData15[[#This Row],[Acronym]],AcronymList,0),1)","v":"Bureau de coordination des affaires humanitaires"},{"$f":"INDEX(Organizations[],MATCH(Main3WData15[[#This Row],[Acronym]],AcronymList,0),3)","v":"UN"},"Coordination","Regulier","Mopti",{"$f":"VLOOKUP(Main3WData15[[#This Row],[Admin Unit Name]],AdminUnits[],2,FALSE)","v":"ML05"},{"$f":"VLOOKUP(Main3WData15[[#This Row],[Admin Unit Name]],AdminUnits[],3,FALSE)","v":"Sud"},{"$f":"VLOOKUP(Main3WData15[[#This Row],[Admin Unit Name]],AdminUnits[],4,FALSE)","v":5},{"$f":"VLOOKUP(Main3WData15[[#This Row],[Sector]],Sectors[],2,FALSE)","v":2}]
[null,"OCHA",{"$f":"INDEX(Organizations[],MATCH(Main3WData15[[#This Row],[Acronym]],AcronymList,0),1)","v":"Bureau de coordination des affaires humanitaires"},{"$f":"INDEX(Organizations[],MATCH(Main3WData15[[#This Row],[Acronym]],AcronymList,0),3)","v":"UN"},"Coordination","Regulier","Tombouctou",{"$f":"VLOOKUP(Main3WData15[[#This Row],[Admin Unit Name]],AdminUnits[],2,FALSE)","v":"ML06"},{"$f":"VLOOKUP(Main3WData15[[#This Row],[Admin Unit Name]],AdminUnits[],3,FALSE)","v":"Nord"},{"$f":"VLOOKUP(Main3WData15[[#This Row],[Admin Unit Name]],AdminUnits[],4,FALSE)","v":6},{"$f":"VLOOKUP(Main3WData15[[#This Row],[Sector]],Sectors[],2,FALSE)","v":2}]
[null,"OCHA",{"$f":"INDEX(Organizations[],MATCH(Main3WData15[[#This Row],[Acronym]],AcronymList,0),1)","v":"Bureau de coordination des affaires humanitaires"},{"$f":"INDEX(Organizations[],MATCH(Main3WData15[[#This Row],[Acronym]],AcronymList,0),3)","v":"UN"},"Coordination","Regulier","Gao",{"$f":"VLOOKUP(Main3WData15[[#This Row],[Admin Unit Name]],AdminUnits[],2,FALSE)","v":"ML07"},{"$f":"VLOOKUP(Main3WData15[[#This Row],[Admin Unit Name]],AdminUnits[],3,FALSE)","v":"Nord"},{"$f":"VLOOKUP(Main3WData15[[#This Row],[Admin Unit Name]],AdminUnits[],4,FALSE)","v":7},{"$f":"VLOOKUP(Main3WData15[[#This Row],[Sector]],Sectors[],2,FALSE)","v":2}]
[null,"OIM",{"$f":"INDEX(Organizations[],MATCH(Main3WData15[[#This Row],[Acronym]],AcronymList,0),1)","v":"Organisation Internationale pour les Migrations"},{"$f":"INDEX(Organizations[],MATCH(Main3WData15[[#This Row],[Acronym]],AcronymList,0),3)","v":"Org Int."},"Coordination","Regulier","Bamako",{"$f":"VLOOKUP(Main3WData15[[#This Row],[Admin Unit Name]],AdminUnits[],2,FALSE)","v":"ML09"},{"$f":"VLOOKUP(Main3WData15[[#This Row],[Admin Unit Name]],AdminUnits[],3,FALSE)","v":"Sud"},{"$f":"VLOOKUP(Main3WData15[[#This Row],[Admin Unit Name]],AdminUnits[],4,FALSE)","v":0},{"$f":"VLOOKUP(Main3WData15[[#This Row],[Sector]],Sectors[],2,FALSE)","v":2}]
[null,"OMS",{"$f":"INDEX(Organizations[],MATCH(Main3WData15[[#This Row],[Acronym]],AcronymList,0),1)","v":"Organisation Mondiale de la Sante"},{"$f":"INDEX(Organizations[],MATCH(Main3WData15[[#This Row],[Acronym]],AcronymList,0),3)","v":"UN"},"Coordination","Regulier","Bamako",{"$f":"VLOOKUP(Main3WData15[[#This Row],[Admin Unit Name]],AdminUnits[],2,FALSE)","v":"ML09"},{"$f":"VLOOKUP(Main3WData15[[#This Row],[Admin Unit Name]],AdminUnits[],3,FALSE)","v":"Sud"},{"$f":"VLOOKUP(Main3WData15[[#This Row],[Admin Unit Name]],AdminUnits[],4,FALSE)","v":0},{"$f":"VLOOKUP(Main3WData15[[#This Row],[Sector]],Sectors[],2,FALSE)","v":2}]
[null,"PAM",{"$f":"INDEX(Organizations[],MATCH(Main3WData15[[#This Row],[Acronym]],AcronymList,0),1)","v":"Programme Alimentaire Mondial"},{"$f":"INDEX(Organizations[],MATCH(Main3WData15[[#This Row],[Acronym]],AcronymList,0),3)","v":"UN"},"Coordination","Regulier","Bamako",{"$f":"VLOOKUP(Main3WData15[[#This Row],[Admin Unit Name]],AdminUnits[],2,FALSE)","v":"ML09"},{"$f":"VLOOKUP(Main3WData15[[#This Row],[Admin Unit Name]],AdminUnits[],3,FALSE)","v":"Sud"},{"$f":"VLOOKUP(Main3WData15[[#This Row],[Admin Unit Name]],AdminUnits[],4,FALSE)","v":0},{"$f":"VLOOKUP(Main3WData15[[#This Row],[Sector]],Sectors[],2,FALSE)","v":2}]
[null,"UNFPA",{"$f":"INDEX(Organizations[],MATCH(Main3WData15[[#This Row],[Acronym]],AcronymList,0),1)","v":"Fonds des Nations Unies pour la Population"},{"$f":"INDEX(Organizations[],MATCH(Main3WData15[[#This Row],[Acronym]],AcronymList,0),3)","v":"UN"},"Coordination","Regulier","Bamako",{"$f":"VLOOKUP(Main3WData15[[#This Row],[Admin Unit Name]],AdminUnits[],2,FALSE)","v":"ML09"},{"$f":"VLOOKUP(Main3WData15[[#This Row],[Admin Unit Name]],AdminUnits[],3,FALSE)","v":"Sud"},{"$f":"VLOOKUP(Main3WData15[[#This Row],[Admin Unit Name]],AdminUnits[],4,FALSE)","v":0},{"$f":"VLOOKUP(Main3WData15[[#This Row],[Sector]],Sectors[],2,FALSE)","v":2}]
[null,"UNHCR",{"$f":"INDEX(Organizations[],MATCH(Main3WData15[[#This Row],[Acronym]],AcronymList,0),1)","v":"Haut Commissariat des Nations Unies pour les réfugiés"},{"$f":"INDEX(Organizations[],MATCH(Main3WData15[[#This Row],[Acronym]],AcronymList,0),3)","v":"UN"},"Coordination","Regulier","Bamako",{"$f":"VLOOKUP(Main3WData15[[#This Row],[Admin Unit Name]],AdminUnits[],2,FALSE)","v":"ML09"},{"$f":"VLOOKUP(Main3WData15[[#This Row],[Admin Unit Name]],AdminUnits[],3,FALSE)","v":"Sud"},{"$f":"VLOOKUP(Main3WData15[[#This Row],[Admin Unit Name]],AdminUnits[],4,FALSE)","v":0},{"$f":"VLOOKUP(Main3WData15[[#This Row],[Sector]],Sectors[],2,FALSE)","v":2}]
[null,"UNICEF",{"$f":"INDEX(Organizations[],MATCH(Main3WData15[[#This Row],[Acronym]],AcronymList,0),1)","v":"Fonds des Nations Unies pour l'Enfance"},{"$f":"INDEX(Organizations[],MATCH(Main3WData15[[#This Row],[Acronym]],AcronymList,0),3)","v":"UN"},"Coordination","Regulier","Bamako",{"$f":"VLOOKUP(Main3WData15[[#This Row],[Admin Unit Name]],AdminUnits[],2,FALSE)","v":"ML09"},{"$f":"VLOOKUP(Main3WData15[[#This Row],[Admin Unit Name]],AdminUnits[],3,FALSE)","v":"Sud"},{"$f":"VLOOKUP(Main3WData15[[#This Row],[Admin Unit Name]],AdminUnits[],4,FALSE)","v":0},{"$f":"VLOOKUP(Main3WData15[[#This Row],[Sector]],Sectors[],2,FALSE)","v":2}]
[null,"UNICEF",{"$f":"INDEX(Organizations[],MATCH(Main3WData15[[#This Row],[Acronym]],AcronymList,0),1)","v":"Fonds des Nations Unies pour l'Enfance"},{"$f":"INDEX(Organizations[],MATCH(Main3WData15[[#This Row],[Acronym]],AcronymList,0),3)","v":"UN"},"Education","Regulier","Tombouctou",{"$f":"VLOOKUP(Main3WData15[[#This Row],[Admin Unit Name]],AdminUnits[],2,FALSE)","v":"ML06"},{"$f":"VLOOKUP(Main3WData15[[#This Row],[Admin Unit Name]],AdminUnits[],3,FALSE)","v":"Nord"},{"$f":"VLOOKUP(Main3WData15[[#This Row],[Admin Unit Name]],AdminUnits[],4,FALSE)","v":6},{"$f":"VLOOKUP(Main3WData15[[#This Row],[Sector]],Sectors[],2,FALSE)","v":3}]
[null,"UNICEF",{"$f":"INDEX(Organizations[],MATCH(Main3WData15[[#This Row],[Acronym]],AcronymList,0),1)","v":"Fonds des Nations Unies pour l'Enfance"},{"$f":"INDEX(Organizations[],MATCH(Main3WData15[[#This Row],[Acronym]],AcronymList,0),3)","v":"UN"},"Education","Regulier","Koulikoro",{"$f":"VLOOKUP(Main3WData15[[#This Row],[Admin Unit Name]],AdminUnits[],2,FALSE)","v":"ML02"},{"$f":"VLOOKUP(Main3WData15[[#This Row],[Admin Unit Name]],AdminUnits[],3,FALSE)","v":"Sud"},{"$f":"VLOOKUP(Main3WData15[[#This Row],[Admin Unit Name]],AdminUnits[],4,FALSE)","v":2},{"$f":"VLOOKUP(Main3WData15[[#This Row],[Sector]],Sectors[],2,FALSE)","v":3}]
[null,"UNICEF",{"$f":"INDEX(Organizations[],MATCH(Main3WData15[[#This Row],[Acronym]],AcronymList,0),1)","v":"Fonds des Nations Unies pour l'Enfance"},{"$f":"INDEX(Organizations[],MATCH(Main3WData15[[#This Row],[Acronym]],AcronymList,0),3)","v":"UN"},"Education","Regulier","Mopti",{"$f":"VLOOKUP(Main3WData15[[#This Row],[Admin Unit Name]],AdminUnits[],2,FALSE)","v":"ML05"},{"$f":"VLOOKUP(Main3WData15[[#This Row],[Admin Unit Name]],AdminUnits[],3,FALSE)","v":"Sud"},{"$f":"VLOOKUP(Main3WData15[[#This Row],[Admin Unit Name]],AdminUnits[],4,FALSE)","v":5},{"$f":"VLOOKUP(Main3WData15[[#This Row],[Sector]],Sectors[],2,FALSE)","v":3}]
[null,"UNICEF",{"$f":"INDEX(Organizations[],MATCH(Main3WData15[[#This Row],[Acronym]],AcronymList,0),1)","v":"Fonds des Nations Unies pour l'Enfance"},{"$f":"INDEX(Organizations[],MATCH(Main3WData15[[#This Row],[Acronym]],AcronymList,0),3)","v":"UN"},"Education","Regulier","Gao",{"$f":"VLOOKUP(Main3WData15[[#This Row],[Admin Unit Name]],AdminUnits[],2,FALSE)","v":"ML07"},{"$f":"VLOOKUP(Main3WData15[[#This Row],[Admin Unit Name]],AdminUnits[],3,FALSE)","v":"Nord"},{"$f":"VLOOKUP(Main3WData15[[#This Row],[Admin Unit Name]],AdminUnits[],4,FALSE)","v":7},{"$f":"VLOOKUP(Main3WData15[[#This Row],[Sector]],Sectors[],2,FALSE)","v":3}]
[null,"UNICEF",{"$f":"INDEX(Organizations[],MATCH(Main3WData15[[#This Row],[Acronym]],AcronymList,0),1)","v":"Fonds des Nations Unies pour l'Enfance"},{"$f":"INDEX(Organizations[],MATCH(Main3WData15[[#This Row],[Acronym]],AcronymList,0),3)","v":"UN"},"Education","Regulier","Sikasso",{"$f":"VLOOKUP(Main3WData15[[#This Row],[Admin Unit Name]],AdminUnits[],2,FALSE)","v":"ML03"},{"$f":"VLOOKUP(Main3WData15[[#This Row],[Admin Unit Name]],AdminUnits[],3,FALSE)","v":"Sud"},{"$f":"VLOOKUP(Main3WData15[[#This Row],[Admin Unit Name]],AdminUnits[],4,FALSE)","v":3},{"$f":"VLOOKUP(Main3WData15[[#This Row],[Sector]],Sectors[],2,FALSE)","v":3}]
[null,"UNICEF",{"$f":"INDEX(Organizations[],MATCH(Main3WData15[[#This Row],[Acronym]],AcronymList,0),1)","v":"Fonds des Nations Unies pour l'Enfance"},{"$f":"INDEX(Organizations[],MATCH(Main3WData15[[#This Row],[Acronym]],AcronymList,0),3)","v":"UN"},"Education","Regulier","Segou",{"$f":"VLOOKUP(Main3WData15[[#This Row],[Admin Unit Name]],AdminUnits[],2,FALSE)","v":"ML04"},{"$f":"VLOOKUP(Main3WData15[[#This Row],[Admin Unit Name]],AdminUnits[],3,FALSE)","v":"Sud"},{"$f":"VLOOKUP(Main3WData15[[#This Row],[Admin Unit Name]],AdminUnits[],4,FALSE)","v":4},{"$f":"VLOOKUP(Main3WData15[[#This Row],[Sector]],Sectors[],2,FALSE)","v":3}]
[null,"UNICEF",{"$f":"INDEX(Organizations[],MATCH(Main3WData15[[#This Row],[Acronym]],AcronymList,0),1)","v":"Fonds des Nations Unies pour l'Enfance"},{"$f":"INDEX(Organizations[],MATCH(Main3WData15[[#This Row],[Acronym]],AcronymList,0),3)","v":"UN"},"Education","Regulier","Kayes",{"$f":"VLOOKUP(Main3WData15[[#This Row],[Admin Unit Name]],AdminUnits[],2,FALSE)","v":"ML01"},{"$f":"VLOOKUP(Main3WData15[[#This Row],[Admin Unit Name]],AdminUnits[],3,FALSE)","v":"Sud"},{"$f":"VLOOKUP(Main3WData15[[#This Row],[Admin Unit Name]],AdminUnits[],4,FALSE)","v":1},{"$f":"VLOOKUP(Main3WData15[[#This Row],[Sector]],Sectors[],2,FALSE)","v":3}]
[null,"UNICEF",{"$f":"INDEX(Organizations[],MATCH(Main3WData15[[#This Row],[Acronym]],AcronymList,0),1)","v":"Fonds des Nations Unies pour l'Enfance"},{"$f":"INDEX(Organizations[],MATCH(Main3WData15[[#This Row],[Acronym]],AcronymList,0),3)","v":"UN"},"Education","Regulier","Bamako",{"$f":"VLOOKUP(Main3WData15[[#This Row],[Admin Unit Name]],AdminUnits[],2,FALSE)","v":"ML09"},{"$f":"VLOOKUP(Main3WData15[[#This Row],[Admin Unit Name]],AdminUnits[],3,FALSE)","v":"Sud"},{"$f":"VLOOKUP(Main3WData15[[#This Row],[Admin Unit Name]],AdminUnits[],4,FALSE)","v":0},{"$f":"VLOOKUP(Main3WData15[[#This Row],[Sector]],Sectors[],2,FALSE)","v":3}]
[null,"Save the Children",{"$f":"INDEX(Organizations[],MATCH(Main3WData15[[#This Row],[Acronym]],AcronymList,0),1)","v":"Save the Children"},{"$f":"INDEX(Organizations[],MATCH(Main3WData15[[#This Row],[Acronym]],AcronymList,0),3)","v":"ONG Int."},"Education","Regulier","Segou",{"$f":"VLOOKUP(Main3WData15[[#This Row],[Admin Unit Name]],AdminUnits[],2,FALSE)","v":"ML04"},{"$f":"VLOOKUP(Main3WData15[[#This Row],[Admin Unit Name]],AdminUnits[],3,FALSE)","v":"Sud"},{"$f":"VLOOKUP(Main3WData15[[#This Row],[Admin Unit Name]],AdminUnits[],4,FALSE)","v":4},{"$f":"VLOOKUP(Main3WData15[[#This Row],[Sector]],Sectors[],2,FALSE)","v":3}]
[null,"Save the Children",{"$f":"INDEX(Organizations[],MATCH(Main3WData15[[#This Row],[Acronym]],AcronymList,0),1)","v":"Save the Children"},{"$f":"INDEX(Organizations[],MATCH(Main3WData15[[#This Row],[Acronym]],AcronymList,0),3)","v":"ONG Int."},"Education","Regulier","Mopti",{"$f":"VLOOKUP(Main3WData15[[#This Row],[Admin Unit Name]],AdminUnits[],2,FALSE)","v":"ML05"},{"$f":"VLOOKUP(Main3WData15[[#This Row],[Admin Unit Name]],AdminUnits[],3,FALSE)","v":"Sud"},{"$f":"VLOOKUP(Main3WData15[[#This Row],[Admin Unit Name]],AdminUnits[],4,FALSE)","v":5},{"$f":"VLOOKUP(Main3WData15[[#This Row],[Sector]],Sectors[],2,FALSE)","v":3}]
[null,"Save the Children",{"$f":"INDEX(Organizations[],MATCH(Main3WData15[[#This Row],[Acronym]],AcronymList,0),1)","v":"Save the Children"},{"$f":"INDEX(Organizations[],MATCH(Main3WData15[[#This Row],[Acronym]],AcronymList,0),3)","v":"ONG Int."},"Education","Regulier","Gao",{"$f":"VLOOKUP(Main3WData15[[#This Row],[Admin Unit Name]],AdminUnits[],2,FALSE)","v":"ML07"},{"$f":"VLOOKUP(Main3WData15[[#This Row],[Admin Unit Name]],AdminUnits[],3,FALSE)","v":"Nord"},{"$f":"VLOOKUP(Main3WData15[[#This Row],[Admin Unit Name]],AdminUnits[],4,FALSE)","v":7},{"$f":"VLOOKUP(Main3WData15[[#This Row],[Sector]],Sectors[],2,FALSE)","v":3}]
[null,"Save the Children",{"$f":"INDEX(Organizations[],MATCH(Main3WData15[[#This Row],[Acronym]],AcronymList,0),1)","v":"Save the Children"},{"$f":"INDEX(Organizations[],MATCH(Main3WData15[[#This Row],[Acronym]],AcronymList,0),3)","v":"ONG Int."},"Education","Regulier","Sikasso",{"$f":"VLOOKUP(Main3WData15[[#This Row],[Admin Unit Name]],AdminUnits[],2,FALSE)","v":"ML03"},{"$f":"VLOOKUP(Main3WData15[[#This Row],[Admin Unit Name]],AdminUnits[],3,FALSE)","v":"Sud"},{"$f":"VLOOKUP(Main3WData15[[#This Row],[Admin Unit Name]],AdminUnits[],4,FALSE)","v":3},{"$f":"VLOOKUP(Main3WData15[[#This Row],[Sector]],Sectors[],2,FALSE)","v":3}]
[null,"Save the Children",{"$f":"INDEX(Organizations[],MATCH(Main3WData15[[#This Row],[Acronym]],AcronymList,0),1)","v":"Save the Children"},{"$f":"INDEX(Organizations[],MATCH(Main3WData15[[#This Row],[Acronym]],AcronymList,0),3)","v":"ONG Int."},"Education","Regulier","Kayes",{"$f":"VLOOKUP(Main3WData15[[#This Row],[Admin Unit Name]],AdminUnits[],2,FALSE)","v":"ML01"},{"$f":"VLOOKUP(Main3WData15[[#This Row],[Admin Unit Name]],AdminUnits[],3,FALSE)","v":"Sud"},{"$f":"VLOOKUP(Main3WData15[[#This Row],[Admin Unit Name]],AdminUnits[],4,FALSE)","v":1},{"$f":"VLOOKUP(Main3WData15[[#This Row],[Sector]],Sectors[],2,FALSE)","v":3}]
[null,"Save the Children",{"$f":"INDEX(Organizations[],MATCH(Main3WData15[[#This Row],[Acronym]],AcronymList,0),1)","v":"Save the Children"},{"$f":"INDEX(Organizations[],MATCH(Main3WData15[[#This Row],[Acronym]],AcronymList,0),3)","v":"ONG Int."},"Education","Regulier","Bamako",{"$f":"VLOOKUP(Main3WData15[[#This Row],[Admin Unit Name]],AdminUnits[],2,FALSE)","v":"ML09"},{"$f":"VLOOKUP(Main3WData15[[#This Row],[Admin Unit Name]],AdminUnits[],3,FALSE)","v":"Sud"},{"$f":"VLOOKUP(Main3WData15[[#This Row],[Admin Unit Name]],AdminUnits[],4,FALSE)","v":0},{"$f":"VLOOKUP(Main3WData15[[#This Row],[Sector]],Sectors[],2,FALSE)","v":3}]
[null,"Plan Mali",{"$f":"INDEX(Organizations[],MATCH(Main3WData15[[#This Row],[Acronym]],AcronymList,0),1)","v":"Plan Mali"},{"$f":"INDEX(Organizations[],MATCH(Main3WData15[[#This Row],[Acronym]],AcronymList,0),3)","v":"ONG Int."},"Education","Regulier","Segou",{"$f":"VLOOKUP(Main3WData15[[#This Row],[Admin Unit Name]],AdminUnits[],2,FALSE)","v":"ML04"},{"$f":"VLOOKUP(Main3WData15[[#This Row],[Admin Unit Name]],AdminUnits[],3,FALSE)","v":"Sud"},{"$f":"VLOOKUP(Main3WData15[[#This Row],[Admin Unit Name]],AdminUnits[],4,FALSE)","v":4},{"$f":"VLOOKUP(Main3WData15[[#This Row],[Sector]],Sectors[],2,FALSE)","v":3}]
[null,"Plan Mali",{"$f":"INDEX(Organizations[],MATCH(Main3WData15[[#This Row],[Acronym]],AcronymList,0),1)","v":"Plan Mali"},{"$f":"INDEX(Organizations[],MATCH(Main3WData15[[#This Row],[Acronym]],AcronymList,0),3)","v":"ONG Int."},"Education","Regulier","Mopti",{"$f":"VLOOKUP(Main3WData15[[#This Row],[Admin Unit Name]],AdminUnits[],2,FALSE)","v":"ML05"},{"$f":"VLOOKUP(Main3WData15[[#This Row],[Admin Unit Name]],AdminUnits[],3,FALSE)","v":"Sud"},{"$f":"VLOOKUP(Main3WData15[[#This Row],[Admin Unit Name]],AdminUnits[],4,FALSE)","v":5},{"$f":"VLOOKUP(Main3WData15[[#This Row],[Sector]],Sectors[],2,FALSE)","v":3}]
[null,"Plan Mali",{"$f":"INDEX(Organizations[],MATCH(Main3WData15[[#This Row],[Acronym]],AcronymList,0),1)","v":"Plan Mali"},{"$f":"INDEX(Organizations[],MATCH(Main3WData15[[#This Row],[Acronym]],AcronymList,0),3)","v":"ONG Int."},"Education","Regulier","Tombouctou",{"$f":"VLOOKUP(Main3WData15[[#This Row],[Admin Unit Name]],AdminUnits[],2,FALSE)","v":"ML06"},{"$f":"VLOOKUP(Main3WData15[[#This Row],[Admin Unit Name]],AdminUnits[],3,FALSE)","v":"Nord"},{"$f":"VLOOKUP(Main3WData15[[#This Row],[Admin Unit Name]],AdminUnits[],4,FALSE)","v":6},{"$f":"VLOOKUP(Main3WData15[[#This Row],[Sector]],Sectors[],2,FALSE)","v":3}]
[null,"PAM",{"$f":"INDEX(Organizations[],MATCH(Main3WData15[[#This Row],[Acronym]],AcronymList,0),1)","v":"Programme Alimentaire Mondial"},{"$f":"INDEX(Organizations[],MATCH(Main3WData15[[#This Row],[Acronym]],AcronymList,0),3)","v":"UN"},"Education","Regulier","Kayes",{"$f":"VLOOKUP(Main3WData15[[#This Row],[Admin Unit Name]],AdminUnits[],2,FALSE)","v":"ML01"},{"$f":"VLOOKUP(Main3WData15[[#This Row],[Admin Unit Name]],AdminUnits[],3,FALSE)","v":"Sud"},{"$f":"VLOOKUP(Main3WData15[[#This Row],[Admin Unit Name]],AdminUnits[],4,FALSE)","v":1},{"$f":"VLOOKUP(Main3WData15[[#This Row],[Sector]],Sectors[],2,FALSE)","v":3}]
[null,"PAM",{"$f":"INDEX(Organizations[],MATCH(Main3WData15[[#This Row],[Acronym]],AcronymList,0),1)","v":"Programme Alimentaire Mondial"},{"$f":"INDEX(Organizations[],MATCH(Main3WData15[[#This Row],[Acronym]],AcronymList,0),3)","v":"UN"},"Education","Regulier","Koulikoro",{"$f":"VLOOKUP(Main3WData15[[#This Row],[Admin Unit Name]],AdminUnits[],2,FALSE)","v":"ML02"},{"$f":"VLOOKUP(Main3WData15[[#This Row],[Admin Unit Name]],AdminUnits[],3,FALSE)","v":"Sud"},{"$f":"VLOOKUP(Main3WData15[[#This Row],[Admin Unit Name]],AdminUnits[],4,FALSE)","v":2},{"$f":"VLOOKUP(Main3WData15[[#This Row],[Sector]],Sectors[],2,FALSE)","v":3}]
[null,"PAM",{"$f":"INDEX(Organizations[],MATCH(Main3WData15[[#This Row],[Acronym]],AcronymList,0),1)","v":"Programme Alimentaire Mondial"},{"$f":"INDEX(Organizations[],MATCH(Main3WData15[[#This Row],[Acronym]],AcronymList,0),3)","v":"UN"},"Education","Regulier","Mopti",{"$f":"VLOOKUP(Main3WData15[[#This Row],[Admin Unit Name]],AdminUnits[],2,FALSE)","v":"ML05"},{"$f":"VLOOKUP(Main3WData15[[#This Row],[Admin Unit Name]],AdminUnits[],3,FALSE)","v":"Sud"},{"$f":"VLOOKUP(Main3WData15[[#This Row],[Admin Unit Name]],AdminUnits[],4,FALSE)","v":5},{"$f":"VLOOKUP(Main3WData15[[#This Row],[Sector]],Sectors[],2,FALSE)","v":3}]
[null,"PAM",{"$f":"INDEX(Organizations[],MATCH(Main3WData15[[#This Row],[Acronym]],AcronymList,0),1)","v":"Programme Alimentaire Mondial"},{"$f":"INDEX(Organizations[],MATCH(Main3WData15[[#This Row],[Acronym]],AcronymList,0),3)","v":"UN"},"Education","Regulier","Gao",{"$f":"VLOOKUP(Main3WData15[[#This Row],[Admin Unit Name]],AdminUnits[],2,FALSE)","v":"ML07"},{"$f":"VLOOKUP(Main3WData15[[#This Row],[Admin Unit Name]],AdminUnits[],3,FALSE)","v":"Nord"},{"$f":"VLOOKUP(Main3WData15[[#This Row],[Admin Unit Name]],AdminUnits[],4,FALSE)","v":7},{"$f":"VLOOKUP(Main3WData15[[#This Row],[Sector]],Sectors[],2,FALSE)","v":3}]
[null,"PAM",{"$f":"INDEX(Organizations[],MATCH(Main3WData15[[#This Row],[Acronym]],AcronymList,0),1)","v":"Programme Alimentaire Mondial"},{"$f":"INDEX(Organizations[],MATCH(Main3WData15[[#This Row],[Acronym]],AcronymList,0),3)","v":"UN"},"Education","Regulier","Tombouctou",{"$f":"VLOOKUP(Main3WData15[[#This Row],[Admin Unit Name]],AdminUnits[],2,FALSE)","v":"ML06"},{"$f":"VLOOKUP(Main3WData15[[#This Row],[Admin Unit Name]],AdminUnits[],3,FALSE)","v":"Nord"},{"$f":"VLOOKUP(Main3WData15[[#This Row],[Admin Unit Name]],AdminUnits[],4,FALSE)","v":6},{"$f":"VLOOKUP(Main3WData15[[#This Row],[Sector]],Sectors[],2,FALSE)","v":3}]
[null,"IRC",{"$f":"INDEX(Organizations[],MATCH(Main3WData15[[#This Row],[Acronym]],AcronymList,0),1)","v":"International Rescue Committee"},{"$f":"INDEX(Organizations[],MATCH(Main3WData15[[#This Row],[Acronym]],AcronymList,0),3)","v":"ONG Int."},"Education","Regulier","Koulikoro",{"$f":"VLOOKUP(Main3WData15[[#This Row],[Admin Unit Name]],AdminUnits[],2,FALSE)","v":"ML02"},{"$f":"VLOOKUP(Main3WData15[[#This Row],[Admin Unit Name]],AdminUnits[],3,FALSE)","v":"Sud"},{"$f":"VLOOKUP(Main3WData15[[#This Row],[Admin Unit Name]],AdminUnits[],4,FALSE)","v":2},{"$f":"VLOOKUP(Main3WData15[[#This Row],[Sector]],Sectors[],2,FALSE)","v":3}]
[null,"IRC",{"$f":"INDEX(Organizations[],MATCH(Main3WData15[[#This Row],[Acronym]],AcronymList,0),1)","v":"International Rescue Committee"},{"$f":"INDEX(Organizations[],MATCH(Main3WData15[[#This Row],[Acronym]],AcronymList,0),3)","v":"ONG Int."},"Education","Regulier","Gao",{"$f":"VLOOKUP(Main3WData15[[#This Row],[Admin Unit Name]],AdminUnits[],2,FALSE)","v":"ML07"},{"$f":"VLOOKUP(Main3WData15[[#This Row],[Admin Unit Name]],AdminUnits[],3,FALSE)","v":"Nord"},{"$f":"VLOOKUP(Main3WData15[[#This Row],[Admin Unit Name]],AdminUnits[],4,FALSE)","v":7},{"$f":"VLOOKUP(Main3WData15[[#This Row],[Sector]],Sectors[],2,FALSE)","v":3}]
[null,"Intervida",{"$f":"INDEX(Organizations[],MATCH(Main3WData15[[#This Row],[Acronym]],AcronymList,0),1)","v":"Intervida"},{"$f":"INDEX(Organizations[],MATCH(Main3WData15[[#This Row],[Acronym]],AcronymList,0),3)","v":"ONG Int."},"Education","Regulier","Segou",{"$f":"VLOOKUP(Main3WData15[[#This Row],[Admin Unit Name]],AdminUnits[],2,FALSE)","v":"ML04"},{"$f":"VLOOKUP(Main3WData15[[#This Row],[Admin Unit Name]],AdminUnits[],3,FALSE)","v":"Sud"},{"$f":"VLOOKUP(Main3WData15[[#This Row],[Admin Unit Name]],AdminUnits[],4,FALSE)","v":4},{"$f":"VLOOKUP(Main3WData15[[#This Row],[Sector]],Sectors[],2,FALSE)","v":3}]
[null,"CRS",{"$f":"INDEX(Organizations[],MATCH(Main3WData15[[#This Row],[Acronym]],AcronymList,0),1)","v":"Catholic Relief Services"},{"$f":"INDEX(Organizations[],MATCH(Main3WData15[[#This Row],[Acronym]],AcronymList,0),3)","v":"ONG Int."},"Education","Regulier","Mopti",{"$f":"VLOOKUP(Main3WData15[[#This Row],[Admin Unit Name]],AdminUnits[],2,FALSE)","v":"ML05"},{"$f":"VLOOKUP(Main3WData15[[#This Row],[Admin Unit Name]],AdminUnits[],3,FALSE)","v":"Sud"},{"$f":"VLOOKUP(Main3WData15[[#This Row],[Admin Unit Name]],AdminUnits[],4,FALSE)","v":5},{"$f":"VLOOKUP(Main3WData15[[#This Row],[Sector]],Sectors[],2,FALSE)","v":3}]
[null,"CRS",{"$f":"INDEX(Organizations[],MATCH(Main3WData15[[#This Row],[Acronym]],AcronymList,0),1)","v":"Catholic Relief Services"},{"$f":"INDEX(Organizations[],MATCH(Main3WData15[[#This Row],[Acronym]],AcronymList,0),3)","v":"ONG Int."},"Education","Regulier","Koulikoro",{"$f":"VLOOKUP(Main3WData15[[#This Row],[Admin Unit Name]],AdminUnits[],2,FALSE)","v":"ML02"},{"$f":"VLOOKUP(Main3WData15[[#This Row],[Admin Unit Name]],AdminUnits[],3,FALSE)","v":"Sud"},{"$f":"VLOOKUP(Main3WData15[[#This Row],[Admin Unit Name]],AdminUnits[],4,FALSE)","v":2},{"$f":"VLOOKUP(Main3WData15[[#This Row],[Sector]],Sectors[],2,FALSE)","v":3}]
[null,"NRC",{"$f":"INDEX(Organizations[],MATCH(Main3WData15[[#This Row],[Acronym]],AcronymList,0),1)","v":"Norwegian Refugee Council "},{"$f":"INDEX(Organizations[],MATCH(Main3WData15[[#This Row],[Acronym]],AcronymList,0),3)","v":"ONG Int."},"Education","Regulier","Segou",{"$f":"VLOOKUP(Main3WData15[[#This Row],[Admin Unit Name]],AdminUnits[],2,FALSE)","v":"ML04"},{"$f":"VLOOKUP(Main3WData15[[#This Row],[Admin Unit Name]],AdminUnits[],3,FALSE)","v":"Sud"},{"$f":"VLOOKUP(Main3WData15[[#This Row],[Admin Unit Name]],AdminUnits[],4,FALSE)","v":4},{"$f":"VLOOKUP(Main3WData15[[#This Row],[Sector]],Sectors[],2,FALSE)","v":3}]
[null,"NRC",{"$f":"INDEX(Organizations[],MATCH(Main3WData15[[#This Row],[Acronym]],AcronymList,0),1)","v":"Norwegian Refugee Council "},{"$f":"INDEX(Organizations[],MATCH(Main3WData15[[#This Row],[Acronym]],AcronymList,0),3)","v":"ONG Int."},"Education","Regulier","Mopti",{"$f":"VLOOKUP(Main3WData15[[#This Row],[Admin Unit Name]],AdminUnits[],2,FALSE)","v":"ML05"},{"$f":"VLOOKUP(Main3WData15[[#This Row],[Admin Unit Name]],AdminUnits[],3,FALSE)","v":"Sud"},{"$f":"VLOOKUP(Main3WData15[[#This Row],[Admin Unit Name]],AdminUnits[],4,FALSE)","v":5},{"$f":"VLOOKUP(Main3WData15[[#This Row],[Sector]],Sectors[],2,FALSE)","v":3}]
[null,"NRC",{"$f":"INDEX(Organizations[],MATCH(Main3WData15[[#This Row],[Acronym]],AcronymList,0),1)","v":"Norwegian Refugee Council "},{"$f":"INDEX(Organizations[],MATCH(Main3WData15[[#This Row],[Acronym]],AcronymList,0),3)","v":"ONG Int."},"Education","Regulier","Bamako",{"$f":"VLOOKUP(Main3WData15[[#This Row],[Admin Unit Name]],AdminUnits[],2,FALSE)","v":"ML09"},{"$f":"VLOOKUP(Main3WData15[[#This Row],[Admin Unit Name]],AdminUnits[],3,FALSE)","v":"Sud"},{"$f":"VLOOKUP(Main3WData15[[#This Row],[Admin Unit Name]],AdminUnits[],4,FALSE)","v":0},{"$f":"VLOOKUP(Main3WData15[[#This Row],[Sector]],Sectors[],2,FALSE)","v":3}]
[null,"DRC",{"$f":"INDEX(Organizations[],MATCH(Main3WData15[[#This Row],[Acronym]],AcronymList,0),1)","v":"Danish Refugee Council"},{"$f":"INDEX(Organizations[],MATCH(Main3WData15[[#This Row],[Acronym]],AcronymList,0),3)","v":"ONG Int."},"Education","Regulier","Mopti",{"$f":"VLOOKUP(Main3WData15[[#This Row],[Admin Unit Name]],AdminUnits[],2,FALSE)","v":"ML05"},{"$f":"VLOOKUP(Main3WData15[[#This Row],[Admin Unit Name]],AdminUnits[],3,FALSE)","v":"Sud"},{"$f":"VLOOKUP(Main3WData15[[#This Row],[Admin Unit Name]],AdminUnits[],4,FALSE)","v":5},{"$f":"VLOOKUP(Main3WData15[[#This Row],[Sector]],Sectors[],2,FALSE)","v":3}]
[null,"Coopération Mali-Luxembourg",{"$f":"INDEX(Organizations[],MATCH(Main3WData15[[#This Row],[Acronym]],AcronymList,0),1)","v":"Coopération Mali-Luxembourg"},{"$f":"INDEX(Organizations[],MATCH(Main3WData15[[#This Row],[Acronym]],AcronymList,0),3)","v":"ONG Int."},"Education","Regulier","Kidal",{"$f":"VLOOKUP(Main3WData15[[#This Row],[Admin Unit Name]],AdminUnits[],2,FALSE)","v":"ML08"},{"$f":"VLOOKUP(Main3WData15[[#This Row],[Admin Unit Name]],AdminUnits[],3,FALSE)","v":"Nord"},{"$f":"VLOOKUP(Main3WData15[[#This Row],[Admin Unit Name]],AdminUnits[],4,FALSE)","v":8},{"$f":"VLOOKUP(Main3WData15[[#This Row],[Sector]],Sectors[],2,FALSE)","v":3}]
[null,"AKF",{"$f":"INDEX(Organizations[],MATCH(Main3WData15[[#This Row],[Acronym]],AcronymList,0),1)","v":"Aga Khan Foundation"},{"$f":"INDEX(Organizations[],MATCH(Main3WData15[[#This Row],[Acronym]],AcronymList,0),3)","v":"Fondation"},"Education","Regulier","Mopti",{"$f":"VLOOKUP(Main3WData15[[#This Row],[Admin Unit Name]],AdminUnits[],2,FALSE)","v":"ML05"},{"$f":"VLOOKUP(Main3WData15[[#This Row],[Admin Unit Name]],AdminUnits[],3,FALSE)","v":"Sud"},{"$f":"VLOOKUP(Main3WData15[[#This Row],[Admin Unit Name]],AdminUnits[],4,FALSE)","v":5},{"$f":"VLOOKUP(Main3WData15[[#This Row],[Sector]],Sectors[],2,FALSE)","v":3}]
[null,"Right to Play",{"$f":"INDEX(Organizations[],MATCH(Main3WData15[[#This Row],[Acronym]],AcronymList,0),1)","v":"Right to Play"},{"$f":"INDEX(Organizations[],MATCH(Main3WData15[[#This Row],[Acronym]],AcronymList,0),3)","v":"ONG Int."},"Education","Regulier","Gao",{"$f":"VLOOKUP(Main3WData15[[#This Row],[Admin Unit Name]],AdminUnits[],2,FALSE)","v":"ML07"},{"$f":"VLOOKUP(Main3WData15[[#This Row],[Admin Unit Name]],AdminUnits[],3,FALSE)","v":"Nord"},{"$f":"VLOOKUP(Main3WData15[[#This Row],[Admin Unit Name]],AdminUnits[],4,FALSE)","v":7},{"$f":"VLOOKUP(Main3WData15[[#This Row],[Sector]],Sectors[],2,FALSE)","v":3}]
[null,"Right to Play",{"$f":"INDEX(Organizations[],MATCH(Main3WData15[[#This Row],[Acronym]],AcronymList,0),1)","v":"Right to Play"},{"$f":"INDEX(Organizations[],MATCH(Main3WData15[[#This Row],[Acronym]],AcronymList,0),3)","v":"ONG Int."},"Education","Regulier","Tombouctou",{"$f":"VLOOKUP(Main3WData15[[#This Row],[Admin Unit Name]],AdminUnits[],2,FALSE)","v":"ML06"},{"$f":"VLOOKUP(Main3WData15[[#This Row],[Admin Unit Name]],AdminUnits[],3,FALSE)","v":"Nord"},{"$f":"VLOOKUP(Main3WData15[[#This Row],[Admin Unit Name]],AdminUnits[],4,FALSE)","v":6},{"$f":"VLOOKUP(Main3WData15[[#This Row],[Sector]],Sectors[],2,FALSE)","v":3}]
[null,"Right to Play",{"$f":"INDEX(Organizations[],MATCH(Main3WData15[[#This Row],[Acronym]],AcronymList,0),1)","v":"Right to Play"},{"$f":"INDEX(Organizations[],MATCH(Main3WData15[[#This Row],[Acronym]],AcronymList,0),3)","v":"ONG Int."},"Education","Regulier","Mopti",{"$f":"VLOOKUP(Main3WData15[[#This Row],[Admin Unit Name]],AdminUnits[],2,FALSE)","v":"ML05"},{"$f":"VLOOKUP(Main3WData15[[#This Row],[Admin Unit Name]],AdminUnits[],3,FALSE)","v":"Sud"},{"$f":"VLOOKUP(Main3WData15[[#This Row],[Admin Unit Name]],AdminUnits[],4,FALSE)","v":5},{"$f":"VLOOKUP(Main3WData15[[#This Row],[Sector]],Sectors[],2,FALSE)","v":3}]
[null,"WHH",{"$f":"INDEX(Organizations[],MATCH(Main3WData15[[#This Row],[Acronym]],AcronymList,0),1)","v":{"$error":"#N/A"}},{"$f":"INDEX(Organizations[],MATCH(Main3WData15[[#This Row],[Acronym]],AcronymList,0),3)","v":{"$error":"#N/A"}},"Education","Regulier","Mopti",{"$f":"VLOOKUP(Main3WData15[[#This Row],[Admin Unit Name]],AdminUnits[],2,FALSE)","v":"ML05"},{"$f":"VLOOKUP(Main3WData15[[#This Row],[Admin Unit Name]],AdminUnits[],3,FALSE)","v":"Sud"},{"$f":"VLOOKUP(Main3WData15[[#This Row],[Admin Unit Name]],AdminUnits[],4,FALSE)","v":5},{"$f":"VLOOKUP(Main3WData15[[#This Row],[Sector]],Sectors[],2,FALSE)","v":3}]
[null,"WHH",{"$f":"INDEX(Organizations[],MATCH(Main3WData15[[#This Row],[Acronym]],AcronymList,0),1)","v":{"$error":"#N/A"}},{"$f":"INDEX(Organizations[],MATCH(Main3WData15[[#This Row],[Acronym]],AcronymList,0),3)","v":{"$error":"#N/A"}},"Education","Regulier","Tombouctou",{"$f":"VLOOKUP(Main3WData15[[#This Row],[Admin Unit Name]],AdminUnits[],2,FALSE)","v":"ML06"},{"$f":"VLOOKUP(Main3WData15[[#This Row],[Admin Unit Name]],AdminUnits[],3,FALSE)","v":"Nord"},{"$f":"VLOOKUP(Main3WData15[[#This Row],[Admin Unit Name]],AdminUnits[],4,FALSE)","v":6},{"$f":"VLOOKUP(Main3WData15[[#This Row],[Sector]],Sectors[],2,FALSE)","v":3}]
[null,"ACF – Espagne",{"$f":"INDEX(Organizations[],MATCH(Main3WData15[[#This Row],[Acronym]],AcronymList,0),1)","v":"Action contre la faim Espagne"},{"$f":"INDEX(Organizations[],MATCH(Main3WData15[[#This Row],[Acronym]],AcronymList,0),3)","v":"ONG Int."},"EHA","Regulier","BAMAKO",{"$f":"VLOOKUP(Main3WData15[[#This Row],[Admin Unit Name]],AdminUnits[],2,FALSE)","v":"ML09"},{"$f":"VLOOKUP(Main3WData15[[#This Row],[Admin Unit Name]],AdminUnits[],3,FALSE)","v":"Sud"},{"$f":"VLOOKUP(Main3WData15[[#This Row],[Admin Unit Name]],AdminUnits[],4,FALSE)","v":0},{"$f":"VLOOKUP(Main3WData15[[#This Row],[Sector]],Sectors[],2,FALSE)","v":8}]
[null,"ACF – Espagne",{"$f":"INDEX(Organizations[],MATCH(Main3WData15[[#This Row],[Acronym]],AcronymList,0),1)","v":"Action contre la faim Espagne"},{"$f":"INDEX(Organizations[],MATCH(Main3WData15[[#This Row],[Acronym]],AcronymList,0),3)","v":"ONG Int."},"EHA","Regulier","GAO",{"$f":"VLOOKUP(Main3WData15[[#This Row],[Admin Unit Name]],AdminUnits[],2,FALSE)","v":"ML07"},{"$f":"VLOOKUP(Main3WData15[[#This Row],[Admin Unit Name]],AdminUnits[],3,FALSE)","v":"Nord"},{"$f":"VLOOKUP(Main3WData15[[#This Row],[Admin Unit Name]],AdminUnits[],4,FALSE)","v":7},{"$f":"VLOOKUP(Main3WData15[[#This Row],[Sector]],Sectors[],2,FALSE)","v":8}]
[null,"ACTED",{"$f":"INDEX(Organizations[],MATCH(Main3WData15[[#This Row],[Acronym]],AcronymList,0),1)","v":"Agence d'aide à la coopération technique et au développement"},{"$f":"INDEX(Organizations[],MATCH(Main3WData15[[#This Row],[Acronym]],AcronymList,0),3)","v":"ONG Int."},"EHA","Regulier","SEGOU",{"$f":"VLOOKUP(Main3WData15[[#This Row],[Admin Unit Name]],AdminUnits[],2,FALSE)","v":"ML04"},{"$f":"VLOOKUP(Main3WData15[[#This Row],[Admin Unit Name]],AdminUnits[],3,FALSE)","v":"Sud"},{"$f":"VLOOKUP(Main3WData15[[#This Row],[Admin Unit Name]],AdminUnits[],4,FALSE)","v":4},{"$f":"VLOOKUP(Main3WData15[[#This Row],[Sector]],Sectors[],2,FALSE)","v":8}]
[null,"ACTED",{"$f":"INDEX(Organizations[],MATCH(Main3WData15[[#This Row],[Acronym]],AcronymList,0),1)","v":"Agence d'aide à la coopération technique et au développement"},{"$f":"INDEX(Organizations[],MATCH(Main3WData15[[#This Row],[Acronym]],AcronymList,0),3)","v":"ONG Int."},"EHA","Regulier","MOPTI",{"$f":"VLOOKUP(Main3WData15[[#This Row],[Admin Unit Name]],AdminUnits[],2,FALSE)","v":"ML05"},{"$f":"VLOOKUP(Main3WData15[[#This Row],[Admin Unit Name]],AdminUnits[],3,FALSE)","v":"Sud"},{"$f":"VLOOKUP(Main3WData15[[#This Row],[Admin Unit Name]],AdminUnits[],4,FALSE)","v":5},{"$f":"VLOOKUP(Main3WData15[[#This Row],[Sector]],Sectors[],2,FALSE)","v":8}]
[null,"AVSF",{"$f":"INDEX(Organizations[],MATCH(Main3WData15[[#This Row],[Acronym]],AcronymList,0),1)","v":"Agronomes et Vétérinaires Sans Frontières"},{"$f":"INDEX(Organizations[],MATCH(Main3WData15[[#This Row],[Acronym]],AcronymList,0),3)","v":"ONG Int."},"EHA","Regulier","GAO",{"$f":"VLOOKUP(Main3WData15[[#This Row],[Admin Unit Name]],AdminUnits[],2,FALSE)","v":"ML07"},{"$f":"VLOOKUP(Main3WData15[[#This Row],[Admin Unit Name]],AdminUnits[],3,FALSE)","v":"Nord"},{"$f":"VLOOKUP(Main3WData15[[#This Row],[Admin Unit Name]],AdminUnits[],4,FALSE)","v":7},{"$f":"VLOOKUP(Main3WData15[[#This Row],[Sector]],Sectors[],2,FALSE)","v":8}]
[null,"AVSF",{"$f":"INDEX(Organizations[],MATCH(Main3WData15[[#This Row],[Acronym]],AcronymList,0),1)","v":"Agronomes et Vétérinaires Sans Frontières"},{"$f":"INDEX(Organizations[],MATCH(Main3WData15[[#This Row],[Acronym]],AcronymList,0),3)","v":"ONG Int."},"EHA","Regulier","TOMBOUCTOU",{"$f":"VLOOKUP(Main3WData15[[#This Row],[Admin Unit Name]],AdminUnits[],2,FALSE)","v":"ML06"},{"$f":"VLOOKUP(Main3WData15[[#This Row],[Admin Unit Name]],AdminUnits[],3,FALSE)","v":"Nord"},{"$f":"VLOOKUP(Main3WData15[[#This Row],[Admin Unit Name]],AdminUnits[],4,FALSE)","v":6},{"$f":"VLOOKUP(Main3WData15[[#This Row],[Sector]],Sectors[],2,FALSE)","v":8}]
[null,"CARE Mali",{"$f":"INDEX(Organizations[],MATCH(Main3WData15[[#This Row],[Acronym]],AcronymList,0),1)","v":"CARE Interntional Mali"},{"$f":"INDEX(Organizations[],MATCH(Main3WData15[[#This Row],[Acronym]],AcronymList,0),3)","v":"ONG Int."},"EHA","Regulier","MOPTI",{"$f":"VLOOKUP(Main3WData15[[#This Row],[Admin Unit Name]],AdminUnits[],2,FALSE)","v":"ML05"},{"$f":"VLOOKUP(Main3WData15[[#This Row],[Admin Unit Name]],AdminUnits[],3,FALSE)","v":"Sud"},{"$f":"VLOOKUP(Main3WData15[[#This Row],[Admin Unit Name]],AdminUnits[],4,FALSE)","v":5},{"$f":"VLOOKUP(Main3WData15[[#This Row],[Sector]],Sectors[],2,FALSE)","v":8}]
[null,"Cri de Cœur",{"$f":"INDEX(Organizations[],MATCH(Main3WData15[[#This Row],[Acronym]],AcronymList,0),1)","v":"Cri de Cœur"},{"$f":"INDEX(Organizations[],MATCH(Main3WData15[[#This Row],[Acronym]],AcronymList,0),3)","v":"ONG Nat."},"EHA","Regulier","TOMBOUCTOU",{"$f":"VLOOKUP(Main3WData15[[#This Row],[Admin Unit Name]],AdminUnits[],2,FALSE)","v":"ML06"},{"$f":"VLOOKUP(Main3WData15[[#This Row],[Admin Unit Name]],AdminUnits[],3,FALSE)","v":"Nord"},{"$f":"VLOOKUP(Main3WData15[[#This Row],[Admin Unit Name]],AdminUnits[],4,FALSE)","v":6},{"$f":"VLOOKUP(Main3WData15[[#This Row],[Sector]],Sectors[],2,FALSE)","v":8}]
[null,"CR-Mali",{"$f":"INDEX(Organizations[],MATCH(Main3WData15[[#This Row],[Acronym]],AcronymList,0),1)","v":"Croix-Rouge Mali"},{"$f":"INDEX(Organizations[],MATCH(Main3WData15[[#This Row],[Acronym]],AcronymList,0),3)","v":"Mouv. Croix-rouge"},"EHA","Regulier","Segou",{"$f":"VLOOKUP(Main3WData15[[#This Row],[Admin Unit Name]],AdminUnits[],2,FALSE)","v":"ML04"},{"$f":"VLOOKUP(Main3WData15[[#This Row],[Admin Unit Name]],AdminUnits[],3,FALSE)","v":"Sud"},{"$f":"VLOOKUP(Main3WData15[[#This Row],[Admin Unit Name]],AdminUnits[],4,FALSE)","v":4},{"$f":"VLOOKUP(Main3WData15[[#This Row],[Sector]],Sectors[],2,FALSE)","v":8}]
[null,"DGPC",{"$f":"INDEX(Organizations[],MATCH(Main3WData15[[#This Row],[Acronym]],AcronymList,0),1)","v":"Direction Générale de la Protection Civile"},{"$f":"INDEX(Organizations[],MATCH(Main3WData15[[#This Row],[Acronym]],AcronymList,0),3)","v":"Gouvernement"},"EHA","Regulier","SEGOU",{"$f":"VLOOKUP(Main3WData15[[#This Row],[Admin Unit Name]],AdminUnits[],2,FALSE)","v":"ML04"},{"$f":"VLOOKUP(Main3WData15[[#This Row],[Admin Unit Name]],AdminUnits[],3,FALSE)","v":"Sud"},{"$f":"VLOOKUP(Main3WData15[[#This Row],[Admin Unit Name]],AdminUnits[],4,FALSE)","v":4},{"$f":"VLOOKUP(Main3WData15[[#This Row],[Sector]],Sectors[],2,FALSE)","v":8}]
[null,"DRS",{"$f":"INDEX(Organizations[],MATCH(Main3WData15[[#This Row],[Acronym]],AcronymList,0),1)","v":"Direction Régionale de la Santé"},{"$f":"INDEX(Organizations[],MATCH(Main3WData15[[#This Row],[Acronym]],AcronymList,0),3)","v":"Gouvernement"},"EHA","Regulier","MOPTI",{"$f":"VLOOKUP(Main3WData15[[#This Row],[Admin Unit Name]],AdminUnits[],2,FALSE)","v":"ML05"},{"$f":"VLOOKUP(Main3WData15[[#This Row],[Admin Unit Name]],AdminUnits[],3,FALSE)","v":"Sud"},{"$f":"VLOOKUP(Main3WData15[[#This Row],[Admin Unit Name]],AdminUnits[],4,FALSE)","v":5},{"$f":"VLOOKUP(Main3WData15[[#This Row],[Sector]],Sectors[],2,FALSE)","v":8}]
[null,"DRS",{"$f":"INDEX(Organizations[],MATCH(Main3WData15[[#This Row],[Acronym]],AcronymList,0),1)","v":"Direction Régionale de la Santé"},{"$f":"INDEX(Organizations[],MATCH(Main3WData15[[#This Row],[Acronym]],AcronymList,0),3)","v":"Gouvernement"},"EHA","Regulier","KAYES",{"$f":"VLOOKUP(Main3WData15[[#This Row],[Admin Unit Name]],AdminUnits[],2,FALSE)","v":"ML01"},{"$f":"VLOOKUP(Main3WData15[[#This Row],[Admin Unit Name]],AdminUnits[],3,FALSE)","v":"Sud"},{"$f":"VLOOKUP(Main3WData15[[#This Row],[Admin Unit Name]],AdminUnits[],4,FALSE)","v":1},{"$f":"VLOOKUP(Main3WData15[[#This Row],[Sector]],Sectors[],2,FALSE)","v":8}]
[null,"DRS",{"$f":"INDEX(Organizations[],MATCH(Main3WData15[[#This Row],[Acronym]],AcronymList,0),1)","v":"Direction Régionale de la Santé"},{"$f":"INDEX(Organizations[],MATCH(Main3WData15[[#This Row],[Acronym]],AcronymList,0),3)","v":"Gouvernement"},"EHA","Regulier","KOULIKORO",{"$f":"VLOOKUP(Main3WData15[[#This Row],[Admin Unit Name]],AdminUnits[],2,FALSE)","v":"ML02"},{"$f":"VLOOKUP(Main3WData15[[#This Row],[Admin Unit Name]],AdminUnits[],3,FALSE)","v":"Sud"},{"$f":"VLOOKUP(Main3WData15[[#This Row],[Admin Unit Name]],AdminUnits[],4,FALSE)","v":2},{"$f":"VLOOKUP(Main3WData15[[#This Row],[Sector]],Sectors[],2,FALSE)","v":8}]
[null,"Eau Vive",{"$f":"INDEX(Organizations[],MATCH(Main3WData15[[#This Row],[Acronym]],AcronymList,0),1)","v":"Eau Vive"},{"$f":"INDEX(Organizations[],MATCH(Main3WData15[[#This Row],[Acronym]],AcronymList,0),3)","v":"ONG Int."},"EHA","Regulier","MOPTI",{"$f":"VLOOKUP(Main3WData15[[#This Row],[Admin Unit Name]],AdminUnits[],2,FALSE)","v":"ML05"},{"$f":"VLOOKUP(Main3WData15[[#This Row],[Admin Unit Name]],AdminUnits[],3,FALSE)","v":"Sud"},{"$f":"VLOOKUP(Main3WData15[[#This Row],[Admin Unit Name]],AdminUnits[],4,FALSE)","v":5},{"$f":"VLOOKUP(Main3WData15[[#This Row],[Sector]],Sectors[],2,FALSE)","v":8}]
[null,"Handicap International",{"$f":"INDEX(Organizations[],MATCH(Main3WData15[[#This Row],[Acronym]],AcronymList,0),1)","v":{"$error":"#N/A"}},{"$f":"INDEX(Organizations[],MATCH(Main3WData15[[#This Row],[Acronym]],AcronymList,0),3)","v":{"$error":"#N/A"}},"EHA","Regulier","TOMBOUCTOU",{"$f":"VLOOKUP(Main3WData15[[#This Row],[Admin Unit Name]],AdminUnits[],2,FALSE)","v":"ML06"},{"$f":"VLOOKUP(Main3WData15[[#This Row],[Admin Unit Name]],AdminUnits[],3,FALSE)","v":"Nord"},{"$f":"VLOOKUP(Main3WData15[[#This Row],[Admin Unit Name]],AdminUnits[],4,FALSE)","v":6},{"$f":"VLOOKUP(Main3WData15[[#This Row],[Sector]],Sectors[],2,FALSE)","v":8}]
[null,"IRC",{"$f":"INDEX(Organizations[],MATCH(Main3WData15[[#This Row],[Acronym]],AcronymList,0),1)","v":"International Rescue Committee"},{"$f":"INDEX(Organizations[],MATCH(Main3WData15[[#This Row],[Acronym]],AcronymList,0),3)","v":"ONG Int."},"EHA","Regulier","GAO",{"$f":"VLOOKUP(Main3WData15[[#This Row],[Admin Unit Name]],AdminUnits[],2,FALSE)","v":"ML07"},{"$f":"VLOOKUP(Main3WData15[[#This Row],[Admin Unit Name]],AdminUnits[],3,FALSE)","v":"Nord"},{"$f":"VLOOKUP(Main3WData15[[#This Row],[Admin Unit Name]],AdminUnits[],4,FALSE)","v":7},{"$f":"VLOOKUP(Main3WData15[[#This Row],[Sector]],Sectors[],2,FALSE)","v":8}]
[null,"IRC",{"$f":"INDEX(Organizations[],MATCH(Main3WData15[[#This Row],[Acronym]],AcronymList,0),1)","v":"International Rescue Committee"},{"$f":"INDEX(Organizations[],MATCH(Main3WData15[[#This Row],[Acronym]],AcronymList,0),3)","v":"ONG Int."},"EHA","Regulier","KOULIKORO",{"$f":"VLOOKUP(Main3WData15[[#This Row],[Admin Unit Name]],AdminUnits[],2,FALSE)","v":"ML02"},{"$f":"VLOOKUP(Main3WData15[[#This Row],[Admin Unit Name]],AdminUnits[],3,FALSE)","v":"Sud"},{"$f":"VLOOKUP(Main3WData15[[#This Row],[Admin Unit Name]],AdminUnits[],4,FALSE)","v":2},{"$f":"VLOOKUP(Main3WData15[[#This Row],[Sector]],Sectors[],2,FALSE)","v":8}]
[null,"OXFAM GB",{"$f":"INDEX(Organizations[],MATCH(Main3WData15[[#This Row],[Acronym]],AcronymList,0),1)","v":"OXFAM GB"},{"$f":"INDEX(Organizations[],MATCH(Main3WData15[[#This Row],[Acronym]],AcronymList,0),3)","v":"ONG Int."},"EHA","Regulier","GAO",{"$f":"VLOOKUP(Main3WData15[[#This Row],[Admin Unit Name]],AdminUnits[],2,FALSE)","v":"ML07"},{"$f":"VLOOKUP(Main3WData15[[#This Row],[Admin Unit Name]],AdminUnits[],3,FALSE)","v":"Nord"},{"$f":"VLOOKUP(Main3WData15[[#This Row],[Admin Unit Name]],AdminUnits[],4,FALSE)","v":7},{"$f":"VLOOKUP(Main3WData15[[#This Row],[Sector]],Sectors[],2,FALSE)","v":8}]
[null,"OXFAM GB",{"$f":"INDEX(Organizations[],MATCH(Main3WData15[[#This Row],[Acronym]],AcronymList,0),1)","v":"OXFAM GB"},{"$f":"INDEX(Organizations[],MATCH(Main3WData15[[#This Row],[Acronym]],AcronymList,0),3)","v":"ONG Int."},"EHA","Regulier","KAYES",{"$f":"VLOOKUP(Main3WData15[[#This Row],[Admin Unit Name]],AdminUnits[],2,FALSE)","v":"ML01"},{"$f":"VLOOKUP(Main3WData15[[#This Row],[Admin Unit Name]],AdminUnits[],3,FALSE)","v":"Sud"},{"$f":"VLOOKUP(Main3WData15[[#This Row],[Admin Unit Name]],AdminUnits[],4,FALSE)","v":1},{"$f":"VLOOKUP(Main3WData15[[#This Row],[Sector]],Sectors[],2,FALSE)","v":8}]
[null,"Save the Children",{"$f":"INDEX(Organizations[],MATCH(Main3WData15[[#This Row],[Acronym]],AcronymList,0),1)","v":"Save the Children"},{"$f":"INDEX(Organizations[],MATCH(Main3WData15[[#This Row],[Acronym]],AcronymList,0),3)","v":"ONG Int."},"EHA","Regulier","MOPTI",{"$f":"VLOOKUP(Main3WData15[[#This Row],[Admin Unit Name]],AdminUnits[],2,FALSE)","v":"ML05"},{"$f":"VLOOKUP(Main3WData15[[#This Row],[Admin Unit Name]],AdminUnits[],3,FALSE)","v":"Sud"},{"$f":"VLOOKUP(Main3WData15[[#This Row],[Admin Unit Name]],AdminUnits[],4,FALSE)","v":5},{"$f":"VLOOKUP(Main3WData15[[#This Row],[Sector]],Sectors[],2,FALSE)","v":8}]
[null,"Solidarité internationale",{"$f":"INDEX(Organizations[],MATCH(Main3WData15[[#This Row],[Acronym]],AcronymList,0),1)","v":{"$error":"#N/A"}},{"$f":"INDEX(Organizations[],MATCH(Main3WData15[[#This Row],[Acronym]],AcronymList,0),3)","v":{"$error":"#N/A"}},"EHA","Regulier","TOMBOUCTOU",{"$f":"VLOOKUP(Main3WData15[[#This Row],[Admin Unit Name]],AdminUnits[],2,FALSE)","v":"ML06"},{"$f":"VLOOKUP(Main3WData15[[#This Row],[Admin Unit Name]],AdminUnits[],3,FALSE)","v":"Nord"},{"$f":"VLOOKUP(Main3WData15[[#This Row],[Admin Unit Name]],AdminUnits[],4,FALSE)","v":6},{"$f":"VLOOKUP(Main3WData15[[#This Row],[Sector]],Sectors[],2,FALSE)","v":8}]
[null,"Solidarité internationale",{"$f":"INDEX(Organizations[],MATCH(Main3WData15[[#This Row],[Acronym]],AcronymList,0),1)","v":{"$error":"#N/A"}},{"$f":"INDEX(Organizations[],MATCH(Main3WData15[[#This Row],[Acronym]],AcronymList,0),3)","v":{"$error":"#N/A"}},"EHA","Regulier","KOULIKORO",{"$f":"VLOOKUP(Main3WData15[[#This Row],[Admin Unit Name]],AdminUnits[],2,FALSE)","v":"ML02"},{"$f":"VLOOKUP(Main3WData15[[#This Row],[Admin Unit Name]],AdminUnits[],3,FALSE)","v":"Sud"},{"$f":"VLOOKUP(Main3WData15[[#This Row],[Admin Unit Name]],AdminUnits[],4,FALSE)","v":2},{"$f":"VLOOKUP(Main3WData15[[#This Row],[Sector]],Sectors[],2,FALSE)","v":8}]
[null,"Solidarité internationale",{"$f":"INDEX(Organizations[],MATCH(Main3WData15[[#This Row],[Acronym]],AcronymList,0),1)","v":{"$error":"#N/A"}},{"$f":"INDEX(Organizations[],MATCH(Main3WData15[[#This Row],[Acronym]],AcronymList,0),3)","v":{"$error":"#N/A"}},"EHA","Regulier","KIDAL",{"$f":"VLOOKUP(Main3WData15[[#This Row],[Admin Unit Name]],AdminUnits[],2,FALSE)","v":"ML08"},{"$f":"VLOOKUP(Main3WData15[[#This Row],[Admin Unit Name]],AdminUnits[],3,FALSE)","v":"Nord"},{"$f":"VLOOKUP(Main3WData15[[#This Row],[Admin Unit Name]],AdminUnits[],4,FALSE)","v":8},{"$f":"VLOOKUP(Main3WData15[[#This Row],[Sector]],Sectors[],2,FALSE)","v":8}]
[null,"Solidarité internationale",{"$f":"INDEX(Organizations[],MATCH(Main3WData15[[#This Row],[Acronym]],AcronymList,0),1)","v":{"$error":"#N/A"}},{"$f":"INDEX(Organizations[],MATCH(Main3WData15[[#This Row],[Acronym]],AcronymList,0),3)","v":{"$error":"#N/A"}},"EHA","Regulier","GAO",{"$f":"VLOOKUP(Main3WData15[[#This Row],[Admin Unit Name]],AdminUnits[],2,FALSE)","v":"ML07"},{"$f":"VLOOKUP(Main3WData15[[#This Row],[Admin Unit Name]],AdminUnits[],3,FALSE)","v":"Nord"},{"$f":"VLOOKUP(Main3WData15[[#This Row],[Admin Unit Name]],AdminUnits[],4,FALSE)","v":7},{"$f":"VLOOKUP(Main3WData15[[#This Row],[Sector]],Sectors[],2,FALSE)","v":8}]
[null,"Solidarité internationale",{"$f":"INDEX(Organizations[],MATCH(Main3WData15[[#This Row],[Acronym]],AcronymList,0),1)","v":{"$error":"#N/A"}},{"$f":"INDEX(Organizations[],MATCH(Main3WData15[[#This Row],[Acronym]],AcronymList,0),3)","v":{"$error":"#N/A"}},"EHA","Regulier","MOPTI",{"$f":"VLOOKUP(Main3WData15[[#This Row],[Admin Unit Name]],AdminUnits[],2,FALSE)","v":"ML05"},{"$f":"VLOOKUP(Main3WData15[[#This Row],[Admin Unit Name]],AdminUnits[],3,FALSE)","v":"Sud"},{"$f":"VLOOKUP(Main3WData15[[#This Row],[Admin Unit Name]],AdminUnits[],4,FALSE)","v":5},{"$f":"VLOOKUP(Main3WData15[[#This Row],[Sector]],Sectors[],2,FALSE)","v":8}]
[null,"Terre des Hommes Lausanne",{"$f":"INDEX(Organizations[],MATCH(Main3WData15[[#This Row],[Acronym]],AcronymList,0),1)","v":{"$error":"#N/A"}},{"$f":"INDEX(Organizations[],MATCH(Main3WData15[[#This Row],[Acronym]],AcronymList,0),3)","v":{"$error":"#N/A"}},"EHA","Regulier","SEGOU",{"$f":"VLOOKUP(Main3WData15[[#This Row],[Admin Unit Name]],AdminUnits[],2,FALSE)","v":"ML04"},{"$f":"VLOOKUP(Main3WData15[[#This Row],[Admin Unit Name]],AdminUnits[],3,FALSE)","v":"Sud"},{"$f":"VLOOKUP(Main3WData15[[#This Row],[Admin Unit Name]],AdminUnits[],4,FALSE)","v":4},{"$f":"VLOOKUP(Main3WData15[[#This Row],[Sector]],Sectors[],2,FALSE)","v":8}]
[null,"UNICEF",{"$f":"INDEX(Organizations[],MATCH(Main3WData15[[#This Row],[Acronym]],AcronymList,0),1)","v":"Fonds des Nations Unies pour l'Enfance"},{"$f":"INDEX(Organizations[],MATCH(Main3WData15[[#This Row],[Acronym]],AcronymList,0),3)","v":"UN"},"EHA","Regulier","SIKASSO",{"$f":"VLOOKUP(Main3WData15[[#This Row],[Admin Unit Name]],AdminUnits[],2,FALSE)","v":"ML03"},{"$f":"VLOOKUP(Main3WData15[[#This Row],[Admin Unit Name]],AdminUnits[],3,FALSE)","v":"Sud"},{"$f":"VLOOKUP(Main3WData15[[#This Row],[Admin Unit Name]],AdminUnits[],4,FALSE)","v":3},{"$f":"VLOOKUP(Main3WData15[[#This Row],[Sector]],Sectors[],2,FALSE)","v":8}]
[null,"UNICEF",{"$f":"INDEX(Organizations[],MATCH(Main3WData15[[#This Row],[Acronym]],AcronymList,0),1)","v":"Fonds des Nations Unies pour l'Enfance"},{"$f":"INDEX(Organizations[],MATCH(Main3WData15[[#This Row],[Acronym]],AcronymList,0),3)","v":"UN"},"EHA","Regulier","TOMBOUCTOU",{"$f":"VLOOKUP(Main3WData15[[#This Row],[Admin Unit Name]],AdminUnits[],2,FALSE)","v":"ML06"},{"$f":"VLOOKUP(Main3WData15[[#This Row],[Admin Unit Name]],AdminUnits[],3,FALSE)","v":"Nord"},{"$f":"VLOOKUP(Main3WData15[[#This Row],[Admin Unit Name]],AdminUnits[],4,FALSE)","v":6},{"$f":"VLOOKUP(Main3WData15[[#This Row],[Sector]],Sectors[],2,FALSE)","v":8}]
[null,"UNICEF",{"$f":"INDEX(Organizations[],MATCH(Main3WData15[[#This Row],[Acronym]],AcronymList,0),1)","v":"Fonds des Nations Unies pour l'Enfance"},{"$f":"INDEX(Organizations[],MATCH(Main3WData15[[#This Row],[Acronym]],AcronymList,0),3)","v":"UN"},"EHA","Regulier","BAMAKO",{"$f":"VLOOKUP(Main3WData15[[#This Row],[Admin Unit Name]],AdminUnits[],2,FALSE)","v":"ML09"},{"$f":"VLOOKUP(Main3WData15[[#This Row],[Admin Unit Name]],AdminUnits[],3,FALSE)","v":"Sud"},{"$f":"VLOOKUP(Main3WData15[[#This Row],[Admin Unit Name]],AdminUnits[],4,FALSE)","v":0},{"$f":"VLOOKUP(Main3WData15[[#This Row],[Sector]],Sectors[],2,FALSE)","v":8}]
[null,"UNICEF",{"$f":"INDEX(Organizations[],MATCH(Main3WData15[[#This Row],[Acronym]],AcronymList,0),1)","v":"Fonds des Nations Unies pour l'Enfance"},{"$f":"INDEX(Organizations[],MATCH(Main3WData15[[#This Row],[Acronym]],AcronymList,0),3)","v":"UN"},"EHA","Regulier","KOULIKORO",{"$f":"VLOOKUP(Main3WData15[[#This Row],[Admin Unit Name]],AdminUnits[],2,FALSE)","v":"ML02"},{"$f":"VLOOKUP(Main3WData15[[#This Row],[Admin Unit Name]],AdminUnits[],3,FALSE)","v":"Sud"},{"$f":"VLOOKUP(Main3WData15[[#This Row],[Admin Unit Name]],AdminUnits[],4,FALSE)","v":2},{"$f":"VLOOKUP(Main3WData15[[#This Row],[Sector]],Sectors[],2,FALSE)","v":8}]
[null,"UNICEF",{"$f":"INDEX(Organizations[],MATCH(Main3WData15[[#This Row],[Acronym]],AcronymList,0),1)","v":"Fonds des Nations Unies pour l'Enfance"},{"$f":"INDEX(Organizations[],MATCH(Main3WData15[[#This Row],[Acronym]],AcronymList,0),3)","v":"UN"},"EHA","Regulier","Kayes",{"$f":"VLOOKUP(Main3WData15[[#This Row],[Admin Unit Name]],AdminUnits[],2,FALSE)","v":"ML01"},{"$f":"VLOOKUP(Main3WData15[[#This Row],[Admin Unit Name]],AdminUnits[],3,FALSE)","v":"Sud"},{"$f":"VLOOKUP(Main3WData15[[#This Row],[Admin Unit Name]],AdminUnits[],4,FALSE)","v":1},{"$f":"VLOOKUP(Main3WData15[[#This Row],[Sector]],Sectors[],2,FALSE)","v":8}]
[null,"UNICEF",{"$f":"INDEX(Organizations[],MATCH(Main3WData15[[#This Row],[Acronym]],AcronymList,0),1)","v":"Fonds des Nations Unies pour l'Enfance"},{"$f":"INDEX(Organizations[],MATCH(Main3WData15[[#This Row],[Acronym]],AcronymList,0),3)","v":"UN"},"EHA","Regulier","GAO",{"$f":"VLOOKUP(Main3WData15[[#This Row],[Admin Unit Name]],AdminUnits[],2,FALSE)","v":"ML07"},{"$f":"VLOOKUP(Main3WData15[[#This Row],[Admin Unit Name]],AdminUnits[],3,FALSE)","v":"Nord"},{"$f":"VLOOKUP(Main3WData15[[#This Row],[Admin Unit Name]],AdminUnits[],4,FALSE)","v":7},{"$f":"VLOOKUP(Main3WData15[[#This Row],[Sector]],Sectors[],2,FALSE)","v":8}]
[null,"UNICEF",{"$f":"INDEX(Organizations[],MATCH(Main3WData15[[#This Row],[Acronym]],AcronymList,0),1)","v":"Fonds des Nations Unies pour l'Enfance"},{"$f":"INDEX(Organizations[],MATCH(Main3WData15[[#This Row],[Acronym]],AcronymList,0),3)","v":"UN"},"EHA","Regulier","KIDAL",{"$f":"VLOOKUP(Main3WData15[[#This Row],[Admin Unit Name]],AdminUnits[],2,FALSE)","v":"ML08"},{"$f":"VLOOKUP(Main3WData15[[#This Row],[Admin Unit Name]],AdminUnits[],3,FALSE)","v":"Nord"},{"$f":"VLOOKUP(Main3WData15[[#This Row],[Admin Unit Name]],AdminUnits[],4,FALSE)","v":8},{"$f":"VLOOKUP(Main3WData15[[#This Row],[Sector]],Sectors[],2,FALSE)","v":8}]
[null,"UNICEF",{"$f":"INDEX(Organizations[],MATCH(Main3WData15[[#This Row],[Acronym]],AcronymList,0),1)","v":"Fonds des Nations Unies pour l'Enfance"},{"$f":"INDEX(Organizations[],MATCH(Main3WData15[[#This Row],[Acronym]],AcronymList,0),3)","v":"UN"},"EHA","Regulier","SEGOU",{"$f":"VLOOKUP(Main3WData15[[#This Row],[Admin Unit Name]],AdminUnits[],2,FALSE)","v":"ML04"},{"$f":"VLOOKUP(Main3WData15[[#This Row],[Admin Unit Name]],AdminUnits[],3,FALSE)","v":"Sud"},{"$f":"VLOOKUP(Main3WData15[[#This Row],[Admin Unit Name]],AdminUnits[],4,FALSE)","v":4},{"$f":"VLOOKUP(Main3WData15[[#This Row],[Sector]],Sectors[],2,FALSE)","v":8}]
[null,"UNICEF",{"$f":"INDEX(Organizations[],MATCH(Main3WData15[[#This Row],[Acronym]],AcronymList,0),1)","v":"Fonds des Nations Unies pour l'Enfance"},{"$f":"INDEX(Organizations[],MATCH(Main3WData15[[#This Row],[Acronym]],AcronymList,0),3)","v":"UN"},"EHA","Regulier","MOPTI",{"$f":"VLOOKUP(Main3WData15[[#This Row],[Admin Unit Name]],AdminUnits[],2,FALSE)","v":"ML05"},{"$f":"VLOOKUP(Main3WData15[[#This Row],[Admin Unit Name]],AdminUnits[],3,FALSE)","v":"Sud"},{"$f":"VLOOKUP(Main3WData15[[#This Row],[Admin Unit Name]],AdminUnits[],4,FALSE)","v":5},{"$f":"VLOOKUP(Main3WData15[[#This Row],[Sector]],Sectors[],2,FALSE)","v":8}]
[null,"YA-G-TU",{"$f":"INDEX(Organizations[],MATCH(Main3WData15[[#This Row],[Acronym]],AcronymList,0),1)","v":"YA-G-TU"},{"$f":"INDEX(Organizations[],MATCH(Main3WData15[[#This Row],[Acronym]],AcronymList,0),3)","v":"ONG Nat."},"EHA","Regulier","Mopti",{"$f":"VLOOKUP(Main3WData15[[#This Row],[Admin Unit Name]],AdminUnits[],2,FALSE)","v":"ML05"},{"$f":"VLOOKUP(Main3WData15[[#This Row],[Admin Unit Name]],AdminUnits[],3,FALSE)","v":"Sud"},{"$f":"VLOOKUP(Main3WData15[[#This Row],[Admin Unit Name]],AdminUnits[],4,FALSE)","v":5},{"$f":"VLOOKUP(Main3WData15[[#This Row],[Sector]],Sectors[],2,FALSE)","v":8}]
[null,"PAM",{"$f":"INDEX(Organizations[],MATCH(Main3WData15[[#This Row],[Acronym]],AcronymList,0),1)","v":"Programme Alimentaire Mondial"},{"$f":"INDEX(Organizations[],MATCH(Main3WData15[[#This Row],[Acronym]],AcronymList,0),3)","v":"UN"},"Logistique","Regulier","Mopti",{"$f":"VLOOKUP(Main3WData15[[#This Row],[Admin Unit Name]],AdminUnits[],2,FALSE)","v":"ML05"},{"$f":"VLOOKUP(Main3WData15[[#This Row],[Admin Unit Name]],AdminUnits[],3,FALSE)","v":"Sud"},{"$f":"VLOOKUP(Main3WData15[[#This Row],[Admin Unit Name]],AdminUnits[],4,FALSE)","v":5},{"$f":"VLOOKUP(Main3WData15[[#This Row],[Sector]],Sectors[],2,FALSE)","v":{"$error":"#N/A"}}]
[null,"PAM",{"$f":"INDEX(Organizations[],MATCH(Main3WData15[[#This Row],[Acronym]],AcronymList,0),1)","v":"Programme Alimentaire Mondial"},{"$f":"INDEX(Organizations[],MATCH(Main3WData15[[#This Row],[Acronym]],AcronymList,0),3)","v":"UN"},"Logistique","Regulier","Bamako",{"$f":"VLOOKUP(Main3WData15[[#This Row],[Admin Unit Name]],AdminUnits[],2,FALSE)","v":"ML09"},{"$f":"VLOOKUP(Main3WData15[[#This Row],[Admin Unit Name]],AdminUnits[],3,FALSE)","v":"Sud"},{"$f":"VLOOKUP(Main3WData15[[#This Row],[Admin Unit Name]],AdminUnits[],4,FALSE)","v":0},{"$f":"VLOOKUP(Main3WData15[[#This Row],[Sector]],Sectors[],2,FALSE)","v":{"$error":"#N/A"}}]
[null,"ACTED",{"$f":"INDEX(Organizations[],MATCH(Main3WData15[[#This Row],[Acronym]],AcronymList,0),1)","v":"Agence d'aide à la coopération technique et au développement"},{"$f":"INDEX(Organizations[],MATCH(Main3WData15[[#This Row],[Acronym]],AcronymList,0),3)","v":"ONG Int."},"Protection","Regulier","Bamako",{"$f":"VLOOKUP(Main3WData15[[#This Row],[Admin Unit Name]],AdminUnits[],2,FALSE)","v":"ML09"},{"$f":"VLOOKUP(Main3WData15[[#This Row],[Admin Unit Name]],AdminUnits[],3,FALSE)","v":"Sud"},{"$f":"VLOOKUP(Main3WData15[[#This Row],[Admin Unit Name]],AdminUnits[],4,FALSE)","v":0},{"$f":"VLOOKUP(Main3WData15[[#This Row],[Sector]],Sectors[],2,FALSE)","v":5}]
[null,"ACTED",{"$f":"INDEX(Organizations[],MATCH(Main3WData15[[#This Row],[Acronym]],AcronymList,0),1)","v":"Agence d'aide à la coopération technique et au développement"},{"$f":"INDEX(Organizations[],MATCH(Main3WData15[[#This Row],[Acronym]],AcronymList,0),3)","v":"ONG Int."},"Protection","Regulier","Koulikoro",{"$f":"VLOOKUP(Main3WData15[[#This Row],[Admin Unit Name]],AdminUnits[],2,FALSE)","v":"ML02"},{"$f":"VLOOKUP(Main3WData15[[#This Row],[Admin Unit Name]],AdminUnits[],3,FALSE)","v":"Sud"},{"$f":"VLOOKUP(Main3WData15[[#This Row],[Admin Unit Name]],AdminUnits[],4,FALSE)","v":2},{"$f":"VLOOKUP(Main3WData15[[#This Row],[Sector]],Sectors[],2,FALSE)","v":5}]
[null,"AJDM",{"$f":"INDEX(Organizations[],MATCH(Main3WData15[[#This Row],[Acronym]],AcronymList,0),1)","v":"AJDM"},{"$f":"INDEX(Organizations[],MATCH(Main3WData15[[#This Row],[Acronym]],AcronymList,0),3)","v":"Association"},"Protection","Regulier","Bamako",{"$f":"VLOOKUP(Main3WData15[[#This Row],[Admin Unit Name]],AdminUnits[],2,FALSE)","v":"ML09"},{"$f":"VLOOKUP(Main3WData15[[#This Row],[Admin Unit Name]],AdminUnits[],3,FALSE)","v":"Sud"},{"$f":"VLOOKUP(Main3WData15[[#This Row],[Admin Unit Name]],AdminUnits[],4,FALSE)","v":0},{"$f":"VLOOKUP(Main3WData15[[#This Row],[Sector]],Sectors[],2,FALSE)","v":5}]
[null,"AMSS",{"$f":"INDEX(Organizations[],MATCH(Main3WData15[[#This Row],[Acronym]],AcronymList,0),1)","v":"Association Malienne pour la Survie au Sahel"},{"$f":"INDEX(Organizations[],MATCH(Main3WData15[[#This Row],[Acronym]],AcronymList,0),3)","v":"ONG Nat."},"Protection","Regulier","Tombouctou",{"$f":"VLOOKUP(Main3WData15[[#This Row],[Admin Unit Name]],AdminUnits[],2,FALSE)","v":"ML06"},{"$f":"VLOOKUP(Main3WData15[[#This Row],[Admin Unit Name]],AdminUnits[],3,FALSE)","v":"Nord"},{"$f":"VLOOKUP(Main3WData15[[#This Row],[Admin Unit Name]],AdminUnits[],4,FALSE)","v":6},{"$f":"VLOOKUP(Main3WData15[[#This Row],[Sector]],Sectors[],2,FALSE)","v":5}]
[null,"ASSADEC",{"$f":"INDEX(Organizations[],MATCH(Main3WData15[[#This Row],[Acronym]],AcronymList,0),1)","v":{"$error":"#N/A"}},{"$f":"INDEX(Organizations[],MATCH(Main3WData15[[#This Row],[Acronym]],AcronymList,0),3)","v":{"$error":"#N/A"}},"Protection","Regulier","Kidal",{"$f":"VLOOKUP(Main3WData15[[#This Row],[Admin Unit Name]],AdminUnits[],2,FALSE)","v":"ML08"},{"$f":"VLOOKUP(Main3WData15[[#This Row],[Admin Unit Name]],AdminUnits[],3,FALSE)","v":"Nord"},{"$f":"VLOOKUP(Main3WData15[[#This Row],[Admin Unit Name]],AdminUnits[],4,FALSE)","v":8},{"$f":"VLOOKUP(Main3WData15[[#This Row],[Sector]],Sectors[],2,FALSE)","v":5}]
[null,"Caritas Mopti",{"$f":"INDEX(Organizations[],MATCH(Main3WData15[[#This Row],[Acronym]],AcronymList,0),1)","v":"Caritas Mopti"},{"$f":"INDEX(Organizations[],MATCH(Main3WData15[[#This Row],[Acronym]],AcronymList,0),3)","v":"ONG Int."},"Protection","Regulier","Mopti",{"$f":"VLOOKUP(Main3WData15[[#This Row],[Admin Unit Name]],AdminUnits[],2,FALSE)","v":"ML05"},{"$f":"VLOOKUP(Main3WData15[[#This Row],[Admin Unit Name]],AdminUnits[],3,FALSE)","v":"Sud"},{"$f":"VLOOKUP(Main3WData15[[#This Row],[Admin Unit Name]],AdminUnits[],4,FALSE)","v":5},{"$f":"VLOOKUP(Main3WData15[[#This Row],[Sector]],Sectors[],2,FALSE)","v":5}]
[null,"Caritas Segou",{"$f":"INDEX(Organizations[],MATCH(Main3WData15[[#This Row],[Acronym]],AcronymList,0),1)","v":"Caritas Segou"},{"$f":"INDEX(Organizations[],MATCH(Main3WData15[[#This Row],[Acronym]],AcronymList,0),3)","v":"ONG Int."},"Protection","Regulier","Segou",{"$f":"VLOOKUP(Main3WData15[[#This Row],[Admin Unit Name]],AdminUnits[],2,FALSE)","v":"ML04"},{"$f":"VLOOKUP(Main3WData15[[#This Row],[Admin Unit Name]],AdminUnits[],3,FALSE)","v":"Sud"},{"$f":"VLOOKUP(Main3WData15[[#This Row],[Admin Unit Name]],AdminUnits[],4,FALSE)","v":4},{"$f":"VLOOKUP(Main3WData15[[#This Row],[Sector]],Sectors[],2,FALSE)","v":5}]
[null,"DRC",{"$f":"INDEX(Organizations[],MATCH(Main3WData15[[#This Row],[Acronym]],AcronymList,0),1)","v":"Danish Refugee Council"},{"$f":"INDEX(Organizations[],MATCH(Main3WData15[[#This Row],[Acronym]],AcronymList,0),3)","v":"ONG Int."},"Protection","Regulier","Mopti",{"$f":"VLOOKUP(Main3WData15[[#This Row],[Admin Unit Name]],AdminUnits[],2,FALSE)","v":"ML05"},{"$f":"VLOOKUP(Main3WData15[[#This Row],[Admin Unit Name]],AdminUnits[],3,FALSE)","v":"Sud"},{"$f":"VLOOKUP(Main3WData15[[#This Row],[Admin Unit Name]],AdminUnits[],4,FALSE)","v":5},{"$f":"VLOOKUP(Main3WData15[[#This Row],[Sector]],Sectors[],2,FALSE)","v":5}]
[null,"GREFFA",{"$f":"INDEX(Organizations[],MATCH(Main3WData15[[#This Row],[Acronym]],AcronymList,0),1)","v":"GREFFA"},{"$f":"INDEX(Organizations[],MATCH(Main3WData15[[#This Row],[Acronym]],AcronymList,0),3)","v":"ONG Nat."},"Protection","Regulier","Gao",{"$f":"VLOOKUP(Main3WData15[[#This Row],[Admin Unit Name]],AdminUnits[],2,FALSE)","v":"ML07"},{"$f":"VLOOKUP(Main3WData15[[#This Row],[Admin Unit Name]],AdminUnits[],3,FALSE)","v":"Nord"},{"$f":"VLOOKUP(Main3WData15[[#This Row],[Admin Unit Name]],AdminUnits[],4,FALSE)","v":7},{"$f":"VLOOKUP(Main3WData15[[#This Row],[Sector]],Sectors[],2,FALSE)","v":5}]
[null,"GREFFA",{"$f":"INDEX(Organizations[],MATCH(Main3WData15[[#This Row],[Acronym]],AcronymList,0),1)","v":"GREFFA"},{"$f":"INDEX(Organizations[],MATCH(Main3WData15[[#This Row],[Acronym]],AcronymList,0),3)","v":"ONG Nat."},"Protection","Regulier","Kidal",{"$f":"VLOOKUP(Main3WData15[[#This Row],[Admin Unit Name]],AdminUnits[],2,FALSE)","v":"ML08"},{"$f":"VLOOKUP(Main3WData15[[#This Row],[Admin Unit Name]],AdminUnits[],3,FALSE)","v":"Nord"},{"$f":"VLOOKUP(Main3WData15[[#This Row],[Admin Unit Name]],AdminUnits[],4,FALSE)","v":8},{"$f":"VLOOKUP(Main3WData15[[#This Row],[Sector]],Sectors[],2,FALSE)","v":5}]
[null,"GREFFA",{"$f":"INDEX(Organizations[],MATCH(Main3WData15[[#This Row],[Acronym]],AcronymList,0),1)","v":"GREFFA"},{"$f":"INDEX(Organizations[],MATCH(Main3WData15[[#This Row],[Acronym]],AcronymList,0),3)","v":"ONG Nat."},"Protection","Regulier","Segou",{"$f":"VLOOKUP(Main3WData15[[#This Row],[Admin Unit Name]],AdminUnits[],2,FALSE)","v":"ML04"},{"$f":"VLOOKUP(Main3WData15[[#This Row],[Admin Unit Name]],AdminUnits[],3,FALSE)","v":"Sud"},{"$f":"VLOOKUP(Main3WData15[[#This Row],[Admin Unit Name]],AdminUnits[],4,FALSE)","v":4},{"$f":"VLOOKUP(Main3WData15[[#This Row],[Sector]],Sectors[],2,FALSE)","v":5}]
[null,"GREFFA",{"$f":"INDEX(Organizations[],MATCH(Main3WData15[[#This Row],[Acronym]],AcronymList,0),1)","v":"GREFFA"},{"$f":"INDEX(Organizations[],MATCH(Main3WData15[[#This Row],[Acronym]],AcronymList,0),3)","v":"ONG Nat."},"Protection","Regulier","Tombouctou",{"$f":"VLOOKUP(Main3WData15[[#This Row],[Admin Unit Name]],AdminUnits[],2,FALSE)","v":"ML06"},{"$f":"VLOOKUP(Main3WData15[[#This Row],[Admin Unit Name]],AdminUnits[],3,FALSE)","v":"Nord"},{"$f":"VLOOKUP(Main3WData15[[#This Row],[Admin Unit Name]],AdminUnits[],4,FALSE)","v":6},{"$f":"VLOOKUP(Main3WData15[[#This Row],[Sector]],Sectors[],2,FALSE)","v":5}]
[null,"Handicap International",{"$f":"INDEX(Organizations[],MATCH(Main3WData15[[#This Row],[Acronym]],AcronymList,0),1)","v":{"$error":"#N/A"}},{"$f":"INDEX(Organizations[],MATCH(Main3WData15[[#This Row],[Acronym]],AcronymList,0),3)","v":{"$error":"#N/A"}},"Protection","Regulier","Mopti",{"$f":"VLOOKUP(Main3WData15[[#This Row],[Admin Unit Name]],AdminUnits[],2,FALSE)","v":"ML05"},{"$f":"VLOOKUP(Main3WData15[[#This Row],[Admin Unit Name]],AdminUnits[],3,FALSE)","v":"Sud"},{"$f":"VLOOKUP(Main3WData15[[#This Row],[Admin Unit Name]],AdminUnits[],4,FALSE)","v":5},{"$f":"VLOOKUP(Main3WData15[[#This Row],[Sector]],Sectors[],2,FALSE)","v":5}]
[null,"Handicap International",{"$f":"INDEX(Organizations[],MATCH(Main3WData15[[#This Row],[Acronym]],AcronymList,0),1)","v":{"$error":"#N/A"}},{"$f":"INDEX(Organizations[],MATCH(Main3WData15[[#This Row],[Acronym]],AcronymList,0),3)","v":{"$error":"#N/A"}},"Protection","Regulier","Tombouctou",{"$f":"VLOOKUP(Main3WData15[[#This Row],[Admin Unit Name]],AdminUnits[],2,FALSE)","v":"ML06"},{"$f":"VLOOKUP(Main3WData15[[#This Row],[Admin Unit Name]],AdminUnits[],3,FALSE)","v":"Nord"},{"$f":"VLOOKUP(Main3WData15[[#This Row],[Admin Unit Name]],AdminUnits[],4,FALSE)","v":6},{"$f":"VLOOKUP(Main3WData15[[#This Row],[Sector]],Sectors[],2,FALSE)","v":5}]
[null,"IEDA Relief",{"$f":"INDEX(Organizations[],MATCH(Main3WData15[[#This Row],[Acronym]],AcronymList,0),1)","v":"International Emergency and Development Aid Relief"},{"$f":"INDEX(Organizations[],MATCH(Main3WData15[[#This Row],[Acronym]],AcronymList,0),3)","v":"ONG Int."},"Protection","Regulier","Segou",{"$f":"VLOOKUP(Main3WData15[[#This Row],[Admin Unit Name]],AdminUnits[],2,FALSE)","v":"ML04"},{"$f":"VLOOKUP(Main3WData15[[#This Row],[Admin Unit Name]],AdminUnits[],3,FALSE)","v":"Sud"},{"$f":"VLOOKUP(Main3WData15[[#This Row],[Admin Unit Name]],AdminUnits[],4,FALSE)","v":4},{"$f":"VLOOKUP(Main3WData15[[#This Row],[Sector]],Sectors[],2,FALSE)","v":5}]
[null,"IEDA Relief",{"$f":"INDEX(Organizations[],MATCH(Main3WData15[[#This Row],[Acronym]],AcronymList,0),1)","v":"International Emergency and Development Aid Relief"},{"$f":"INDEX(Organizations[],MATCH(Main3WData15[[#This Row],[Acronym]],AcronymList,0),3)","v":"ONG Int."},"Protection","Regulier","Gao",{"$f":"VLOOKUP(Main3WData15[[#This Row],[Admin Unit Name]],AdminUnits[],2,FALSE)","v":"ML07"},{"$f":"VLOOKUP(Main3WData15[[#This Row],[Admin Unit Name]],AdminUnits[],3,FALSE)","v":"Nord"},{"$f":"VLOOKUP(Main3WData15[[#This Row],[Admin Unit Name]],AdminUnits[],4,FALSE)","v":7},{"$f":"VLOOKUP(Main3WData15[[#This Row],[Sector]],Sectors[],2,FALSE)","v":5}]
[null,"IEDA Relief",{"$f":"INDEX(Organizations[],MATCH(Main3WData15[[#This Row],[Acronym]],AcronymList,0),1)","v":"International Emergency and Development Aid Relief"},{"$f":"INDEX(Organizations[],MATCH(Main3WData15[[#This Row],[Acronym]],AcronymList,0),3)","v":"ONG Int."},"Protection","Regulier","Tombouctou",{"$f":"VLOOKUP(Main3WData15[[#This Row],[Admin Unit Name]],AdminUnits[],2,FALSE)","v":"ML06"},{"$f":"VLOOKUP(Main3WData15[[#This Row],[Admin Unit Name]],AdminUnits[],3,FALSE)","v":"Nord"},{"$f":"VLOOKUP(Main3WData15[[#This Row],[Admin Unit Name]],AdminUnits[],4,FALSE)","v":6},{"$f":"VLOOKUP(Main3WData15[[#This Row],[Sector]],Sectors[],2,FALSE)","v":5}]
[null,"Intersos",{"$f":"INDEX(Organizations[],MATCH(Main3WData15[[#This Row],[Acronym]],AcronymList,0),1)","v":"Intersos"},{"$f":"INDEX(Organizations[],MATCH(Main3WData15[[#This Row],[Acronym]],AcronymList,0),3)","v":"ONG Int."},"Protection","Regulier","Mopti",{"$f":"VLOOKUP(Main3WData15[[#This Row],[Admin Unit Name]],AdminUnits[],2,FALSE)","v":"ML05"},{"$f":"VLOOKUP(Main3WData15[[#This Row],[Admin Unit Name]],AdminUnits[],3,FALSE)","v":"Sud"},{"$f":"VLOOKUP(Main3WData15[[#This Row],[Admin Unit Name]],AdminUnits[],4,FALSE)","v":5},{"$f":"VLOOKUP(Main3WData15[[#This Row],[Sector]],Sectors[],2,FALSE)","v":5}]
[null,"Intersos",{"$f":"INDEX(Organizations[],MATCH(Main3WData15[[#This Row],[Acronym]],AcronymList,0),1)","v":"Intersos"},{"$f":"INDEX(Organizations[],MATCH(Main3WData15[[#This Row],[Acronym]],AcronymList,0),3)","v":"ONG Int."},"Protection","Regulier","Bamako",{"$f":"VLOOKUP(Main3WData15[[#This Row],[Admin Unit Name]],AdminUnits[],2,FALSE)","v":"ML09"},{"$f":"VLOOKUP(Main3WData15[[#This Row],[Admin Unit Name]],AdminUnits[],3,FALSE)","v":"Sud"},{"$f":"VLOOKUP(Main3WData15[[#This Row],[Admin Unit Name]],AdminUnits[],4,FALSE)","v":0},{"$f":"VLOOKUP(Main3WData15[[#This Row],[Sector]],Sectors[],2,FALSE)","v":5}]
[null,"IRC",{"$f":"INDEX(Organizations[],MATCH(Main3WData15[[#This Row],[Acronym]],AcronymList,0),1)","v":"International Rescue Committee"},{"$f":"INDEX(Organizations[],MATCH(Main3WData15[[#This Row],[Acronym]],AcronymList,0),3)","v":"ONG Int."},"Protection","Regulier","Koulikoro",{"$f":"VLOOKUP(Main3WData15[[#This Row],[Admin Unit Name]],AdminUnits[],2,FALSE)","v":"ML02"},{"$f":"VLOOKUP(Main3WData15[[#This Row],[Admin Unit Name]],AdminUnits[],3,FALSE)","v":"Sud"},{"$f":"VLOOKUP(Main3WData15[[#This Row],[Admin Unit Name]],AdminUnits[],4,FALSE)","v":2},{"$f":"VLOOKUP(Main3WData15[[#This Row],[Sector]],Sectors[],2,FALSE)","v":5}]
[null,"IRC",{"$f":"INDEX(Organizations[],MATCH(Main3WData15[[#This Row],[Acronym]],AcronymList,0),1)","v":"International Rescue Committee"},{"$f":"INDEX(Organizations[],MATCH(Main3WData15[[#This Row],[Acronym]],AcronymList,0),3)","v":"ONG Int."},"Protection","Regulier","Gao",{"$f":"VLOOKUP(Main3WData15[[#This Row],[Admin Unit Name]],AdminUnits[],2,FALSE)","v":"ML07"},{"$f":"VLOOKUP(Main3WData15[[#This Row],[Admin Unit Name]],AdminUnits[],3,FALSE)","v":"Nord"},{"$f":"VLOOKUP(Main3WData15[[#This Row],[Admin Unit Name]],AdminUnits[],4,FALSE)","v":7},{"$f":"VLOOKUP(Main3WData15[[#This Row],[Sector]],Sectors[],2,FALSE)","v":5}]
[null,"IRC",{"$f":"INDEX(Organizations[],MATCH(Main3WData15[[#This Row],[Acronym]],AcronymList,0),1)","v":"International Rescue Committee"},{"$f":"INDEX(Organizations[],MATCH(Main3WData15[[#This Row],[Acronym]],AcronymList,0),3)","v":"ONG Int."},"Protection","Regulier","Mopti",{"$f":"VLOOKUP(Main3WData15[[#This Row],[Admin Unit Name]],AdminUnits[],2,FALSE)","v":"ML05"},{"$f":"VLOOKUP(Main3WData15[[#This Row],[Admin Unit Name]],AdminUnits[],3,FALSE)","v":"Sud"},{"$f":"VLOOKUP(Main3WData15[[#This Row],[Admin Unit Name]],AdminUnits[],4,FALSE)","v":5},{"$f":"VLOOKUP(Main3WData15[[#This Row],[Sector]],Sectors[],2,FALSE)","v":5}]
[null,"IRC",{"$f":"INDEX(Organizations[],MATCH(Main3WData15[[#This Row],[Acronym]],AcronymList,0),1)","v":"International Rescue Committee"},{"$f":"INDEX(Organizations[],MATCH(Main3WData15[[#This Row],[Acronym]],AcronymList,0),3)","v":"ONG Int."},"Protection","Regulier","Mopti",{"$f":"VLOOKUP(Main3WData15[[#This Row],[Admin Unit Name]],AdminUnits[],2,FALSE)","v":"ML05"},{"$f":"VLOOKUP(Main3WData15[[#This Row],[Admin Unit Name]],AdminUnits[],3,FALSE)","v":"Sud"},{"$f":"VLOOKUP(Main3WData15[[#This Row],[Admin Unit Name]],AdminUnits[],4,FALSE)","v":5},{"$f":"VLOOKUP(Main3WData15[[#This Row],[Sector]],Sectors[],2,FALSE)","v":5}]
[null,"Mines Advisory Group",{"$f":"INDEX(Organizations[],MATCH(Main3WData15[[#This Row],[Acronym]],AcronymList,0),1)","v":"Mines Advisory Group"},{"$f":"INDEX(Organizations[],MATCH(Main3WData15[[#This Row],[Acronym]],AcronymList,0),3)","v":"ONG Int."},"Protection","Regulier","Segou",{"$f":"VLOOKUP(Main3WData15[[#This Row],[Admin Unit Name]],AdminUnits[],2,FALSE)","v":"ML04"},{"$f":"VLOOKUP(Main3WData15[[#This Row],[Admin Unit Name]],AdminUnits[],3,FALSE)","v":"Sud"},{"$f":"VLOOKUP(Main3WData15[[#This Row],[Admin Unit Name]],AdminUnits[],4,FALSE)","v":4},{"$f":"VLOOKUP(Main3WData15[[#This Row],[Sector]],Sectors[],2,FALSE)","v":5}]
[null,"NCA",{"$f":"INDEX(Organizations[],MATCH(Main3WData15[[#This Row],[Acronym]],AcronymList,0),1)","v":"Norwegian Church Aid"},{"$f":"INDEX(Organizations[],MATCH(Main3WData15[[#This Row],[Acronym]],AcronymList,0),3)","v":"ONG Int."},"Protection","Regulier","Bamako",{"$f":"VLOOKUP(Main3WData15[[#This Row],[Admin Unit Name]],AdminUnits[],2,FALSE)","v":"ML09"},{"$f":"VLOOKUP(Main3WData15[[#This Row],[Admin Unit Name]],AdminUnits[],3,FALSE)","v":"Sud"},{"$f":"VLOOKUP(Main3WData15[[#This Row],[Admin Unit Name]],AdminUnits[],4,FALSE)","v":0},{"$f":"VLOOKUP(Main3WData15[[#This Row],[Sector]],Sectors[],2,FALSE)","v":5}]
[null,"NCA",{"$f":"INDEX(Organizations[],MATCH(Main3WData15[[#This Row],[Acronym]],AcronymList,0),1)","v":"Norwegian Church Aid"},{"$f":"INDEX(Organizations[],MATCH(Main3WData15[[#This Row],[Acronym]],AcronymList,0),3)","v":"ONG Int."},"Protection","Regulier","Gao",{"$f":"VLOOKUP(Main3WData15[[#This Row],[Admin Unit Name]],AdminUnits[],2,FALSE)","v":"ML07"},{"$f":"VLOOKUP(Main3WData15[[#This Row],[Admin Unit Name]],AdminUnits[],3,FALSE)","v":"Nord"},{"$f":"VLOOKUP(Main3WData15[[#This Row],[Admin Unit Name]],AdminUnits[],4,FALSE)","v":7},{"$f":"VLOOKUP(Main3WData15[[#This Row],[Sector]],Sectors[],2,FALSE)","v":5}]
[null,"NCA",{"$f":"INDEX(Organizations[],MATCH(Main3WData15[[#This Row],[Acronym]],AcronymList,0),1)","v":"Norwegian Church Aid"},{"$f":"INDEX(Organizations[],MATCH(Main3WData15[[#This Row],[Acronym]],AcronymList,0),3)","v":"ONG Int."},"Protection","Regulier","Kidal",{"$f":"VLOOKUP(Main3WData15[[#This Row],[Admin Unit Name]],AdminUnits[],2,FALSE)","v":"ML08"},{"$f":"VLOOKUP(Main3WData15[[#This Row],[Admin Unit Name]],AdminUnits[],3,FALSE)","v":"Nord"},{"$f":"VLOOKUP(Main3WData15[[#This Row],[Admin Unit Name]],AdminUnits[],4,FALSE)","v":8},{"$f":"VLOOKUP(Main3WData15[[#This Row],[Sector]],Sectors[],2,FALSE)","v":5}]
[null,"NCA",{"$f":"INDEX(Organizations[],MATCH(Main3WData15[[#This Row],[Acronym]],AcronymList,0),1)","v":"Norwegian Church Aid"},{"$f":"INDEX(Organizations[],MATCH(Main3WData15[[#This Row],[Acronym]],AcronymList,0),3)","v":"ONG Int."},"Protection","Regulier","Tombouctou",{"$f":"VLOOKUP(Main3WData15[[#This Row],[Admin Unit Name]],AdminUnits[],2,FALSE)","v":"ML06"},{"$f":"VLOOKUP(Main3WData15[[#This Row],[Admin Unit Name]],AdminUnits[],3,FALSE)","v":"Nord"},{"$f":"VLOOKUP(Main3WData15[[#This Row],[Admin Unit Name]],AdminUnits[],4,FALSE)","v":6},{"$f":"VLOOKUP(Main3WData15[[#This Row],[Sector]],Sectors[],2,FALSE)","v":5}]
[null,"OIM",{"$f":"INDEX(Organizations[],MATCH(Main3WData15[[#This Row],[Acronym]],AcronymList,0),1)","v":"Organisation Internationale pour les Migrations"},{"$f":"INDEX(Organizations[],MATCH(Main3WData15[[#This Row],[Acronym]],AcronymList,0),3)","v":"Org Int."},"Protection","Regulier","Bamako",{"$f":"VLOOKUP(Main3WData15[[#This Row],[Admin Unit Name]],AdminUnits[],2,FALSE)","v":"ML09"},{"$f":"VLOOKUP(Main3WData15[[#This Row],[Admin Unit Name]],AdminUnits[],3,FALSE)","v":"Sud"},{"$f":"VLOOKUP(Main3WData15[[#This Row],[Admin Unit Name]],AdminUnits[],4,FALSE)","v":0},{"$f":"VLOOKUP(Main3WData15[[#This Row],[Sector]],Sectors[],2,FALSE)","v":5}]
[null,"OIM",{"$f":"INDEX(Organizations[],MATCH(Main3WData15[[#This Row],[Acronym]],AcronymList,0),1)","v":"Organisation Internationale pour les Migrations"},{"$f":"INDEX(Organizations[],MATCH(Main3WData15[[#This Row],[Acronym]],AcronymList,0),3)","v":"Org Int."},"Protection","Regulier","Gao",{"$f":"VLOOKUP(Main3WData15[[#This Row],[Admin Unit Name]],AdminUnits[],2,FALSE)","v":"ML07"},{"$f":"VLOOKUP(Main3WData15[[#This Row],[Admin Unit Name]],AdminUnits[],3,FALSE)","v":"Nord"},{"$f":"VLOOKUP(Main3WData15[[#This Row],[Admin Unit Name]],AdminUnits[],4,FALSE)","v":7},{"$f":"VLOOKUP(Main3WData15[[#This Row],[Sector]],Sectors[],2,FALSE)","v":5}]
[null,"OIM",{"$f":"INDEX(Organizations[],MATCH(Main3WData15[[#This Row],[Acronym]],AcronymList,0),1)","v":"Organisation Internationale pour les Migrations"},{"$f":"INDEX(Organizations[],MATCH(Main3WData15[[#This Row],[Acronym]],AcronymList,0),3)","v":"Org Int."},"Protection","Regulier","Tombouctou",{"$f":"VLOOKUP(Main3WData15[[#This Row],[Admin Unit Name]],AdminUnits[],2,FALSE)","v":"ML06"},{"$f":"VLOOKUP(Main3WData15[[#This Row],[Admin Unit Name]],AdminUnits[],3,FALSE)","v":"Nord"},{"$f":"VLOOKUP(Main3WData15[[#This Row],[Admin Unit Name]],AdminUnits[],4,FALSE)","v":6},{"$f":"VLOOKUP(Main3WData15[[#This Row],[Sector]],Sectors[],2,FALSE)","v":5}]
[null,"OIM",{"$f":"INDEX(Organizations[],MATCH(Main3WData15[[#This Row],[Acronym]],AcronymList,0),1)","v":"Organisation Internationale pour les Migrations"},{"$f":"INDEX(Organizations[],MATCH(Main3WData15[[#This Row],[Acronym]],AcronymList,0),3)","v":"Org Int."},"Protection","Regulier","Koulikoro",{"$f":"VLOOKUP(Main3WData15[[#This Row],[Admin Unit Name]],AdminUnits[],2,FALSE)","v":"ML02"},{"$f":"VLOOKUP(Main3WData15[[#This Row],[Admin Unit Name]],AdminUnits[],3,FALSE)","v":"Sud"},{"$f":"VLOOKUP(Main3WData15[[#This Row],[Admin Unit Name]],AdminUnits[],4,FALSE)","v":2},{"$f":"VLOOKUP(Main3WData15[[#This Row],[Sector]],Sectors[],2,FALSE)","v":5}]
[null,"OIM",{"$f":"INDEX(Organizations[],MATCH(Main3WData15[[#This Row],[Acronym]],AcronymList,0),1)","v":"Organisation Internationale pour les Migrations"},{"$f":"INDEX(Organizations[],MATCH(Main3WData15[[#This Row],[Acronym]],AcronymList,0),3)","v":"Org Int."},"Protection","Regulier","Bamako",{"$f":"VLOOKUP(Main3WData15[[#This Row],[Admin Unit Name]],AdminUnits[],2,FALSE)","v":"ML09"},{"$f":"VLOOKUP(Main3WData15[[#This Row],[Admin Unit Name]],AdminUnits[],3,FALSE)","v":"Sud"},{"$f":"VLOOKUP(Main3WData15[[#This Row],[Admin Unit Name]],AdminUnits[],4,FALSE)","v":0},{"$f":"VLOOKUP(Main3WData15[[#This Row],[Sector]],Sectors[],2,FALSE)","v":5}]
[null,"Plan Mali",{"$f":"INDEX(Organizations[],MATCH(Main3WData15[[#This Row],[Acronym]],AcronymList,0),1)","v":"Plan Mali"},{"$f":"INDEX(Organizations[],MATCH(Main3WData15[[#This Row],[Acronym]],AcronymList,0),3)","v":"ONG Int."},"Protection","Regulier","Tombouctou",{"$f":"VLOOKUP(Main3WData15[[#This Row],[Admin Unit Name]],AdminUnits[],2,FALSE)","v":"ML06"},{"$f":"VLOOKUP(Main3WData15[[#This Row],[Admin Unit Name]],AdminUnits[],3,FALSE)","v":"Nord"},{"$f":"VLOOKUP(Main3WData15[[#This Row],[Admin Unit Name]],AdminUnits[],4,FALSE)","v":6},{"$f":"VLOOKUP(Main3WData15[[#This Row],[Sector]],Sectors[],2,FALSE)","v":5}]
[null,"Plan Mali",{"$f":"INDEX(Organizations[],MATCH(Main3WData15[[#This Row],[Acronym]],AcronymList,0),1)","v":"Plan Mali"},{"$f":"INDEX(Organizations[],MATCH(Main3WData15[[#This Row],[Acronym]],AcronymList,0),3)","v":"ONG Int."},"Protection","Regulier","Mopti",{"$f":"VLOOKUP(Main3WData15[[#This Row],[Admin Unit Name]],AdminUnits[],2,FALSE)","v":"ML05"},{"$f":"VLOOKUP(Main3WData15[[#This Row],[Admin Unit Name]],AdminUnits[],3,FALSE)","v":"Sud"},{"$f":"VLOOKUP(Main3WData15[[#This Row],[Admin Unit Name]],AdminUnits[],4,FALSE)","v":5},{"$f":"VLOOKUP(Main3WData15[[#This Row],[Sector]],Sectors[],2,FALSE)","v":5}]
[null,"Plan Mali",{"$f":"INDEX(Organizations[],MATCH(Main3WData15[[#This Row],[Acronym]],AcronymList,0),1)","v":"Plan Mali"},{"$f":"INDEX(Organizations[],MATCH(Main3WData15[[#This Row],[Acronym]],AcronymList,0),3)","v":"ONG Int."},"Protection","Regulier","Segou",{"$f":"VLOOKUP(Main3WData15[[#This Row],[Admin Unit Name]],AdminUnits[],2,FALSE)","v":"ML04"},{"$f":"VLOOKUP(Main3WData15[[#This Row],[Admin Unit Name]],AdminUnits[],3,FALSE)","v":"Sud"},{"$f":"VLOOKUP(Main3WData15[[#This Row],[Admin Unit Name]],AdminUnits[],4,FALSE)","v":4},{"$f":"VLOOKUP(Main3WData15[[#This Row],[Sector]],Sectors[],2,FALSE)","v":5}]
[null,"Right To Play",{"$f":"INDEX(Organizations[],MATCH(Main3WData15[[#This Row],[Acronym]],AcronymList,0),1)","v":"Right to Play"},{"$f":"INDEX(Organizations[],MATCH(Main3WData15[[#This Row],[Acronym]],AcronymList,0),3)","v":"ONG Int."},"Protection","Regulier","Bamako",{"$f":"VLOOKUP(Main3WData15[[#This Row],[Admin Unit Name]],AdminUnits[],2,FALSE)","v":"ML09"},{"$f":"VLOOKUP(Main3WData15[[#This Row],[Admin Unit Name]],AdminUnits[],3,FALSE)","v":"Sud"},{"$f":"VLOOKUP(Main3WData15[[#This Row],[Admin Unit Name]],AdminUnits[],4,FALSE)","v":0},{"$f":"VLOOKUP(Main3WData15[[#This Row],[Sector]],Sectors[],2,FALSE)","v":5}]
[null,"Right To Play",{"$f":"INDEX(Organizations[],MATCH(Main3WData15[[#This Row],[Acronym]],AcronymList,0),1)","v":"Right to Play"},{"$f":"INDEX(Organizations[],MATCH(Main3WData15[[#This Row],[Acronym]],AcronymList,0),3)","v":"ONG Int."},"Protection","Regulier","Sikasso",{"$f":"VLOOKUP(Main3WData15[[#This Row],[Admin Unit Name]],AdminUnits[],2,FALSE)","v":"ML03"},{"$f":"VLOOKUP(Main3WData15[[#This Row],[Admin Unit Name]],AdminUnits[],3,FALSE)","v":"Sud"},{"$f":"VLOOKUP(Main3WData15[[#This Row],[Admin Unit Name]],AdminUnits[],4,FALSE)","v":3},{"$f":"VLOOKUP(Main3WData15[[#This Row],[Sector]],Sectors[],2,FALSE)","v":5}]
[null,"Samu Social Mali ",{"$f":"INDEX(Organizations[],MATCH(Main3WData15[[#This Row],[Acronym]],AcronymList,0),1)","v":"Samu Social Mali "},{"$f":"INDEX(Organizations[],MATCH(Main3WData15[[#This Row],[Acronym]],AcronymList,0),3)","v":"ONG Nat."},"Protection","Regulier","Bamako",{"$f":"VLOOKUP(Main3WData15[[#This Row],[Admin Unit Name]],AdminUnits[],2,FALSE)","v":"ML09"},{"$f":"VLOOKUP(Main3WData15[[#This Row],[Admin Unit Name]],AdminUnits[],3,FALSE)","v":"Sud"},{"$f":"VLOOKUP(Main3WData15[[#This Row],[Admin Unit Name]],AdminUnits[],4,FALSE)","v":0},{"$f":"VLOOKUP(Main3WData15[[#This Row],[Sector]],Sectors[],2,FALSE)","v":5}]
[null,"Terre des Hommes Lausanne",{"$f":"INDEX(Organizations[],MATCH(Main3WData15[[#This Row],[Acronym]],AcronymList,0),1)","v":{"$error":"#N/A"}},{"$f":"INDEX(Organizations[],MATCH(Main3WData15[[#This Row],[Acronym]],AcronymList,0),3)","v":{"$error":"#N/A"}},"Protection","Regulier","Segou",{"$f":"VLOOKUP(Main3WData15[[#This Row],[Admin Unit Name]],AdminUnits[],2,FALSE)","v":"ML04"},{"$f":"VLOOKUP(Main3WData15[[#This Row],[Admin Unit Name]],AdminUnits[],3,FALSE)","v":"Sud"},{"$f":"VLOOKUP(Main3WData15[[#This Row],[Admin Unit Name]],AdminUnits[],4,FALSE)","v":4},{"$f":"VLOOKUP(Main3WData15[[#This Row],[Sector]],Sectors[],2,FALSE)","v":5}]
[null,"UNHCR",{"$f":"INDEX(Organizations[],MATCH(Main3WData15[[#This Row],[Acronym]],AcronymList,0),1)","v":"Haut Commissariat des Nations Unies pour les réfugiés"},{"$f":"INDEX(Organizations[],MATCH(Main3WData15[[#This Row],[Acronym]],AcronymList,0),3)","v":"UN"},"Protection","Regulier","Mopti",{"$f":"VLOOKUP(Main3WData15[[#This Row],[Admin Unit Name]],AdminUnits[],2,FALSE)","v":"ML05"},{"$f":"VLOOKUP(Main3WData15[[#This Row],[Admin Unit Name]],AdminUnits[],3,FALSE)","v":"Sud"},{"$f":"VLOOKUP(Main3WData15[[#This Row],[Admin Unit Name]],AdminUnits[],4,FALSE)","v":5},{"$f":"VLOOKUP(Main3WData15[[#This Row],[Sector]],Sectors[],2,FALSE)","v":5}]
[null,"UNHCR",{"$f":"INDEX(Organizations[],MATCH(Main3WData15[[#This Row],[Acronym]],AcronymList,0),1)","v":"Haut Commissariat des Nations Unies pour les réfugiés"},{"$f":"INDEX(Organizations[],MATCH(Main3WData15[[#This Row],[Acronym]],AcronymList,0),3)","v":"UN"},"Protection","Regulier","Segou",{"$f":"VLOOKUP(Main3WData15[[#This Row],[Admin Unit Name]],AdminUnits[],2,FALSE)","v":"ML04"},{"$f":"VLOOKUP(Main3WData15[[#This Row],[Admin Unit Name]],AdminUnits[],3,FALSE)","v":"Sud"},{"$f":"VLOOKUP(Main3WData15[[#This Row],[Admin Unit Name]],AdminUnits[],4,FALSE)","v":4},{"$f":"VLOOKUP(Main3WData15[[#This Row],[Sector]],Sectors[],2,FALSE)","v":5}]
[null,"UNHCR",{"$f":"INDEX(Organizations[],MATCH(Main3WData15[[#This Row],[Acronym]],AcronymList,0),1)","v":"Haut Commissariat des Nations Unies pour les réfugiés"},{"$f":"INDEX(Organizations[],MATCH(Main3WData15[[#This Row],[Acronym]],AcronymList,0),3)","v":"UN"},"Protection","Regulier","Gao",{"$f":"VLOOKUP(Main3WData15[[#This Row],[Admin Unit Name]],AdminUnits[],2,FALSE)","v":"ML07"},{"$f":"VLOOKUP(Main3WData15[[#This Row],[Admin Unit Name]],AdminUnits[],3,FALSE)","v":"Nord"},{"$f":"VLOOKUP(Main3WData15[[#This Row],[Admin Unit Name]],AdminUnits[],4,FALSE)","v":7},{"$f":"VLOOKUP(Main3WData15[[#This Row],[Sector]],Sectors[],2,FALSE)","v":5}]
[null,"UNHCR",{"$f":"INDEX(Organizations[],MATCH(Main3WData15[[#This Row],[Acronym]],AcronymList,0),1)","v":"Haut Commissariat des Nations Unies pour les réfugiés"},{"$f":"INDEX(Organizations[],MATCH(Main3WData15[[#This Row],[Acronym]],AcronymList,0),3)","v":"UN"},"Protection","Regulier","Tombouctou",{"$f":"VLOOKUP(Main3WData15[[#This Row],[Admin Unit Name]],AdminUnits[],2,FALSE)","v":"ML06"},{"$f":"VLOOKUP(Main3WData15[[#This Row],[Admin Unit Name]],AdminUnits[],3,FALSE)","v":"Nord"},{"$f":"VLOOKUP(Main3WData15[[#This Row],[Admin Unit Name]],AdminUnits[],4,FALSE)","v":6},{"$f":"VLOOKUP(Main3WData15[[#This Row],[Sector]],Sectors[],2,FALSE)","v":5}]
[null,"UNHCR",{"$f":"INDEX(Organizations[],MATCH(Main3WData15[[#This Row],[Acronym]],AcronymList,0),1)","v":"Haut Commissariat des Nations Unies pour les réfugiés"},{"$f":"INDEX(Organizations[],MATCH(Main3WData15[[#This Row],[Acronym]],AcronymList,0),3)","v":"UN"},"Protection","Regulier","Kidal",{"$f":"VLOOKUP(Main3WData15[[#This Row],[Admin Unit Name]],AdminUnits[],2,FALSE)","v":"ML08"},{"$f":"VLOOKUP(Main3WData15[[#This Row],[Admin Unit Name]],AdminUnits[],3,FALSE)","v":"Nord"},{"$f":"VLOOKUP(Main3WData15[[#This Row],[Admin Unit Name]],AdminUnits[],4,FALSE)","v":8},{"$f":"VLOOKUP(Main3WData15[[#This Row],[Sector]],Sectors[],2,FALSE)","v":5}]
[null,"WILDAF",{"$f":"INDEX(Organizations[],MATCH(Main3WData15[[#This Row],[Acronym]],AcronymList,0),1)","v":"Women in Law and Development in Africa"},{"$f":"INDEX(Organizations[],MATCH(Main3WData15[[#This Row],[Acronym]],AcronymList,0),3)","v":"ONG Nat."},"Protection","Regulier","Bamako",{"$f":"VLOOKUP(Main3WData15[[#This Row],[Admin Unit Name]],AdminUnits[],2,FALSE)","v":"ML09"},{"$f":"VLOOKUP(Main3WData15[[#This Row],[Admin Unit Name]],AdminUnits[],3,FALSE)","v":"Sud"},{"$f":"VLOOKUP(Main3WData15[[#This Row],[Admin Unit Name]],AdminUnits[],4,FALSE)","v":0},{"$f":"VLOOKUP(Main3WData15[[#This Row],[Sector]],Sectors[],2,FALSE)","v":5}]
[null,"OXFAM GB",{"$f":"INDEX(Organizations[],MATCH(Main3WData15[[#This Row],[Acronym]],AcronymList,0),1)","v":"OXFAM GB"},{"$f":"INDEX(Organizations[],MATCH(Main3WData15[[#This Row],[Acronym]],AcronymList,0),3)","v":"ONG Int."},"Protection","Regulier","Gao",{"$f":"VLOOKUP(Main3WData15[[#This Row],[Admin Unit Name]],AdminUnits[],2,FALSE)","v":"ML07"},{"$f":"VLOOKUP(Main3WData15[[#This Row],[Admin Unit Name]],AdminUnits[],3,FALSE)","v":"Nord"},{"$f":"VLOOKUP(Main3WData15[[#This Row],[Admin Unit Name]],AdminUnits[],4,FALSE)","v":7},{"$f":"VLOOKUP(Main3WData15[[#This Row],[Sector]],Sectors[],2,FALSE)","v":5}]
[null,"MDM France",{"$f":"INDEX(Organizations[],MATCH(Main3WData15[[#This Row],[Acronym]],AcronymList,0),1)","v":"Médecins Du Monde France"},{"$f":"INDEX(Organizations[],MATCH(Main3WData15[[#This Row],[Acronym]],AcronymList,0),3)","v":"ONG Int."},"Santé","Regulier","Bamako",{"$f":"VLOOKUP(Main3WData15[[#This Row],[Admin Unit Name]],AdminUnits[],2,FALSE)","v":"ML09"},{"$f":"VLOOKUP(Main3WData15[[#This Row],[Admin Unit Name]],AdminUnits[],3,FALSE)","v":"Sud"},{"$f":"VLOOKUP(Main3WData15[[#This Row],[Admin Unit Name]],AdminUnits[],4,FALSE)","v":0},{"$f":"VLOOKUP(Main3WData15[[#This Row],[Sector]],Sectors[],2,FALSE)","v":6}]
[null,"OIM",{"$f":"INDEX(Organizations[],MATCH(Main3WData15[[#This Row],[Acronym]],AcronymList,0),1)","v":"Organisation Internationale pour les Migrations"},{"$f":"INDEX(Organizations[],MATCH(Main3WData15[[#This Row],[Acronym]],AcronymList,0),3)","v":"Org Int."},"Santé","Regulier","Bamako",{"$f":"VLOOKUP(Main3WData15[[#This Row],[Admin Unit Name]],AdminUnits[],2,FALSE)","v":"ML09"},{"$f":"VLOOKUP(Main3WData15[[#This Row],[Admin Unit Name]],AdminUnits[],3,FALSE)","v":"Sud"},{"$f":"VLOOKUP(Main3WData15[[#This Row],[Admin Unit Name]],AdminUnits[],4,FALSE)","v":0},{"$f":"VLOOKUP(Main3WData15[[#This Row],[Sector]],Sectors[],2,FALSE)","v":6}]
[null,"Santé Diabète",{"$f":"INDEX(Organizations[],MATCH(Main3WData15[[#This Row],[Acronym]],AcronymList,0),1)","v":"Santé Diabète"},{"$f":"INDEX(Organizations[],MATCH(Main3WData15[[#This Row],[Acronym]],AcronymList,0),3)","v":"ONG Nat."},"Santé","Regulier","Bamako",{"$f":"VLOOKUP(Main3WData15[[#This Row],[Admin Unit Name]],AdminUnits[],2,FALSE)","v":"ML09"},{"$f":"VLOOKUP(Main3WData15[[#This Row],[Admin Unit Name]],AdminUnits[],3,FALSE)","v":"Sud"},{"$f":"VLOOKUP(Main3WData15[[#This Row],[Admin Unit Name]],AdminUnits[],4,FALSE)","v":0},{"$f":"VLOOKUP(Main3WData15[[#This Row],[Sector]],Sectors[],2,FALSE)","v":6}]
[null,"ACF – Espagne",{"$f":"INDEX(Organizations[],MATCH(Main3WData15[[#This Row],[Acronym]],AcronymList,0),1)","v":"Action contre la faim Espagne"},{"$f":"INDEX(Organizations[],MATCH(Main3WData15[[#This Row],[Acronym]],AcronymList,0),3)","v":"ONG Int."},"Santé","Regulier","Gao",{"$f":"VLOOKUP(Main3WData15[[#This Row],[Admin Unit Name]],AdminUnits[],2,FALSE)","v":"ML07"},{"$f":"VLOOKUP(Main3WData15[[#This Row],[Admin Unit Name]],AdminUnits[],3,FALSE)","v":"Nord"},{"$f":"VLOOKUP(Main3WData15[[#This Row],[Admin Unit Name]],AdminUnits[],4,FALSE)","v":7},{"$f":"VLOOKUP(Main3WData15[[#This Row],[Sector]],Sectors[],2,FALSE)","v":6}]
[null,"CR-France",{"$f":"INDEX(Organizations[],MATCH(Main3WData15[[#This Row],[Acronym]],AcronymList,0),1)","v":"Croix Rouge France"},{"$f":"INDEX(Organizations[],MATCH(Main3WData15[[#This Row],[Acronym]],AcronymList,0),3)","v":"Mouv. Croix-rouge"},"Santé","Regulier","Gao",{"$f":"VLOOKUP(Main3WData15[[#This Row],[Admin Unit Name]],AdminUnits[],2,FALSE)","v":"ML07"},{"$f":"VLOOKUP(Main3WData15[[#This Row],[Admin Unit Name]],AdminUnits[],3,FALSE)","v":"Nord"},{"$f":"VLOOKUP(Main3WData15[[#This Row],[Admin Unit Name]],AdminUnits[],4,FALSE)","v":7},{"$f":"VLOOKUP(Main3WData15[[#This Row],[Sector]],Sectors[],2,FALSE)","v":6}]
[null,"CR-Mali",{"$f":"INDEX(Organizations[],MATCH(Main3WData15[[#This Row],[Acronym]],AcronymList,0),1)","v":"Croix-Rouge Mali"},{"$f":"INDEX(Organizations[],MATCH(Main3WData15[[#This Row],[Acronym]],AcronymList,0),3)","v":"Mouv. Croix-rouge"},"Santé","Regulier","Gao",{"$f":"VLOOKUP(Main3WData15[[#This Row],[Admin Unit Name]],AdminUnits[],2,FALSE)","v":"ML07"},{"$f":"VLOOKUP(Main3WData15[[#This Row],[Admin Unit Name]],AdminUnits[],3,FALSE)","v":"Nord"},{"$f":"VLOOKUP(Main3WData15[[#This Row],[Admin Unit Name]],AdminUnits[],4,FALSE)","v":7},{"$f":"VLOOKUP(Main3WData15[[#This Row],[Sector]],Sectors[],2,FALSE)","v":6}]
[null,"FIDA",{"$f":"INDEX(Organizations[],MATCH(Main3WData15[[#This Row],[Acronym]],AcronymList,0),1)","v":"Fonds international de développement agricole"},{"$f":"INDEX(Organizations[],MATCH(Main3WData15[[#This Row],[Acronym]],AcronymList,0),3)","v":"UN"},"Santé","Regulier","Gao",{"$f":"VLOOKUP(Main3WData15[[#This Row],[Admin Unit Name]],AdminUnits[],2,FALSE)","v":"ML07"},{"$f":"VLOOKUP(Main3WData15[[#This Row],[Admin Unit Name]],AdminUnits[],3,FALSE)","v":"Nord"},{"$f":"VLOOKUP(Main3WData15[[#This Row],[Admin Unit Name]],AdminUnits[],4,FALSE)","v":7},{"$f":"VLOOKUP(Main3WData15[[#This Row],[Sector]],Sectors[],2,FALSE)","v":6}]
[null,"IMC",{"$f":"INDEX(Organizations[],MATCH(Main3WData15[[#This Row],[Acronym]],AcronymList,0),1)","v":"International Medical Corps"},{"$f":"INDEX(Organizations[],MATCH(Main3WData15[[#This Row],[Acronym]],AcronymList,0),3)","v":"ONG Int."},"Santé","Regulier","Gao",{"$f":"VLOOKUP(Main3WData15[[#This Row],[Admin Unit Name]],AdminUnits[],2,FALSE)","v":"ML07"},{"$f":"VLOOKUP(Main3WData15[[#This Row],[Admin Unit Name]],AdminUnits[],3,FALSE)","v":"Nord"},{"$f":"VLOOKUP(Main3WData15[[#This Row],[Admin Unit Name]],AdminUnits[],4,FALSE)","v":7},{"$f":"VLOOKUP(Main3WData15[[#This Row],[Sector]],Sectors[],2,FALSE)","v":6}]
[null,"IRC",{"$f":"INDEX(Organizations[],MATCH(Main3WData15[[#This Row],[Acronym]],AcronymList,0),1)","v":"International Rescue Committee"},{"$f":"INDEX(Organizations[],MATCH(Main3WData15[[#This Row],[Acronym]],AcronymList,0),3)","v":"ONG Int."},"Santé","Regulier","Gao",{"$f":"VLOOKUP(Main3WData15[[#This Row],[Admin Unit Name]],AdminUnits[],2,FALSE)","v":"ML07"},{"$f":"VLOOKUP(Main3WData15[[#This Row],[Admin Unit Name]],AdminUnits[],3,FALSE)","v":"Nord"},{"$f":"VLOOKUP(Main3WData15[[#This Row],[Admin Unit Name]],AdminUnits[],4,FALSE)","v":7},{"$f":"VLOOKUP(Main3WData15[[#This Row],[Sector]],Sectors[],2,FALSE)","v":6}]
[null,"MDM Belgique",{"$f":"INDEX(Organizations[],MATCH(Main3WData15[[#This Row],[Acronym]],AcronymList,0),1)","v":"Médecins Du Monde Belgique"},{"$f":"INDEX(Organizations[],MATCH(Main3WData15[[#This Row],[Acronym]],AcronymList,0),3)","v":"ONG Int."},"Santé","Regulier","Gao",{"$f":"VLOOKUP(Main3WData15[[#This Row],[Admin Unit Name]],AdminUnits[],2,FALSE)","v":"ML07"},{"$f":"VLOOKUP(Main3WData15[[#This Row],[Admin Unit Name]],AdminUnits[],3,FALSE)","v":"Nord"},{"$f":"VLOOKUP(Main3WData15[[#This Row],[Admin Unit Name]],AdminUnits[],4,FALSE)","v":7},{"$f":"VLOOKUP(Main3WData15[[#This Row],[Sector]],Sectors[],2,FALSE)","v":6}]
[null,"MSF",{"$f":"INDEX(Organizations[],MATCH(Main3WData15[[#This Row],[Acronym]],AcronymList,0),1)","v":"Médecins Sans Frontières"},{"$f":"INDEX(Organizations[],MATCH(Main3WData15[[#This Row],[Acronym]],AcronymList,0),3)","v":"ONG Int."},"Santé","Regulier","Gao",{"$f":"VLOOKUP(Main3WData15[[#This Row],[Admin Unit Name]],AdminUnits[],2,FALSE)","v":"ML07"},{"$f":"VLOOKUP(Main3WData15[[#This Row],[Admin Unit Name]],AdminUnits[],3,FALSE)","v":"Nord"},{"$f":"VLOOKUP(Main3WData15[[#This Row],[Admin Unit Name]],AdminUnits[],4,FALSE)","v":7},{"$f":"VLOOKUP(Main3WData15[[#This Row],[Sector]],Sectors[],2,FALSE)","v":6}]
[null,"OMS",{"$f":"INDEX(Organizations[],MATCH(Main3WData15[[#This Row],[Acronym]],AcronymList,0),1)","v":"Organisation Mondiale de la Sante"},{"$f":"INDEX(Organizations[],MATCH(Main3WData15[[#This Row],[Acronym]],AcronymList,0),3)","v":"UN"},"Santé","Regulier","Gao",{"$f":"VLOOKUP(Main3WData15[[#This Row],[Admin Unit Name]],AdminUnits[],2,FALSE)","v":"ML07"},{"$f":"VLOOKUP(Main3WData15[[#This Row],[Admin Unit Name]],AdminUnits[],3,FALSE)","v":"Nord"},{"$f":"VLOOKUP(Main3WData15[[#This Row],[Admin Unit Name]],AdminUnits[],4,FALSE)","v":7},{"$f":"VLOOKUP(Main3WData15[[#This Row],[Sector]],Sectors[],2,FALSE)","v":6}]
[null,"Santé Diabète",{"$f":"INDEX(Organizations[],MATCH(Main3WData15[[#This Row],[Acronym]],AcronymList,0),1)","v":"Santé Diabète"},{"$f":"INDEX(Organizations[],MATCH(Main3WData15[[#This Row],[Acronym]],AcronymList,0),3)","v":"ONG Nat."},"Santé","Regulier","Gao",{"$f":"VLOOKUP(Main3WData15[[#This Row],[Admin Unit Name]],AdminUnits[],2,FALSE)","v":"ML07"},{"$f":"VLOOKUP(Main3WData15[[#This Row],[Admin Unit Name]],AdminUnits[],3,FALSE)","v":"Nord"},{"$f":"VLOOKUP(Main3WData15[[#This Row],[Admin Unit Name]],AdminUnits[],4,FALSE)","v":7},{"$f":"VLOOKUP(Main3WData15[[#This Row],[Sector]],Sectors[],2,FALSE)","v":6}]
[null,"Save the Children",{"$f":"INDEX(Organizations[],MATCH(Main3WData15[[#This Row],[Acronym]],AcronymList,0),1)","v":"Save the Children"},{"$f":"INDEX(Organizations[],MATCH(Main3WData15[[#This Row],[Acronym]],AcronymList,0),3)","v":"ONG Int."},"Santé","Regulier","Gao",{"$f":"VLOOKUP(Main3WData15[[#This Row],[Admin Unit Name]],AdminUnits[],2,FALSE)","v":"ML07"},{"$f":"VLOOKUP(Main3WData15[[#This Row],[Admin Unit Name]],AdminUnits[],3,FALSE)","v":"Nord"},{"$f":"VLOOKUP(Main3WData15[[#This Row],[Admin Unit Name]],AdminUnits[],4,FALSE)","v":7},{"$f":"VLOOKUP(Main3WData15[[#This Row],[Sector]],Sectors[],2,FALSE)","v":6}]
[null,"CR-Mali",{"$f":"INDEX(Organizations[],MATCH(Main3WData15[[#This Row],[Acronym]],AcronymList,0),1)","v":"Croix-Rouge Mali"},{"$f":"INDEX(Organizations[],MATCH(Main3WData15[[#This Row],[Acronym]],AcronymList,0),3)","v":"Mouv. Croix-rouge"},"Santé","Regulier","Kayes",{"$f":"VLOOKUP(Main3WData15[[#This Row],[Admin Unit Name]],AdminUnits[],2,FALSE)","v":"ML01"},{"$f":"VLOOKUP(Main3WData15[[#This Row],[Admin Unit Name]],AdminUnits[],3,FALSE)","v":"Sud"},{"$f":"VLOOKUP(Main3WData15[[#This Row],[Admin Unit Name]],AdminUnits[],4,FALSE)","v":1},{"$f":"VLOOKUP(Main3WData15[[#This Row],[Sector]],Sectors[],2,FALSE)","v":6}]
[null,"FIDA",{"$f":"INDEX(Organizations[],MATCH(Main3WData15[[#This Row],[Acronym]],AcronymList,0),1)","v":"Fonds international de développement agricole"},{"$f":"INDEX(Organizations[],MATCH(Main3WData15[[#This Row],[Acronym]],AcronymList,0),3)","v":"UN"},"Santé","Regulier","Kidal",{"$f":"VLOOKUP(Main3WData15[[#This Row],[Admin Unit Name]],AdminUnits[],2,FALSE)","v":"ML08"},{"$f":"VLOOKUP(Main3WData15[[#This Row],[Admin Unit Name]],AdminUnits[],3,FALSE)","v":"Nord"},{"$f":"VLOOKUP(Main3WData15[[#This Row],[Admin Unit Name]],AdminUnits[],4,FALSE)","v":8},{"$f":"VLOOKUP(Main3WData15[[#This Row],[Sector]],Sectors[],2,FALSE)","v":6}]
[null,"MDM Belgique",{"$f":"INDEX(Organizations[],MATCH(Main3WData15[[#This Row],[Acronym]],AcronymList,0),1)","v":"Médecins Du Monde Belgique"},{"$f":"INDEX(Organizations[],MATCH(Main3WData15[[#This Row],[Acronym]],AcronymList,0),3)","v":"ONG Int."},"Santé","Regulier","Kidal",{"$f":"VLOOKUP(Main3WData15[[#This Row],[Admin Unit Name]],AdminUnits[],2,FALSE)","v":"ML08"},{"$f":"VLOOKUP(Main3WData15[[#This Row],[Admin Unit Name]],AdminUnits[],3,FALSE)","v":"Nord"},{"$f":"VLOOKUP(Main3WData15[[#This Row],[Admin Unit Name]],AdminUnits[],4,FALSE)","v":8},{"$f":"VLOOKUP(Main3WData15[[#This Row],[Sector]],Sectors[],2,FALSE)","v":6}]
[null,"OMS",{"$f":"INDEX(Organizations[],MATCH(Main3WData15[[#This Row],[Acronym]],AcronymList,0),1)","v":"Organisation Mondiale de la Sante"},{"$f":"INDEX(Organizations[],MATCH(Main3WData15[[#This Row],[Acronym]],AcronymList,0),3)","v":"UN"},"Santé","Regulier","Kidal",{"$f":"VLOOKUP(Main3WData15[[#This Row],[Admin Unit Name]],AdminUnits[],2,FALSE)","v":"ML08"},{"$f":"VLOOKUP(Main3WData15[[#This Row],[Admin Unit Name]],AdminUnits[],3,FALSE)","v":"Nord"},{"$f":"VLOOKUP(Main3WData15[[#This Row],[Admin Unit Name]],AdminUnits[],4,FALSE)","v":8},{"$f":"VLOOKUP(Main3WData15[[#This Row],[Sector]],Sectors[],2,FALSE)","v":6}]
[null,"Santé Diabète",{"$f":"INDEX(Organizations[],MATCH(Main3WData15[[#This Row],[Acronym]],AcronymList,0),1)","v":"Santé Diabète"},{"$f":"INDEX(Organizations[],MATCH(Main3WData15[[#This Row],[Acronym]],AcronymList,0),3)","v":"ONG Nat."},"Santé","Regulier","Kidal",{"$f":"VLOOKUP(Main3WData15[[#This Row],[Admin Unit Name]],AdminUnits[],2,FALSE)","v":"ML08"},{"$f":"VLOOKUP(Main3WData15[[#This Row],[Admin Unit Name]],AdminUnits[],3,FALSE)","v":"Nord"},{"$f":"VLOOKUP(Main3WData15[[#This Row],[Admin Unit Name]],AdminUnits[],4,FALSE)","v":8},{"$f":"VLOOKUP(Main3WData15[[#This Row],[Sector]],Sectors[],2,FALSE)","v":6}]
[null,"IRC",{"$f":"INDEX(Organizations[],MATCH(Main3WData15[[#This Row],[Acronym]],AcronymList,0),1)","v":"International Rescue Committee"},{"$f":"INDEX(Organizations[],MATCH(Main3WData15[[#This Row],[Acronym]],AcronymList,0),3)","v":"ONG Int."},"Santé","Regulier","Koulikoro",{"$f":"VLOOKUP(Main3WData15[[#This Row],[Admin Unit Name]],AdminUnits[],2,FALSE)","v":"ML02"},{"$f":"VLOOKUP(Main3WData15[[#This Row],[Admin Unit Name]],AdminUnits[],3,FALSE)","v":"Sud"},{"$f":"VLOOKUP(Main3WData15[[#This Row],[Admin Unit Name]],AdminUnits[],4,FALSE)","v":2},{"$f":"VLOOKUP(Main3WData15[[#This Row],[Sector]],Sectors[],2,FALSE)","v":6}]
[null,"ASDAP",{"$f":"INDEX(Organizations[],MATCH(Main3WData15[[#This Row],[Acronym]],AcronymList,0),1)","v":"Association pour le Soutien du Développement des Activités de Population"},{"$f":"INDEX(Organizations[],MATCH(Main3WData15[[#This Row],[Acronym]],AcronymList,0),3)","v":"ONG Nat."},"Santé","Regulier","Mopti",{"$f":"VLOOKUP(Main3WData15[[#This Row],[Admin Unit Name]],AdminUnits[],2,FALSE)","v":"ML05"},{"$f":"VLOOKUP(Main3WData15[[#This Row],[Admin Unit Name]],AdminUnits[],3,FALSE)","v":"Sud"},{"$f":"VLOOKUP(Main3WData15[[#This Row],[Admin Unit Name]],AdminUnits[],4,FALSE)","v":5},{"$f":"VLOOKUP(Main3WData15[[#This Row],[Sector]],Sectors[],2,FALSE)","v":6}]
[null,"Handicap International",{"$f":"INDEX(Organizations[],MATCH(Main3WData15[[#This Row],[Acronym]],AcronymList,0),1)","v":{"$error":"#N/A"}},{"$f":"INDEX(Organizations[],MATCH(Main3WData15[[#This Row],[Acronym]],AcronymList,0),3)","v":{"$error":"#N/A"}},"Santé","Regulier","Mopti",{"$f":"VLOOKUP(Main3WData15[[#This Row],[Admin Unit Name]],AdminUnits[],2,FALSE)","v":"ML05"},{"$f":"VLOOKUP(Main3WData15[[#This Row],[Admin Unit Name]],AdminUnits[],3,FALSE)","v":"Sud"},{"$f":"VLOOKUP(Main3WData15[[#This Row],[Admin Unit Name]],AdminUnits[],4,FALSE)","v":5},{"$f":"VLOOKUP(Main3WData15[[#This Row],[Sector]],Sectors[],2,FALSE)","v":6}]
[null,"MDM France",{"$f":"INDEX(Organizations[],MATCH(Main3WData15[[#This Row],[Acronym]],AcronymList,0),1)","v":"Médecins Du Monde France"},{"$f":"INDEX(Organizations[],MATCH(Main3WData15[[#This Row],[Acronym]],AcronymList,0),3)","v":"ONG Int."},"Santé","Regulier","Mopti",{"$f":"VLOOKUP(Main3WData15[[#This Row],[Admin Unit Name]],AdminUnits[],2,FALSE)","v":"ML05"},{"$f":"VLOOKUP(Main3WData15[[#This Row],[Admin Unit Name]],AdminUnits[],3,FALSE)","v":"Sud"},{"$f":"VLOOKUP(Main3WData15[[#This Row],[Admin Unit Name]],AdminUnits[],4,FALSE)","v":5},{"$f":"VLOOKUP(Main3WData15[[#This Row],[Sector]],Sectors[],2,FALSE)","v":6}]
[null,"MSF",{"$f":"INDEX(Organizations[],MATCH(Main3WData15[[#This Row],[Acronym]],AcronymList,0),1)","v":"Médecins Sans Frontières"},{"$f":"INDEX(Organizations[],MATCH(Main3WData15[[#This Row],[Acronym]],AcronymList,0),3)","v":"ONG Int."},"Santé","Regulier","Mopti",{"$f":"VLOOKUP(Main3WData15[[#This Row],[Admin Unit Name]],AdminUnits[],2,FALSE)","v":"ML05"},{"$f":"VLOOKUP(Main3WData15[[#This Row],[Admin Unit Name]],AdminUnits[],3,FALSE)","v":"Sud"},{"$f":"VLOOKUP(Main3WData15[[#This Row],[Admin Unit Name]],AdminUnits[],4,FALSE)","v":5},{"$f":"VLOOKUP(Main3WData15[[#This Row],[Sector]],Sectors[],2,FALSE)","v":6}]
[null,"OIM",{"$f":"INDEX(Organizations[],MATCH(Main3WData15[[#This Row],[Acronym]],AcronymList,0),1)","v":"Organisation Internationale pour les Migrations"},{"$f":"INDEX(Organizations[],MATCH(Main3WData15[[#This Row],[Acronym]],AcronymList,0),3)","v":"Org Int."},"Santé","Regulier","Mopti",{"$f":"VLOOKUP(Main3WData15[[#This Row],[Admin Unit Name]],AdminUnits[],2,FALSE)","v":"ML05"},{"$f":"VLOOKUP(Main3WData15[[#This Row],[Admin Unit Name]],AdminUnits[],3,FALSE)","v":"Sud"},{"$f":"VLOOKUP(Main3WData15[[#This Row],[Admin Unit Name]],AdminUnits[],4,FALSE)","v":5},{"$f":"VLOOKUP(Main3WData15[[#This Row],[Sector]],Sectors[],2,FALSE)","v":6}]
[null,"Plan Mali",{"$f":"INDEX(Organizations[],MATCH(Main3WData15[[#This Row],[Acronym]],AcronymList,0),1)","v":"Plan Mali"},{"$f":"INDEX(Organizations[],MATCH(Main3WData15[[#This Row],[Acronym]],AcronymList,0),3)","v":"ONG Int."},"Santé","Regulier","Mopti",{"$f":"VLOOKUP(Main3WData15[[#This Row],[Admin Unit Name]],AdminUnits[],2,FALSE)","v":"ML05"},{"$f":"VLOOKUP(Main3WData15[[#This Row],[Admin Unit Name]],AdminUnits[],3,FALSE)","v":"Sud"},{"$f":"VLOOKUP(Main3WData15[[#This Row],[Admin Unit Name]],AdminUnits[],4,FALSE)","v":5},{"$f":"VLOOKUP(Main3WData15[[#This Row],[Sector]],Sectors[],2,FALSE)","v":6}]
[null,"Santé Diabète",{"$f":"INDEX(Organizations[],MATCH(Main3WData15[[#This Row],[Acronym]],AcronymList,0),1)","v":"Santé Diabète"},{"$f":"INDEX(Organizations[],MATCH(Main3WData15[[#This Row],[Acronym]],AcronymList,0),3)","v":"ONG Nat."},"Santé","Regulier","Mopti",{"$f":"VLOOKUP(Main3WData15[[#This Row],[Admin Unit Name]],AdminUnits[],2,FALSE)","v":"ML05"},{"$f":"VLOOKUP(Main3WData15[[#This Row],[Admin Unit Name]],AdminUnits[],3,FALSE)","v":"Sud"},{"$f":"VLOOKUP(Main3WData15[[#This Row],[Admin Unit Name]],AdminUnits[],4,FALSE)","v":5},{"$f":"VLOOKUP(Main3WData15[[#This Row],[Sector]],Sectors[],2,FALSE)","v":6}]
[null,"CARE Mali",{"$f":"INDEX(Organizations[],MATCH(Main3WData15[[#This Row],[Acronym]],AcronymList,0),1)","v":"CARE Interntional Mali"},{"$f":"INDEX(Organizations[],MATCH(Main3WData15[[#This Row],[Acronym]],AcronymList,0),3)","v":"ONG Int."},"Santé","Regulier","Segou",{"$f":"VLOOKUP(Main3WData15[[#This Row],[Admin Unit Name]],AdminUnits[],2,FALSE)","v":"ML04"},{"$f":"VLOOKUP(Main3WData15[[#This Row],[Admin Unit Name]],AdminUnits[],3,FALSE)","v":"Sud"},{"$f":"VLOOKUP(Main3WData15[[#This Row],[Admin Unit Name]],AdminUnits[],4,FALSE)","v":4},{"$f":"VLOOKUP(Main3WData15[[#This Row],[Sector]],Sectors[],2,FALSE)","v":6}]
[null,"Caritas",{"$f":"INDEX(Organizations[],MATCH(Main3WData15[[#This Row],[Acronym]],AcronymList,0),1)","v":"CARITAS Mali"},{"$f":"INDEX(Organizations[],MATCH(Main3WData15[[#This Row],[Acronym]],AcronymList,0),3)","v":"ONG Int."},"Santé","Regulier","Segou",{"$f":"VLOOKUP(Main3WData15[[#This Row],[Admin Unit Name]],AdminUnits[],2,FALSE)","v":"ML04"},{"$f":"VLOOKUP(Main3WData15[[#This Row],[Admin Unit Name]],AdminUnits[],3,FALSE)","v":"Sud"},{"$f":"VLOOKUP(Main3WData15[[#This Row],[Admin Unit Name]],AdminUnits[],4,FALSE)","v":4},{"$f":"VLOOKUP(Main3WData15[[#This Row],[Sector]],Sectors[],2,FALSE)","v":6}]
[null,"Fondation Intervida",{"$f":"INDEX(Organizations[],MATCH(Main3WData15[[#This Row],[Acronym]],AcronymList,0),1)","v":"Fondation Intervida"},{"$f":"INDEX(Organizations[],MATCH(Main3WData15[[#This Row],[Acronym]],AcronymList,0),3)","v":"Fondation"},"Santé","Regulier","Segou",{"$f":"VLOOKUP(Main3WData15[[#This Row],[Admin Unit Name]],AdminUnits[],2,FALSE)","v":"ML04"},{"$f":"VLOOKUP(Main3WData15[[#This Row],[Admin Unit Name]],AdminUnits[],3,FALSE)","v":"Sud"},{"$f":"VLOOKUP(Main3WData15[[#This Row],[Admin Unit Name]],AdminUnits[],4,FALSE)","v":4},{"$f":"VLOOKUP(Main3WData15[[#This Row],[Sector]],Sectors[],2,FALSE)","v":6}]
[null,"Fondation Novartis",{"$f":"INDEX(Organizations[],MATCH(Main3WData15[[#This Row],[Acronym]],AcronymList,0),1)","v":"Fondation Novartis"},{"$f":"INDEX(Organizations[],MATCH(Main3WData15[[#This Row],[Acronym]],AcronymList,0),3)","v":"Fondation"},"Santé","Regulier","Segou",{"$f":"VLOOKUP(Main3WData15[[#This Row],[Admin Unit Name]],AdminUnits[],2,FALSE)","v":"ML04"},{"$f":"VLOOKUP(Main3WData15[[#This Row],[Admin Unit Name]],AdminUnits[],3,FALSE)","v":"Sud"},{"$f":"VLOOKUP(Main3WData15[[#This Row],[Admin Unit Name]],AdminUnits[],4,FALSE)","v":4},{"$f":"VLOOKUP(Main3WData15[[#This Row],[Sector]],Sectors[],2,FALSE)","v":6}]
[null,"Lux Dev.",{"$f":"INDEX(Organizations[],MATCH(Main3WData15[[#This Row],[Acronym]],AcronymList,0),1)","v":"Lux Developpement"},{"$f":"INDEX(Organizations[],MATCH(Main3WData15[[#This Row],[Acronym]],AcronymList,0),3)","v":"ONG Int."},"Santé","Regulier","Segou",{"$f":"VLOOKUP(Main3WData15[[#This Row],[Admin Unit Name]],AdminUnits[],2,FALSE)","v":"ML04"},{"$f":"VLOOKUP(Main3WData15[[#This Row],[Admin Unit Name]],AdminUnits[],3,FALSE)","v":"Sud"},{"$f":"VLOOKUP(Main3WData15[[#This Row],[Admin Unit Name]],AdminUnits[],4,FALSE)","v":4},{"$f":"VLOOKUP(Main3WData15[[#This Row],[Sector]],Sectors[],2,FALSE)","v":6}]
[null,"MSI",{"$f":"INDEX(Organizations[],MATCH(Main3WData15[[#This Row],[Acronym]],AcronymList,0),1)","v":"Marie Stopes International"},{"$f":"INDEX(Organizations[],MATCH(Main3WData15[[#This Row],[Acronym]],AcronymList,0),3)","v":"ONG Int."},"Santé","Regulier","Segou",{"$f":"VLOOKUP(Main3WData15[[#This Row],[Admin Unit Name]],AdminUnits[],2,FALSE)","v":"ML04"},{"$f":"VLOOKUP(Main3WData15[[#This Row],[Admin Unit Name]],AdminUnits[],3,FALSE)","v":"Sud"},{"$f":"VLOOKUP(Main3WData15[[#This Row],[Admin Unit Name]],AdminUnits[],4,FALSE)","v":4},{"$f":"VLOOKUP(Main3WData15[[#This Row],[Sector]],Sectors[],2,FALSE)","v":6}]
[null,"PSI",{"$f":"INDEX(Organizations[],MATCH(Main3WData15[[#This Row],[Acronym]],AcronymList,0),1)","v":"Population Services International"},{"$f":"INDEX(Organizations[],MATCH(Main3WData15[[#This Row],[Acronym]],AcronymList,0),3)","v":"ONG Int."},"Santé","Regulier","Segou",{"$f":"VLOOKUP(Main3WData15[[#This Row],[Admin Unit Name]],AdminUnits[],2,FALSE)","v":"ML04"},{"$f":"VLOOKUP(Main3WData15[[#This Row],[Admin Unit Name]],AdminUnits[],3,FALSE)","v":"Sud"},{"$f":"VLOOKUP(Main3WData15[[#This Row],[Admin Unit Name]],AdminUnits[],4,FALSE)","v":4},{"$f":"VLOOKUP(Main3WData15[[#This Row],[Sector]],Sectors[],2,FALSE)","v":6}]
[null,"World Vision",{"$f":"INDEX(Organizations[],MATCH(Main3WData15[[#This Row],[Acronym]],AcronymList,0),1)","v":"World Vision"},{"$f":"INDEX(Organizations[],MATCH(Main3WData15[[#This Row],[Acronym]],AcronymList,0),3)","v":"ONG Int."},"Santé","Regulier","Segou",{"$f":"VLOOKUP(Main3WData15[[#This Row],[Admin Unit Name]],AdminUnits[],2,FALSE)","v":"ML04"},{"$f":"VLOOKUP(Main3WData15[[#This Row],[Admin Unit Name]],AdminUnits[],3,FALSE)","v":"Sud"},{"$f":"VLOOKUP(Main3WData15[[#This Row],[Admin Unit Name]],AdminUnits[],4,FALSE)","v":4},{"$f":"VLOOKUP(Main3WData15[[#This Row],[Sector]],Sectors[],2,FALSE)","v":6}]
[null,"ALIMA",{"$f":"INDEX(Organizations[],MATCH(Main3WData15[[#This Row],[Acronym]],AcronymList,0),1)","v":"Alliance Internationale for Medical Action"},{"$f":"INDEX(Organizations[],MATCH(Main3WData15[[#This Row],[Acronym]],AcronymList,0),3)","v":"ONG Int."},"Santé","Regulier","Tombouctou",{"$f":"VLOOKUP(Main3WData15[[#This Row],[Admin Unit Name]],AdminUnits[],2,FALSE)","v":"ML06"},{"$f":"VLOOKUP(Main3WData15[[#This Row],[Admin Unit Name]],AdminUnits[],3,FALSE)","v":"Nord"},{"$f":"VLOOKUP(Main3WData15[[#This Row],[Admin Unit Name]],AdminUnits[],4,FALSE)","v":6},{"$f":"VLOOKUP(Main3WData15[[#This Row],[Sector]],Sectors[],2,FALSE)","v":6}]
[null,"AMCP",{"$f":"INDEX(Organizations[],MATCH(Main3WData15[[#This Row],[Acronym]],AcronymList,0),1)","v":"ALLIANCE MEDICALE CONTRE LE PALUDISME"},{"$f":"INDEX(Organizations[],MATCH(Main3WData15[[#This Row],[Acronym]],AcronymList,0),3)","v":"ONG Int."},"Santé","Regulier","Tombouctou",{"$f":"VLOOKUP(Main3WData15[[#This Row],[Admin Unit Name]],AdminUnits[],2,FALSE)","v":"ML06"},{"$f":"VLOOKUP(Main3WData15[[#This Row],[Admin Unit Name]],AdminUnits[],3,FALSE)","v":"Nord"},{"$f":"VLOOKUP(Main3WData15[[#This Row],[Admin Unit Name]],AdminUnits[],4,FALSE)","v":6},{"$f":"VLOOKUP(Main3WData15[[#This Row],[Sector]],Sectors[],2,FALSE)","v":6}]
[null,"AVSF",{"$f":"INDEX(Organizations[],MATCH(Main3WData15[[#This Row],[Acronym]],AcronymList,0),1)","v":"Agronomes et Vétérinaires Sans Frontières"},{"$f":"INDEX(Organizations[],MATCH(Main3WData15[[#This Row],[Acronym]],AcronymList,0),3)","v":"ONG Int."},"Santé","Regulier","Tombouctou",{"$f":"VLOOKUP(Main3WData15[[#This Row],[Admin Unit Name]],AdminUnits[],2,FALSE)","v":"ML06"},{"$f":"VLOOKUP(Main3WData15[[#This Row],[Admin Unit Name]],AdminUnits[],3,FALSE)","v":"Nord"},{"$f":"VLOOKUP(Main3WData15[[#This Row],[Admin Unit Name]],AdminUnits[],4,FALSE)","v":6},{"$f":"VLOOKUP(Main3WData15[[#This Row],[Sector]],Sectors[],2,FALSE)","v":6}]
[null,"CARE Mali",{"$f":"INDEX(Organizations[],MATCH(Main3WData15[[#This Row],[Acronym]],AcronymList,0),1)","v":"CARE Interntional Mali"},{"$f":"INDEX(Organizations[],MATCH(Main3WData15[[#This Row],[Acronym]],AcronymList,0),3)","v":"ONG Int."},"Santé","Regulier","Tombouctou",{"$f":"VLOOKUP(Main3WData15[[#This Row],[Admin Unit Name]],AdminUnits[],2,FALSE)","v":"ML06"},{"$f":"VLOOKUP(Main3WData15[[#This Row],[Admin Unit Name]],AdminUnits[],3,FALSE)","v":"Nord"},{"$f":"VLOOKUP(Main3WData15[[#This Row],[Admin Unit Name]],AdminUnits[],4,FALSE)","v":6},{"$f":"VLOOKUP(Main3WData15[[#This Row],[Sector]],Sectors[],2,FALSE)","v":6}]
[null,"FIDA",{"$f":"INDEX(Organizations[],MATCH(Main3WData15[[#This Row],[Acronym]],AcronymList,0),1)","v":"Fonds international de développement agricole"},{"$f":"INDEX(Organizations[],MATCH(Main3WData15[[#This Row],[Acronym]],AcronymList,0),3)","v":"UN"},"Santé","Regulier","Tombouctou",{"$f":"VLOOKUP(Main3WData15[[#This Row],[Admin Unit Name]],AdminUnits[],2,FALSE)","v":"ML06"},{"$f":"VLOOKUP(Main3WData15[[#This Row],[Admin Unit Name]],AdminUnits[],3,FALSE)","v":"Nord"},{"$f":"VLOOKUP(Main3WData15[[#This Row],[Admin Unit Name]],AdminUnits[],4,FALSE)","v":6},{"$f":"VLOOKUP(Main3WData15[[#This Row],[Sector]],Sectors[],2,FALSE)","v":6}]
[null,"Handicap International",{"$f":"INDEX(Organizations[],MATCH(Main3WData15[[#This Row],[Acronym]],AcronymList,0),1)","v":{"$error":"#N/A"}},{"$f":"INDEX(Organizations[],MATCH(Main3WData15[[#This Row],[Acronym]],AcronymList,0),3)","v":{"$error":"#N/A"}},"Santé","Regulier","Tombouctou",{"$f":"VLOOKUP(Main3WData15[[#This Row],[Admin Unit Name]],AdminUnits[],2,FALSE)","v":"ML06"},{"$f":"VLOOKUP(Main3WData15[[#This Row],[Admin Unit Name]],AdminUnits[],3,FALSE)","v":"Nord"},{"$f":"VLOOKUP(Main3WData15[[#This Row],[Admin Unit Name]],AdminUnits[],4,FALSE)","v":6},{"$f":"VLOOKUP(Main3WData15[[#This Row],[Sector]],Sectors[],2,FALSE)","v":6}]
[null,"IMC",{"$f":"INDEX(Organizations[],MATCH(Main3WData15[[#This Row],[Acronym]],AcronymList,0),1)","v":"International Medical Corps"},{"$f":"INDEX(Organizations[],MATCH(Main3WData15[[#This Row],[Acronym]],AcronymList,0),3)","v":"ONG Int."},"Santé","Regulier","Tombouctou",{"$f":"VLOOKUP(Main3WData15[[#This Row],[Admin Unit Name]],AdminUnits[],2,FALSE)","v":"ML06"},{"$f":"VLOOKUP(Main3WData15[[#This Row],[Admin Unit Name]],AdminUnits[],3,FALSE)","v":"Nord"},{"$f":"VLOOKUP(Main3WData15[[#This Row],[Admin Unit Name]],AdminUnits[],4,FALSE)","v":6},{"$f":"VLOOKUP(Main3WData15[[#This Row],[Sector]],Sectors[],2,FALSE)","v":6}]
[null,"Lux Dev.",{"$f":"INDEX(Organizations[],MATCH(Main3WData15[[#This Row],[Acronym]],AcronymList,0),1)","v":"Lux Developpement"},{"$f":"INDEX(Organizations[],MATCH(Main3WData15[[#This Row],[Acronym]],AcronymList,0),3)","v":"ONG Int."},"Santé","Regulier","Tombouctou",{"$f":"VLOOKUP(Main3WData15[[#This Row],[Admin Unit Name]],AdminUnits[],2,FALSE)","v":"ML06"},{"$f":"VLOOKUP(Main3WData15[[#This Row],[Admin Unit Name]],AdminUnits[],3,FALSE)","v":"Nord"},{"$f":"VLOOKUP(Main3WData15[[#This Row],[Admin Unit Name]],AdminUnits[],4,FALSE)","v":6},{"$f":"VLOOKUP(Main3WData15[[#This Row],[Sector]],Sectors[],2,FALSE)","v":6}]
[null,"MERLIN",{"$f":"INDEX(Organizations[],MATCH(Main3WData15[[#This Row],[Acronym]],AcronymList,0),1)","v":"MERLIN"},{"$f":"INDEX(Organizations[],MATCH(Main3WData15[[#This Row],[Acronym]],AcronymList,0),3)","v":"ONG Int."},"Santé","Regulier","Tombouctou",{"$f":"VLOOKUP(Main3WData15[[#This Row],[Admin Unit Name]],AdminUnits[],2,FALSE)","v":"ML06"},{"$f":"VLOOKUP(Main3WData15[[#This Row],[Admin Unit Name]],AdminUnits[],3,FALSE)","v":"Nord"},{"$f":"VLOOKUP(Main3WData15[[#This Row],[Admin Unit Name]],AdminUnits[],4,FALSE)","v":6},{"$f":"VLOOKUP(Main3WData15[[#This Row],[Sector]],Sectors[],2,FALSE)","v":6}]
[null,"MSF",{"$f":"INDEX(Organizations[],MATCH(Main3WData15[[#This Row],[Acronym]],AcronymList,0),1)","v":"Médecins Sans Frontières"},{"$f":"INDEX(Organizations[],MATCH(Main3WData15[[#This Row],[Acronym]],AcronymList,0),3)","v":"ONG Int."},"Santé","Regulier","Tombouctou",{"$f":"VLOOKUP(Main3WData15[[#This Row],[Admin Unit Name]],AdminUnits[],2,FALSE)","v":"ML06"},{"$f":"VLOOKUP(Main3WData15[[#This Row],[Admin Unit Name]],AdminUnits[],3,FALSE)","v":"Nord"},{"$f":"VLOOKUP(Main3WData15[[#This Row],[Admin Unit Name]],AdminUnits[],4,FALSE)","v":6},{"$f":"VLOOKUP(Main3WData15[[#This Row],[Sector]],Sectors[],2,FALSE)","v":6}]
[null,"OMS",{"$f":"INDEX(Organizations[],MATCH(Main3WData15[[#This Row],[Acronym]],AcronymList,0),1)","v":"Organisation Mondiale de la Sante"},{"$f":"INDEX(Organizations[],MATCH(Main3WData15[[#This Row],[Acronym]],AcronymList,0),3)","v":"UN"},"Santé","Regulier","Tombouctou",{"$f":"VLOOKUP(Main3WData15[[#This Row],[Admin Unit Name]],AdminUnits[],2,FALSE)","v":"ML06"},{"$f":"VLOOKUP(Main3WData15[[#This Row],[Admin Unit Name]],AdminUnits[],3,FALSE)","v":"Nord"},{"$f":"VLOOKUP(Main3WData15[[#This Row],[Admin Unit Name]],AdminUnits[],4,FALSE)","v":6},{"$f":"VLOOKUP(Main3WData15[[#This Row],[Sector]],Sectors[],2,FALSE)","v":6}]
[null,"Santé Diabète",{"$f":"INDEX(Organizations[],MATCH(Main3WData15[[#This Row],[Acronym]],AcronymList,0),1)","v":"Santé Diabète"},{"$f":"INDEX(Organizations[],MATCH(Main3WData15[[#This Row],[Acronym]],AcronymList,0),3)","v":"ONG Nat."},"Santé","Regulier","Tombouctou",{"$f":"VLOOKUP(Main3WData15[[#This Row],[Admin Unit Name]],AdminUnits[],2,FALSE)","v":"ML06"},{"$f":"VLOOKUP(Main3WData15[[#This Row],[Admin Unit Name]],AdminUnits[],3,FALSE)","v":"Nord"},{"$f":"VLOOKUP(Main3WData15[[#This Row],[Admin Unit Name]],AdminUnits[],4,FALSE)","v":6},{"$f":"VLOOKUP(Main3WData15[[#This Row],[Sector]],Sectors[],2,FALSE)","v":6}]
[null,"SMARA",{"$f":"INDEX(Organizations[],MATCH(Main3WData15[[#This Row],[Acronym]],AcronymList,0),1)","v":"SMARA"},{"$f":"INDEX(Organizations[],MATCH(Main3WData15[[#This Row],[Acronym]],AcronymList,0),3)","v":"ONG Int."},"Santé","Regulier","Tombouctou",{"$f":"VLOOKUP(Main3WData15[[#This Row],[Admin Unit Name]],AdminUnits[],2,FALSE)","v":"ML06"},{"$f":"VLOOKUP(Main3WData15[[#This Row],[Admin Unit Name]],AdminUnits[],3,FALSE)","v":"Nord"},{"$f":"VLOOKUP(Main3WData15[[#This Row],[Admin Unit Name]],AdminUnits[],4,FALSE)","v":6},{"$f":"VLOOKUP(Main3WData15[[#This Row],[Sector]],Sectors[],2,FALSE)","v":6}]
[null,"ACTED",{"$f":"INDEX(Organizations[],MATCH(Main3WData15[[#This Row],[Acronym]],AcronymList,0),1)","v":"Agence d'aide à la coopération technique et au développement"},{"$f":"INDEX(Organizations[],MATCH(Main3WData15[[#This Row],[Acronym]],AcronymList,0),3)","v":"ONG Int."},"Sécurité alimentaire","Regulier","Bamako",{"$f":"VLOOKUP(Main3WData15[[#This Row],[Admin Unit Name]],AdminUnits[],2,FALSE)","v":"ML09"},{"$f":"VLOOKUP(Main3WData15[[#This Row],[Admin Unit Name]],AdminUnits[],3,FALSE)","v":"Sud"},{"$f":"VLOOKUP(Main3WData15[[#This Row],[Admin Unit Name]],AdminUnits[],4,FALSE)","v":0},{"$f":"VLOOKUP(Main3WData15[[#This Row],[Sector]],Sectors[],2,FALSE)","v":7}]
[null,"ONUFEMME",{"$f":"INDEX(Organizations[],MATCH(Main3WData15[[#This Row],[Acronym]],AcronymList,0),1)","v":"ONUFEMME"},{"$f":"INDEX(Organizations[],MATCH(Main3WData15[[#This Row],[Acronym]],AcronymList,0),3)","v":"UN"},"Sécurité alimentaire","Regulier","Bamako",{"$f":"VLOOKUP(Main3WData15[[#This Row],[Admin Unit Name]],AdminUnits[],2,FALSE)","v":"ML09"},{"$f":"VLOOKUP(Main3WData15[[#This Row],[Admin Unit Name]],AdminUnits[],3,FALSE)","v":"Sud"},{"$f":"VLOOKUP(Main3WData15[[#This Row],[Admin Unit Name]],AdminUnits[],4,FALSE)","v":0},{"$f":"VLOOKUP(Main3WData15[[#This Row],[Sector]],Sectors[],2,FALSE)","v":7}]
[null,"AMPRODE SAHEL",{"$f":"INDEX(Organizations[],MATCH(Main3WData15[[#This Row],[Acronym]],AcronymList,0),1)","v":"AMPRODE Sahel"},{"$f":"INDEX(Organizations[],MATCH(Main3WData15[[#This Row],[Acronym]],AcronymList,0),3)","v":"ONG Nat."},"Sécurité alimentaire","Regulier","Bamako",{"$f":"VLOOKUP(Main3WData15[[#This Row],[Admin Unit Name]],AdminUnits[],2,FALSE)","v":"ML09"},{"$f":"VLOOKUP(Main3WData15[[#This Row],[Admin Unit Name]],AdminUnits[],3,FALSE)","v":"Sud"},{"$f":"VLOOKUP(Main3WData15[[#This Row],[Admin Unit Name]],AdminUnits[],4,FALSE)","v":0},{"$f":"VLOOKUP(Main3WData15[[#This Row],[Sector]],Sectors[],2,FALSE)","v":7}]
[null,"APDF",{"$f":"INDEX(Organizations[],MATCH(Main3WData15[[#This Row],[Acronym]],AcronymList,0),1)","v":"APDF"},{"$f":"INDEX(Organizations[],MATCH(Main3WData15[[#This Row],[Acronym]],AcronymList,0),3)","v":"ONG Nat."},"Sécurité alimentaire","Regulier","Bamako",{"$f":"VLOOKUP(Main3WData15[[#This Row],[Admin Unit Name]],AdminUnits[],2,FALSE)","v":"ML09"},{"$f":"VLOOKUP(Main3WData15[[#This Row],[Admin Unit Name]],AdminUnits[],3,FALSE)","v":"Sud"},{"$f":"VLOOKUP(Main3WData15[[#This Row],[Admin Unit Name]],AdminUnits[],4,FALSE)","v":0},{"$f":"VLOOKUP(Main3WData15[[#This Row],[Sector]],Sectors[],2,FALSE)","v":7}]
[null,"FENAFER",{"$f":"INDEX(Organizations[],MATCH(Main3WData15[[#This Row],[Acronym]],AcronymList,0),1)","v":"Fédération Nationale des Femmes Rurales du Mali"},{"$f":"INDEX(Organizations[],MATCH(Main3WData15[[#This Row],[Acronym]],AcronymList,0),3)","v":"Association"},"Sécurité alimentaire","Regulier","Bamako",{"$f":"VLOOKUP(Main3WData15[[#This Row],[Admin Unit Name]],AdminUnits[],2,FALSE)","v":"ML09"},{"$f":"VLOOKUP(Main3WData15[[#This Row],[Admin Unit Name]],AdminUnits[],3,FALSE)","v":"Sud"},{"$f":"VLOOKUP(Main3WData15[[#This Row],[Admin Unit Name]],AdminUnits[],4,FALSE)","v":0},{"$f":"VLOOKUP(Main3WData15[[#This Row],[Sector]],Sectors[],2,FALSE)","v":7}]
[null,"GRDR",{"$f":"INDEX(Organizations[],MATCH(Main3WData15[[#This Row],[Acronym]],AcronymList,0),1)","v":"Groupe de Recherche et de Réalisation en Développement Rural "},{"$f":"INDEX(Organizations[],MATCH(Main3WData15[[#This Row],[Acronym]],AcronymList,0),3)","v":"ONG Int."},"Sécurité alimentaire","Regulier","Bamako",{"$f":"VLOOKUP(Main3WData15[[#This Row],[Admin Unit Name]],AdminUnits[],2,FALSE)","v":"ML09"},{"$f":"VLOOKUP(Main3WData15[[#This Row],[Admin Unit Name]],AdminUnits[],3,FALSE)","v":"Sud"},{"$f":"VLOOKUP(Main3WData15[[#This Row],[Admin Unit Name]],AdminUnits[],4,FALSE)","v":0},{"$f":"VLOOKUP(Main3WData15[[#This Row],[Sector]],Sectors[],2,FALSE)","v":7}]
[null,"MERCY CORPS",{"$f":"INDEX(Organizations[],MATCH(Main3WData15[[#This Row],[Acronym]],AcronymList,0),1)","v":"Mercy Corps"},{"$f":"INDEX(Organizations[],MATCH(Main3WData15[[#This Row],[Acronym]],AcronymList,0),3)","v":"ONG Int."},"Sécurité alimentaire","Regulier","Gao",{"$f":"VLOOKUP(Main3WData15[[#This Row],[Admin Unit Name]],AdminUnits[],2,FALSE)","v":"ML07"},{"$f":"VLOOKUP(Main3WData15[[#This Row],[Admin Unit Name]],AdminUnits[],3,FALSE)","v":"Nord"},{"$f":"VLOOKUP(Main3WData15[[#This Row],[Admin Unit Name]],AdminUnits[],4,FALSE)","v":7},{"$f":"VLOOKUP(Main3WData15[[#This Row],[Sector]],Sectors[],2,FALSE)","v":7}]
[null,"IRC",{"$f":"INDEX(Organizations[],MATCH(Main3WData15[[#This Row],[Acronym]],AcronymList,0),1)","v":"International Rescue Committee"},{"$f":"INDEX(Organizations[],MATCH(Main3WData15[[#This Row],[Acronym]],AcronymList,0),3)","v":"ONG Int."},"Sécurité alimentaire","Regulier","Gao",{"$f":"VLOOKUP(Main3WData15[[#This Row],[Admin Unit Name]],AdminUnits[],2,FALSE)","v":"ML07"},{"$f":"VLOOKUP(Main3WData15[[#This Row],[Admin Unit Name]],AdminUnits[],3,FALSE)","v":"Nord"},{"$f":"VLOOKUP(Main3WData15[[#This Row],[Admin Unit Name]],AdminUnits[],4,FALSE)","v":7},{"$f":"VLOOKUP(Main3WData15[[#This Row],[Sector]],Sectors[],2,FALSE)","v":7}]
[null,"ACF – Espagne",{"$f":"INDEX(Organizations[],MATCH(Main3WData15[[#This Row],[Acronym]],AcronymList,0),1)","v":"Action contre la faim Espagne"},{"$f":"INDEX(Organizations[],MATCH(Main3WData15[[#This Row],[Acronym]],AcronymList,0),3)","v":"ONG Int."},"Sécurité alimentaire","Regulier","Gao",{"$f":"VLOOKUP(Main3WData15[[#This Row],[Admin Unit Name]],AdminUnits[],2,FALSE)","v":"ML07"},{"$f":"VLOOKUP(Main3WData15[[#This Row],[Admin Unit Name]],AdminUnits[],3,FALSE)","v":"Nord"},{"$f":"VLOOKUP(Main3WData15[[#This Row],[Admin Unit Name]],AdminUnits[],4,FALSE)","v":7},{"$f":"VLOOKUP(Main3WData15[[#This Row],[Sector]],Sectors[],2,FALSE)","v":7}]
[null,"PAM",{"$f":"INDEX(Organizations[],MATCH(Main3WData15[[#This Row],[Acronym]],AcronymList,0),1)","v":"Programme Alimentaire Mondial"},{"$f":"INDEX(Organizations[],MATCH(Main3WData15[[#This Row],[Acronym]],AcronymList,0),3)","v":"UN"},"Sécurité alimentaire","Regulier","Gao",{"$f":"VLOOKUP(Main3WData15[[#This Row],[Admin Unit Name]],AdminUnits[],2,FALSE)","v":"ML07"},{"$f":"VLOOKUP(Main3WData15[[#This Row],[Admin Unit Name]],AdminUnits[],3,FALSE)","v":"Nord"},{"$f":"VLOOKUP(Main3WData15[[#This Row],[Admin Unit Name]],AdminUnits[],4,FALSE)","v":7},{"$f":"VLOOKUP(Main3WData15[[#This Row],[Sector]],Sectors[],2,FALSE)","v":7}]
[null,"OXFAM GB",{"$f":"INDEX(Organizations[],MATCH(Main3WData15[[#This Row],[Acronym]],AcronymList,0),1)","v":"OXFAM GB"},{"$f":"INDEX(Organizations[],MATCH(Main3WData15[[#This Row],[Acronym]],AcronymList,0),3)","v":"ONG Int."},"Sécurité alimentaire","Regulier","Gao",{"$f":"VLOOKUP(Main3WData15[[#This Row],[Admin Unit Name]],AdminUnits[],2,FALSE)","v":"ML07"},{"$f":"VLOOKUP(Main3WData15[[#This Row],[Admin Unit Name]],AdminUnits[],3,FALSE)","v":"Nord"},{"$f":"VLOOKUP(Main3WData15[[#This Row],[Admin Unit Name]],AdminUnits[],4,FALSE)","v":7},{"$f":"VLOOKUP(Main3WData15[[#This Row],[Sector]],Sectors[],2,FALSE)","v":7}]
[null,"TASSAGHT",{"$f":"INDEX(Organizations[],MATCH(Main3WData15[[#This Row],[Acronym]],AcronymList,0),1)","v":"Tassaght"},{"$f":"INDEX(Organizations[],MATCH(Main3WData15[[#This Row],[Acronym]],AcronymList,0),3)","v":"ONG Nat."},"Sécurité alimentaire","Regulier","Gao",{"$f":"VLOOKUP(Main3WData15[[#This Row],[Admin Unit Name]],AdminUnits[],2,FALSE)","v":"ML07"},{"$f":"VLOOKUP(Main3WData15[[#This Row],[Admin Unit Name]],AdminUnits[],3,FALSE)","v":"Nord"},{"$f":"VLOOKUP(Main3WData15[[#This Row],[Admin Unit Name]],AdminUnits[],4,FALSE)","v":7},{"$f":"VLOOKUP(Main3WData15[[#This Row],[Sector]],Sectors[],2,FALSE)","v":7}]
[null,"AVSF",{"$f":"INDEX(Organizations[],MATCH(Main3WData15[[#This Row],[Acronym]],AcronymList,0),1)","v":"Agronomes et Vétérinaires Sans Frontières"},{"$f":"INDEX(Organizations[],MATCH(Main3WData15[[#This Row],[Acronym]],AcronymList,0),3)","v":"ONG Int."},"Sécurité alimentaire","Regulier","Gao",{"$f":"VLOOKUP(Main3WData15[[#This Row],[Admin Unit Name]],AdminUnits[],2,FALSE)","v":"ML07"},{"$f":"VLOOKUP(Main3WData15[[#This Row],[Admin Unit Name]],AdminUnits[],3,FALSE)","v":"Nord"},{"$f":"VLOOKUP(Main3WData15[[#This Row],[Admin Unit Name]],AdminUnits[],4,FALSE)","v":7},{"$f":"VLOOKUP(Main3WData15[[#This Row],[Sector]],Sectors[],2,FALSE)","v":7}]
[null,"ADESAH",{"$f":"INDEX(Organizations[],MATCH(Main3WData15[[#This Row],[Acronym]],AcronymList,0),1)","v":"ADESAH"},{"$f":"INDEX(Organizations[],MATCH(Main3WData15[[#This Row],[Acronym]],AcronymList,0),3)","v":"ONG Nat."},"Sécurité alimentaire","Regulier","Gao",{"$f":"VLOOKUP(Main3WData15[[#This Row],[Admin Unit Name]],AdminUnits[],2,FALSE)","v":"ML07"},{"$f":"VLOOKUP(Main3WData15[[#This Row],[Admin Unit Name]],AdminUnits[],3,FALSE)","v":"Nord"},{"$f":"VLOOKUP(Main3WData15[[#This Row],[Admin Unit Name]],AdminUnits[],4,FALSE)","v":7},{"$f":"VLOOKUP(Main3WData15[[#This Row],[Sector]],Sectors[],2,FALSE)","v":7}]
[null,"CICR",{"$f":"INDEX(Organizations[],MATCH(Main3WData15[[#This Row],[Acronym]],AcronymList,0),1)","v":"Comite international de la croix rouge"},{"$f":"INDEX(Organizations[],MATCH(Main3WData15[[#This Row],[Acronym]],AcronymList,0),3)","v":"ONG Int."},"Sécurité alimentaire","Regulier","Gao",{"$f":"VLOOKUP(Main3WData15[[#This Row],[Admin Unit Name]],AdminUnits[],2,FALSE)","v":"ML07"},{"$f":"VLOOKUP(Main3WData15[[#This Row],[Admin Unit Name]],AdminUnits[],3,FALSE)","v":"Nord"},{"$f":"VLOOKUP(Main3WData15[[#This Row],[Admin Unit Name]],AdminUnits[],4,FALSE)","v":7},{"$f":"VLOOKUP(Main3WData15[[#This Row],[Sector]],Sectors[],2,FALSE)","v":7}]
[null,"Sahel Consult",{"$f":"INDEX(Organizations[],MATCH(Main3WData15[[#This Row],[Acronym]],AcronymList,0),1)","v":"Sahel Consult"},{"$f":"INDEX(Organizations[],MATCH(Main3WData15[[#This Row],[Acronym]],AcronymList,0),3)","v":"ONG Nat."},"Sécurité alimentaire","Regulier","Gao",{"$f":"VLOOKUP(Main3WData15[[#This Row],[Admin Unit Name]],AdminUnits[],2,FALSE)","v":"ML07"},{"$f":"VLOOKUP(Main3WData15[[#This Row],[Admin Unit Name]],AdminUnits[],3,FALSE)","v":"Nord"},{"$f":"VLOOKUP(Main3WData15[[#This Row],[Admin Unit Name]],AdminUnits[],4,FALSE)","v":7},{"$f":"VLOOKUP(Main3WData15[[#This Row],[Sector]],Sectors[],2,FALSE)","v":7}]
[null,"ONUFEMME",{"$f":"INDEX(Organizations[],MATCH(Main3WData15[[#This Row],[Acronym]],AcronymList,0),1)","v":"ONUFEMME"},{"$f":"INDEX(Organizations[],MATCH(Main3WData15[[#This Row],[Acronym]],AcronymList,0),3)","v":"UN"},"Sécurité alimentaire","Regulier","Gao",{"$f":"VLOOKUP(Main3WData15[[#This Row],[Admin Unit Name]],AdminUnits[],2,FALSE)","v":"ML07"},{"$f":"VLOOKUP(Main3WData15[[#This Row],[Admin Unit Name]],AdminUnits[],3,FALSE)","v":"Nord"},{"$f":"VLOOKUP(Main3WData15[[#This Row],[Admin Unit Name]],AdminUnits[],4,FALSE)","v":7},{"$f":"VLOOKUP(Main3WData15[[#This Row],[Sector]],Sectors[],2,FALSE)","v":7}]
[null,"GREFFA",{"$f":"INDEX(Organizations[],MATCH(Main3WData15[[#This Row],[Acronym]],AcronymList,0),1)","v":"GREFFA"},{"$f":"INDEX(Organizations[],MATCH(Main3WData15[[#This Row],[Acronym]],AcronymList,0),3)","v":"ONG Nat."},"Sécurité alimentaire","Regulier","Gao",{"$f":"VLOOKUP(Main3WData15[[#This Row],[Admin Unit Name]],AdminUnits[],2,FALSE)","v":"ML07"},{"$f":"VLOOKUP(Main3WData15[[#This Row],[Admin Unit Name]],AdminUnits[],3,FALSE)","v":"Nord"},{"$f":"VLOOKUP(Main3WData15[[#This Row],[Admin Unit Name]],AdminUnits[],4,FALSE)","v":7},{"$f":"VLOOKUP(Main3WData15[[#This Row],[Sector]],Sectors[],2,FALSE)","v":7}]
[null,"PAM",{"$f":"INDEX(Organizations[],MATCH(Main3WData15[[#This Row],[Acronym]],AcronymList,0),1)","v":"Programme Alimentaire Mondial"},{"$f":"INDEX(Organizations[],MATCH(Main3WData15[[#This Row],[Acronym]],AcronymList,0),3)","v":"UN"},"Sécurité alimentaire","Regulier","Kayes",{"$f":"VLOOKUP(Main3WData15[[#This Row],[Admin Unit Name]],AdminUnits[],2,FALSE)","v":"ML01"},{"$f":"VLOOKUP(Main3WData15[[#This Row],[Admin Unit Name]],AdminUnits[],3,FALSE)","v":"Sud"},{"$f":"VLOOKUP(Main3WData15[[#This Row],[Admin Unit Name]],AdminUnits[],4,FALSE)","v":1},{"$f":"VLOOKUP(Main3WData15[[#This Row],[Sector]],Sectors[],2,FALSE)","v":7}]
[null,"ADG",{"$f":"INDEX(Organizations[],MATCH(Main3WData15[[#This Row],[Acronym]],AcronymList,0),1)","v":"ADG"},{"$f":"INDEX(Organizations[],MATCH(Main3WData15[[#This Row],[Acronym]],AcronymList,0),3)","v":"ONG Nat."},"Sécurité alimentaire","Regulier","Kayes",{"$f":"VLOOKUP(Main3WData15[[#This Row],[Admin Unit Name]],AdminUnits[],2,FALSE)","v":"ML01"},{"$f":"VLOOKUP(Main3WData15[[#This Row],[Admin Unit Name]],AdminUnits[],3,FALSE)","v":"Sud"},{"$f":"VLOOKUP(Main3WData15[[#This Row],[Admin Unit Name]],AdminUnits[],4,FALSE)","v":1},{"$f":"VLOOKUP(Main3WData15[[#This Row],[Sector]],Sectors[],2,FALSE)","v":7}]
[null,"AVSF",{"$f":"INDEX(Organizations[],MATCH(Main3WData15[[#This Row],[Acronym]],AcronymList,0),1)","v":"Agronomes et Vétérinaires Sans Frontières"},{"$f":"INDEX(Organizations[],MATCH(Main3WData15[[#This Row],[Acronym]],AcronymList,0),3)","v":"ONG Int."},"Sécurité alimentaire","Regulier","Kayes",{"$f":"VLOOKUP(Main3WData15[[#This Row],[Admin Unit Name]],AdminUnits[],2,FALSE)","v":"ML01"},{"$f":"VLOOKUP(Main3WData15[[#This Row],[Admin Unit Name]],AdminUnits[],3,FALSE)","v":"Sud"},{"$f":"VLOOKUP(Main3WData15[[#This Row],[Admin Unit Name]],AdminUnits[],4,FALSE)","v":1},{"$f":"VLOOKUP(Main3WData15[[#This Row],[Sector]],Sectors[],2,FALSE)","v":7}]
[null,"DAMIER",{"$f":"INDEX(Organizations[],MATCH(Main3WData15[[#This Row],[Acronym]],AcronymList,0),1)","v":"Le DAMIER"},{"$f":"INDEX(Organizations[],MATCH(Main3WData15[[#This Row],[Acronym]],AcronymList,0),3)","v":"ONG Nat."},"Sécurité alimentaire","Regulier","Kayes",{"$f":"VLOOKUP(Main3WData15[[#This Row],[Admin Unit Name]],AdminUnits[],2,FALSE)","v":"ML01"},{"$f":"VLOOKUP(Main3WData15[[#This Row],[Admin Unit Name]],AdminUnits[],3,FALSE)","v":"Sud"},{"$f":"VLOOKUP(Main3WData15[[#This Row],[Admin Unit Name]],AdminUnits[],4,FALSE)","v":1},{"$f":"VLOOKUP(Main3WData15[[#This Row],[Sector]],Sectors[],2,FALSE)","v":7}]
[null,"WHH",{"$f":"INDEX(Organizations[],MATCH(Main3WData15[[#This Row],[Acronym]],AcronymList,0),1)","v":{"$error":"#N/A"}},{"$f":"INDEX(Organizations[],MATCH(Main3WData15[[#This Row],[Acronym]],AcronymList,0),3)","v":{"$error":"#N/A"}},"Sécurité alimentaire","Regulier","Kayes",{"$f":"VLOOKUP(Main3WData15[[#This Row],[Admin Unit Name]],AdminUnits[],2,FALSE)","v":"ML01"},{"$f":"VLOOKUP(Main3WData15[[#This Row],[Admin Unit Name]],AdminUnits[],3,FALSE)","v":"Sud"},{"$f":"VLOOKUP(Main3WData15[[#This Row],[Admin Unit Name]],AdminUnits[],4,FALSE)","v":1},{"$f":"VLOOKUP(Main3WData15[[#This Row],[Sector]],Sectors[],2,FALSE)","v":7}]
[null,"Save the Children",{"$f":"INDEX(Organizations[],MATCH(Main3WData15[[#This Row],[Acronym]],AcronymList,0),1)","v":"Save the Children"},{"$f":"INDEX(Organizations[],MATCH(Main3WData15[[#This Row],[Acronym]],AcronymList,0),3)","v":"ONG Int."},"Sécurité alimentaire","Regulier","Kayes",{"$f":"VLOOKUP(Main3WData15[[#This Row],[Admin Unit Name]],AdminUnits[],2,FALSE)","v":"ML01"},{"$f":"VLOOKUP(Main3WData15[[#This Row],[Admin Unit Name]],AdminUnits[],3,FALSE)","v":"Sud"},{"$f":"VLOOKUP(Main3WData15[[#This Row],[Admin Unit Name]],AdminUnits[],4,FALSE)","v":1},{"$f":"VLOOKUP(Main3WData15[[#This Row],[Sector]],Sectors[],2,FALSE)","v":7}]
[null,"ADR",{"$f":"INDEX(Organizations[],MATCH(Main3WData15[[#This Row],[Acronym]],AcronymList,0),1)","v":"ADR"},{"$f":"INDEX(Organizations[],MATCH(Main3WData15[[#This Row],[Acronym]],AcronymList,0),3)","v":"ONG Nat."},"Sécurité alimentaire","Regulier","Kayes",{"$f":"VLOOKUP(Main3WData15[[#This Row],[Admin Unit Name]],AdminUnits[],2,FALSE)","v":"ML01"},{"$f":"VLOOKUP(Main3WData15[[#This Row],[Admin Unit Name]],AdminUnits[],3,FALSE)","v":"Sud"},{"$f":"VLOOKUP(Main3WData15[[#This Row],[Admin Unit Name]],AdminUnits[],4,FALSE)","v":1},{"$f":"VLOOKUP(Main3WData15[[#This Row],[Sector]],Sectors[],2,FALSE)","v":7}]
[null,"AAA",{"$f":"INDEX(Organizations[],MATCH(Main3WData15[[#This Row],[Acronym]],AcronymList,0),1)","v":"Agro-Action allemande"},{"$f":"INDEX(Organizations[],MATCH(Main3WData15[[#This Row],[Acronym]],AcronymList,0),3)","v":"ONG Int."},"Sécurité alimentaire","Regulier","Kayes",{"$f":"VLOOKUP(Main3WData15[[#This Row],[Admin Unit Name]],AdminUnits[],2,FALSE)","v":"ML01"},{"$f":"VLOOKUP(Main3WData15[[#This Row],[Admin Unit Name]],AdminUnits[],3,FALSE)","v":"Sud"},{"$f":"VLOOKUP(Main3WData15[[#This Row],[Admin Unit Name]],AdminUnits[],4,FALSE)","v":1},{"$f":"VLOOKUP(Main3WData15[[#This Row],[Sector]],Sectors[],2,FALSE)","v":7}]
[null,"OXFAM GB",{"$f":"INDEX(Organizations[],MATCH(Main3WData15[[#This Row],[Acronym]],AcronymList,0),1)","v":"OXFAM GB"},{"$f":"INDEX(Organizations[],MATCH(Main3WData15[[#This Row],[Acronym]],AcronymList,0),3)","v":"ONG Int."},"Sécurité alimentaire","Regulier","Kayes",{"$f":"VLOOKUP(Main3WData15[[#This Row],[Admin Unit Name]],AdminUnits[],2,FALSE)","v":"ML01"},{"$f":"VLOOKUP(Main3WData15[[#This Row],[Admin Unit Name]],AdminUnits[],3,FALSE)","v":"Sud"},{"$f":"VLOOKUP(Main3WData15[[#This Row],[Admin Unit Name]],AdminUnits[],4,FALSE)","v":1},{"$f":"VLOOKUP(Main3WData15[[#This Row],[Sector]],Sectors[],2,FALSE)","v":7}]
[null,"Stop Sahel ",{"$f":"INDEX(Organizations[],MATCH(Main3WData15[[#This Row],[Acronym]],AcronymList,0),1)","v":{"$error":"#N/A"}},{"$f":"INDEX(Organizations[],MATCH(Main3WData15[[#This Row],[Acronym]],AcronymList,0),3)","v":{"$error":"#N/A"}},"Sécurité alimentaire","Regulier","Kayes",{"$f":"VLOOKUP(Main3WData15[[#This Row],[Admin Unit Name]],AdminUnits[],2,FALSE)","v":"ML01"},{"$f":"VLOOKUP(Main3WData15[[#This Row],[Admin Unit Name]],AdminUnits[],3,FALSE)","v":"Sud"},{"$f":"VLOOKUP(Main3WData15[[#This Row],[Admin Unit Name]],AdminUnits[],4,FALSE)","v":1},{"$f":"VLOOKUP(Main3WData15[[#This Row],[Sector]],Sectors[],2,FALSE)","v":7}]
[null,"GRDR",{"$f":"INDEX(Organizations[],MATCH(Main3WData15[[#This Row],[Acronym]],AcronymList,0),1)","v":"Groupe de Recherche et de Réalisation en Développement Rural "},{"$f":"INDEX(Organizations[],MATCH(Main3WData15[[#This Row],[Acronym]],AcronymList,0),3)","v":"ONG Int."},"Sécurité alimentaire","Regulier","Kayes",{"$f":"VLOOKUP(Main3WData15[[#This Row],[Admin Unit Name]],AdminUnits[],2,FALSE)","v":"ML01"},{"$f":"VLOOKUP(Main3WData15[[#This Row],[Admin Unit Name]],AdminUnits[],3,FALSE)","v":"Sud"},{"$f":"VLOOKUP(Main3WData15[[#This Row],[Admin Unit Name]],AdminUnits[],4,FALSE)","v":1},{"$f":"VLOOKUP(Main3WData15[[#This Row],[Sector]],Sectors[],2,FALSE)","v":7}]
[null,"ACF – Espagne",{"$f":"INDEX(Organizations[],MATCH(Main3WData15[[#This Row],[Acronym]],AcronymList,0),1)","v":"Action contre la faim Espagne"},{"$f":"INDEX(Organizations[],MATCH(Main3WData15[[#This Row],[Acronym]],AcronymList,0),3)","v":"ONG Int."},"Sécurité alimentaire","Regulier","Kayes",{"$f":"VLOOKUP(Main3WData15[[#This Row],[Admin Unit Name]],AdminUnits[],2,FALSE)","v":"ML01"},{"$f":"VLOOKUP(Main3WData15[[#This Row],[Admin Unit Name]],AdminUnits[],3,FALSE)","v":"Sud"},{"$f":"VLOOKUP(Main3WData15[[#This Row],[Admin Unit Name]],AdminUnits[],4,FALSE)","v":1},{"$f":"VLOOKUP(Main3WData15[[#This Row],[Sector]],Sectors[],2,FALSE)","v":7}]
[null,"MPDL",{"$f":"INDEX(Organizations[],MATCH(Main3WData15[[#This Row],[Acronym]],AcronymList,0),1)","v":"Mouvement pour la Paix "},{"$f":"INDEX(Organizations[],MATCH(Main3WData15[[#This Row],[Acronym]],AcronymList,0),3)","v":"ONG Int."},"Sécurité alimentaire","Regulier","Kayes",{"$f":"VLOOKUP(Main3WData15[[#This Row],[Admin Unit Name]],AdminUnits[],2,FALSE)","v":"ML01"},{"$f":"VLOOKUP(Main3WData15[[#This Row],[Admin Unit Name]],AdminUnits[],3,FALSE)","v":"Sud"},{"$f":"VLOOKUP(Main3WData15[[#This Row],[Admin Unit Name]],AdminUnits[],4,FALSE)","v":1},{"$f":"VLOOKUP(Main3WData15[[#This Row],[Sector]],Sectors[],2,FALSE)","v":7}]
[null,"NCA",{"$f":"INDEX(Organizations[],MATCH(Main3WData15[[#This Row],[Acronym]],AcronymList,0),1)","v":"Norwegian Church Aid"},{"$f":"INDEX(Organizations[],MATCH(Main3WData15[[#This Row],[Acronym]],AcronymList,0),3)","v":"ONG Int."},"Sécurité alimentaire","Regulier","Kidal",{"$f":"VLOOKUP(Main3WData15[[#This Row],[Admin Unit Name]],AdminUnits[],2,FALSE)","v":"ML08"},{"$f":"VLOOKUP(Main3WData15[[#This Row],[Admin Unit Name]],AdminUnits[],3,FALSE)","v":"Nord"},{"$f":"VLOOKUP(Main3WData15[[#This Row],[Admin Unit Name]],AdminUnits[],4,FALSE)","v":8},{"$f":"VLOOKUP(Main3WData15[[#This Row],[Sector]],Sectors[],2,FALSE)","v":7}]
[null,"PAM",{"$f":"INDEX(Organizations[],MATCH(Main3WData15[[#This Row],[Acronym]],AcronymList,0),1)","v":"Programme Alimentaire Mondial"},{"$f":"INDEX(Organizations[],MATCH(Main3WData15[[#This Row],[Acronym]],AcronymList,0),3)","v":"UN"},"Sécurité alimentaire","Regulier","Kidal",{"$f":"VLOOKUP(Main3WData15[[#This Row],[Admin Unit Name]],AdminUnits[],2,FALSE)","v":"ML08"},{"$f":"VLOOKUP(Main3WData15[[#This Row],[Admin Unit Name]],AdminUnits[],3,FALSE)","v":"Nord"},{"$f":"VLOOKUP(Main3WData15[[#This Row],[Admin Unit Name]],AdminUnits[],4,FALSE)","v":8},{"$f":"VLOOKUP(Main3WData15[[#This Row],[Sector]],Sectors[],2,FALSE)","v":7}]
[null,"MDM Belgique",{"$f":"INDEX(Organizations[],MATCH(Main3WData15[[#This Row],[Acronym]],AcronymList,0),1)","v":"Médecins Du Monde Belgique"},{"$f":"INDEX(Organizations[],MATCH(Main3WData15[[#This Row],[Acronym]],AcronymList,0),3)","v":"ONG Int."},"Sécurité alimentaire","Regulier","Kidal",{"$f":"VLOOKUP(Main3WData15[[#This Row],[Admin Unit Name]],AdminUnits[],2,FALSE)","v":"ML08"},{"$f":"VLOOKUP(Main3WData15[[#This Row],[Admin Unit Name]],AdminUnits[],3,FALSE)","v":"Nord"},{"$f":"VLOOKUP(Main3WData15[[#This Row],[Admin Unit Name]],AdminUnits[],4,FALSE)","v":8},{"$f":"VLOOKUP(Main3WData15[[#This Row],[Sector]],Sectors[],2,FALSE)","v":7}]
[null,"IRC",{"$f":"INDEX(Organizations[],MATCH(Main3WData15[[#This Row],[Acronym]],AcronymList,0),1)","v":"International Rescue Committee"},{"$f":"INDEX(Organizations[],MATCH(Main3WData15[[#This Row],[Acronym]],AcronymList,0),3)","v":"ONG Int."},"Sécurité alimentaire","Regulier","Kidal",{"$f":"VLOOKUP(Main3WData15[[#This Row],[Admin Unit Name]],AdminUnits[],2,FALSE)","v":"ML08"},{"$f":"VLOOKUP(Main3WData15[[#This Row],[Admin Unit Name]],AdminUnits[],3,FALSE)","v":"Nord"},{"$f":"VLOOKUP(Main3WData15[[#This Row],[Admin Unit Name]],AdminUnits[],4,FALSE)","v":8},{"$f":"VLOOKUP(Main3WData15[[#This Row],[Sector]],Sectors[],2,FALSE)","v":7}]
[null,"ONUFEMME",{"$f":"INDEX(Organizations[],MATCH(Main3WData15[[#This Row],[Acronym]],AcronymList,0),1)","v":"ONUFEMME"},{"$f":"INDEX(Organizations[],MATCH(Main3WData15[[#This Row],[Acronym]],AcronymList,0),3)","v":"UN"},"Sécurité alimentaire","Regulier","Kidal",{"$f":"VLOOKUP(Main3WData15[[#This Row],[Admin Unit Name]],AdminUnits[],2,FALSE)","v":"ML08"},{"$f":"VLOOKUP(Main3WData15[[#This Row],[Admin Unit Name]],AdminUnits[],3,FALSE)","v":"Nord"},{"$f":"VLOOKUP(Main3WData15[[#This Row],[Admin Unit Name]],AdminUnits[],4,FALSE)","v":8},{"$f":"VLOOKUP(Main3WData15[[#This Row],[Sector]],Sectors[],2,FALSE)","v":7}]
[null,"EFFAD",{"$f":"INDEX(Organizations[],MATCH(Main3WData15[[#This Row],[Acronym]],AcronymList,0),1)","v":"EFFAD"},{"$f":"INDEX(Organizations[],MATCH(Main3WData15[[#This Row],[Acronym]],AcronymList,0),3)","v":"ONG Nat."},"Sécurité alimentaire","Regulier","Kidal",{"$f":"VLOOKUP(Main3WData15[[#This Row],[Admin Unit Name]],AdminUnits[],2,FALSE)","v":"ML08"},{"$f":"VLOOKUP(Main3WData15[[#This Row],[Admin Unit Name]],AdminUnits[],3,FALSE)","v":"Nord"},{"$f":"VLOOKUP(Main3WData15[[#This Row],[Admin Unit Name]],AdminUnits[],4,FALSE)","v":8},{"$f":"VLOOKUP(Main3WData15[[#This Row],[Sector]],Sectors[],2,FALSE)","v":7}]
[null,"PAM",{"$f":"INDEX(Organizations[],MATCH(Main3WData15[[#This Row],[Acronym]],AcronymList,0),1)","v":"Programme Alimentaire Mondial"},{"$f":"INDEX(Organizations[],MATCH(Main3WData15[[#This Row],[Acronym]],AcronymList,0),3)","v":"UN"},"Sécurité alimentaire","Regulier","Koulikoro",{"$f":"VLOOKUP(Main3WData15[[#This Row],[Admin Unit Name]],AdminUnits[],2,FALSE)","v":"ML02"},{"$f":"VLOOKUP(Main3WData15[[#This Row],[Admin Unit Name]],AdminUnits[],3,FALSE)","v":"Sud"},{"$f":"VLOOKUP(Main3WData15[[#This Row],[Admin Unit Name]],AdminUnits[],4,FALSE)","v":2},{"$f":"VLOOKUP(Main3WData15[[#This Row],[Sector]],Sectors[],2,FALSE)","v":7}]
[null,"CSPEEDA",{"$f":"INDEX(Organizations[],MATCH(Main3WData15[[#This Row],[Acronym]],AcronymList,0),1)","v":"CSPEEDA"},{"$f":"INDEX(Organizations[],MATCH(Main3WData15[[#This Row],[Acronym]],AcronymList,0),3)","v":"ONG Nat."},"Sécurité alimentaire","Regulier","Koulikoro",{"$f":"VLOOKUP(Main3WData15[[#This Row],[Admin Unit Name]],AdminUnits[],2,FALSE)","v":"ML02"},{"$f":"VLOOKUP(Main3WData15[[#This Row],[Admin Unit Name]],AdminUnits[],3,FALSE)","v":"Sud"},{"$f":"VLOOKUP(Main3WData15[[#This Row],[Admin Unit Name]],AdminUnits[],4,FALSE)","v":2},{"$f":"VLOOKUP(Main3WData15[[#This Row],[Sector]],Sectors[],2,FALSE)","v":7}]
[null,"ACF – Espagne",{"$f":"INDEX(Organizations[],MATCH(Main3WData15[[#This Row],[Acronym]],AcronymList,0),1)","v":"Action contre la faim Espagne"},{"$f":"INDEX(Organizations[],MATCH(Main3WData15[[#This Row],[Acronym]],AcronymList,0),3)","v":"ONG Int."},"Sécurité alimentaire","Regulier","Koulikoro",{"$f":"VLOOKUP(Main3WData15[[#This Row],[Admin Unit Name]],AdminUnits[],2,FALSE)","v":"ML02"},{"$f":"VLOOKUP(Main3WData15[[#This Row],[Admin Unit Name]],AdminUnits[],3,FALSE)","v":"Sud"},{"$f":"VLOOKUP(Main3WData15[[#This Row],[Admin Unit Name]],AdminUnits[],4,FALSE)","v":2},{"$f":"VLOOKUP(Main3WData15[[#This Row],[Sector]],Sectors[],2,FALSE)","v":7}]
[null,"WHH",{"$f":"INDEX(Organizations[],MATCH(Main3WData15[[#This Row],[Acronym]],AcronymList,0),1)","v":{"$error":"#N/A"}},{"$f":"INDEX(Organizations[],MATCH(Main3WData15[[#This Row],[Acronym]],AcronymList,0),3)","v":{"$error":"#N/A"}},"Sécurité alimentaire","Regulier","Koulikoro",{"$f":"VLOOKUP(Main3WData15[[#This Row],[Admin Unit Name]],AdminUnits[],2,FALSE)","v":"ML02"},{"$f":"VLOOKUP(Main3WData15[[#This Row],[Admin Unit Name]],AdminUnits[],3,FALSE)","v":"Sud"},{"$f":"VLOOKUP(Main3WData15[[#This Row],[Admin Unit Name]],AdminUnits[],4,FALSE)","v":2},{"$f":"VLOOKUP(Main3WData15[[#This Row],[Sector]],Sectors[],2,FALSE)","v":7}]
[null,"REACH ITALIA",{"$f":"INDEX(Organizations[],MATCH(Main3WData15[[#This Row],[Acronym]],AcronymList,0),1)","v":"Reach Italia"},{"$f":"INDEX(Organizations[],MATCH(Main3WData15[[#This Row],[Acronym]],AcronymList,0),3)","v":"ONG Int."},"Sécurité alimentaire","Regulier","Koulikoro",{"$f":"VLOOKUP(Main3WData15[[#This Row],[Admin Unit Name]],AdminUnits[],2,FALSE)","v":"ML02"},{"$f":"VLOOKUP(Main3WData15[[#This Row],[Admin Unit Name]],AdminUnits[],3,FALSE)","v":"Sud"},{"$f":"VLOOKUP(Main3WData15[[#This Row],[Admin Unit Name]],AdminUnits[],4,FALSE)","v":2},{"$f":"VLOOKUP(Main3WData15[[#This Row],[Sector]],Sectors[],2,FALSE)","v":7}]
[null,"FAO",{"$f":"INDEX(Organizations[],MATCH(Main3WData15[[#This Row],[Acronym]],AcronymList,0),1)","v":"United Nations Food and Agriculture Organization"},{"$f":"INDEX(Organizations[],MATCH(Main3WData15[[#This Row],[Acronym]],AcronymList,0),3)","v":"UN"},"Sécurité alimentaire","Regulier","Koulikoro",{"$f":"VLOOKUP(Main3WData15[[#This Row],[Admin Unit Name]],AdminUnits[],2,FALSE)","v":"ML02"},{"$f":"VLOOKUP(Main3WData15[[#This Row],[Admin Unit Name]],AdminUnits[],3,FALSE)","v":"Sud"},{"$f":"VLOOKUP(Main3WData15[[#This Row],[Admin Unit Name]],AdminUnits[],4,FALSE)","v":2},{"$f":"VLOOKUP(Main3WData15[[#This Row],[Sector]],Sectors[],2,FALSE)","v":7}]
[null,"CISV",{"$f":"INDEX(Organizations[],MATCH(Main3WData15[[#This Row],[Acronym]],AcronymList,0),1)","v":"Comunità Impegno Servizio Volontariato"},{"$f":"INDEX(Organizations[],MATCH(Main3WData15[[#This Row],[Acronym]],AcronymList,0),3)","v":"ONG Nat."},"Sécurité alimentaire","Regulier","Koulikoro",{"$f":"VLOOKUP(Main3WData15[[#This Row],[Admin Unit Name]],AdminUnits[],2,FALSE)","v":"ML02"},{"$f":"VLOOKUP(Main3WData15[[#This Row],[Admin Unit Name]],AdminUnits[],3,FALSE)","v":"Sud"},{"$f":"VLOOKUP(Main3WData15[[#This Row],[Admin Unit Name]],AdminUnits[],4,FALSE)","v":2},{"$f":"VLOOKUP(Main3WData15[[#This Row],[Sector]],Sectors[],2,FALSE)","v":7}]
[null,"ONUFEMME",{"$f":"INDEX(Organizations[],MATCH(Main3WData15[[#This Row],[Acronym]],AcronymList,0),1)","v":"ONUFEMME"},{"$f":"INDEX(Organizations[],MATCH(Main3WData15[[#This Row],[Acronym]],AcronymList,0),3)","v":"UN"},"Sécurité alimentaire","Regulier","Koulikoro",{"$f":"VLOOKUP(Main3WData15[[#This Row],[Admin Unit Name]],AdminUnits[],2,FALSE)","v":"ML02"},{"$f":"VLOOKUP(Main3WData15[[#This Row],[Admin Unit Name]],AdminUnits[],3,FALSE)","v":"Sud"},{"$f":"VLOOKUP(Main3WData15[[#This Row],[Admin Unit Name]],AdminUnits[],4,FALSE)","v":2},{"$f":"VLOOKUP(Main3WData15[[#This Row],[Sector]],Sectors[],2,FALSE)","v":7}]
[null,"GRDR",{"$f":"INDEX(Organizations[],MATCH(Main3WData15[[#This Row],[Acronym]],AcronymList,0),1)","v":"Groupe de Recherche et de Réalisation en Développement Rural "},{"$f":"INDEX(Organizations[],MATCH(Main3WData15[[#This Row],[Acronym]],AcronymList,0),3)","v":"ONG Int."},"Sécurité alimentaire","Regulier","Koulikoro",{"$f":"VLOOKUP(Main3WData15[[#This Row],[Admin Unit Name]],AdminUnits[],2,FALSE)","v":"ML02"},{"$f":"VLOOKUP(Main3WData15[[#This Row],[Admin Unit Name]],AdminUnits[],3,FALSE)","v":"Sud"},{"$f":"VLOOKUP(Main3WData15[[#This Row],[Admin Unit Name]],AdminUnits[],4,FALSE)","v":2},{"$f":"VLOOKUP(Main3WData15[[#This Row],[Sector]],Sectors[],2,FALSE)","v":7}]
[null,"BØRNEfonden",{"$f":"INDEX(Organizations[],MATCH(Main3WData15[[#This Row],[Acronym]],AcronymList,0),1)","v":"BØRNEfonden"},{"$f":"INDEX(Organizations[],MATCH(Main3WData15[[#This Row],[Acronym]],AcronymList,0),3)","v":"ONG Int."},"Sécurité alimentaire","Regulier","Koulikoro",{"$f":"VLOOKUP(Main3WData15[[#This Row],[Admin Unit Name]],AdminUnits[],2,FALSE)","v":"ML02"},{"$f":"VLOOKUP(Main3WData15[[#This Row],[Admin Unit Name]],AdminUnits[],3,FALSE)","v":"Sud"},{"$f":"VLOOKUP(Main3WData15[[#This Row],[Admin Unit Name]],AdminUnits[],4,FALSE)","v":2},{"$f":"VLOOKUP(Main3WData15[[#This Row],[Sector]],Sectors[],2,FALSE)","v":7}]
[null,"Le tonus",{"$f":"INDEX(Organizations[],MATCH(Main3WData15[[#This Row],[Acronym]],AcronymList,0),1)","v":{"$error":"#N/A"}},{"$f":"INDEX(Organizations[],MATCH(Main3WData15[[#This Row],[Acronym]],AcronymList,0),3)","v":{"$error":"#N/A"}},"Sécurité alimentaire","Regulier","Koulikoro",{"$f":"VLOOKUP(Main3WData15[[#This Row],[Admin Unit Name]],AdminUnits[],2,FALSE)","v":"ML02"},{"$f":"VLOOKUP(Main3WData15[[#This Row],[Admin Unit Name]],AdminUnits[],3,FALSE)","v":"Sud"},{"$f":"VLOOKUP(Main3WData15[[#This Row],[Admin Unit Name]],AdminUnits[],4,FALSE)","v":2},{"$f":"VLOOKUP(Main3WData15[[#This Row],[Sector]],Sectors[],2,FALSE)","v":7}]
[null,"CRS",{"$f":"INDEX(Organizations[],MATCH(Main3WData15[[#This Row],[Acronym]],AcronymList,0),1)","v":"Catholic Relief Services"},{"$f":"INDEX(Organizations[],MATCH(Main3WData15[[#This Row],[Acronym]],AcronymList,0),3)","v":"ONG Int."},"Sécurité alimentaire","Regulier","Koulikoro",{"$f":"VLOOKUP(Main3WData15[[#This Row],[Admin Unit Name]],AdminUnits[],2,FALSE)","v":"ML02"},{"$f":"VLOOKUP(Main3WData15[[#This Row],[Admin Unit Name]],AdminUnits[],3,FALSE)","v":"Sud"},{"$f":"VLOOKUP(Main3WData15[[#This Row],[Admin Unit Name]],AdminUnits[],4,FALSE)","v":2},{"$f":"VLOOKUP(Main3WData15[[#This Row],[Sector]],Sectors[],2,FALSE)","v":7}]
[null,"AAA",{"$f":"INDEX(Organizations[],MATCH(Main3WData15[[#This Row],[Acronym]],AcronymList,0),1)","v":"Agro-Action allemande"},{"$f":"INDEX(Organizations[],MATCH(Main3WData15[[#This Row],[Acronym]],AcronymList,0),3)","v":"ONG Int."},"Sécurité alimentaire","Regulier","Koulikoro",{"$f":"VLOOKUP(Main3WData15[[#This Row],[Admin Unit Name]],AdminUnits[],2,FALSE)","v":"ML02"},{"$f":"VLOOKUP(Main3WData15[[#This Row],[Admin Unit Name]],AdminUnits[],3,FALSE)","v":"Sud"},{"$f":"VLOOKUP(Main3WData15[[#This Row],[Admin Unit Name]],AdminUnits[],4,FALSE)","v":2},{"$f":"VLOOKUP(Main3WData15[[#This Row],[Sector]],Sectors[],2,FALSE)","v":7}]
[null,"AFRICARE",{"$f":"INDEX(Organizations[],MATCH(Main3WData15[[#This Row],[Acronym]],AcronymList,0),1)","v":"AFRICARE"},{"$f":"INDEX(Organizations[],MATCH(Main3WData15[[#This Row],[Acronym]],AcronymList,0),3)","v":"ONG Int."},"Sécurité alimentaire","Regulier","Koulikoro",{"$f":"VLOOKUP(Main3WData15[[#This Row],[Admin Unit Name]],AdminUnits[],2,FALSE)","v":"ML02"},{"$f":"VLOOKUP(Main3WData15[[#This Row],[Admin Unit Name]],AdminUnits[],3,FALSE)","v":"Sud"},{"$f":"VLOOKUP(Main3WData15[[#This Row],[Admin Unit Name]],AdminUnits[],4,FALSE)","v":2},{"$f":"VLOOKUP(Main3WData15[[#This Row],[Sector]],Sectors[],2,FALSE)","v":7}]
[null,"PAM",{"$f":"INDEX(Organizations[],MATCH(Main3WData15[[#This Row],[Acronym]],AcronymList,0),1)","v":"Programme Alimentaire Mondial"},{"$f":"INDEX(Organizations[],MATCH(Main3WData15[[#This Row],[Acronym]],AcronymList,0),3)","v":"UN"},"Sécurité alimentaire","Regulier","Mopti",{"$f":"VLOOKUP(Main3WData15[[#This Row],[Admin Unit Name]],AdminUnits[],2,FALSE)","v":"ML05"},{"$f":"VLOOKUP(Main3WData15[[#This Row],[Admin Unit Name]],AdminUnits[],3,FALSE)","v":"Sud"},{"$f":"VLOOKUP(Main3WData15[[#This Row],[Admin Unit Name]],AdminUnits[],4,FALSE)","v":5},{"$f":"VLOOKUP(Main3WData15[[#This Row],[Sector]],Sectors[],2,FALSE)","v":7}]
[null,"CARE MALI",{"$f":"INDEX(Organizations[],MATCH(Main3WData15[[#This Row],[Acronym]],AcronymList,0),1)","v":"CARE Interntional Mali"},{"$f":"INDEX(Organizations[],MATCH(Main3WData15[[#This Row],[Acronym]],AcronymList,0),3)","v":"ONG Int."},"Sécurité alimentaire","Regulier","Mopti",{"$f":"VLOOKUP(Main3WData15[[#This Row],[Admin Unit Name]],AdminUnits[],2,FALSE)","v":"ML05"},{"$f":"VLOOKUP(Main3WData15[[#This Row],[Admin Unit Name]],AdminUnits[],3,FALSE)","v":"Sud"},{"$f":"VLOOKUP(Main3WData15[[#This Row],[Admin Unit Name]],AdminUnits[],4,FALSE)","v":5},{"$f":"VLOOKUP(Main3WData15[[#This Row],[Sector]],Sectors[],2,FALSE)","v":7}]
[null,"WHH",{"$f":"INDEX(Organizations[],MATCH(Main3WData15[[#This Row],[Acronym]],AcronymList,0),1)","v":{"$error":"#N/A"}},{"$f":"INDEX(Organizations[],MATCH(Main3WData15[[#This Row],[Acronym]],AcronymList,0),3)","v":{"$error":"#N/A"}},"Sécurité alimentaire","Regulier","Mopti",{"$f":"VLOOKUP(Main3WData15[[#This Row],[Admin Unit Name]],AdminUnits[],2,FALSE)","v":"ML05"},{"$f":"VLOOKUP(Main3WData15[[#This Row],[Admin Unit Name]],AdminUnits[],3,FALSE)","v":"Sud"},{"$f":"VLOOKUP(Main3WData15[[#This Row],[Admin Unit Name]],AdminUnits[],4,FALSE)","v":5},{"$f":"VLOOKUP(Main3WData15[[#This Row],[Sector]],Sectors[],2,FALSE)","v":7}]
[null,"FAO",{"$f":"INDEX(Organizations[],MATCH(Main3WData15[[#This Row],[Acronym]],AcronymList,0),1)","v":"United Nations Food and Agriculture Organization"},{"$f":"INDEX(Organizations[],MATCH(Main3WData15[[#This Row],[Acronym]],AcronymList,0),3)","v":"UN"},"Sécurité alimentaire","Regulier","Mopti",{"$f":"VLOOKUP(Main3WData15[[#This Row],[Admin Unit Name]],AdminUnits[],2,FALSE)","v":"ML05"},{"$f":"VLOOKUP(Main3WData15[[#This Row],[Admin Unit Name]],AdminUnits[],3,FALSE)","v":"Sud"},{"$f":"VLOOKUP(Main3WData15[[#This Row],[Admin Unit Name]],AdminUnits[],4,FALSE)","v":5},{"$f":"VLOOKUP(Main3WData15[[#This Row],[Sector]],Sectors[],2,FALSE)","v":7}]
[null,"VSF",{"$f":"INDEX(Organizations[],MATCH(Main3WData15[[#This Row],[Acronym]],AcronymList,0),1)","v":"Vétérinaire sans Frontière Mali"},{"$f":"INDEX(Organizations[],MATCH(Main3WData15[[#This Row],[Acronym]],AcronymList,0),3)","v":"Org Int."},"Sécurité alimentaire","Regulier","Mopti",{"$f":"VLOOKUP(Main3WData15[[#This Row],[Admin Unit Name]],AdminUnits[],2,FALSE)","v":"ML05"},{"$f":"VLOOKUP(Main3WData15[[#This Row],[Admin Unit Name]],AdminUnits[],3,FALSE)","v":"Sud"},{"$f":"VLOOKUP(Main3WData15[[#This Row],[Admin Unit Name]],AdminUnits[],4,FALSE)","v":5},{"$f":"VLOOKUP(Main3WData15[[#This Row],[Sector]],Sectors[],2,FALSE)","v":7}]
[null,"GAAS-Mali",{"$f":"INDEX(Organizations[],MATCH(Main3WData15[[#This Row],[Acronym]],AcronymList,0),1)","v":{"$error":"#N/A"}},{"$f":"INDEX(Organizations[],MATCH(Main3WData15[[#This Row],[Acronym]],AcronymList,0),3)","v":{"$error":"#N/A"}},"Sécurité alimentaire","Regulier","Mopti",{"$f":"VLOOKUP(Main3WData15[[#This Row],[Admin Unit Name]],AdminUnits[],2,FALSE)","v":"ML05"},{"$f":"VLOOKUP(Main3WData15[[#This Row],[Admin Unit Name]],AdminUnits[],3,FALSE)","v":"Sud"},{"$f":"VLOOKUP(Main3WData15[[#This Row],[Admin Unit Name]],AdminUnits[],4,FALSE)","v":5},{"$f":"VLOOKUP(Main3WData15[[#This Row],[Sector]],Sectors[],2,FALSE)","v":7}]
[null,"AVSF",{"$f":"INDEX(Organizations[],MATCH(Main3WData15[[#This Row],[Acronym]],AcronymList,0),1)","v":"Agronomes et Vétérinaires Sans Frontières"},{"$f":"INDEX(Organizations[],MATCH(Main3WData15[[#This Row],[Acronym]],AcronymList,0),3)","v":"ONG Int."},"Sécurité alimentaire","Regulier","Mopti",{"$f":"VLOOKUP(Main3WData15[[#This Row],[Admin Unit Name]],AdminUnits[],2,FALSE)","v":"ML05"},{"$f":"VLOOKUP(Main3WData15[[#This Row],[Admin Unit Name]],AdminUnits[],3,FALSE)","v":"Sud"},{"$f":"VLOOKUP(Main3WData15[[#This Row],[Admin Unit Name]],AdminUnits[],4,FALSE)","v":5},{"$f":"VLOOKUP(Main3WData15[[#This Row],[Sector]],Sectors[],2,FALSE)","v":7}]
[null,"ICD",{"$f":"INDEX(Organizations[],MATCH(Main3WData15[[#This Row],[Acronym]],AcronymList,0),1)","v":"Initiatives-Conseils-Développement"},{"$f":"INDEX(Organizations[],MATCH(Main3WData15[[#This Row],[Acronym]],AcronymList,0),3)","v":"Association"},"Sécurité alimentaire","Regulier","Mopti",{"$f":"VLOOKUP(Main3WData15[[#This Row],[Admin Unit Name]],AdminUnits[],2,FALSE)","v":"ML05"},{"$f":"VLOOKUP(Main3WData15[[#This Row],[Admin Unit Name]],AdminUnits[],3,FALSE)","v":"Sud"},{"$f":"VLOOKUP(Main3WData15[[#This Row],[Admin Unit Name]],AdminUnits[],4,FALSE)","v":5},{"$f":"VLOOKUP(Main3WData15[[#This Row],[Sector]],Sectors[],2,FALSE)","v":7}]
[null,"CRS",{"$f":"INDEX(Organizations[],MATCH(Main3WData15[[#This Row],[Acronym]],AcronymList,0),1)","v":"Catholic Relief Services"},{"$f":"INDEX(Organizations[],MATCH(Main3WData15[[#This Row],[Acronym]],AcronymList,0),3)","v":"ONG Int."},"Sécurité alimentaire","Regulier","Mopti",{"$f":"VLOOKUP(Main3WData15[[#This Row],[Admin Unit Name]],AdminUnits[],2,FALSE)","v":"ML05"},{"$f":"VLOOKUP(Main3WData15[[#This Row],[Admin Unit Name]],AdminUnits[],3,FALSE)","v":"Sud"},{"$f":"VLOOKUP(Main3WData15[[#This Row],[Admin Unit Name]],AdminUnits[],4,FALSE)","v":5},{"$f":"VLOOKUP(Main3WData15[[#This Row],[Sector]],Sectors[],2,FALSE)","v":7}]
[null,"CARITAS MOPTI",{"$f":"INDEX(Organizations[],MATCH(Main3WData15[[#This Row],[Acronym]],AcronymList,0),1)","v":"Caritas Mopti"},{"$f":"INDEX(Organizations[],MATCH(Main3WData15[[#This Row],[Acronym]],AcronymList,0),3)","v":"ONG Int."},"Sécurité alimentaire","Regulier","Mopti",{"$f":"VLOOKUP(Main3WData15[[#This Row],[Admin Unit Name]],AdminUnits[],2,FALSE)","v":"ML05"},{"$f":"VLOOKUP(Main3WData15[[#This Row],[Admin Unit Name]],AdminUnits[],3,FALSE)","v":"Sud"},{"$f":"VLOOKUP(Main3WData15[[#This Row],[Admin Unit Name]],AdminUnits[],4,FALSE)","v":5},{"$f":"VLOOKUP(Main3WData15[[#This Row],[Sector]],Sectors[],2,FALSE)","v":7}]
[null,"AMPRODE SAHEL",{"$f":"INDEX(Organizations[],MATCH(Main3WData15[[#This Row],[Acronym]],AcronymList,0),1)","v":"AMPRODE Sahel"},{"$f":"INDEX(Organizations[],MATCH(Main3WData15[[#This Row],[Acronym]],AcronymList,0),3)","v":"ONG Nat."},"Sécurité alimentaire","Regulier","Mopti",{"$f":"VLOOKUP(Main3WData15[[#This Row],[Admin Unit Name]],AdminUnits[],2,FALSE)","v":"ML05"},{"$f":"VLOOKUP(Main3WData15[[#This Row],[Admin Unit Name]],AdminUnits[],3,FALSE)","v":"Sud"},{"$f":"VLOOKUP(Main3WData15[[#This Row],[Admin Unit Name]],AdminUnits[],4,FALSE)","v":5},{"$f":"VLOOKUP(Main3WData15[[#This Row],[Sector]],Sectors[],2,FALSE)","v":7}]
[null,"CISV",{"$f":"INDEX(Organizations[],MATCH(Main3WData15[[#This Row],[Acronym]],AcronymList,0),1)","v":"Comunità Impegno Servizio Volontariato"},{"$f":"INDEX(Organizations[],MATCH(Main3WData15[[#This Row],[Acronym]],AcronymList,0),3)","v":"ONG Nat."},"Sécurité alimentaire","Regulier","Mopti",{"$f":"VLOOKUP(Main3WData15[[#This Row],[Admin Unit Name]],AdminUnits[],2,FALSE)","v":"ML05"},{"$f":"VLOOKUP(Main3WData15[[#This Row],[Admin Unit Name]],AdminUnits[],3,FALSE)","v":"Sud"},{"$f":"VLOOKUP(Main3WData15[[#This Row],[Admin Unit Name]],AdminUnits[],4,FALSE)","v":5},{"$f":"VLOOKUP(Main3WData15[[#This Row],[Sector]],Sectors[],2,FALSE)","v":7}]
[null,"AOPP",{"$f":"INDEX(Organizations[],MATCH(Main3WData15[[#This Row],[Acronym]],AcronymList,0),1)","v":"Association des Organisations Professionelles Paysannes"},{"$f":"INDEX(Organizations[],MATCH(Main3WData15[[#This Row],[Acronym]],AcronymList,0),3)","v":"ONG Nat."},"Sécurité alimentaire","Regulier","Mopti",{"$f":"VLOOKUP(Main3WData15[[#This Row],[Admin Unit Name]],AdminUnits[],2,FALSE)","v":"ML05"},{"$f":"VLOOKUP(Main3WData15[[#This Row],[Admin Unit Name]],AdminUnits[],3,FALSE)","v":"Sud"},{"$f":"VLOOKUP(Main3WData15[[#This Row],[Admin Unit Name]],AdminUnits[],4,FALSE)","v":5},{"$f":"VLOOKUP(Main3WData15[[#This Row],[Sector]],Sectors[],2,FALSE)","v":7}]
[null,"Islamic Relief",{"$f":"INDEX(Organizations[],MATCH(Main3WData15[[#This Row],[Acronym]],AcronymList,0),1)","v":"Islamic Relief"},{"$f":"INDEX(Organizations[],MATCH(Main3WData15[[#This Row],[Acronym]],AcronymList,0),3)","v":"ONG Int."},"Sécurité alimentaire","Regulier","Mopti",{"$f":"VLOOKUP(Main3WData15[[#This Row],[Admin Unit Name]],AdminUnits[],2,FALSE)","v":"ML05"},{"$f":"VLOOKUP(Main3WData15[[#This Row],[Admin Unit Name]],AdminUnits[],3,FALSE)","v":"Sud"},{"$f":"VLOOKUP(Main3WData15[[#This Row],[Admin Unit Name]],AdminUnits[],4,FALSE)","v":5},{"$f":"VLOOKUP(Main3WData15[[#This Row],[Sector]],Sectors[],2,FALSE)","v":7}]
[null,"AKF",{"$f":"INDEX(Organizations[],MATCH(Main3WData15[[#This Row],[Acronym]],AcronymList,0),1)","v":"Aga Khan Foundation"},{"$f":"INDEX(Organizations[],MATCH(Main3WData15[[#This Row],[Acronym]],AcronymList,0),3)","v":"Fondation"},"Sécurité alimentaire","Regulier","Mopti",{"$f":"VLOOKUP(Main3WData15[[#This Row],[Admin Unit Name]],AdminUnits[],2,FALSE)","v":"ML05"},{"$f":"VLOOKUP(Main3WData15[[#This Row],[Admin Unit Name]],AdminUnits[],3,FALSE)","v":"Sud"},{"$f":"VLOOKUP(Main3WData15[[#This Row],[Admin Unit Name]],AdminUnits[],4,FALSE)","v":5},{"$f":"VLOOKUP(Main3WData15[[#This Row],[Sector]],Sectors[],2,FALSE)","v":7}]
[null,"ICCO",{"$f":"INDEX(Organizations[],MATCH(Main3WData15[[#This Row],[Acronym]],AcronymList,0),1)","v":"ICCO"},{"$f":"INDEX(Organizations[],MATCH(Main3WData15[[#This Row],[Acronym]],AcronymList,0),3)","v":"ONG Int."},"Sécurité alimentaire","Regulier","Mopti",{"$f":"VLOOKUP(Main3WData15[[#This Row],[Admin Unit Name]],AdminUnits[],2,FALSE)","v":"ML05"},{"$f":"VLOOKUP(Main3WData15[[#This Row],[Admin Unit Name]],AdminUnits[],3,FALSE)","v":"Sud"},{"$f":"VLOOKUP(Main3WData15[[#This Row],[Admin Unit Name]],AdminUnits[],4,FALSE)","v":5},{"$f":"VLOOKUP(Main3WData15[[#This Row],[Sector]],Sectors[],2,FALSE)","v":7}]
[null,"GRAT",{"$f":"INDEX(Organizations[],MATCH(Main3WData15[[#This Row],[Acronym]],AcronymList,0),1)","v":"GRAT"},{"$f":"INDEX(Organizations[],MATCH(Main3WData15[[#This Row],[Acronym]],AcronymList,0),3)","v":"ONG Nat."},"Sécurité alimentaire","Regulier","Mopti",{"$f":"VLOOKUP(Main3WData15[[#This Row],[Admin Unit Name]],AdminUnits[],2,FALSE)","v":"ML05"},{"$f":"VLOOKUP(Main3WData15[[#This Row],[Admin Unit Name]],AdminUnits[],3,FALSE)","v":"Sud"},{"$f":"VLOOKUP(Main3WData15[[#This Row],[Admin Unit Name]],AdminUnits[],4,FALSE)","v":5},{"$f":"VLOOKUP(Main3WData15[[#This Row],[Sector]],Sectors[],2,FALSE)","v":7}]
[null,"FEBEVIM",{"$f":"INDEX(Organizations[],MATCH(Main3WData15[[#This Row],[Acronym]],AcronymList,0),1)","v":"Fédération Nationale de la Filière Bétail et Viande"},{"$f":"INDEX(Organizations[],MATCH(Main3WData15[[#This Row],[Acronym]],AcronymList,0),3)","v":"Association"},"Sécurité alimentaire","Regulier","Mopti",{"$f":"VLOOKUP(Main3WData15[[#This Row],[Admin Unit Name]],AdminUnits[],2,FALSE)","v":"ML05"},{"$f":"VLOOKUP(Main3WData15[[#This Row],[Admin Unit Name]],AdminUnits[],3,FALSE)","v":"Sud"},{"$f":"VLOOKUP(Main3WData15[[#This Row],[Admin Unit Name]],AdminUnits[],4,FALSE)","v":5},{"$f":"VLOOKUP(Main3WData15[[#This Row],[Sector]],Sectors[],2,FALSE)","v":7}]
[null,"DRC",{"$f":"INDEX(Organizations[],MATCH(Main3WData15[[#This Row],[Acronym]],AcronymList,0),1)","v":"Danish Refugee Council"},{"$f":"INDEX(Organizations[],MATCH(Main3WData15[[#This Row],[Acronym]],AcronymList,0),3)","v":"ONG Int."},"Sécurité alimentaire","Regulier","Mopti",{"$f":"VLOOKUP(Main3WData15[[#This Row],[Admin Unit Name]],AdminUnits[],2,FALSE)","v":"ML05"},{"$f":"VLOOKUP(Main3WData15[[#This Row],[Admin Unit Name]],AdminUnits[],3,FALSE)","v":"Sud"},{"$f":"VLOOKUP(Main3WData15[[#This Row],[Admin Unit Name]],AdminUnits[],4,FALSE)","v":5},{"$f":"VLOOKUP(Main3WData15[[#This Row],[Sector]],Sectors[],2,FALSE)","v":7}]
[null,"CICR",{"$f":"INDEX(Organizations[],MATCH(Main3WData15[[#This Row],[Acronym]],AcronymList,0),1)","v":"Comite international de la croix rouge"},{"$f":"INDEX(Organizations[],MATCH(Main3WData15[[#This Row],[Acronym]],AcronymList,0),3)","v":"ONG Int."},"Sécurité alimentaire","Regulier","Mopti",{"$f":"VLOOKUP(Main3WData15[[#This Row],[Admin Unit Name]],AdminUnits[],2,FALSE)","v":"ML05"},{"$f":"VLOOKUP(Main3WData15[[#This Row],[Admin Unit Name]],AdminUnits[],3,FALSE)","v":"Sud"},{"$f":"VLOOKUP(Main3WData15[[#This Row],[Admin Unit Name]],AdminUnits[],4,FALSE)","v":5},{"$f":"VLOOKUP(Main3WData15[[#This Row],[Sector]],Sectors[],2,FALSE)","v":7}]
[null,"CR-Mali",{"$f":"INDEX(Organizations[],MATCH(Main3WData15[[#This Row],[Acronym]],AcronymList,0),1)","v":"Croix-Rouge Mali"},{"$f":"INDEX(Organizations[],MATCH(Main3WData15[[#This Row],[Acronym]],AcronymList,0),3)","v":"Mouv. Croix-rouge"},"Sécurité alimentaire","Regulier","Mopti",{"$f":"VLOOKUP(Main3WData15[[#This Row],[Admin Unit Name]],AdminUnits[],2,FALSE)","v":"ML05"},{"$f":"VLOOKUP(Main3WData15[[#This Row],[Admin Unit Name]],AdminUnits[],3,FALSE)","v":"Sud"},{"$f":"VLOOKUP(Main3WData15[[#This Row],[Admin Unit Name]],AdminUnits[],4,FALSE)","v":5},{"$f":"VLOOKUP(Main3WData15[[#This Row],[Sector]],Sectors[],2,FALSE)","v":7}]
[null,"PR-Riziculteurs-Mopti",{"$f":"INDEX(Organizations[],MATCH(Main3WData15[[#This Row],[Acronym]],AcronymList,0),1)","v":"PLATEFORME REGIONALE DE RIZICULTEURS - MOPTI"},{"$f":"INDEX(Organizations[],MATCH(Main3WData15[[#This Row],[Acronym]],AcronymList,0),3)","v":"ONG Nat."},"Sécurité alimentaire","Regulier","Mopti",{"$f":"VLOOKUP(Main3WData15[[#This Row],[Admin Unit Name]],AdminUnits[],2,FALSE)","v":"ML05"},{"$f":"VLOOKUP(Main3WData15[[#This Row],[Admin Unit Name]],AdminUnits[],3,FALSE)","v":"Sud"},{"$f":"VLOOKUP(Main3WData15[[#This Row],[Admin Unit Name]],AdminUnits[],4,FALSE)","v":5},{"$f":"VLOOKUP(Main3WData15[[#This Row],[Sector]],Sectors[],2,FALSE)","v":7}]
[null,"ONUFEMME",{"$f":"INDEX(Organizations[],MATCH(Main3WData15[[#This Row],[Acronym]],AcronymList,0),1)","v":"ONUFEMME"},{"$f":"INDEX(Organizations[],MATCH(Main3WData15[[#This Row],[Acronym]],AcronymList,0),3)","v":"UN"},"Sécurité alimentaire","Regulier","Mopti",{"$f":"VLOOKUP(Main3WData15[[#This Row],[Admin Unit Name]],AdminUnits[],2,FALSE)","v":"ML05"},{"$f":"VLOOKUP(Main3WData15[[#This Row],[Admin Unit Name]],AdminUnits[],3,FALSE)","v":"Sud"},{"$f":"VLOOKUP(Main3WData15[[#This Row],[Admin Unit Name]],AdminUnits[],4,FALSE)","v":5},{"$f":"VLOOKUP(Main3WData15[[#This Row],[Sector]],Sectors[],2,FALSE)","v":7}]
[null,"APDF",{"$f":"INDEX(Organizations[],MATCH(Main3WData15[[#This Row],[Acronym]],AcronymList,0),1)","v":"APDF"},{"$f":"INDEX(Organizations[],MATCH(Main3WData15[[#This Row],[Acronym]],AcronymList,0),3)","v":"ONG Nat."},"Sécurité alimentaire","Regulier","Mopti",{"$f":"VLOOKUP(Main3WData15[[#This Row],[Admin Unit Name]],AdminUnits[],2,FALSE)","v":"ML05"},{"$f":"VLOOKUP(Main3WData15[[#This Row],[Admin Unit Name]],AdminUnits[],3,FALSE)","v":"Sud"},{"$f":"VLOOKUP(Main3WData15[[#This Row],[Admin Unit Name]],AdminUnits[],4,FALSE)","v":5},{"$f":"VLOOKUP(Main3WData15[[#This Row],[Sector]],Sectors[],2,FALSE)","v":7}]
[null,"OGES",{"$f":"INDEX(Organizations[],MATCH(Main3WData15[[#This Row],[Acronym]],AcronymList,0),1)","v":"OGES"},{"$f":"INDEX(Organizations[],MATCH(Main3WData15[[#This Row],[Acronym]],AcronymList,0),3)","v":"ONG Nat."},"Sécurité alimentaire","Regulier","Mopti",{"$f":"VLOOKUP(Main3WData15[[#This Row],[Admin Unit Name]],AdminUnits[],2,FALSE)","v":"ML05"},{"$f":"VLOOKUP(Main3WData15[[#This Row],[Admin Unit Name]],AdminUnits[],3,FALSE)","v":"Sud"},{"$f":"VLOOKUP(Main3WData15[[#This Row],[Admin Unit Name]],AdminUnits[],4,FALSE)","v":5},{"$f":"VLOOKUP(Main3WData15[[#This Row],[Sector]],Sectors[],2,FALSE)","v":7}]
[null,"AFAR",{"$f":"INDEX(Organizations[],MATCH(Main3WData15[[#This Row],[Acronym]],AcronymList,0),1)","v":"AFAR"},{"$f":"INDEX(Organizations[],MATCH(Main3WData15[[#This Row],[Acronym]],AcronymList,0),3)","v":"ONG Nat."},"Sécurité alimentaire","Regulier","Mopti",{"$f":"VLOOKUP(Main3WData15[[#This Row],[Admin Unit Name]],AdminUnits[],2,FALSE)","v":"ML05"},{"$f":"VLOOKUP(Main3WData15[[#This Row],[Admin Unit Name]],AdminUnits[],3,FALSE)","v":"Sud"},{"$f":"VLOOKUP(Main3WData15[[#This Row],[Admin Unit Name]],AdminUnits[],4,FALSE)","v":5},{"$f":"VLOOKUP(Main3WData15[[#This Row],[Sector]],Sectors[],2,FALSE)","v":7}]
[null,"HELVETAS Swiss Interoperation",{"$f":"INDEX(Organizations[],MATCH(Main3WData15[[#This Row],[Acronym]],AcronymList,0),1)","v":{"$error":"#N/A"}},{"$f":"INDEX(Organizations[],MATCH(Main3WData15[[#This Row],[Acronym]],AcronymList,0),3)","v":{"$error":"#N/A"}},"Sécurité alimentaire","Regulier","Mopti",{"$f":"VLOOKUP(Main3WData15[[#This Row],[Admin Unit Name]],AdminUnits[],2,FALSE)","v":"ML05"},{"$f":"VLOOKUP(Main3WData15[[#This Row],[Admin Unit Name]],AdminUnits[],3,FALSE)","v":"Sud"},{"$f":"VLOOKUP(Main3WData15[[#This Row],[Admin Unit Name]],AdminUnits[],4,FALSE)","v":5},{"$f":"VLOOKUP(Main3WData15[[#This Row],[Sector]],Sectors[],2,FALSE)","v":7}]
[null,"FAO",{"$f":"INDEX(Organizations[],MATCH(Main3WData15[[#This Row],[Acronym]],AcronymList,0),1)","v":"United Nations Food and Agriculture Organization"},{"$f":"INDEX(Organizations[],MATCH(Main3WData15[[#This Row],[Acronym]],AcronymList,0),3)","v":"UN"},"Sécurité alimentaire","Regulier","Segou",{"$f":"VLOOKUP(Main3WData15[[#This Row],[Admin Unit Name]],AdminUnits[],2,FALSE)","v":"ML04"},{"$f":"VLOOKUP(Main3WData15[[#This Row],[Admin Unit Name]],AdminUnits[],3,FALSE)","v":"Sud"},{"$f":"VLOOKUP(Main3WData15[[#This Row],[Admin Unit Name]],AdminUnits[],4,FALSE)","v":4},{"$f":"VLOOKUP(Main3WData15[[#This Row],[Sector]],Sectors[],2,FALSE)","v":7}]
[null,"Plan Mali",{"$f":"INDEX(Organizations[],MATCH(Main3WData15[[#This Row],[Acronym]],AcronymList,0),1)","v":"Plan Mali"},{"$f":"INDEX(Organizations[],MATCH(Main3WData15[[#This Row],[Acronym]],AcronymList,0),3)","v":"ONG Int."},"Sécurité alimentaire","Regulier","Segou",{"$f":"VLOOKUP(Main3WData15[[#This Row],[Admin Unit Name]],AdminUnits[],2,FALSE)","v":"ML04"},{"$f":"VLOOKUP(Main3WData15[[#This Row],[Admin Unit Name]],AdminUnits[],3,FALSE)","v":"Sud"},{"$f":"VLOOKUP(Main3WData15[[#This Row],[Admin Unit Name]],AdminUnits[],4,FALSE)","v":4},{"$f":"VLOOKUP(Main3WData15[[#This Row],[Sector]],Sectors[],2,FALSE)","v":7}]
[null,"ICCO",{"$f":"INDEX(Organizations[],MATCH(Main3WData15[[#This Row],[Acronym]],AcronymList,0),1)","v":"ICCO"},{"$f":"INDEX(Organizations[],MATCH(Main3WData15[[#This Row],[Acronym]],AcronymList,0),3)","v":"ONG Int."},"Sécurité alimentaire","Regulier","Segou",{"$f":"VLOOKUP(Main3WData15[[#This Row],[Admin Unit Name]],AdminUnits[],2,FALSE)","v":"ML04"},{"$f":"VLOOKUP(Main3WData15[[#This Row],[Admin Unit Name]],AdminUnits[],3,FALSE)","v":"Sud"},{"$f":"VLOOKUP(Main3WData15[[#This Row],[Admin Unit Name]],AdminUnits[],4,FALSE)","v":4},{"$f":"VLOOKUP(Main3WData15[[#This Row],[Sector]],Sectors[],2,FALSE)","v":7}]
[null,"AED",{"$f":"INDEX(Organizations[],MATCH(Main3WData15[[#This Row],[Acronym]],AcronymList,0),1)","v":"AED"},{"$f":"INDEX(Organizations[],MATCH(Main3WData15[[#This Row],[Acronym]],AcronymList,0),3)","v":"ONG Nat."},"Sécurité alimentaire","Regulier","Segou",{"$f":"VLOOKUP(Main3WData15[[#This Row],[Admin Unit Name]],AdminUnits[],2,FALSE)","v":"ML04"},{"$f":"VLOOKUP(Main3WData15[[#This Row],[Admin Unit Name]],AdminUnits[],3,FALSE)","v":"Sud"},{"$f":"VLOOKUP(Main3WData15[[#This Row],[Admin Unit Name]],AdminUnits[],4,FALSE)","v":4},{"$f":"VLOOKUP(Main3WData15[[#This Row],[Sector]],Sectors[],2,FALSE)","v":7}]
[null,"PAM",{"$f":"INDEX(Organizations[],MATCH(Main3WData15[[#This Row],[Acronym]],AcronymList,0),1)","v":"Programme Alimentaire Mondial"},{"$f":"INDEX(Organizations[],MATCH(Main3WData15[[#This Row],[Acronym]],AcronymList,0),3)","v":"UN"},"Sécurité alimentaire","Regulier","Segou",{"$f":"VLOOKUP(Main3WData15[[#This Row],[Admin Unit Name]],AdminUnits[],2,FALSE)","v":"ML04"},{"$f":"VLOOKUP(Main3WData15[[#This Row],[Admin Unit Name]],AdminUnits[],3,FALSE)","v":"Sud"},{"$f":"VLOOKUP(Main3WData15[[#This Row],[Admin Unit Name]],AdminUnits[],4,FALSE)","v":4},{"$f":"VLOOKUP(Main3WData15[[#This Row],[Sector]],Sectors[],2,FALSE)","v":7}]
[null,"CARE MALI",{"$f":"INDEX(Organizations[],MATCH(Main3WData15[[#This Row],[Acronym]],AcronymList,0),1)","v":"CARE Interntional Mali"},{"$f":"INDEX(Organizations[],MATCH(Main3WData15[[#This Row],[Acronym]],AcronymList,0),3)","v":"ONG Int."},"Sécurité alimentaire","Regulier","Segou",{"$f":"VLOOKUP(Main3WData15[[#This Row],[Admin Unit Name]],AdminUnits[],2,FALSE)","v":"ML04"},{"$f":"VLOOKUP(Main3WData15[[#This Row],[Admin Unit Name]],AdminUnits[],3,FALSE)","v":"Sud"},{"$f":"VLOOKUP(Main3WData15[[#This Row],[Admin Unit Name]],AdminUnits[],4,FALSE)","v":4},{"$f":"VLOOKUP(Main3WData15[[#This Row],[Sector]],Sectors[],2,FALSE)","v":7}]
[null,"CISV",{"$f":"INDEX(Organizations[],MATCH(Main3WData15[[#This Row],[Acronym]],AcronymList,0),1)","v":"Comunità Impegno Servizio Volontariato"},{"$f":"INDEX(Organizations[],MATCH(Main3WData15[[#This Row],[Acronym]],AcronymList,0),3)","v":"ONG Nat."},"Sécurité alimentaire","Regulier","Segou",{"$f":"VLOOKUP(Main3WData15[[#This Row],[Admin Unit Name]],AdminUnits[],2,FALSE)","v":"ML04"},{"$f":"VLOOKUP(Main3WData15[[#This Row],[Admin Unit Name]],AdminUnits[],3,FALSE)","v":"Sud"},{"$f":"VLOOKUP(Main3WData15[[#This Row],[Admin Unit Name]],AdminUnits[],4,FALSE)","v":4},{"$f":"VLOOKUP(Main3WData15[[#This Row],[Sector]],Sectors[],2,FALSE)","v":7}]
[null,"CICR",{"$f":"INDEX(Organizations[],MATCH(Main3WData15[[#This Row],[Acronym]],AcronymList,0),1)","v":"Comite international de la croix rouge"},{"$f":"INDEX(Organizations[],MATCH(Main3WData15[[#This Row],[Acronym]],AcronymList,0),3)","v":"ONG Int."},"Sécurité alimentaire","Regulier","Segou",{"$f":"VLOOKUP(Main3WData15[[#This Row],[Admin Unit Name]],AdminUnits[],2,FALSE)","v":"ML04"},{"$f":"VLOOKUP(Main3WData15[[#This Row],[Admin Unit Name]],AdminUnits[],3,FALSE)","v":"Sud"},{"$f":"VLOOKUP(Main3WData15[[#This Row],[Admin Unit Name]],AdminUnits[],4,FALSE)","v":4},{"$f":"VLOOKUP(Main3WData15[[#This Row],[Sector]],Sectors[],2,FALSE)","v":7}]
[null,"CR-Mali",{"$f":"INDEX(Organizations[],MATCH(Main3WData15[[#This Row],[Acronym]],AcronymList,0),1)","v":"Croix-Rouge Mali"},{"$f":"INDEX(Organizations[],MATCH(Main3WData15[[#This Row],[Acronym]],AcronymList,0),3)","v":"Mouv. Croix-rouge"},"Sécurité alimentaire","Regulier","Segou",{"$f":"VLOOKUP(Main3WData15[[#This Row],[Admin Unit Name]],AdminUnits[],2,FALSE)","v":"ML04"},{"$f":"VLOOKUP(Main3WData15[[#This Row],[Admin Unit Name]],AdminUnits[],3,FALSE)","v":"Sud"},{"$f":"VLOOKUP(Main3WData15[[#This Row],[Admin Unit Name]],AdminUnits[],4,FALSE)","v":4},{"$f":"VLOOKUP(Main3WData15[[#This Row],[Sector]],Sectors[],2,FALSE)","v":7}]
[null,"ALPHALOG",{"$f":"INDEX(Organizations[],MATCH(Main3WData15[[#This Row],[Acronym]],AcronymList,0),1)","v":"ALPHALOG"},{"$f":"INDEX(Organizations[],MATCH(Main3WData15[[#This Row],[Acronym]],AcronymList,0),3)","v":"ONG Nat."},"Sécurité alimentaire","Regulier","Segou",{"$f":"VLOOKUP(Main3WData15[[#This Row],[Admin Unit Name]],AdminUnits[],2,FALSE)","v":"ML04"},{"$f":"VLOOKUP(Main3WData15[[#This Row],[Admin Unit Name]],AdminUnits[],3,FALSE)","v":"Sud"},{"$f":"VLOOKUP(Main3WData15[[#This Row],[Admin Unit Name]],AdminUnits[],4,FALSE)","v":4},{"$f":"VLOOKUP(Main3WData15[[#This Row],[Sector]],Sectors[],2,FALSE)","v":7}]
[null,"CAES",{"$f":"INDEX(Organizations[],MATCH(Main3WData15[[#This Row],[Acronym]],AcronymList,0),1)","v":"CAES"},{"$f":"INDEX(Organizations[],MATCH(Main3WData15[[#This Row],[Acronym]],AcronymList,0),3)","v":"ONG Nat."},"Sécurité alimentaire","Regulier","Segou",{"$f":"VLOOKUP(Main3WData15[[#This Row],[Admin Unit Name]],AdminUnits[],2,FALSE)","v":"ML04"},{"$f":"VLOOKUP(Main3WData15[[#This Row],[Admin Unit Name]],AdminUnits[],3,FALSE)","v":"Sud"},{"$f":"VLOOKUP(Main3WData15[[#This Row],[Admin Unit Name]],AdminUnits[],4,FALSE)","v":4},{"$f":"VLOOKUP(Main3WData15[[#This Row],[Sector]],Sectors[],2,FALSE)","v":7}]
[null,"CRS",{"$f":"INDEX(Organizations[],MATCH(Main3WData15[[#This Row],[Acronym]],AcronymList,0),1)","v":"Catholic Relief Services"},{"$f":"INDEX(Organizations[],MATCH(Main3WData15[[#This Row],[Acronym]],AcronymList,0),3)","v":"ONG Int."},"Sécurité alimentaire","Regulier","Segou",{"$f":"VLOOKUP(Main3WData15[[#This Row],[Admin Unit Name]],AdminUnits[],2,FALSE)","v":"ML04"},{"$f":"VLOOKUP(Main3WData15[[#This Row],[Admin Unit Name]],AdminUnits[],3,FALSE)","v":"Sud"},{"$f":"VLOOKUP(Main3WData15[[#This Row],[Admin Unit Name]],AdminUnits[],4,FALSE)","v":4},{"$f":"VLOOKUP(Main3WData15[[#This Row],[Sector]],Sectors[],2,FALSE)","v":7}]
[null,"CARITAS SAN",{"$f":"INDEX(Organizations[],MATCH(Main3WData15[[#This Row],[Acronym]],AcronymList,0),1)","v":"Caritas San"},{"$f":"INDEX(Organizations[],MATCH(Main3WData15[[#This Row],[Acronym]],AcronymList,0),3)","v":"ONG Int."},"Sécurité alimentaire","Regulier","Segou",{"$f":"VLOOKUP(Main3WData15[[#This Row],[Admin Unit Name]],AdminUnits[],2,FALSE)","v":"ML04"},{"$f":"VLOOKUP(Main3WData15[[#This Row],[Admin Unit Name]],AdminUnits[],3,FALSE)","v":"Sud"},{"$f":"VLOOKUP(Main3WData15[[#This Row],[Admin Unit Name]],AdminUnits[],4,FALSE)","v":4},{"$f":"VLOOKUP(Main3WData15[[#This Row],[Sector]],Sectors[],2,FALSE)","v":7}]
[null,"PAM",{"$f":"INDEX(Organizations[],MATCH(Main3WData15[[#This Row],[Acronym]],AcronymList,0),1)","v":"Programme Alimentaire Mondial"},{"$f":"INDEX(Organizations[],MATCH(Main3WData15[[#This Row],[Acronym]],AcronymList,0),3)","v":"UN"},"Sécurité alimentaire","Regulier","Sikasso",{"$f":"VLOOKUP(Main3WData15[[#This Row],[Admin Unit Name]],AdminUnits[],2,FALSE)","v":"ML03"},{"$f":"VLOOKUP(Main3WData15[[#This Row],[Admin Unit Name]],AdminUnits[],3,FALSE)","v":"Sud"},{"$f":"VLOOKUP(Main3WData15[[#This Row],[Admin Unit Name]],AdminUnits[],4,FALSE)","v":3},{"$f":"VLOOKUP(Main3WData15[[#This Row],[Sector]],Sectors[],2,FALSE)","v":7}]
[null,"BØRNEfonden",{"$f":"INDEX(Organizations[],MATCH(Main3WData15[[#This Row],[Acronym]],AcronymList,0),1)","v":"BØRNEfonden"},{"$f":"INDEX(Organizations[],MATCH(Main3WData15[[#This Row],[Acronym]],AcronymList,0),3)","v":"ONG Int."},"Sécurité alimentaire","Regulier","Sikasso",{"$f":"VLOOKUP(Main3WData15[[#This Row],[Admin Unit Name]],AdminUnits[],2,FALSE)","v":"ML03"},{"$f":"VLOOKUP(Main3WData15[[#This Row],[Admin Unit Name]],AdminUnits[],3,FALSE)","v":"Sud"},{"$f":"VLOOKUP(Main3WData15[[#This Row],[Admin Unit Name]],AdminUnits[],4,FALSE)","v":3},{"$f":"VLOOKUP(Main3WData15[[#This Row],[Sector]],Sectors[],2,FALSE)","v":7}]
[null,"GRDR",{"$f":"INDEX(Organizations[],MATCH(Main3WData15[[#This Row],[Acronym]],AcronymList,0),1)","v":"Groupe de Recherche et de Réalisation en Développement Rural "},{"$f":"INDEX(Organizations[],MATCH(Main3WData15[[#This Row],[Acronym]],AcronymList,0),3)","v":"ONG Int."},"Sécurité alimentaire","Regulier","Sikasso",{"$f":"VLOOKUP(Main3WData15[[#This Row],[Admin Unit Name]],AdminUnits[],2,FALSE)","v":"ML03"},{"$f":"VLOOKUP(Main3WData15[[#This Row],[Admin Unit Name]],AdminUnits[],3,FALSE)","v":"Sud"},{"$f":"VLOOKUP(Main3WData15[[#This Row],[Admin Unit Name]],AdminUnits[],4,FALSE)","v":3},{"$f":"VLOOKUP(Main3WData15[[#This Row],[Sector]],Sectors[],2,FALSE)","v":7}]
[null,"WHH",{"$f":"INDEX(Organizations[],MATCH(Main3WData15[[#This Row],[Acronym]],AcronymList,0),1)","v":{"$error":"#N/A"}},{"$f":"INDEX(Organizations[],MATCH(Main3WData15[[#This Row],[Acronym]],AcronymList,0),3)","v":{"$error":"#N/A"}},"Sécurité alimentaire","Regulier","Sikasso",{"$f":"VLOOKUP(Main3WData15[[#This Row],[Admin Unit Name]],AdminUnits[],2,FALSE)","v":"ML03"},{"$f":"VLOOKUP(Main3WData15[[#This Row],[Admin Unit Name]],AdminUnits[],3,FALSE)","v":"Sud"},{"$f":"VLOOKUP(Main3WData15[[#This Row],[Admin Unit Name]],AdminUnits[],4,FALSE)","v":3},{"$f":"VLOOKUP(Main3WData15[[#This Row],[Sector]],Sectors[],2,FALSE)","v":7}]
[null,"JEKATAANIEN",{"$f":"INDEX(Organizations[],MATCH(Main3WData15[[#This Row],[Acronym]],AcronymList,0),1)","v":"JEKATAANIEN"},{"$f":"INDEX(Organizations[],MATCH(Main3WData15[[#This Row],[Acronym]],AcronymList,0),3)","v":"ONG Nat."},"Sécurité alimentaire","Regulier","Sikasso",{"$f":"VLOOKUP(Main3WData15[[#This Row],[Admin Unit Name]],AdminUnits[],2,FALSE)","v":"ML03"},{"$f":"VLOOKUP(Main3WData15[[#This Row],[Admin Unit Name]],AdminUnits[],3,FALSE)","v":"Sud"},{"$f":"VLOOKUP(Main3WData15[[#This Row],[Admin Unit Name]],AdminUnits[],4,FALSE)","v":3},{"$f":"VLOOKUP(Main3WData15[[#This Row],[Sector]],Sectors[],2,FALSE)","v":7}]
[null,"CRS",{"$f":"INDEX(Organizations[],MATCH(Main3WData15[[#This Row],[Acronym]],AcronymList,0),1)","v":"Catholic Relief Services"},{"$f":"INDEX(Organizations[],MATCH(Main3WData15[[#This Row],[Acronym]],AcronymList,0),3)","v":"ONG Int."},"Sécurité alimentaire","Regulier","Sikasso",{"$f":"VLOOKUP(Main3WData15[[#This Row],[Admin Unit Name]],AdminUnits[],2,FALSE)","v":"ML03"},{"$f":"VLOOKUP(Main3WData15[[#This Row],[Admin Unit Name]],AdminUnits[],3,FALSE)","v":"Sud"},{"$f":"VLOOKUP(Main3WData15[[#This Row],[Admin Unit Name]],AdminUnits[],4,FALSE)","v":3},{"$f":"VLOOKUP(Main3WData15[[#This Row],[Sector]],Sectors[],2,FALSE)","v":7}]
[null,"SAVE THE CHILDREN",{"$f":"INDEX(Organizations[],MATCH(Main3WData15[[#This Row],[Acronym]],AcronymList,0),1)","v":"Save the Children"},{"$f":"INDEX(Organizations[],MATCH(Main3WData15[[#This Row],[Acronym]],AcronymList,0),3)","v":"ONG Int."},"Sécurité alimentaire","Regulier","Sikasso",{"$f":"VLOOKUP(Main3WData15[[#This Row],[Admin Unit Name]],AdminUnits[],2,FALSE)","v":"ML03"},{"$f":"VLOOKUP(Main3WData15[[#This Row],[Admin Unit Name]],AdminUnits[],3,FALSE)","v":"Sud"},{"$f":"VLOOKUP(Main3WData15[[#This Row],[Admin Unit Name]],AdminUnits[],4,FALSE)","v":3},{"$f":"VLOOKUP(Main3WData15[[#This Row],[Sector]],Sectors[],2,FALSE)","v":7}]
[null,"PAM",{"$f":"INDEX(Organizations[],MATCH(Main3WData15[[#This Row],[Acronym]],AcronymList,0),1)","v":"Programme Alimentaire Mondial"},{"$f":"INDEX(Organizations[],MATCH(Main3WData15[[#This Row],[Acronym]],AcronymList,0),3)","v":"UN"},"Sécurité alimentaire","Regulier","Tombouctou",{"$f":"VLOOKUP(Main3WData15[[#This Row],[Admin Unit Name]],AdminUnits[],2,FALSE)","v":"ML06"},{"$f":"VLOOKUP(Main3WData15[[#This Row],[Admin Unit Name]],AdminUnits[],3,FALSE)","v":"Nord"},{"$f":"VLOOKUP(Main3WData15[[#This Row],[Admin Unit Name]],AdminUnits[],4,FALSE)","v":6},{"$f":"VLOOKUP(Main3WData15[[#This Row],[Sector]],Sectors[],2,FALSE)","v":7}]
[null,"Solidarité internationale",{"$f":"INDEX(Organizations[],MATCH(Main3WData15[[#This Row],[Acronym]],AcronymList,0),1)","v":{"$error":"#N/A"}},{"$f":"INDEX(Organizations[],MATCH(Main3WData15[[#This Row],[Acronym]],AcronymList,0),3)","v":{"$error":"#N/A"}},"Sécurité alimentaire","Regulier","Tombouctou",{"$f":"VLOOKUP(Main3WData15[[#This Row],[Admin Unit Name]],AdminUnits[],2,FALSE)","v":"ML06"},{"$f":"VLOOKUP(Main3WData15[[#This Row],[Admin Unit Name]],AdminUnits[],3,FALSE)","v":"Nord"},{"$f":"VLOOKUP(Main3WData15[[#This Row],[Admin Unit Name]],AdminUnits[],4,FALSE)","v":6},{"$f":"VLOOKUP(Main3WData15[[#This Row],[Sector]],Sectors[],2,FALSE)","v":7}]
[null,"AVSF",{"$f":"INDEX(Organizations[],MATCH(Main3WData15[[#This Row],[Acronym]],AcronymList,0),1)","v":"Agronomes et Vétérinaires Sans Frontières"},{"$f":"INDEX(Organizations[],MATCH(Main3WData15[[#This Row],[Acronym]],AcronymList,0),3)","v":"ONG Int."},"Sécurité alimentaire","Regulier","Tombouctou",{"$f":"VLOOKUP(Main3WData15[[#This Row],[Admin Unit Name]],AdminUnits[],2,FALSE)","v":"ML06"},{"$f":"VLOOKUP(Main3WData15[[#This Row],[Admin Unit Name]],AdminUnits[],3,FALSE)","v":"Nord"},{"$f":"VLOOKUP(Main3WData15[[#This Row],[Admin Unit Name]],AdminUnits[],4,FALSE)","v":6},{"$f":"VLOOKUP(Main3WData15[[#This Row],[Sector]],Sectors[],2,FALSE)","v":7}]
[null,"Handicap International",{"$f":"INDEX(Organizations[],MATCH(Main3WData15[[#This Row],[Acronym]],AcronymList,0),1)","v":{"$error":"#N/A"}},{"$f":"INDEX(Organizations[],MATCH(Main3WData15[[#This Row],[Acronym]],AcronymList,0),3)","v":{"$error":"#N/A"}},"Sécurité alimentaire","Regulier","Tombouctou",{"$f":"VLOOKUP(Main3WData15[[#This Row],[Admin Unit Name]],AdminUnits[],2,FALSE)","v":"ML06"},{"$f":"VLOOKUP(Main3WData15[[#This Row],[Admin Unit Name]],AdminUnits[],3,FALSE)","v":"Nord"},{"$f":"VLOOKUP(Main3WData15[[#This Row],[Admin Unit Name]],AdminUnits[],4,FALSE)","v":6},{"$f":"VLOOKUP(Main3WData15[[#This Row],[Sector]],Sectors[],2,FALSE)","v":7}]
[null,"FAO",{"$f":"INDEX(Organizations[],MATCH(Main3WData15[[#This Row],[Acronym]],AcronymList,0),1)","v":"United Nations Food and Agriculture Organization"},{"$f":"INDEX(Organizations[],MATCH(Main3WData15[[#This Row],[Acronym]],AcronymList,0),3)","v":"UN"},"Sécurité alimentaire","Regulier","Tombouctou",{"$f":"VLOOKUP(Main3WData15[[#This Row],[Admin Unit Name]],AdminUnits[],2,FALSE)","v":"ML06"},{"$f":"VLOOKUP(Main3WData15[[#This Row],[Admin Unit Name]],AdminUnits[],3,FALSE)","v":"Nord"},{"$f":"VLOOKUP(Main3WData15[[#This Row],[Admin Unit Name]],AdminUnits[],4,FALSE)","v":6},{"$f":"VLOOKUP(Main3WData15[[#This Row],[Sector]],Sectors[],2,FALSE)","v":7}]
[null,"ICCO",{"$f":"INDEX(Organizations[],MATCH(Main3WData15[[#This Row],[Acronym]],AcronymList,0),1)","v":"ICCO"},{"$f":"INDEX(Organizations[],MATCH(Main3WData15[[#This Row],[Acronym]],AcronymList,0),3)","v":"ONG Int."},"Sécurité alimentaire","Regulier","Tombouctou",{"$f":"VLOOKUP(Main3WData15[[#This Row],[Admin Unit Name]],AdminUnits[],2,FALSE)","v":"ML06"},{"$f":"VLOOKUP(Main3WData15[[#This Row],[Admin Unit Name]],AdminUnits[],3,FALSE)","v":"Nord"},{"$f":"VLOOKUP(Main3WData15[[#This Row],[Admin Unit Name]],AdminUnits[],4,FALSE)","v":6},{"$f":"VLOOKUP(Main3WData15[[#This Row],[Sector]],Sectors[],2,FALSE)","v":7}]
[null,"OMAES",{"$f":"INDEX(Organizations[],MATCH(Main3WData15[[#This Row],[Acronym]],AcronymList,0),1)","v":"Œuvre Malienne d'Aide à l'Enfance du Sahel"},{"$f":"INDEX(Organizations[],MATCH(Main3WData15[[#This Row],[Acronym]],AcronymList,0),3)","v":"ONG Nat."},"Sécurité alimentaire","Regulier","Tombouctou",{"$f":"VLOOKUP(Main3WData15[[#This Row],[Admin Unit Name]],AdminUnits[],2,FALSE)","v":"ML06"},{"$f":"VLOOKUP(Main3WData15[[#This Row],[Admin Unit Name]],AdminUnits[],3,FALSE)","v":"Nord"},{"$f":"VLOOKUP(Main3WData15[[#This Row],[Admin Unit Name]],AdminUnits[],4,FALSE)","v":6},{"$f":"VLOOKUP(Main3WData15[[#This Row],[Sector]],Sectors[],2,FALSE)","v":7}]
[null,"CARE MALI",{"$f":"INDEX(Organizations[],MATCH(Main3WData15[[#This Row],[Acronym]],AcronymList,0),1)","v":"CARE Interntional Mali"},{"$f":"INDEX(Organizations[],MATCH(Main3WData15[[#This Row],[Acronym]],AcronymList,0),3)","v":"ONG Int."},"Sécurité alimentaire","Regulier","Tombouctou",{"$f":"VLOOKUP(Main3WData15[[#This Row],[Admin Unit Name]],AdminUnits[],2,FALSE)","v":"ML06"},{"$f":"VLOOKUP(Main3WData15[[#This Row],[Admin Unit Name]],AdminUnits[],3,FALSE)","v":"Nord"},{"$f":"VLOOKUP(Main3WData15[[#This Row],[Admin Unit Name]],AdminUnits[],4,FALSE)","v":6},{"$f":"VLOOKUP(Main3WData15[[#This Row],[Sector]],Sectors[],2,FALSE)","v":7}]
[null,"AFRICARE",{"$f":"INDEX(Organizations[],MATCH(Main3WData15[[#This Row],[Acronym]],AcronymList,0),1)","v":"AFRICARE"},{"$f":"INDEX(Organizations[],MATCH(Main3WData15[[#This Row],[Acronym]],AcronymList,0),3)","v":"ONG Int."},"Sécurité alimentaire","Regulier","Tombouctou",{"$f":"VLOOKUP(Main3WData15[[#This Row],[Admin Unit Name]],AdminUnits[],2,FALSE)","v":"ML06"},{"$f":"VLOOKUP(Main3WData15[[#This Row],[Admin Unit Name]],AdminUnits[],3,FALSE)","v":"Nord"},{"$f":"VLOOKUP(Main3WData15[[#This Row],[Admin Unit Name]],AdminUnits[],4,FALSE)","v":6},{"$f":"VLOOKUP(Main3WData15[[#This Row],[Sector]],Sectors[],2,FALSE)","v":7}]
[null,"MERLIN",{"$f":"INDEX(Organizations[],MATCH(Main3WData15[[#This Row],[Acronym]],AcronymList,0),1)","v":"MERLIN"},{"$f":"INDEX(Organizations[],MATCH(Main3WData15[[#This Row],[Acronym]],AcronymList,0),3)","v":"ONG Int."},"Sécurité alimentaire","Regulier","Tombouctou",{"$f":"VLOOKUP(Main3WData15[[#This Row],[Admin Unit Name]],AdminUnits[],2,FALSE)","v":"ML06"},{"$f":"VLOOKUP(Main3WData15[[#This Row],[Admin Unit Name]],AdminUnits[],3,FALSE)","v":"Nord"},{"$f":"VLOOKUP(Main3WData15[[#This Row],[Admin Unit Name]],AdminUnits[],4,FALSE)","v":6},{"$f":"VLOOKUP(Main3WData15[[#This Row],[Sector]],Sectors[],2,FALSE)","v":7}]
[null,"ISLAMIC RELIEF",{"$f":"INDEX(Organizations[],MATCH(Main3WData15[[#This Row],[Acronym]],AcronymList,0),1)","v":"Islamic Relief"},{"$f":"INDEX(Organizations[],MATCH(Main3WData15[[#This Row],[Acronym]],AcronymList,0),3)","v":"ONG Int."},"Sécurité alimentaire","Regulier","Tombouctou",{"$f":"VLOOKUP(Main3WData15[[#This Row],[Admin Unit Name]],AdminUnits[],2,FALSE)","v":"ML06"},{"$f":"VLOOKUP(Main3WData15[[#This Row],[Admin Unit Name]],AdminUnits[],3,FALSE)","v":"Nord"},{"$f":"VLOOKUP(Main3WData15[[#This Row],[Admin Unit Name]],AdminUnits[],4,FALSE)","v":6},{"$f":"VLOOKUP(Main3WData15[[#This Row],[Sector]],Sectors[],2,FALSE)","v":7}]
[null,"ADESAH",{"$f":"INDEX(Organizations[],MATCH(Main3WData15[[#This Row],[Acronym]],AcronymList,0),1)","v":"ADESAH"},{"$f":"INDEX(Organizations[],MATCH(Main3WData15[[#This Row],[Acronym]],AcronymList,0),3)","v":"ONG Nat."},"Sécurité alimentaire","Regulier","Tombouctou",{"$f":"VLOOKUP(Main3WData15[[#This Row],[Admin Unit Name]],AdminUnits[],2,FALSE)","v":"ML06"},{"$f":"VLOOKUP(Main3WData15[[#This Row],[Admin Unit Name]],AdminUnits[],3,FALSE)","v":"Nord"},{"$f":"VLOOKUP(Main3WData15[[#This Row],[Admin Unit Name]],AdminUnits[],4,FALSE)","v":6},{"$f":"VLOOKUP(Main3WData15[[#This Row],[Sector]],Sectors[],2,FALSE)","v":7}]
[null,"IMC",{"$f":"INDEX(Organizations[],MATCH(Main3WData15[[#This Row],[Acronym]],AcronymList,0),1)","v":"International Medical Corps"},{"$f":"INDEX(Organizations[],MATCH(Main3WData15[[#This Row],[Acronym]],AcronymList,0),3)","v":"ONG Int."},"Sécurité alimentaire","Regulier","Tombouctou",{"$f":"VLOOKUP(Main3WData15[[#This Row],[Admin Unit Name]],AdminUnits[],2,FALSE)","v":"ML06"},{"$f":"VLOOKUP(Main3WData15[[#This Row],[Admin Unit Name]],AdminUnits[],3,FALSE)","v":"Nord"},{"$f":"VLOOKUP(Main3WData15[[#This Row],[Admin Unit Name]],AdminUnits[],4,FALSE)","v":6},{"$f":"VLOOKUP(Main3WData15[[#This Row],[Sector]],Sectors[],2,FALSE)","v":7}]
[null,"CICR",{"$f":"INDEX(Organizations[],MATCH(Main3WData15[[#This Row],[Acronym]],AcronymList,0),1)","v":"Comite international de la croix rouge"},{"$f":"INDEX(Organizations[],MATCH(Main3WData15[[#This Row],[Acronym]],AcronymList,0),3)","v":"ONG Int."},"Sécurité alimentaire","Regulier","Tombouctou",{"$f":"VLOOKUP(Main3WData15[[#This Row],[Admin Unit Name]],AdminUnits[],2,FALSE)","v":"ML06"},{"$f":"VLOOKUP(Main3WData15[[#This Row],[Admin Unit Name]],AdminUnits[],3,FALSE)","v":"Nord"},{"$f":"VLOOKUP(Main3WData15[[#This Row],[Admin Unit Name]],AdminUnits[],4,FALSE)","v":6},{"$f":"VLOOKUP(Main3WData15[[#This Row],[Sector]],Sectors[],2,FALSE)","v":7}]
[null,"CR-Mali",{"$f":"INDEX(Organizations[],MATCH(Main3WData15[[#This Row],[Acronym]],AcronymList,0),1)","v":"Croix-Rouge Mali"},{"$f":"INDEX(Organizations[],MATCH(Main3WData15[[#This Row],[Acronym]],AcronymList,0),3)","v":"Mouv. Croix-rouge"},"Sécurité alimentaire","Regulier","Tombouctou",{"$f":"VLOOKUP(Main3WData15[[#This Row],[Admin Unit Name]],AdminUnits[],2,FALSE)","v":"ML06"},{"$f":"VLOOKUP(Main3WData15[[#This Row],[Admin Unit Name]],AdminUnits[],3,FALSE)","v":"Nord"},{"$f":"VLOOKUP(Main3WData15[[#This Row],[Admin Unit Name]],AdminUnits[],4,FALSE)","v":6},{"$f":"VLOOKUP(Main3WData15[[#This Row],[Sector]],Sectors[],2,FALSE)","v":7}]
[null,"AMSS",{"$f":"INDEX(Organizations[],MATCH(Main3WData15[[#This Row],[Acronym]],AcronymList,0),1)","v":"Association Malienne pour la Survie au Sahel"},{"$f":"INDEX(Organizations[],MATCH(Main3WData15[[#This Row],[Acronym]],AcronymList,0),3)","v":"ONG Nat."},"Sécurité alimentaire","Regulier","Tombouctou",{"$f":"VLOOKUP(Main3WData15[[#This Row],[Admin Unit Name]],AdminUnits[],2,FALSE)","v":"ML06"},{"$f":"VLOOKUP(Main3WData15[[#This Row],[Admin Unit Name]],AdminUnits[],3,FALSE)","v":"Nord"},{"$f":"VLOOKUP(Main3WData15[[#This Row],[Admin Unit Name]],AdminUnits[],4,FALSE)","v":6},{"$f":"VLOOKUP(Main3WData15[[#This Row],[Sector]],Sectors[],2,FALSE)","v":7}]
[null,"AVES",{"$f":"INDEX(Organizations[],MATCH(Main3WData15[[#This Row],[Acronym]],AcronymList,0),1)","v":"Avenir Enfance Sahel"},{"$f":"INDEX(Organizations[],MATCH(Main3WData15[[#This Row],[Acronym]],AcronymList,0),3)","v":"ONG Nat."},"Sécurité alimentaire","Regulier","Mopti",{"$f":"VLOOKUP(Main3WData15[[#This Row],[Admin Unit Name]],AdminUnits[],2,FALSE)","v":"ML05"},{"$f":"VLOOKUP(Main3WData15[[#This Row],[Admin Unit Name]],AdminUnits[],3,FALSE)","v":"Sud"},{"$f":"VLOOKUP(Main3WData15[[#This Row],[Admin Unit Name]],AdminUnits[],4,FALSE)","v":5},{"$f":"VLOOKUP(Main3WData15[[#This Row],[Sector]],Sectors[],2,FALSE)","v":7}]
[null,"PAM",{"$f":"INDEX(Organizations[],MATCH(Main3WData15[[#This Row],[Acronym]],AcronymList,0),1)","v":"Programme Alimentaire Mondial"},{"$f":"INDEX(Organizations[],MATCH(Main3WData15[[#This Row],[Acronym]],AcronymList,0),3)","v":"UN"},"Télécom.  d'urgence","Regulier","Mopti",{"$f":"VLOOKUP(Main3WData15[[#This Row],[Admin Unit Name]],AdminUnits[],2,FALSE)","v":"ML05"},{"$f":"VLOOKUP(Main3WData15[[#This Row],[Admin Unit Name]],AdminUnits[],3,FALSE)","v":"Sud"},{"$f":"VLOOKUP(Main3WData15[[#This Row],[Admin Unit Name]],AdminUnits[],4,FALSE)","v":5},{"$f":"VLOOKUP(Main3WData15[[#This Row],[Sector]],Sectors[],2,FALSE)","v":{"$error":"#N/A"}}]
[null,"PAM",{"$f":"INDEX(Organizations[],MATCH(Main3WData15[[#This Row],[Acronym]],AcronymList,0),1)","v":"Programme Alimentaire Mondial"},{"$f":"INDEX(Organizations[],MATCH(Main3WData15[[#This Row],[Acronym]],AcronymList,0),3)","v":"UN"},"Télécom.  d'urgence","Regulier","TOMBOUCTOU",{"$f":"VLOOKUP(Main3WData15[[#This Row],[Admin Unit Name]],AdminUnits[],2,FALSE)","v":"ML06"},{"$f":"VLOOKUP(Main3WData15[[#This Row],[Admin Unit Name]],AdminUnits[],3,FALSE)","v":"Nord"},{"$f":"VLOOKUP(Main3WData15[[#This Row],[Admin Unit Name]],AdminUnits[],4,FALSE)","v":6},{"$f":"VLOOKUP(Main3WData15[[#This Row],[Sector]],Sectors[],2,FALSE)","v":{"$error":"#N/A"}}]
[null,"PAM",{"$f":"INDEX(Organizations[],MATCH(Main3WData15[[#This Row],[Acronym]],AcronymList,0),1)","v":"Programme Alimentaire Mondial"},{"$f":"INDEX(Organizations[],MATCH(Main3WData15[[#This Row],[Acronym]],AcronymList,0),3)","v":"UN"},"Télécom.  d'urgence","Regulier","Bamako",{"$f":"VLOOKUP(Main3WData15[[#This Row],[Admin Unit Name]],AdminUnits[],2,FALSE)","v":"ML09"},{"$f":"VLOOKUP(Main3WData15[[#This Row],[Admin Unit Name]],AdminUnits[],3,FALSE)","v":"Sud"},{"$f":"VLOOKUP(Main3WData15[[#This Row],[Admin Unit Name]],AdminUnits[],4,FALSE)","v":0},{"$f":"VLOOKUP(Main3WData15[[#This Row],[Sector]],Sectors[],2,FALSE)","v":{"$error":"#N/A"}}]
[null,"CR-France",{"$f":"INDEX(Organizations[],MATCH(Main3WData15[[#This Row],[Acronym]],AcronymList,0),1)","v":"Croix Rouge France"},{"$f":"INDEX(Organizations[],MATCH(Main3WData15[[#This Row],[Acronym]],AcronymList,0),3)","v":"Mouv. Croix-rouge"},"Nutrition","Regulier","Bamako",{"$f":"VLOOKUP(Main3WData15[[#This Row],[Admin Unit Name]],AdminUnits[],2,FALSE)","v":"ML09"},{"$f":"VLOOKUP(Main3WData15[[#This Row],[Admin Unit Name]],AdminUnits[],3,FALSE)","v":"Sud"},{"$f":"VLOOKUP(Main3WData15[[#This Row],[Admin Unit Name]],AdminUnits[],4,FALSE)","v":0},{"$f":"VLOOKUP(Main3WData15[[#This Row],[Sector]],Sectors[],2,FALSE)","v":4}]
[null,"ACF – Espagne",{"$f":"INDEX(Organizations[],MATCH(Main3WData15[[#This Row],[Acronym]],AcronymList,0),1)","v":"Action contre la faim Espagne"},{"$f":"INDEX(Organizations[],MATCH(Main3WData15[[#This Row],[Acronym]],AcronymList,0),3)","v":"ONG Int."},"Nutrition","Regulier","Bamako",{"$f":"VLOOKUP(Main3WData15[[#This Row],[Admin Unit Name]],AdminUnits[],2,FALSE)","v":"ML09"},{"$f":"VLOOKUP(Main3WData15[[#This Row],[Admin Unit Name]],AdminUnits[],3,FALSE)","v":"Sud"},{"$f":"VLOOKUP(Main3WData15[[#This Row],[Admin Unit Name]],AdminUnits[],4,FALSE)","v":0},{"$f":"VLOOKUP(Main3WData15[[#This Row],[Sector]],Sectors[],2,FALSE)","v":4}]
[null,"CR-Belgique",{"$f":"INDEX(Organizations[],MATCH(Main3WData15[[#This Row],[Acronym]],AcronymList,0),1)","v":"Croix Rouge Belgique"},{"$f":"INDEX(Organizations[],MATCH(Main3WData15[[#This Row],[Acronym]],AcronymList,0),3)","v":"Mouv. Croix-rouge"},"Nutrition","Regulier","Kayes",{"$f":"VLOOKUP(Main3WData15[[#This Row],[Admin Unit Name]],AdminUnits[],2,FALSE)","v":"ML01"},{"$f":"VLOOKUP(Main3WData15[[#This Row],[Admin Unit Name]],AdminUnits[],3,FALSE)","v":"Sud"},{"$f":"VLOOKUP(Main3WData15[[#This Row],[Admin Unit Name]],AdminUnits[],4,FALSE)","v":1},{"$f":"VLOOKUP(Main3WData15[[#This Row],[Sector]],Sectors[],2,FALSE)","v":4}]
[null,"CR-Belgique",{"$f":"INDEX(Organizations[],MATCH(Main3WData15[[#This Row],[Acronym]],AcronymList,0),1)","v":"Croix Rouge Belgique"},{"$f":"INDEX(Organizations[],MATCH(Main3WData15[[#This Row],[Acronym]],AcronymList,0),3)","v":"Mouv. Croix-rouge"},"Nutrition","Regulier","Koulikoro",{"$f":"VLOOKUP(Main3WData15[[#This Row],[Admin Unit Name]],AdminUnits[],2,FALSE)","v":"ML02"},{"$f":"VLOOKUP(Main3WData15[[#This Row],[Admin Unit Name]],AdminUnits[],3,FALSE)","v":"Sud"},{"$f":"VLOOKUP(Main3WData15[[#This Row],[Admin Unit Name]],AdminUnits[],4,FALSE)","v":2},{"$f":"VLOOKUP(Main3WData15[[#This Row],[Sector]],Sectors[],2,FALSE)","v":4}]
[null,"CARE Mali",{"$f":"INDEX(Organizations[],MATCH(Main3WData15[[#This Row],[Acronym]],AcronymList,0),1)","v":"CARE Interntional Mali"},{"$f":"INDEX(Organizations[],MATCH(Main3WData15[[#This Row],[Acronym]],AcronymList,0),3)","v":"ONG Int."},"Nutrition","Regulier","Mopti",{"$f":"VLOOKUP(Main3WData15[[#This Row],[Admin Unit Name]],AdminUnits[],2,FALSE)","v":"ML05"},{"$f":"VLOOKUP(Main3WData15[[#This Row],[Admin Unit Name]],AdminUnits[],3,FALSE)","v":"Sud"},{"$f":"VLOOKUP(Main3WData15[[#This Row],[Admin Unit Name]],AdminUnits[],4,FALSE)","v":5},{"$f":"VLOOKUP(Main3WData15[[#This Row],[Sector]],Sectors[],2,FALSE)","v":4}]
[null,"ACTED",{"$f":"INDEX(Organizations[],MATCH(Main3WData15[[#This Row],[Acronym]],AcronymList,0),1)","v":"Agence d'aide à la coopération technique et au développement"},{"$f":"INDEX(Organizations[],MATCH(Main3WData15[[#This Row],[Acronym]],AcronymList,0),3)","v":"ONG Int."},"Nutrition","Regulier","Mopti",{"$f":"VLOOKUP(Main3WData15[[#This Row],[Admin Unit Name]],AdminUnits[],2,FALSE)","v":"ML05"},{"$f":"VLOOKUP(Main3WData15[[#This Row],[Admin Unit Name]],AdminUnits[],3,FALSE)","v":"Sud"},{"$f":"VLOOKUP(Main3WData15[[#This Row],[Admin Unit Name]],AdminUnits[],4,FALSE)","v":5},{"$f":"VLOOKUP(Main3WData15[[#This Row],[Sector]],Sectors[],2,FALSE)","v":4}]
[null,"HKI",{"$f":"INDEX(Organizations[],MATCH(Main3WData15[[#This Row],[Acronym]],AcronymList,0),1)","v":"Helen Keller International"},{"$f":"INDEX(Organizations[],MATCH(Main3WData15[[#This Row],[Acronym]],AcronymList,0),3)","v":"ONG Int."},"Nutrition","Regulier","Segou",{"$f":"VLOOKUP(Main3WData15[[#This Row],[Admin Unit Name]],AdminUnits[],2,FALSE)","v":"ML04"},{"$f":"VLOOKUP(Main3WData15[[#This Row],[Admin Unit Name]],AdminUnits[],3,FALSE)","v":"Sud"},{"$f":"VLOOKUP(Main3WData15[[#This Row],[Admin Unit Name]],AdminUnits[],4,FALSE)","v":4},{"$f":"VLOOKUP(Main3WData15[[#This Row],[Sector]],Sectors[],2,FALSE)","v":4}]
[null,"Save The Children",{"$f":"INDEX(Organizations[],MATCH(Main3WData15[[#This Row],[Acronym]],AcronymList,0),1)","v":"Save the Children"},{"$f":"INDEX(Organizations[],MATCH(Main3WData15[[#This Row],[Acronym]],AcronymList,0),3)","v":"ONG Int."},"Nutrition","Regulier","Sikasso",{"$f":"VLOOKUP(Main3WData15[[#This Row],[Admin Unit Name]],AdminUnits[],2,FALSE)","v":"ML03"},{"$f":"VLOOKUP(Main3WData15[[#This Row],[Admin Unit Name]],AdminUnits[],3,FALSE)","v":"Sud"},{"$f":"VLOOKUP(Main3WData15[[#This Row],[Admin Unit Name]],AdminUnits[],4,FALSE)","v":3},{"$f":"VLOOKUP(Main3WData15[[#This Row],[Sector]],Sectors[],2,FALSE)","v":4}]
[null,"ACTED",{"$f":"INDEX(Organizations[],MATCH(Main3WData15[[#This Row],[Acronym]],AcronymList,0),1)","v":"Agence d'aide à la coopération technique et au développement"},{"$f":"INDEX(Organizations[],MATCH(Main3WData15[[#This Row],[Acronym]],AcronymList,0),3)","v":"ONG Int."},"Nutrition","Regulier","Bamako",{"$f":"VLOOKUP(Main3WData15[[#This Row],[Admin Unit Name]],AdminUnits[],2,FALSE)","v":"ML09"},{"$f":"VLOOKUP(Main3WData15[[#This Row],[Admin Unit Name]],AdminUnits[],3,FALSE)","v":"Sud"},{"$f":"VLOOKUP(Main3WData15[[#This Row],[Admin Unit Name]],AdminUnits[],4,FALSE)","v":0},{"$f":"VLOOKUP(Main3WData15[[#This Row],[Sector]],Sectors[],2,FALSE)","v":4}]
[null,"ACF – Espagne",{"$f":"INDEX(Organizations[],MATCH(Main3WData15[[#This Row],[Acronym]],AcronymList,0),1)","v":"Action contre la faim Espagne"},{"$f":"INDEX(Organizations[],MATCH(Main3WData15[[#This Row],[Acronym]],AcronymList,0),3)","v":"ONG Int."},"Nutrition","Regulier","Gao",{"$f":"VLOOKUP(Main3WData15[[#This Row],[Admin Unit Name]],AdminUnits[],2,FALSE)","v":"ML07"},{"$f":"VLOOKUP(Main3WData15[[#This Row],[Admin Unit Name]],AdminUnits[],3,FALSE)","v":"Nord"},{"$f":"VLOOKUP(Main3WData15[[#This Row],[Admin Unit Name]],AdminUnits[],4,FALSE)","v":7},{"$f":"VLOOKUP(Main3WData15[[#This Row],[Sector]],Sectors[],2,FALSE)","v":4}]
[null,"AAG-Gao",{"$f":"INDEX(Organizations[],MATCH(Main3WData15[[#This Row],[Acronym]],AcronymList,0),1)","v":"AAG-Gao"},{"$f":"INDEX(Organizations[],MATCH(Main3WData15[[#This Row],[Acronym]],AcronymList,0),3)","v":"ONG Nat."},"Nutrition","Regulier","Gao",{"$f":"VLOOKUP(Main3WData15[[#This Row],[Admin Unit Name]],AdminUnits[],2,FALSE)","v":"ML07"},{"$f":"VLOOKUP(Main3WData15[[#This Row],[Admin Unit Name]],AdminUnits[],3,FALSE)","v":"Nord"},{"$f":"VLOOKUP(Main3WData15[[#This Row],[Admin Unit Name]],AdminUnits[],4,FALSE)","v":7},{"$f":"VLOOKUP(Main3WData15[[#This Row],[Sector]],Sectors[],2,FALSE)","v":4}]
[null,"MDM Belgique",{"$f":"INDEX(Organizations[],MATCH(Main3WData15[[#This Row],[Acronym]],AcronymList,0),1)","v":"Médecins Du Monde Belgique"},{"$f":"INDEX(Organizations[],MATCH(Main3WData15[[#This Row],[Acronym]],AcronymList,0),3)","v":"ONG Int."},"Nutrition","Regulier","Gao",{"$f":"VLOOKUP(Main3WData15[[#This Row],[Admin Unit Name]],AdminUnits[],2,FALSE)","v":"ML07"},{"$f":"VLOOKUP(Main3WData15[[#This Row],[Admin Unit Name]],AdminUnits[],3,FALSE)","v":"Nord"},{"$f":"VLOOKUP(Main3WData15[[#This Row],[Admin Unit Name]],AdminUnits[],4,FALSE)","v":7},{"$f":"VLOOKUP(Main3WData15[[#This Row],[Sector]],Sectors[],2,FALSE)","v":4}]
[null,"CR-France",{"$f":"INDEX(Organizations[],MATCH(Main3WData15[[#This Row],[Acronym]],AcronymList,0),1)","v":"Croix Rouge France"},{"$f":"INDEX(Organizations[],MATCH(Main3WData15[[#This Row],[Acronym]],AcronymList,0),3)","v":"Mouv. Croix-rouge"},"Nutrition","Regulier","Gao",{"$f":"VLOOKUP(Main3WData15[[#This Row],[Admin Unit Name]],AdminUnits[],2,FALSE)","v":"ML07"},{"$f":"VLOOKUP(Main3WData15[[#This Row],[Admin Unit Name]],AdminUnits[],3,FALSE)","v":"Nord"},{"$f":"VLOOKUP(Main3WData15[[#This Row],[Admin Unit Name]],AdminUnits[],4,FALSE)","v":7},{"$f":"VLOOKUP(Main3WData15[[#This Row],[Sector]],Sectors[],2,FALSE)","v":4}]
[null,"AVSF",{"$f":"INDEX(Organizations[],MATCH(Main3WData15[[#This Row],[Acronym]],AcronymList,0),1)","v":"Agronomes et Vétérinaires Sans Frontières"},{"$f":"INDEX(Organizations[],MATCH(Main3WData15[[#This Row],[Acronym]],AcronymList,0),3)","v":"ONG Int."},"Nutrition","Regulier","Gao",{"$f":"VLOOKUP(Main3WData15[[#This Row],[Admin Unit Name]],AdminUnits[],2,FALSE)","v":"ML07"},{"$f":"VLOOKUP(Main3WData15[[#This Row],[Admin Unit Name]],AdminUnits[],3,FALSE)","v":"Nord"},{"$f":"VLOOKUP(Main3WData15[[#This Row],[Admin Unit Name]],AdminUnits[],4,FALSE)","v":7},{"$f":"VLOOKUP(Main3WData15[[#This Row],[Sector]],Sectors[],2,FALSE)","v":4}]
[null,"Save The Children",{"$f":"INDEX(Organizations[],MATCH(Main3WData15[[#This Row],[Acronym]],AcronymList,0),1)","v":"Save the Children"},{"$f":"INDEX(Organizations[],MATCH(Main3WData15[[#This Row],[Acronym]],AcronymList,0),3)","v":"ONG Int."},"Nutrition","Regulier","Gao",{"$f":"VLOOKUP(Main3WData15[[#This Row],[Admin Unit Name]],AdminUnits[],2,FALSE)","v":"ML07"},{"$f":"VLOOKUP(Main3WData15[[#This Row],[Admin Unit Name]],AdminUnits[],3,FALSE)","v":"Nord"},{"$f":"VLOOKUP(Main3WData15[[#This Row],[Admin Unit Name]],AdminUnits[],4,FALSE)","v":7},{"$f":"VLOOKUP(Main3WData15[[#This Row],[Sector]],Sectors[],2,FALSE)","v":4}]
[null,"IRC",{"$f":"INDEX(Organizations[],MATCH(Main3WData15[[#This Row],[Acronym]],AcronymList,0),1)","v":"International Rescue Committee"},{"$f":"INDEX(Organizations[],MATCH(Main3WData15[[#This Row],[Acronym]],AcronymList,0),3)","v":"ONG Int."},"Nutrition","Regulier","Gao",{"$f":"VLOOKUP(Main3WData15[[#This Row],[Admin Unit Name]],AdminUnits[],2,FALSE)","v":"ML07"},{"$f":"VLOOKUP(Main3WData15[[#This Row],[Admin Unit Name]],AdminUnits[],3,FALSE)","v":"Nord"},{"$f":"VLOOKUP(Main3WData15[[#This Row],[Admin Unit Name]],AdminUnits[],4,FALSE)","v":7},{"$f":"VLOOKUP(Main3WData15[[#This Row],[Sector]],Sectors[],2,FALSE)","v":4}]
[null,"WORLD VISION",{"$f":"INDEX(Organizations[],MATCH(Main3WData15[[#This Row],[Acronym]],AcronymList,0),1)","v":"World Vision"},{"$f":"INDEX(Organizations[],MATCH(Main3WData15[[#This Row],[Acronym]],AcronymList,0),3)","v":"ONG Int."},"Nutrition","Regulier","Kayes",{"$f":"VLOOKUP(Main3WData15[[#This Row],[Admin Unit Name]],AdminUnits[],2,FALSE)","v":"ML01"},{"$f":"VLOOKUP(Main3WData15[[#This Row],[Admin Unit Name]],AdminUnits[],3,FALSE)","v":"Sud"},{"$f":"VLOOKUP(Main3WData15[[#This Row],[Admin Unit Name]],AdminUnits[],4,FALSE)","v":1},{"$f":"VLOOKUP(Main3WData15[[#This Row],[Sector]],Sectors[],2,FALSE)","v":4}]
[null,"CR-France",{"$f":"INDEX(Organizations[],MATCH(Main3WData15[[#This Row],[Acronym]],AcronymList,0),1)","v":"Croix Rouge France"},{"$f":"INDEX(Organizations[],MATCH(Main3WData15[[#This Row],[Acronym]],AcronymList,0),3)","v":"Mouv. Croix-rouge"},"Nutrition","Regulier","Kayes",{"$f":"VLOOKUP(Main3WData15[[#This Row],[Admin Unit Name]],AdminUnits[],2,FALSE)","v":"ML01"},{"$f":"VLOOKUP(Main3WData15[[#This Row],[Admin Unit Name]],AdminUnits[],3,FALSE)","v":"Sud"},{"$f":"VLOOKUP(Main3WData15[[#This Row],[Admin Unit Name]],AdminUnits[],4,FALSE)","v":1},{"$f":"VLOOKUP(Main3WData15[[#This Row],[Sector]],Sectors[],2,FALSE)","v":4}]
[null,"OMAES",{"$f":"INDEX(Organizations[],MATCH(Main3WData15[[#This Row],[Acronym]],AcronymList,0),1)","v":"Œuvre Malienne d'Aide à l'Enfance du Sahel"},{"$f":"INDEX(Organizations[],MATCH(Main3WData15[[#This Row],[Acronym]],AcronymList,0),3)","v":"ONG Nat."},"Nutrition","Regulier","Kayes",{"$f":"VLOOKUP(Main3WData15[[#This Row],[Admin Unit Name]],AdminUnits[],2,FALSE)","v":"ML01"},{"$f":"VLOOKUP(Main3WData15[[#This Row],[Admin Unit Name]],AdminUnits[],3,FALSE)","v":"Sud"},{"$f":"VLOOKUP(Main3WData15[[#This Row],[Admin Unit Name]],AdminUnits[],4,FALSE)","v":1},{"$f":"VLOOKUP(Main3WData15[[#This Row],[Sector]],Sectors[],2,FALSE)","v":4}]
[null,"MEDICUS MUNDI",{"$f":"INDEX(Organizations[],MATCH(Main3WData15[[#This Row],[Acronym]],AcronymList,0),1)","v":"MEDICUS MUNDI"},{"$f":"INDEX(Organizations[],MATCH(Main3WData15[[#This Row],[Acronym]],AcronymList,0),3)","v":"ONG Int."},"Nutrition","Regulier","Kayes",{"$f":"VLOOKUP(Main3WData15[[#This Row],[Admin Unit Name]],AdminUnits[],2,FALSE)","v":"ML01"},{"$f":"VLOOKUP(Main3WData15[[#This Row],[Admin Unit Name]],AdminUnits[],3,FALSE)","v":"Sud"},{"$f":"VLOOKUP(Main3WData15[[#This Row],[Admin Unit Name]],AdminUnits[],4,FALSE)","v":1},{"$f":"VLOOKUP(Main3WData15[[#This Row],[Sector]],Sectors[],2,FALSE)","v":4}]
[null,"ACF – Espagne",{"$f":"INDEX(Organizations[],MATCH(Main3WData15[[#This Row],[Acronym]],AcronymList,0),1)","v":"Action contre la faim Espagne"},{"$f":"INDEX(Organizations[],MATCH(Main3WData15[[#This Row],[Acronym]],AcronymList,0),3)","v":"ONG Int."},"Nutrition","Regulier","Kayes",{"$f":"VLOOKUP(Main3WData15[[#This Row],[Admin Unit Name]],AdminUnits[],2,FALSE)","v":"ML01"},{"$f":"VLOOKUP(Main3WData15[[#This Row],[Admin Unit Name]],AdminUnits[],3,FALSE)","v":"Sud"},{"$f":"VLOOKUP(Main3WData15[[#This Row],[Admin Unit Name]],AdminUnits[],4,FALSE)","v":1},{"$f":"VLOOKUP(Main3WData15[[#This Row],[Sector]],Sectors[],2,FALSE)","v":4}]
[null,"Plan Mali",{"$f":"INDEX(Organizations[],MATCH(Main3WData15[[#This Row],[Acronym]],AcronymList,0),1)","v":"Plan Mali"},{"$f":"INDEX(Organizations[],MATCH(Main3WData15[[#This Row],[Acronym]],AcronymList,0),3)","v":"ONG Int."},"Nutrition","Regulier","Kayes",{"$f":"VLOOKUP(Main3WData15[[#This Row],[Admin Unit Name]],AdminUnits[],2,FALSE)","v":"ML01"},{"$f":"VLOOKUP(Main3WData15[[#This Row],[Admin Unit Name]],AdminUnits[],3,FALSE)","v":"Sud"},{"$f":"VLOOKUP(Main3WData15[[#This Row],[Admin Unit Name]],AdminUnits[],4,FALSE)","v":1},{"$f":"VLOOKUP(Main3WData15[[#This Row],[Sector]],Sectors[],2,FALSE)","v":4}]
[null,"MPDL",{"$f":"INDEX(Organizations[],MATCH(Main3WData15[[#This Row],[Acronym]],AcronymList,0),1)","v":"Mouvement pour la Paix "},{"$f":"INDEX(Organizations[],MATCH(Main3WData15[[#This Row],[Acronym]],AcronymList,0),3)","v":"ONG Int."},"Nutrition","Regulier","Kayes",{"$f":"VLOOKUP(Main3WData15[[#This Row],[Admin Unit Name]],AdminUnits[],2,FALSE)","v":"ML01"},{"$f":"VLOOKUP(Main3WData15[[#This Row],[Admin Unit Name]],AdminUnits[],3,FALSE)","v":"Sud"},{"$f":"VLOOKUP(Main3WData15[[#This Row],[Admin Unit Name]],AdminUnits[],4,FALSE)","v":1},{"$f":"VLOOKUP(Main3WData15[[#This Row],[Sector]],Sectors[],2,FALSE)","v":4}]
[null,"MDM Belgique",{"$f":"INDEX(Organizations[],MATCH(Main3WData15[[#This Row],[Acronym]],AcronymList,0),1)","v":"Médecins Du Monde Belgique"},{"$f":"INDEX(Organizations[],MATCH(Main3WData15[[#This Row],[Acronym]],AcronymList,0),3)","v":"ONG Int."},"Nutrition","Regulier","Kidal",{"$f":"VLOOKUP(Main3WData15[[#This Row],[Admin Unit Name]],AdminUnits[],2,FALSE)","v":"ML08"},{"$f":"VLOOKUP(Main3WData15[[#This Row],[Admin Unit Name]],AdminUnits[],3,FALSE)","v":"Nord"},{"$f":"VLOOKUP(Main3WData15[[#This Row],[Admin Unit Name]],AdminUnits[],4,FALSE)","v":8},{"$f":"VLOOKUP(Main3WData15[[#This Row],[Sector]],Sectors[],2,FALSE)","v":4}]
[null,"ACF – Espagne",{"$f":"INDEX(Organizations[],MATCH(Main3WData15[[#This Row],[Acronym]],AcronymList,0),1)","v":"Action contre la faim Espagne"},{"$f":"INDEX(Organizations[],MATCH(Main3WData15[[#This Row],[Acronym]],AcronymList,0),3)","v":"ONG Int."},"Nutrition","Regulier","Koulikoro",{"$f":"VLOOKUP(Main3WData15[[#This Row],[Admin Unit Name]],AdminUnits[],2,FALSE)","v":"ML02"},{"$f":"VLOOKUP(Main3WData15[[#This Row],[Admin Unit Name]],AdminUnits[],3,FALSE)","v":"Sud"},{"$f":"VLOOKUP(Main3WData15[[#This Row],[Admin Unit Name]],AdminUnits[],4,FALSE)","v":2},{"$f":"VLOOKUP(Main3WData15[[#This Row],[Sector]],Sectors[],2,FALSE)","v":4}]
[null,"HKI",{"$f":"INDEX(Organizations[],MATCH(Main3WData15[[#This Row],[Acronym]],AcronymList,0),1)","v":"Helen Keller International"},{"$f":"INDEX(Organizations[],MATCH(Main3WData15[[#This Row],[Acronym]],AcronymList,0),3)","v":"ONG Int."},"Nutrition","Regulier","Koulikoro",{"$f":"VLOOKUP(Main3WData15[[#This Row],[Admin Unit Name]],AdminUnits[],2,FALSE)","v":"ML02"},{"$f":"VLOOKUP(Main3WData15[[#This Row],[Admin Unit Name]],AdminUnits[],3,FALSE)","v":"Sud"},{"$f":"VLOOKUP(Main3WData15[[#This Row],[Admin Unit Name]],AdminUnits[],4,FALSE)","v":2},{"$f":"VLOOKUP(Main3WData15[[#This Row],[Sector]],Sectors[],2,FALSE)","v":4}]
[null,"ALIMA/AMCP",{"$f":"INDEX(Organizations[],MATCH(Main3WData15[[#This Row],[Acronym]],AcronymList,0),1)","v":"Alliance Internationale for Medical Action"},{"$f":"INDEX(Organizations[],MATCH(Main3WData15[[#This Row],[Acronym]],AcronymList,0),3)","v":"ONG Int."},"Nutrition","Regulier","Koulikoro",{"$f":"VLOOKUP(Main3WData15[[#This Row],[Admin Unit Name]],AdminUnits[],2,FALSE)","v":"ML02"},{"$f":"VLOOKUP(Main3WData15[[#This Row],[Admin Unit Name]],AdminUnits[],3,FALSE)","v":"Sud"},{"$f":"VLOOKUP(Main3WData15[[#This Row],[Admin Unit Name]],AdminUnits[],4,FALSE)","v":2},{"$f":"VLOOKUP(Main3WData15[[#This Row],[Sector]],Sectors[],2,FALSE)","v":4}]
[null,"BØRNEfonden",{"$f":"INDEX(Organizations[],MATCH(Main3WData15[[#This Row],[Acronym]],AcronymList,0),1)","v":"BØRNEfonden"},{"$f":"INDEX(Organizations[],MATCH(Main3WData15[[#This Row],[Acronym]],AcronymList,0),3)","v":"ONG Int."},"Nutrition","Regulier","Koulikoro",{"$f":"VLOOKUP(Main3WData15[[#This Row],[Admin Unit Name]],AdminUnits[],2,FALSE)","v":"ML02"},{"$f":"VLOOKUP(Main3WData15[[#This Row],[Admin Unit Name]],AdminUnits[],3,FALSE)","v":"Sud"},{"$f":"VLOOKUP(Main3WData15[[#This Row],[Admin Unit Name]],AdminUnits[],4,FALSE)","v":2},{"$f":"VLOOKUP(Main3WData15[[#This Row],[Sector]],Sectors[],2,FALSE)","v":4}]
[null,"PLAN Mali",{"$f":"INDEX(Organizations[],MATCH(Main3WData15[[#This Row],[Acronym]],AcronymList,0),1)","v":"Plan Mali"},{"$f":"INDEX(Organizations[],MATCH(Main3WData15[[#This Row],[Acronym]],AcronymList,0),3)","v":"ONG Int."},"Nutrition","Regulier","Koulikoro",{"$f":"VLOOKUP(Main3WData15[[#This Row],[Admin Unit Name]],AdminUnits[],2,FALSE)","v":"ML02"},{"$f":"VLOOKUP(Main3WData15[[#This Row],[Admin Unit Name]],AdminUnits[],3,FALSE)","v":"Sud"},{"$f":"VLOOKUP(Main3WData15[[#This Row],[Admin Unit Name]],AdminUnits[],4,FALSE)","v":2},{"$f":"VLOOKUP(Main3WData15[[#This Row],[Sector]],Sectors[],2,FALSE)","v":4}]
[null,"WORLD VISION",{"$f":"INDEX(Organizations[],MATCH(Main3WData15[[#This Row],[Acronym]],AcronymList,0),1)","v":"World Vision"},{"$f":"INDEX(Organizations[],MATCH(Main3WData15[[#This Row],[Acronym]],AcronymList,0),3)","v":"ONG Int."},"Nutrition","Regulier","Koulikoro",{"$f":"VLOOKUP(Main3WData15[[#This Row],[Admin Unit Name]],AdminUnits[],2,FALSE)","v":"ML02"},{"$f":"VLOOKUP(Main3WData15[[#This Row],[Admin Unit Name]],AdminUnits[],3,FALSE)","v":"Sud"},{"$f":"VLOOKUP(Main3WData15[[#This Row],[Admin Unit Name]],AdminUnits[],4,FALSE)","v":2},{"$f":"VLOOKUP(Main3WData15[[#This Row],[Sector]],Sectors[],2,FALSE)","v":4}]
[null,"IRC",{"$f":"INDEX(Organizations[],MATCH(Main3WData15[[#This Row],[Acronym]],AcronymList,0),1)","v":"International Rescue Committee"},{"$f":"INDEX(Organizations[],MATCH(Main3WData15[[#This Row],[Acronym]],AcronymList,0),3)","v":"ONG Int."},"Nutrition","Regulier","Koulikoro",{"$f":"VLOOKUP(Main3WData15[[#This Row],[Admin Unit Name]],AdminUnits[],2,FALSE)","v":"ML02"},{"$f":"VLOOKUP(Main3WData15[[#This Row],[Admin Unit Name]],AdminUnits[],3,FALSE)","v":"Sud"},{"$f":"VLOOKUP(Main3WData15[[#This Row],[Admin Unit Name]],AdminUnits[],4,FALSE)","v":2},{"$f":"VLOOKUP(Main3WData15[[#This Row],[Sector]],Sectors[],2,FALSE)","v":4}]
[null,"CRS",{"$f":"INDEX(Organizations[],MATCH(Main3WData15[[#This Row],[Acronym]],AcronymList,0),1)","v":"Catholic Relief Services"},{"$f":"INDEX(Organizations[],MATCH(Main3WData15[[#This Row],[Acronym]],AcronymList,0),3)","v":"ONG Int."},"Nutrition","Regulier","Koulikoro",{"$f":"VLOOKUP(Main3WData15[[#This Row],[Admin Unit Name]],AdminUnits[],2,FALSE)","v":"ML02"},{"$f":"VLOOKUP(Main3WData15[[#This Row],[Admin Unit Name]],AdminUnits[],3,FALSE)","v":"Sud"},{"$f":"VLOOKUP(Main3WData15[[#This Row],[Admin Unit Name]],AdminUnits[],4,FALSE)","v":2},{"$f":"VLOOKUP(Main3WData15[[#This Row],[Sector]],Sectors[],2,FALSE)","v":4}]
[null,"AFASO",{"$f":"INDEX(Organizations[],MATCH(Main3WData15[[#This Row],[Acronym]],AcronymList,0),1)","v":"Association des Femmes et Adolescents Solidaires"},{"$f":"INDEX(Organizations[],MATCH(Main3WData15[[#This Row],[Acronym]],AcronymList,0),3)","v":"Association"},"Nutrition","Regulier","Koulikoro",{"$f":"VLOOKUP(Main3WData15[[#This Row],[Admin Unit Name]],AdminUnits[],2,FALSE)","v":"ML02"},{"$f":"VLOOKUP(Main3WData15[[#This Row],[Admin Unit Name]],AdminUnits[],3,FALSE)","v":"Sud"},{"$f":"VLOOKUP(Main3WData15[[#This Row],[Admin Unit Name]],AdminUnits[],4,FALSE)","v":2},{"$f":"VLOOKUP(Main3WData15[[#This Row],[Sector]],Sectors[],2,FALSE)","v":4}]
[null,"YA-G-TU",{"$f":"INDEX(Organizations[],MATCH(Main3WData15[[#This Row],[Acronym]],AcronymList,0),1)","v":"YA-G-TU"},{"$f":"INDEX(Organizations[],MATCH(Main3WData15[[#This Row],[Acronym]],AcronymList,0),3)","v":"ONG Nat."},"Nutrition","Regulier","Mopti",{"$f":"VLOOKUP(Main3WData15[[#This Row],[Admin Unit Name]],AdminUnits[],2,FALSE)","v":"ML05"},{"$f":"VLOOKUP(Main3WData15[[#This Row],[Admin Unit Name]],AdminUnits[],3,FALSE)","v":"Sud"},{"$f":"VLOOKUP(Main3WData15[[#This Row],[Admin Unit Name]],AdminUnits[],4,FALSE)","v":5},{"$f":"VLOOKUP(Main3WData15[[#This Row],[Sector]],Sectors[],2,FALSE)","v":4}]
[null,"WORLD VISION",{"$f":"INDEX(Organizations[],MATCH(Main3WData15[[#This Row],[Acronym]],AcronymList,0),1)","v":"World Vision"},{"$f":"INDEX(Organizations[],MATCH(Main3WData15[[#This Row],[Acronym]],AcronymList,0),3)","v":"ONG Int."},"Nutrition","Regulier","Mopti",{"$f":"VLOOKUP(Main3WData15[[#This Row],[Admin Unit Name]],AdminUnits[],2,FALSE)","v":"ML05"},{"$f":"VLOOKUP(Main3WData15[[#This Row],[Admin Unit Name]],AdminUnits[],3,FALSE)","v":"Sud"},{"$f":"VLOOKUP(Main3WData15[[#This Row],[Admin Unit Name]],AdminUnits[],4,FALSE)","v":5},{"$f":"VLOOKUP(Main3WData15[[#This Row],[Sector]],Sectors[],2,FALSE)","v":4}]
[null,"HKI",{"$f":"INDEX(Organizations[],MATCH(Main3WData15[[#This Row],[Acronym]],AcronymList,0),1)","v":"Helen Keller International"},{"$f":"INDEX(Organizations[],MATCH(Main3WData15[[#This Row],[Acronym]],AcronymList,0),3)","v":"ONG Int."},"Nutrition","Regulier","Mopti",{"$f":"VLOOKUP(Main3WData15[[#This Row],[Admin Unit Name]],AdminUnits[],2,FALSE)","v":"ML05"},{"$f":"VLOOKUP(Main3WData15[[#This Row],[Admin Unit Name]],AdminUnits[],3,FALSE)","v":"Sud"},{"$f":"VLOOKUP(Main3WData15[[#This Row],[Admin Unit Name]],AdminUnits[],4,FALSE)","v":5},{"$f":"VLOOKUP(Main3WData15[[#This Row],[Sector]],Sectors[],2,FALSE)","v":4}]
[null,"ASDAP",{"$f":"INDEX(Organizations[],MATCH(Main3WData15[[#This Row],[Acronym]],AcronymList,0),1)","v":"Association pour le Soutien du Développement des Activités de Population"},{"$f":"INDEX(Organizations[],MATCH(Main3WData15[[#This Row],[Acronym]],AcronymList,0),3)","v":"ONG Nat."},"Nutrition","Regulier","Mopti",{"$f":"VLOOKUP(Main3WData15[[#This Row],[Admin Unit Name]],AdminUnits[],2,FALSE)","v":"ML05"},{"$f":"VLOOKUP(Main3WData15[[#This Row],[Admin Unit Name]],AdminUnits[],3,FALSE)","v":"Sud"},{"$f":"VLOOKUP(Main3WData15[[#This Row],[Admin Unit Name]],AdminUnits[],4,FALSE)","v":5},{"$f":"VLOOKUP(Main3WData15[[#This Row],[Sector]],Sectors[],2,FALSE)","v":4}]
[null,"CRS",{"$f":"INDEX(Organizations[],MATCH(Main3WData15[[#This Row],[Acronym]],AcronymList,0),1)","v":"Catholic Relief Services"},{"$f":"INDEX(Organizations[],MATCH(Main3WData15[[#This Row],[Acronym]],AcronymList,0),3)","v":"ONG Int."},"Nutrition","Regulier","Mopti",{"$f":"VLOOKUP(Main3WData15[[#This Row],[Admin Unit Name]],AdminUnits[],2,FALSE)","v":"ML05"},{"$f":"VLOOKUP(Main3WData15[[#This Row],[Admin Unit Name]],AdminUnits[],3,FALSE)","v":"Sud"},{"$f":"VLOOKUP(Main3WData15[[#This Row],[Admin Unit Name]],AdminUnits[],4,FALSE)","v":5},{"$f":"VLOOKUP(Main3WData15[[#This Row],[Sector]],Sectors[],2,FALSE)","v":4}]
[null,"MSF",{"$f":"INDEX(Organizations[],MATCH(Main3WData15[[#This Row],[Acronym]],AcronymList,0),1)","v":"Médecins Sans Frontières"},{"$f":"INDEX(Organizations[],MATCH(Main3WData15[[#This Row],[Acronym]],AcronymList,0),3)","v":"ONG Int."},"Nutrition","Regulier","Mopti",{"$f":"VLOOKUP(Main3WData15[[#This Row],[Admin Unit Name]],AdminUnits[],2,FALSE)","v":"ML05"},{"$f":"VLOOKUP(Main3WData15[[#This Row],[Admin Unit Name]],AdminUnits[],3,FALSE)","v":"Sud"},{"$f":"VLOOKUP(Main3WData15[[#This Row],[Admin Unit Name]],AdminUnits[],4,FALSE)","v":5},{"$f":"VLOOKUP(Main3WData15[[#This Row],[Sector]],Sectors[],2,FALSE)","v":4}]
[null,"MDM France",{"$f":"INDEX(Organizations[],MATCH(Main3WData15[[#This Row],[Acronym]],AcronymList,0),1)","v":"Médecins Du Monde France"},{"$f":"INDEX(Organizations[],MATCH(Main3WData15[[#This Row],[Acronym]],AcronymList,0),3)","v":"ONG Int."},"Nutrition","Regulier","Mopti",{"$f":"VLOOKUP(Main3WData15[[#This Row],[Admin Unit Name]],AdminUnits[],2,FALSE)","v":"ML05"},{"$f":"VLOOKUP(Main3WData15[[#This Row],[Admin Unit Name]],AdminUnits[],3,FALSE)","v":"Sud"},{"$f":"VLOOKUP(Main3WData15[[#This Row],[Admin Unit Name]],AdminUnits[],4,FALSE)","v":5},{"$f":"VLOOKUP(Main3WData15[[#This Row],[Sector]],Sectors[],2,FALSE)","v":4}]
[null,"Save the Children",{"$f":"INDEX(Organizations[],MATCH(Main3WData15[[#This Row],[Acronym]],AcronymList,0),1)","v":"Save the Children"},{"$f":"INDEX(Organizations[],MATCH(Main3WData15[[#This Row],[Acronym]],AcronymList,0),3)","v":"ONG Int."},"Nutrition","Regulier","Mopti",{"$f":"VLOOKUP(Main3WData15[[#This Row],[Admin Unit Name]],AdminUnits[],2,FALSE)","v":"ML05"},{"$f":"VLOOKUP(Main3WData15[[#This Row],[Admin Unit Name]],AdminUnits[],3,FALSE)","v":"Sud"},{"$f":"VLOOKUP(Main3WData15[[#This Row],[Admin Unit Name]],AdminUnits[],4,FALSE)","v":5},{"$f":"VLOOKUP(Main3WData15[[#This Row],[Sector]],Sectors[],2,FALSE)","v":4}]
[null,"CR-Belgique",{"$f":"INDEX(Organizations[],MATCH(Main3WData15[[#This Row],[Acronym]],AcronymList,0),1)","v":"Croix Rouge Belgique"},{"$f":"INDEX(Organizations[],MATCH(Main3WData15[[#This Row],[Acronym]],AcronymList,0),3)","v":"Mouv. Croix-rouge"},"Nutrition","Regulier","Segou",{"$f":"VLOOKUP(Main3WData15[[#This Row],[Admin Unit Name]],AdminUnits[],2,FALSE)","v":"ML04"},{"$f":"VLOOKUP(Main3WData15[[#This Row],[Admin Unit Name]],AdminUnits[],3,FALSE)","v":"Sud"},{"$f":"VLOOKUP(Main3WData15[[#This Row],[Admin Unit Name]],AdminUnits[],4,FALSE)","v":4},{"$f":"VLOOKUP(Main3WData15[[#This Row],[Sector]],Sectors[],2,FALSE)","v":4}]
[null,"Plan Mali",{"$f":"INDEX(Organizations[],MATCH(Main3WData15[[#This Row],[Acronym]],AcronymList,0),1)","v":"Plan Mali"},{"$f":"INDEX(Organizations[],MATCH(Main3WData15[[#This Row],[Acronym]],AcronymList,0),3)","v":"ONG Int."},"Nutrition","Regulier","Segou",{"$f":"VLOOKUP(Main3WData15[[#This Row],[Admin Unit Name]],AdminUnits[],2,FALSE)","v":"ML04"},{"$f":"VLOOKUP(Main3WData15[[#This Row],[Admin Unit Name]],AdminUnits[],3,FALSE)","v":"Sud"},{"$f":"VLOOKUP(Main3WData15[[#This Row],[Admin Unit Name]],AdminUnits[],4,FALSE)","v":4},{"$f":"VLOOKUP(Main3WData15[[#This Row],[Sector]],Sectors[],2,FALSE)","v":4}]
[null,"ASDAP",{"$f":"INDEX(Organizations[],MATCH(Main3WData15[[#This Row],[Acronym]],AcronymList,0),1)","v":"Association pour le Soutien du Développement des Activités de Population"},{"$f":"INDEX(Organizations[],MATCH(Main3WData15[[#This Row],[Acronym]],AcronymList,0),3)","v":"ONG Nat."},"Nutrition","Regulier","Segou",{"$f":"VLOOKUP(Main3WData15[[#This Row],[Admin Unit Name]],AdminUnits[],2,FALSE)","v":"ML04"},{"$f":"VLOOKUP(Main3WData15[[#This Row],[Admin Unit Name]],AdminUnits[],3,FALSE)","v":"Sud"},{"$f":"VLOOKUP(Main3WData15[[#This Row],[Admin Unit Name]],AdminUnits[],4,FALSE)","v":4},{"$f":"VLOOKUP(Main3WData15[[#This Row],[Sector]],Sectors[],2,FALSE)","v":4}]
[null,"Terre des Hommes Lausanne",{"$f":"INDEX(Organizations[],MATCH(Main3WData15[[#This Row],[Acronym]],AcronymList,0),1)","v":{"$error":"#N/A"}},{"$f":"INDEX(Organizations[],MATCH(Main3WData15[[#This Row],[Acronym]],AcronymList,0),3)","v":{"$error":"#N/A"}},"Nutrition","Regulier","Segou",{"$f":"VLOOKUP(Main3WData15[[#This Row],[Admin Unit Name]],AdminUnits[],2,FALSE)","v":"ML04"},{"$f":"VLOOKUP(Main3WData15[[#This Row],[Admin Unit Name]],AdminUnits[],3,FALSE)","v":"Sud"},{"$f":"VLOOKUP(Main3WData15[[#This Row],[Admin Unit Name]],AdminUnits[],4,FALSE)","v":4},{"$f":"VLOOKUP(Main3WData15[[#This Row],[Sector]],Sectors[],2,FALSE)","v":4}]
[null,"COOPI",{"$f":"INDEX(Organizations[],MATCH(Main3WData15[[#This Row],[Acronym]],AcronymList,0),1)","v":"COOPI"},{"$f":"INDEX(Organizations[],MATCH(Main3WData15[[#This Row],[Acronym]],AcronymList,0),3)","v":"ONG Int."},"Nutrition","Regulier","Segou",{"$f":"VLOOKUP(Main3WData15[[#This Row],[Admin Unit Name]],AdminUnits[],2,FALSE)","v":"ML04"},{"$f":"VLOOKUP(Main3WData15[[#This Row],[Admin Unit Name]],AdminUnits[],3,FALSE)","v":"Sud"},{"$f":"VLOOKUP(Main3WData15[[#This Row],[Admin Unit Name]],AdminUnits[],4,FALSE)","v":4},{"$f":"VLOOKUP(Main3WData15[[#This Row],[Sector]],Sectors[],2,FALSE)","v":4}]
[null,"HKI",{"$f":"INDEX(Organizations[],MATCH(Main3WData15[[#This Row],[Acronym]],AcronymList,0),1)","v":"Helen Keller International"},{"$f":"INDEX(Organizations[],MATCH(Main3WData15[[#This Row],[Acronym]],AcronymList,0),3)","v":"ONG Int."},"Nutrition","Regulier","Sikasso",{"$f":"VLOOKUP(Main3WData15[[#This Row],[Admin Unit Name]],AdminUnits[],2,FALSE)","v":"ML03"},{"$f":"VLOOKUP(Main3WData15[[#This Row],[Admin Unit Name]],AdminUnits[],3,FALSE)","v":"Sud"},{"$f":"VLOOKUP(Main3WData15[[#This Row],[Admin Unit Name]],AdminUnits[],4,FALSE)","v":3},{"$f":"VLOOKUP(Main3WData15[[#This Row],[Sector]],Sectors[],2,FALSE)","v":4}]
[null,"BØRNEfonden",{"$f":"INDEX(Organizations[],MATCH(Main3WData15[[#This Row],[Acronym]],AcronymList,0),1)","v":"BØRNEfonden"},{"$f":"INDEX(Organizations[],MATCH(Main3WData15[[#This Row],[Acronym]],AcronymList,0),3)","v":"ONG Int."},"Nutrition","Regulier","Sikasso",{"$f":"VLOOKUP(Main3WData15[[#This Row],[Admin Unit Name]],AdminUnits[],2,FALSE)","v":"ML03"},{"$f":"VLOOKUP(Main3WData15[[#This Row],[Admin Unit Name]],AdminUnits[],3,FALSE)","v":"Sud"},{"$f":"VLOOKUP(Main3WData15[[#This Row],[Admin Unit Name]],AdminUnits[],4,FALSE)","v":3},{"$f":"VLOOKUP(Main3WData15[[#This Row],[Sector]],Sectors[],2,FALSE)","v":4}]
[null,"ASDAP",{"$f":"INDEX(Organizations[],MATCH(Main3WData15[[#This Row],[Acronym]],AcronymList,0),1)","v":"Association pour le Soutien du Développement des Activités de Population"},{"$f":"INDEX(Organizations[],MATCH(Main3WData15[[#This Row],[Acronym]],AcronymList,0),3)","v":"ONG Nat."},"Nutrition","Regulier","Sikasso",{"$f":"VLOOKUP(Main3WData15[[#This Row],[Admin Unit Name]],AdminUnits[],2,FALSE)","v":"ML03"},{"$f":"VLOOKUP(Main3WData15[[#This Row],[Admin Unit Name]],AdminUnits[],3,FALSE)","v":"Sud"},{"$f":"VLOOKUP(Main3WData15[[#This Row],[Admin Unit Name]],AdminUnits[],4,FALSE)","v":3},{"$f":"VLOOKUP(Main3WData15[[#This Row],[Sector]],Sectors[],2,FALSE)","v":4}]
[null,"MSF",{"$f":"INDEX(Organizations[],MATCH(Main3WData15[[#This Row],[Acronym]],AcronymList,0),1)","v":"Médecins Sans Frontières"},{"$f":"INDEX(Organizations[],MATCH(Main3WData15[[#This Row],[Acronym]],AcronymList,0),3)","v":"ONG Int."},"Nutrition","Regulier","Sikasso",{"$f":"VLOOKUP(Main3WData15[[#This Row],[Admin Unit Name]],AdminUnits[],2,FALSE)","v":"ML03"},{"$f":"VLOOKUP(Main3WData15[[#This Row],[Admin Unit Name]],AdminUnits[],3,FALSE)","v":"Sud"},{"$f":"VLOOKUP(Main3WData15[[#This Row],[Admin Unit Name]],AdminUnits[],4,FALSE)","v":3},{"$f":"VLOOKUP(Main3WData15[[#This Row],[Sector]],Sectors[],2,FALSE)","v":4}]
[null,"WORLD VISION",{"$f":"INDEX(Organizations[],MATCH(Main3WData15[[#This Row],[Acronym]],AcronymList,0),1)","v":"World Vision"},{"$f":"INDEX(Organizations[],MATCH(Main3WData15[[#This Row],[Acronym]],AcronymList,0),3)","v":"ONG Int."},"Nutrition","Regulier","Sikasso",{"$f":"VLOOKUP(Main3WData15[[#This Row],[Admin Unit Name]],AdminUnits[],2,FALSE)","v":"ML03"},{"$f":"VLOOKUP(Main3WData15[[#This Row],[Admin Unit Name]],AdminUnits[],3,FALSE)","v":"Sud"},{"$f":"VLOOKUP(Main3WData15[[#This Row],[Admin Unit Name]],AdminUnits[],4,FALSE)","v":3},{"$f":"VLOOKUP(Main3WData15[[#This Row],[Sector]],Sectors[],2,FALSE)","v":4}]
[null,"ALIMA/AMCP",{"$f":"INDEX(Organizations[],MATCH(Main3WData15[[#This Row],[Acronym]],AcronymList,0),1)","v":"Alliance Internationale for Medical Action"},{"$f":"INDEX(Organizations[],MATCH(Main3WData15[[#This Row],[Acronym]],AcronymList,0),3)","v":"ONG Int."},"Nutrition","Regulier","Tombouctou",{"$f":"VLOOKUP(Main3WData15[[#This Row],[Admin Unit Name]],AdminUnits[],2,FALSE)","v":"ML06"},{"$f":"VLOOKUP(Main3WData15[[#This Row],[Admin Unit Name]],AdminUnits[],3,FALSE)","v":"Nord"},{"$f":"VLOOKUP(Main3WData15[[#This Row],[Admin Unit Name]],AdminUnits[],4,FALSE)","v":6},{"$f":"VLOOKUP(Main3WData15[[#This Row],[Sector]],Sectors[],2,FALSE)","v":4}]
[null,"MERLIN",{"$f":"INDEX(Organizations[],MATCH(Main3WData15[[#This Row],[Acronym]],AcronymList,0),1)","v":"MERLIN"},{"$f":"INDEX(Organizations[],MATCH(Main3WData15[[#This Row],[Acronym]],AcronymList,0),3)","v":"ONG Int."},"Nutrition","Regulier","Tombouctou",{"$f":"VLOOKUP(Main3WData15[[#This Row],[Admin Unit Name]],AdminUnits[],2,FALSE)","v":"ML06"},{"$f":"VLOOKUP(Main3WData15[[#This Row],[Admin Unit Name]],AdminUnits[],3,FALSE)","v":"Nord"},{"$f":"VLOOKUP(Main3WData15[[#This Row],[Admin Unit Name]],AdminUnits[],4,FALSE)","v":6},{"$f":"VLOOKUP(Main3WData15[[#This Row],[Sector]],Sectors[],2,FALSE)","v":4}]
[null,"CARE Mali",{"$f":"INDEX(Organizations[],MATCH(Main3WData15[[#This Row],[Acronym]],AcronymList,0),1)","v":"CARE Interntional Mali"},{"$f":"INDEX(Organizations[],MATCH(Main3WData15[[#This Row],[Acronym]],AcronymList,0),3)","v":"ONG Int."},"Nutrition","Regulier","Tombouctou",{"$f":"VLOOKUP(Main3WData15[[#This Row],[Admin Unit Name]],AdminUnits[],2,FALSE)","v":"ML06"},{"$f":"VLOOKUP(Main3WData15[[#This Row],[Admin Unit Name]],AdminUnits[],3,FALSE)","v":"Nord"},{"$f":"VLOOKUP(Main3WData15[[#This Row],[Admin Unit Name]],AdminUnits[],4,FALSE)","v":6},{"$f":"VLOOKUP(Main3WData15[[#This Row],[Sector]],Sectors[],2,FALSE)","v":4}]
[null,"MSF",{"$f":"INDEX(Organizations[],MATCH(Main3WData15[[#This Row],[Acronym]],AcronymList,0),1)","v":"Médecins Sans Frontières"},{"$f":"INDEX(Organizations[],MATCH(Main3WData15[[#This Row],[Acronym]],AcronymList,0),3)","v":"ONG Int."},"Nutrition","Regulier","Tombouctou",{"$f":"VLOOKUP(Main3WData15[[#This Row],[Admin Unit Name]],AdminUnits[],2,FALSE)","v":"ML06"},{"$f":"VLOOKUP(Main3WData15[[#This Row],[Admin Unit Name]],AdminUnits[],3,FALSE)","v":"Nord"},{"$f":"VLOOKUP(Main3WData15[[#This Row],[Admin Unit Name]],AdminUnits[],4,FALSE)","v":6},{"$f":"VLOOKUP(Main3WData15[[#This Row],[Sector]],Sectors[],2,FALSE)","v":4}]
[null,"CR-Espagne",{"$f":"INDEX(Organizations[],MATCH(Main3WData15[[#This Row],[Acronym]],AcronymList,0),1)","v":"Croix Rouge Espagne"},{"$f":"INDEX(Organizations[],MATCH(Main3WData15[[#This Row],[Acronym]],AcronymList,0),3)","v":"Mouv. Croix-rouge"},"Nutrition","Regulier","Tombouctou",{"$f":"VLOOKUP(Main3WData15[[#This Row],[Admin Unit Name]],AdminUnits[],2,FALSE)","v":"ML06"},{"$f":"VLOOKUP(Main3WData15[[#This Row],[Admin Unit Name]],AdminUnits[],3,FALSE)","v":"Nord"},{"$f":"VLOOKUP(Main3WData15[[#This Row],[Admin Unit Name]],AdminUnits[],4,FALSE)","v":6},{"$f":"VLOOKUP(Main3WData15[[#This Row],[Sector]],Sectors[],2,FALSE)","v":4}]
[null,"HANDICAP INTERNATIONAL",{"$f":"INDEX(Organizations[],MATCH(Main3WData15[[#This Row],[Acronym]],AcronymList,0),1)","v":{"$error":"#N/A"}},{"$f":"INDEX(Organizations[],MATCH(Main3WData15[[#This Row],[Acronym]],AcronymList,0),3)","v":{"$error":"#N/A"}},"Nutrition","Regulier","Tombouctou",{"$f":"VLOOKUP(Main3WData15[[#This Row],[Admin Unit Name]],AdminUnits[],2,FALSE)","v":"ML06"},{"$f":"VLOOKUP(Main3WData15[[#This Row],[Admin Unit Name]],AdminUnits[],3,FALSE)","v":"Nord"},{"$f":"VLOOKUP(Main3WData15[[#This Row],[Admin Unit Name]],AdminUnits[],4,FALSE)","v":6},{"$f":"VLOOKUP(Main3WData15[[#This Row],[Sector]],Sectors[],2,FALSE)","v":4}]
[null,"IMC",{"$f":"INDEX(Organizations[],MATCH(Main3WData15[[#This Row],[Acronym]],AcronymList,0),1)","v":"International Medical Corps"},{"$f":"INDEX(Organizations[],MATCH(Main3WData15[[#This Row],[Acronym]],AcronymList,0),3)","v":"ONG Int."},"Nutrition","Regulier","Tombouctou",{"$f":"VLOOKUP(Main3WData15[[#This Row],[Admin Unit Name]],AdminUnits[],2,FALSE)","v":"ML06"},{"$f":"VLOOKUP(Main3WData15[[#This Row],[Admin Unit Name]],AdminUnits[],3,FALSE)","v":"Nord"},{"$f":"VLOOKUP(Main3WData15[[#This Row],[Admin Unit Name]],AdminUnits[],4,FALSE)","v":6},{"$f":"VLOOKUP(Main3WData15[[#This Row],[Sector]],Sectors[],2,FALSE)","v":4}]
[null,"CR-France",{"$f":"INDEX(Organizations[],MATCH(Main3WData15[[#This Row],[Acronym]],AcronymList,0),1)","v":"Croix Rouge France"},{"$f":"INDEX(Organizations[],MATCH(Main3WData15[[#This Row],[Acronym]],AcronymList,0),3)","v":"Mouv. Croix-rouge"},"Nutrition","Regulier","Tombouctou",{"$f":"VLOOKUP(Main3WData15[[#This Row],[Admin Unit Name]],AdminUnits[],2,FALSE)","v":"ML06"},{"$f":"VLOOKUP(Main3WData15[[#This Row],[Admin Unit Name]],AdminUnits[],3,FALSE)","v":"Nord"},{"$f":"VLOOKUP(Main3WData15[[#This Row],[Admin Unit Name]],AdminUnits[],4,FALSE)","v":6},{"$f":"VLOOKUP(Main3WData15[[#This Row],[Sector]],Sectors[],2,FALSE)","v":4}]
[null,"AVSF",{"$f":"INDEX(Organizations[],MATCH(Main3WData15[[#This Row],[Acronym]],AcronymList,0),1)","v":"Agronomes et Vétérinaires Sans Frontières"},{"$f":"INDEX(Organizations[],MATCH(Main3WData15[[#This Row],[Acronym]],AcronymList,0),3)","v":"ONG Int."},"Nutrition","Regulier","Tombouctou",{"$f":"VLOOKUP(Main3WData15[[#This Row],[Admin Unit Name]],AdminUnits[],2,FALSE)","v":"ML06"},{"$f":"VLOOKUP(Main3WData15[[#This Row],[Admin Unit Name]],AdminUnits[],3,FALSE)","v":"Nord"},{"$f":"VLOOKUP(Main3WData15[[#This Row],[Admin Unit Name]],AdminUnits[],4,FALSE)","v":6},{"$f":"VLOOKUP(Main3WData15[[#This Row],[Sector]],Sectors[],2,FALSE)","v":4}]
[null,"PAM",{"$f":"INDEX(Organizations[],MATCH(Main3WData15[[#This Row],[Acronym]],AcronymList,0),1)","v":"Programme Alimentaire Mondial"},{"$f":"INDEX(Organizations[],MATCH(Main3WData15[[#This Row],[Acronym]],AcronymList,0),3)","v":"UN"},"Télécom.  d'urgence","Regulier","Gao",{"$f":"VLOOKUP(Main3WData15[[#This Row],[Admin Unit Name]],AdminUnits[],2,FALSE)","v":"ML07"},{"$f":"VLOOKUP(Main3WData15[[#This Row],[Admin Unit Name]],AdminUnits[],3,FALSE)","v":"Nord"},{"$f":"VLOOKUP(Main3WData15[[#This Row],[Admin Unit Name]],AdminUnits[],4,FALSE)","v":7},{"$f":"VLOOKUP(Main3WData15[[#This Row],[Sector]],Sectors[],2,FALSE)","v":{"$error":"#N/A"}}]
[null,"GREFFA",{"$f":"INDEX(Organizations[],MATCH(Main3WData15[[#This Row],[Acronym]],AcronymList,0),1)","v":"GREFFA"},{"$f":"INDEX(Organizations[],MATCH(Main3WData15[[#This Row],[Acronym]],AcronymList,0),3)","v":"ONG Nat."},"Santé","Regulier","Bamako",{"$f":"VLOOKUP(Main3WData15[[#This Row],[Admin Unit Name]],AdminUnits[],2,FALSE)","v":"ML09"},{"$f":"VLOOKUP(Main3WData15[[#This Row],[Admin Unit Name]],AdminUnits[],3,FALSE)","v":"Sud"},{"$f":"VLOOKUP(Main3WData15[[#This Row],[Admin Unit Name]],AdminUnits[],4,FALSE)","v":0},{"$f":"VLOOKUP(Main3WData15[[#This Row],[Sector]],Sectors[],2,FALSE)","v":6}]
[null,"GREFFA",{"$f":"INDEX(Organizations[],MATCH(Main3WData15[[#This Row],[Acronym]],AcronymList,0),1)","v":"GREFFA"},{"$f":"INDEX(Organizations[],MATCH(Main3WData15[[#This Row],[Acronym]],AcronymList,0),3)","v":"ONG Nat."},"Santé","Regulier","Gao",{"$f":"VLOOKUP(Main3WData15[[#This Row],[Admin Unit Name]],AdminUnits[],2,FALSE)","v":"ML07"},{"$f":"VLOOKUP(Main3WData15[[#This Row],[Admin Unit Name]],AdminUnits[],3,FALSE)","v":"Nord"},{"$f":"VLOOKUP(Main3WData15[[#This Row],[Admin Unit Name]],AdminUnits[],4,FALSE)","v":7},{"$f":"VLOOKUP(Main3WData15[[#This Row],[Sector]],Sectors[],2,FALSE)","v":6}]
[null,"PU-AMI",{"$f":"INDEX(Organizations[],MATCH(Main3WData15[[#This Row],[Acronym]],AcronymList,0),1)","v":"Première Urgence-Aide Médicale Internationale"},{"$f":"INDEX(Organizations[],MATCH(Main3WData15[[#This Row],[Acronym]],AcronymList,0),3)","v":"ONG Int."},"Santé","Regulier","Gao",{"$f":"VLOOKUP(Main3WData15[[#This Row],[Admin Unit Name]],AdminUnits[],2,FALSE)","v":"ML07"},{"$f":"VLOOKUP(Main3WData15[[#This Row],[Admin Unit Name]],AdminUnits[],3,FALSE)","v":"Nord"},{"$f":"VLOOKUP(Main3WData15[[#This Row],[Admin Unit Name]],AdminUnits[],4,FALSE)","v":7},{"$f":"VLOOKUP(Main3WData15[[#This Row],[Sector]],Sectors[],2,FALSE)","v":6}]
[null,"GREFFA",{"$f":"INDEX(Organizations[],MATCH(Main3WData15[[#This Row],[Acronym]],AcronymList,0),1)","v":"GREFFA"},{"$f":"INDEX(Organizations[],MATCH(Main3WData15[[#This Row],[Acronym]],AcronymList,0),3)","v":"ONG Nat."},"Santé","Regulier","Kidal",{"$f":"VLOOKUP(Main3WData15[[#This Row],[Admin Unit Name]],AdminUnits[],2,FALSE)","v":"ML08"},{"$f":"VLOOKUP(Main3WData15[[#This Row],[Admin Unit Name]],AdminUnits[],3,FALSE)","v":"Nord"},{"$f":"VLOOKUP(Main3WData15[[#This Row],[Admin Unit Name]],AdminUnits[],4,FALSE)","v":8},{"$f":"VLOOKUP(Main3WData15[[#This Row],[Sector]],Sectors[],2,FALSE)","v":6}]

{"sheet":"Data novembre","index":4,"n_rows":371,"n_cols":11,"rows_kept":371,"cut":false,"hidden":true,"merged":[[0,1,0,6]]}
[null,"3W Data Entry"]
[null,null,"Add a new organisation"]
[]
[null,"Acronym","Organisation","Org Type","Sector","Activity Type","Admin Unit Name","Pcode","Autre","I. Admin","I. Sector"]
[null,"YA-G-TU",{"$f":"INDEX(Organizations[],MATCH(Main3WData16[[#This Row],[Acronym]],AcronymList,0),1)","v":"YA-G-TU"},{"$f":"INDEX(Organizations[],MATCH(Main3WData16[[#This Row],[Acronym]],AcronymList,0),3)","v":"ONG Nat."},"EHA","Regulier","MOPTI",{"$f":"VLOOKUP(Main3WData16[[#This Row],[Admin Unit Name]],AdminUnits[],2,FALSE)","v":"ML05"},{"$f":"VLOOKUP(Main3WData16[[#This Row],[Admin Unit Name]],AdminUnits[],3,FALSE)","v":"Sud"},{"$f":"VLOOKUP(Main3WData16[[#This Row],[Admin Unit Name]],AdminUnits[],4,FALSE)","v":5},{"$f":"VLOOKUP(Main3WData16[[#This Row],[Sector]],Sectors[],2,FALSE)","v":8}]
[null,"YA-G-TU",{"$f":"INDEX(Organizations[],MATCH(Main3WData16[[#This Row],[Acronym]],AcronymList,0),1)","v":"YA-G-TU"},{"$f":"INDEX(Organizations[],MATCH(Main3WData16[[#This Row],[Acronym]],AcronymList,0),3)","v":"ONG Nat."},"Nutrition","Regulier","Mopti",{"$f":"VLOOKUP(Main3WData16[[#This Row],[Admin Unit Name]],AdminUnits[],2,FALSE)","v":"ML05"},{"$f":"VLOOKUP(Main3WData16[[#This Row],[Admin Unit Name]],AdminUnits[],3,FALSE)","v":"Sud"},{"$f":"VLOOKUP(Main3WData16[[#This Row],[Admin Unit Name]],AdminUnits[],4,FALSE)","v":5},{"$f":"VLOOKUP(Main3WData16[[#This Row],[Sector]],Sectors[],2,FALSE)","v":4}]
[null,"WORLD VISION",{"$f":"INDEX(Organizations[],MATCH(Main3WData16[[#This Row],[Acronym]],AcronymList,0),1)","v":"World Vision"},{"$f":"INDEX(Organizations[],MATCH(Main3WData16[[#This Row],[Acronym]],AcronymList,0),3)","v":"ONG Int."},"Nutrition","Regulier","Kayes",{"$f":"VLOOKUP(Main3WData16[[#This Row],[Admin Unit Name]],AdminUnits[],2,FALSE)","v":"ML01"},{"$f":"VLOOKUP(Main3WData16[[#This Row],[Admin Unit Name]],AdminUnits[],3,FALSE)","v":"Sud"},{"$f":"VLOOKUP(Main3WData16[[#This Row],[Admin Unit Name]],AdminUnits[],4,FALSE)","v":1},{"$f":"VLOOKUP(Main3WData16[[#This Row],[Sector]],Sectors[],2,FALSE)","v":4}]
[null,"WORLD VISION",{"$f":"INDEX(Organizations[],MATCH(Main3WData16[[#This Row],[Acronym]],AcronymList,0),1)","v":"World Vision"},{"$f":"INDEX(Organizations[],MATCH(Main3WData16[[#This Row],[Acronym]],AcronymList,0),3)","v":"ONG Int."},"Nutrition","Regulier","Koulikoro",{"$f":"VLOOKUP(Main3WData16[[#This Row],[Admin Unit Name]],AdminUnits[],2,FALSE)","v":"ML02"},{"$f":"VLOOKUP(Main3WData16[[#This Row],[Admin Unit Name]],AdminUnits[],3,FALSE)","v":"Sud"},{"$f":"VLOOKUP(Main3WData16[[#This Row],[Admin Unit Name]],AdminUnits[],4,FALSE)","v":2},{"$f":"VLOOKUP(Main3WData16[[#This Row],[Sector]],Sectors[],2,FALSE)","v":4}]
[null,"WORLD VISION",{"$f":"INDEX(Organizations[],MATCH(Main3WData16[[#This Row],[Acronym]],AcronymList,0),1)","v":"World Vision"},{"$f":"INDEX(Organizations[],MATCH(Main3WData16[[#This Row],[Acronym]],AcronymList,0),3)","v":"ONG Int."},"Nutrition","Regulier","Mopti",{"$f":"VLOOKUP(Main3WData16[[#This Row],[Admin Unit Name]],AdminUnits[],2,FALSE)","v":"ML05"},{"$f":"VLOOKUP(Main3WData16[[#This Row],[Admin Unit Name]],AdminUnits[],3,FALSE)","v":"Sud"},{"$f":"VLOOKUP(Main3WData16[[#This Row],[Admin Unit Name]],AdminUnits[],4,FALSE)","v":5},{"$f":"VLOOKUP(Main3WData16[[#This Row],[Sector]],Sectors[],2,FALSE)","v":4}]
[null,"WORLD VISION",{"$f":"INDEX(Organizations[],MATCH(Main3WData16[[#This Row],[Acronym]],AcronymList,0),1)","v":"World Vision"},{"$f":"INDEX(Organizations[],MATCH(Main3WData16[[#This Row],[Acronym]],AcronymList,0),3)","v":"ONG Int."},"Nutrition","Regulier","Segou",{"$f":"VLOOKUP(Main3WData16[[#This Row],[Admin Unit Name]],AdminUnits[],2,FALSE)","v":"ML04"},{"$f":"VLOOKUP(Main3WData16[[#This Row],[Admin Unit Name]],AdminUnits[],3,FALSE)","v":"Sud"},{"$f":"VLOOKUP(Main3WData16[[#This Row],[Admin Unit Name]],AdminUnits[],4,FALSE)","v":4},{"$f":"VLOOKUP(Main3WData16[[#This Row],[Sector]],Sectors[],2,FALSE)","v":4}]
[null,"WORLD VISION",{"$f":"INDEX(Organizations[],MATCH(Main3WData16[[#This Row],[Acronym]],AcronymList,0),1)","v":"World Vision"},{"$f":"INDEX(Organizations[],MATCH(Main3WData16[[#This Row],[Acronym]],AcronymList,0),3)","v":"ONG Int."},"Nutrition","Regulier","Sikasso",{"$f":"VLOOKUP(Main3WData16[[#This Row],[Admin Unit Name]],AdminUnits[],2,FALSE)","v":"ML03"},{"$f":"VLOOKUP(Main3WData16[[#This Row],[Admin Unit Name]],AdminUnits[],3,FALSE)","v":"Sud"},{"$f":"VLOOKUP(Main3WData16[[#This Row],[Admin Unit Name]],AdminUnits[],4,FALSE)","v":3},{"$f":"VLOOKUP(Main3WData16[[#This Row],[Sector]],Sectors[],2,FALSE)","v":4}]
[null,"World Vision",{"$f":"INDEX(Organizations[],MATCH(Main3WData16[[#This Row],[Acronym]],AcronymList,0),1)","v":"World Vision"},{"$f":"INDEX(Organizations[],MATCH(Main3WData16[[#This Row],[Acronym]],AcronymList,0),3)","v":"ONG Int."},"Santé","Regulier","Segou",{"$f":"VLOOKUP(Main3WData16[[#This Row],[Admin Unit Name]],AdminUnits[],2,FALSE)","v":"ML04"},{"$f":"VLOOKUP(Main3WData16[[#This Row],[Admin Unit Name]],AdminUnits[],3,FALSE)","v":"Sud"},{"$f":"VLOOKUP(Main3WData16[[#This Row],[Admin Unit Name]],AdminUnits[],4,FALSE)","v":4},{"$f":"VLOOKUP(Main3WData16[[#This Row],[Sector]],Sectors[],2,FALSE)","v":6}]
[null,"WHH",{"$f":"INDEX(Organizations[],MATCH(Main3WData16[[#This Row],[Acronym]],AcronymList,0),1)","v":{"$error":"#N/A"}},{"$f":"INDEX(Organizations[],MATCH(Main3WData16[[#This Row],[Acronym]],AcronymList,0),3)","v":{"$error":"#N/A"}},"Sécurité alimentaire","Regulier","Kayes",{"$f":"VLOOKUP(Main3WData16[[#This Row],[Admin Unit Name]],AdminUnits[],2,FALSE)","v":"ML01"},{"$f":"VLOOKUP(Main3WData16[[#This Row],[Admin Unit Name]],AdminUnits[],3,FALSE)","v":"Sud"},{"$f":"VLOOKUP(Main3WData16[[#This Row],[Admin Unit Name]],AdminUnits[],4,FALSE)","v":1},{"$f":"VLOOKUP(Main3WData16[[#This Row],[Sector]],Sectors[],2,FALSE)","v":7}]
[null,"WHH",{"$f":"INDEX(Organizations[],MATCH(Main3WData16[[#This Row],[Acronym]],AcronymList,0),1)","v":{"$error":"#N/A"}},{"$f":"INDEX(Organizations[],MATCH(Main3WData16[[#This Row],[Acronym]],AcronymList,0),3)","v":{"$error":"#N/A"}},"Sécurité alimentaire","Regulier","Koulikoro",{"$f":"VLOOKUP(Main3WData16[[#This Row],[Admin Unit Name]],AdminUnits[],2,FALSE)","v":"ML02"},{"$f":"VLOOKUP(Main3WData16[[#This Row],[Admin Unit Name]],AdminUnits[],3,FALSE)","v":"Sud"},{"$f":"VLOOKUP(Main3WData16[[#This Row],[Admin Unit Name]],AdminUnits[],4,FALSE)","v":2},{"$f":"VLOOKUP(Main3WData16[[#This Row],[Sector]],Sectors[],2,FALSE)","v":7}]
[null,"WHH",{"$f":"INDEX(Organizations[],MATCH(Main3WData16[[#This Row],[Acronym]],AcronymList,0),1)","v":{"$error":"#N/A"}},{"$f":"INDEX(Organizations[],MATCH(Main3WData16[[#This Row],[Acronym]],AcronymList,0),3)","v":{"$error":"#N/A"}},"Sécurité alimentaire","Regulier","Mopti",{"$f":"VLOOKUP(Main3WData16[[#This Row],[Admin Unit Name]],AdminUnits[],2,FALSE)","v":"ML05"},{"$f":"VLOOKUP(Main3WData16[[#This Row],[Admin Unit Name]],AdminUnits[],3,FALSE)","v":"Sud"},{"$f":"VLOOKUP(Main3WData16[[#This Row],[Admin Unit Name]],AdminUnits[],4,FALSE)","v":5},{"$f":"VLOOKUP(Main3WData16[[#This Row],[Sector]],Sectors[],2,FALSE)","v":7}]
[null,"WHH",{"$f":"INDEX(Organizations[],MATCH(Main3WData16[[#This Row],[Acronym]],AcronymList,0),1)","v":{"$error":"#N/A"}},{"$f":"INDEX(Organizations[],MATCH(Main3WData16[[#This Row],[Acronym]],AcronymList,0),3)","v":{"$error":"#N/A"}},"Sécurité alimentaire","Regulier","Sikasso",{"$f":"VLOOKUP(Main3WData16[[#This Row],[Admin Unit Name]],AdminUnits[],2,FALSE)","v":"ML03"},{"$f":"VLOOKUP(Main3WData16[[#This Row],[Admin Unit Name]],AdminUnits[],3,FALSE)","v":"Sud"},{"$f":"VLOOKUP(Main3WData16[[#This Row],[Admin Unit Name]],AdminUnits[],4,FALSE)","v":3},{"$f":"VLOOKUP(Main3WData16[[#This Row],[Sector]],Sectors[],2,FALSE)","v":7}]
[null,"VSF",{"$f":"INDEX(Organizations[],MATCH(Main3WData16[[#This Row],[Acronym]],AcronymList,0),1)","v":"Vétérinaire sans Frontière Mali"},{"$f":"INDEX(Organizations[],MATCH(Main3WData16[[#This Row],[Acronym]],AcronymList,0),3)","v":"Org Int."},"Sécurité alimentaire","Regulier","Mopti",{"$f":"VLOOKUP(Main3WData16[[#This Row],[Admin Unit Name]],AdminUnits[],2,FALSE)","v":"ML05"},{"$f":"VLOOKUP(Main3WData16[[#This Row],[Admin Unit Name]],AdminUnits[],3,FALSE)","v":"Sud"},{"$f":"VLOOKUP(Main3WData16[[#This Row],[Admin Unit Name]],AdminUnits[],4,FALSE)","v":5},{"$f":"VLOOKUP(Main3WData16[[#This Row],[Sector]],Sectors[],2,FALSE)","v":7}]
[null,"VESOS",{"$f":"INDEX(Organizations[],MATCH(Main3WData16[[#This Row],[Acronym]],AcronymList,0),1)","v":{"$error":"#N/A"}},{"$f":"INDEX(Organizations[],MATCH(Main3WData16[[#This Row],[Acronym]],AcronymList,0),3)","v":{"$error":"#N/A"}},"Protection","Regulier","Mopti",{"$f":"VLOOKUP(Main3WData16[[#This Row],[Admin Unit Name]],AdminUnits[],2,FALSE)","v":"ML05"},{"$f":"VLOOKUP(Main3WData16[[#This Row],[Admin Unit Name]],AdminUnits[],3,FALSE)","v":"Sud"},{"$f":"VLOOKUP(Main3WData16[[#This Row],[Admin Unit Name]],AdminUnits[],4,FALSE)","v":5},{"$f":"VLOOKUP(Main3WData16[[#This Row],[Sector]],Sectors[],2,FALSE)","v":5}]
[null,"UNMAS",{"$f":"INDEX(Organizations[],MATCH(Main3WData16[[#This Row],[Acronym]],AcronymList,0),1)","v":"UNMAS"},{"$f":"INDEX(Organizations[],MATCH(Main3WData16[[#This Row],[Acronym]],AcronymList,0),3)","v":"UN"},"Protection","Regulier","Gao",{"$f":"VLOOKUP(Main3WData16[[#This Row],[Admin Unit Name]],AdminUnits[],2,FALSE)","v":"ML07"},{"$f":"VLOOKUP(Main3WData16[[#This Row],[Admin Unit Name]],AdminUnits[],3,FALSE)","v":"Nord"},{"$f":"VLOOKUP(Main3WData16[[#This Row],[Admin Unit Name]],AdminUnits[],4,FALSE)","v":7},{"$f":"VLOOKUP(Main3WData16[[#This Row],[Sector]],Sectors[],2,FALSE)","v":5}]
[null,"UNMAS",{"$f":"INDEX(Organizations[],MATCH(Main3WData16[[#This Row],[Acronym]],AcronymList,0),1)","v":"UNMAS"},{"$f":"INDEX(Organizations[],MATCH(Main3WData16[[#This Row],[Acronym]],AcronymList,0),3)","v":"UN"},"Protection","Regulier","Mopti",{"$f":"VLOOKUP(Main3WData16[[#This Row],[Admin Unit Name]],AdminUnits[],2,FALSE)","v":"ML05"},{"$f":"VLOOKUP(Main3WData16[[#This Row],[Admin Unit Name]],AdminUnits[],3,FALSE)","v":"Sud"},{"$f":"VLOOKUP(Main3WData16[[#This Row],[Admin Unit Name]],AdminUnits[],4,FALSE)","v":5},{"$f":"VLOOKUP(Main3WData16[[#This Row],[Sector]],Sectors[],2,FALSE)","v":5}]
[null,"UNMAS",{"$f":"INDEX(Organizations[],MATCH(Main3WData16[[#This Row],[Acronym]],AcronymList,0),1)","v":"UNMAS"},{"$f":"INDEX(Organizations[],MATCH(Main3WData16[[#This Row],[Acronym]],AcronymList,0),3)","v":"UN"},"Protection","Regulier","Tombouctou",{"$f":"VLOOKUP(Main3WData16[[#This Row],[Admin Unit Name]],AdminUnits[],2,FALSE)","v":"ML06"},{"$f":"VLOOKUP(Main3WData16[[#This Row],[Admin Unit Name]],AdminUnits[],3,FALSE)","v":"Nord"},{"$f":"VLOOKUP(Main3WData16[[#This Row],[Admin Unit Name]],AdminUnits[],4,FALSE)","v":6},{"$f":"VLOOKUP(Main3WData16[[#This Row],[Sector]],Sectors[],2,FALSE)","v":5}]
[null,"UNICEF",{"$f":"INDEX(Organizations[],MATCH(Main3WData16[[#This Row],[Acronym]],AcronymList,0),1)","v":"Fonds des Nations Unies pour l'Enfance"},{"$f":"INDEX(Organizations[],MATCH(Main3WData16[[#This Row],[Acronym]],AcronymList,0),3)","v":"UN"},"Coordination","Regulier","Bamako",{"$f":"VLOOKUP(Main3WData16[[#This Row],[Admin Unit Name]],AdminUnits[],2,FALSE)","v":"ML09"},{"$f":"VLOOKUP(Main3WData16[[#This Row],[Admin Unit Name]],AdminUnits[],3,FALSE)","v":"Sud"},{"$f":"VLOOKUP(Main3WData16[[#This Row],[Admin Unit Name]],AdminUnits[],4,FALSE)","v":0},{"$f":"VLOOKUP(Main3WData16[[#This Row],[Sector]],Sectors[],2,FALSE)","v":2}]
[null,"UNICEF",{"$f":"INDEX(Organizations[],MATCH(Main3WData16[[#This Row],[Acronym]],AcronymList,0),1)","v":"Fonds des Nations Unies pour l'Enfance"},{"$f":"INDEX(Organizations[],MATCH(Main3WData16[[#This Row],[Acronym]],AcronymList,0),3)","v":"UN"},"Education","Regulier","Tombouctou",{"$f":"VLOOKUP(Main3WData16[[#This Row],[Admin Unit Name]],AdminUnits[],2,FALSE)","v":"ML06"},{"$f":"VLOOKUP(Main3WData16[[#This Row],[Admin Unit Name]],AdminUnits[],3,FALSE)","v":"Nord"},{"$f":"VLOOKUP(Main3WData16[[#This Row],[Admin Unit Name]],AdminUnits[],4,FALSE)","v":6},{"$f":"VLOOKUP(Main3WData16[[#This Row],[Sector]],Sectors[],2,FALSE)","v":3}]
[null,"UNICEF",{"$f":"INDEX(Organizations[],MATCH(Main3WData16[[#This Row],[Acronym]],AcronymList,0),1)","v":"Fonds des Nations Unies pour l'Enfance"},{"$f":"INDEX(Organizations[],MATCH(Main3WData16[[#This Row],[Acronym]],AcronymList,0),3)","v":"UN"},"Education","Regulier","Koulikoro",{"$f":"VLOOKUP(Main3WData16[[#This Row],[Admin Unit Name]],AdminUnits[],2,FALSE)","v":"ML02"},{"$f":"VLOOKUP(Main3WData16[[#This Row],[Admin Unit Name]],AdminUnits[],3,FALSE)","v":"Sud"},{"$f":"VLOOKUP(Main3WData16[[#This Row],[Admin Unit Name]],AdminUnits[],4,FALSE)","v":2},{"$f":"VLOOKUP(Main3WData16[[#This Row],[Sector]],Sectors[],2,FALSE)","v":3}]
[null,"UNICEF",{"$f":"INDEX(Organizations[],MATCH(Main3WData16[[#This Row],[Acronym]],AcronymList,0),1)","v":"Fonds des Nations Unies pour l'Enfance"},{"$f":"INDEX(Organizations[],MATCH(Main3WData16[[#This Row],[Acronym]],AcronymList,0),3)","v":"UN"},"Education","Regulier","Mopti",{"$f":"VLOOKUP(Main3WData16[[#This Row],[Admin Unit Name]],AdminUnits[],2,FALSE)","v":"ML05"},{"$f":"VLOOKUP(Main3WData16[[#This Row],[Admin Unit Name]],AdminUnits[],3,FALSE)","v":"Sud"},{"$f":"VLOOKUP(Main3WData16[[#This Row],[Admin Unit Name]],AdminUnits[],4,FALSE)","v":5},{"$f":"VLOOKUP(Main3WData16[[#This Row],[Sector]],Sectors[],2,FALSE)","v":3}]
[null,"UNICEF",{"$f":"INDEX(Organizations[],MATCH(Main3WData16[[#This Row],[Acronym]],AcronymList,0),1)","v":"Fonds des Nations Unies pour l'Enfance"},{"$f":"INDEX(Organizations[],MATCH(Main3WData16[[#This Row],[Acronym]],AcronymList,0),3)","v":"UN"},"Education","Regulier","Gao",{"$f":"VLOOKUP(Main3WData16[[#This Row],[Admin Unit Name]],AdminUnits[],2,FALSE)","v":"ML07"},{"$f":"VLOOKUP(Main3WData16[[#This Row],[Admin Unit Name]],AdminUnits[],3,FALSE)","v":"Nord"},{"$f":"VLOOKUP(Main3WData16[[#This Row],[Admin Unit Name]],AdminUnits[],4,FALSE)","v":7},{"$f":"VLOOKUP(Main3WData16[[#This Row],[Sector]],Sectors[],2,FALSE)","v":3}]
[null,"UNICEF",{"$f":"INDEX(Organizations[],MATCH(Main3WData16[[#This Row],[Acronym]],AcronymList,0),1)","v":"Fonds des Nations Unies pour l'Enfance"},{"$f":"INDEX(Organizations[],MATCH(Main3WData16[[#This Row],[Acronym]],AcronymList,0),3)","v":"UN"},"Education","Regulier","Sikasso",{"$f":"VLOOKUP(Main3WData16[[#This Row],[Admin Unit Name]],AdminUnits[],2,FALSE)","v":"ML03"},{"$f":"VLOOKUP(Main3WData16[[#This Row],[Admin Unit Name]],AdminUnits[],3,FALSE)","v":"Sud"},{"$f":"VLOOKUP(Main3WData16[[#This Row],[Admin Unit Name]],AdminUnits[],4,FALSE)","v":3},{"$f":"VLOOKUP(Main3WData16[[#This Row],[Sector]],Sectors[],2,FALSE)","v":3}]
[null,"UNICEF",{"$f":"INDEX(Organizations[],MATCH(Main3WData16[[#This Row],[Acronym]],AcronymList,0),1)","v":"Fonds des Nations Unies pour l'Enfance"},{"$f":"INDEX(Organizations[],MATCH(Main3WData16[[#This Row],[Acronym]],AcronymList,0),3)","v":"UN"},"Education","Regulier","Segou",{"$f":"VLOOKUP(Main3WData16[[#This Row],[Admin Unit Name]],AdminUnits[],2,FALSE)","v":"ML04"},{"$f":"VLOOKUP(Main3WData16[[#This Row],[Admin Unit Name]],AdminUnits[],3,FALSE)","v":"Sud"},{"$f":"VLOOKUP(Main3WData16[[#This Row],[Admin Unit Name]],AdminUnits[],4,FALSE)","v":4},{"$f":"VLOOKUP(Main3WData16[[#This Row],[Sector]],Sectors[],2,FALSE)","v":3}]
[null,"UNICEF",{"$f":"INDEX(Organizations[],MATCH(Main3WData16[[#This Row],[Acronym]],AcronymList,0),1)","v":"Fonds des Nations Unies pour l'Enfance"},{"$f":"INDEX(Organizations[],MATCH(Main3WData16[[#This Row],[Acronym]],AcronymList,0),3)","v":"UN"},"Education","Regulier","Kayes",{"$f":"VLOOKUP(Main3WData16[[#This Row],[Admin Unit Name]],AdminUnits[],2,FALSE)","v":"ML01"},{"$f":"VLOOKUP(Main3WData16[[#This Row],[Admin Unit Name]],AdminUnits[],3,FALSE)","v":"Sud"},{"$f":"VLOOKUP(Main3WData16[[#This Row],[Admin Unit Name]],AdminUnits[],4,FALSE)","v":1},{"$f":"VLOOKUP(Main3WData16[[#This Row],[Sector]],Sectors[],2,FALSE)","v":3}]
[null,"UNICEF",{"$f":"INDEX(Organizations[],MATCH(Main3WData16[[#This Row],[Acronym]],AcronymList,0),1)","v":"Fonds des Nations Unies pour l'Enfance"},{"$f":"INDEX(Organizations[],MATCH(Main3WData16[[#This Row],[Acronym]],AcronymList,0),3)","v":"UN"},"Education","Regulier","Bamako",{"$f":"VLOOKUP(Main3WData16[[#This Row],[Admin Unit Name]],AdminUnits[],2,FALSE)","v":"ML09"},{"$f":"VLOOKUP(Main3WData16[[#This Row],[Admin Unit Name]],AdminUnits[],3,FALSE)","v":"Sud"},{"$f":"VLOOKUP(Main3WData16[[#This Row],[Admin Unit Name]],AdminUnits[],4,FALSE)","v":0},{"$f":"VLOOKUP(Main3WData16[[#This Row],[Sector]],Sectors[],2,FALSE)","v":3}]
[null,"UNICEF",{"$f":"INDEX(Organizations[],MATCH(Main3WData16[[#This Row],[Acronym]],AcronymList,0),1)","v":"Fonds des Nations Unies pour l'Enfance"},{"$f":"INDEX(Organizations[],MATCH(Main3WData16[[#This Row],[Acronym]],AcronymList,0),3)","v":"UN"},"EHA","Regulier","SIKASSO",{"$f":"VLOOKUP(Main3WData16[[#This Row],[Admin Unit Name]],AdminUnits[],2,FALSE)","v":"ML03"},{"$f":"VLOOKUP(Main3WData16[[#This Row],[Admin Unit Name]],AdminUnits[],3,FALSE)","v":"Sud"},{"$f":"VLOOKUP(Main3WData16[[#This Row],[Admin Unit Name]],AdminUnits[],4,FALSE)","v":3},{"$f":"VLOOKUP(Main3WData16[[#This Row],[Sector]],Sectors[],2,FALSE)","v":8}]
[null,"UNICEF",{"$f":"INDEX(Organizations[],MATCH(Main3WData16[[#This Row],[Acronym]],AcronymList,0),1)","v":"Fonds des Nations Unies pour l'Enfance"},{"$f":"INDEX(Organizations[],MATCH(Main3WData16[[#This Row],[Acronym]],AcronymList,0),3)","v":"UN"},"EHA","Regulier","TOMBOUCTOU",{"$f":"VLOOKUP(Main3WData16[[#This Row],[Admin Unit Name]],AdminUnits[],2,FALSE)","v":"ML06"},{"$f":"VLOOKUP(Main3WData16[[#This Row],[Admin Unit Name]],AdminUnits[],3,FALSE)","v":"Nord"},{"$f":"VLOOKUP(Main3WData16[[#This Row],[Admin Unit Name]],AdminUnits[],4,FALSE)","v":6},{"$f":"VLOOKUP(Main3WData16[[#This Row],[Sector]],Sectors[],2,FALSE)","v":8}]
[null,"UNICEF",{"$f":"INDEX(Organizations[],MATCH(Main3WData16[[#This Row],[Acronym]],AcronymList,0),1)","v":"Fonds des Nations Unies pour l'Enfance"},{"$f":"INDEX(Organizations[],MATCH(Main3WData16[[#This Row],[Acronym]],AcronymList,0),3)","v":"UN"},"EHA","Regulier","BAMAKO",{"$f":"VLOOKUP(Main3WData16[[#This Row],[Admin Unit Name]],AdminUnits[],2,FALSE)","v":"ML09"},{"$f":"VLOOKUP(Main3WData16[[#This Row],[Admin Unit Name]],AdminUnits[],3,FALSE)","v":"Sud"},{"$f":"VLOOKUP(Main3WData16[[#This Row],[Admin Unit Name]],AdminUnits[],4,FALSE)","v":0},{"$f":"VLOOKUP(Main3WData16[[#This Row],[Sector]],Sectors[],2,FALSE)","v":8}]
[null,"UNICEF",{"$f":"INDEX(Organizations[],MATCH(Main3WData16[[#This Row],[Acronym]],AcronymList,0),1)","v":"Fonds des Nations Unies pour l'Enfance"},{"$f":"INDEX(Organizations[],MATCH(Main3WData16[[#This Row],[Acronym]],AcronymList,0),3)","v":"UN"},"EHA","Regulier","KOULIKORO",{"$f":"VLOOKUP(Main3WData16[[#This Row],[Admin Unit Name]],AdminUnits[],2,FALSE)","v":"ML02"},{"$f":"VLOOKUP(Main3WData16[[#This Row],[Admin Unit Name]],AdminUnits[],3,FALSE)","v":"Sud"},{"$f":"VLOOKUP(Main3WData16[[#This Row],[Admin Unit Name]],AdminUnits[],4,FALSE)","v":2},{"$f":"VLOOKUP(Main3WData16[[#This Row],[Sector]],Sectors[],2,FALSE)","v":8}]
[null,"UNICEF",{"$f":"INDEX(Organizations[],MATCH(Main3WData16[[#This Row],[Acronym]],AcronymList,0),1)","v":"Fonds des Nations Unies pour l'Enfance"},{"$f":"INDEX(Organizations[],MATCH(Main3WData16[[#This Row],[Acronym]],AcronymList,0),3)","v":"UN"},"EHA","Regulier","KAYES",{"$f":"VLOOKUP(Main3WData16[[#This Row],[Admin Unit Name]],AdminUnits[],2,FALSE)","v":"ML01"},{"$f":"VLOOKUP(Main3WData16[[#This Row],[Admin Unit Name]],AdminUnits[],3,FALSE)","v":"Sud"},{"$f":"VLOOKUP(Main3WData16[[#This Row],[Admin Unit Name]],AdminUnits[],4,FALSE)","v":1},{"$f":"VLOOKUP(Main3WData16[[#This Row],[Sector]],Sectors[],2,FALSE)","v":8}]
[null,"UNICEF",{"$f":"INDEX(Organizations[],MATCH(Main3WData16[[#This Row],[Acronym]],AcronymList,0),1)","v":"Fonds des Nations Unies pour l'Enfance"},{"$f":"INDEX(Organizations[],MATCH(Main3WData16[[#This Row],[Acronym]],AcronymList,0),3)","v":"UN"},"EHA","Regulier","GAO",{"$f":"VLOOKUP(Main3WData16[[#This Row],[Admin Unit Name]],AdminUnits[],2,FALSE)","v":"ML07"},{"$f":"VLOOKUP(Main3WData16[[#This Row],[Admin Unit Name]],AdminUnits[],3,FALSE)","v":"Nord"},{"$f":"VLOOKUP(Main3WData16[[#This Row],[Admin Unit Name]],AdminUnits[],4,FALSE)","v":7},{"$f":"VLOOKUP(Main3WData16[[#This Row],[Sector]],Sectors[],2,FALSE)","v":8}]
[null,"UNICEF",{"$f":"INDEX(Organizations[],MATCH(Main3WData16[[#This Row],[Acronym]],AcronymList,0),1)","v":"Fonds des Nations Unies pour l'Enfance"},{"$f":"INDEX(Organizations[],MATCH(Main3WData16[[#This Row],[Acronym]],AcronymList,0),3)","v":"UN"},"EHA","Regulier","KIDAL",{"$f":"VLOOKUP(Main3WData16[[#This Row],[Admin Unit Name]],AdminUnits[],2,FALSE)","v":"ML08"},{"$f":"VLOOKUP(Main3WData16[[#This Row],[Admin Unit Name]],AdminUnits[],3,FALSE)","v":"Nord"},{"$f":"VLOOKUP(Main3WData16[[#This Row],[Admin Unit Name]],AdminUnits[],4,FALSE)","v":8},{"$f":"VLOOKUP(Main3WData16[[#This Row],[Sector]],Sectors[],2,FALSE)","v":8}]
[null,"UNHCR",{"$f":"INDEX(Organizations[],MATCH(Main3WData16[[#This Row],[Acronym]],AcronymList,0),1)","v":"Haut Commissariat des Nations Unies pour les réfugiés"},{"$f":"INDEX(Organizations[],MATCH(Main3WData16[[#This Row],[Acronym]],AcronymList,0),3)","v":"UN"},"Abris et NFI","Regulier","SEGOU",{"$f":"VLOOKUP(Main3WData16[[#This Row],[Admin Unit Name]],AdminUnits[],2,FALSE)","v":"ML04"},{"$f":"VLOOKUP(Main3WData16[[#This Row],[Admin Unit Name]],AdminUnits[],3,FALSE)","v":"Sud"},{"$f":"VLOOKUP(Main3WData16[[#This Row],[Admin Unit Name]],AdminUnits[],4,FALSE)","v":4},{"$f":"VLOOKUP(Main3WData16[[#This Row],[Sector]],Sectors[],2,FALSE)","v":1}]
[null,"UNHCR",{"$f":"INDEX(Organizations[],MATCH(Main3WData16[[#This Row],[Acronym]],AcronymList,0),1)","v":"Haut Commissariat des Nations Unies pour les réfugiés"},{"$f":"INDEX(Organizations[],MATCH(Main3WData16[[#This Row],[Acronym]],AcronymList,0),3)","v":"UN"},"Abris et NFI","Regulier","GAO",{"$f":"VLOOKUP(Main3WData16[[#This Row],[Admin Unit Name]],AdminUnits[],2,FALSE)","v":"ML07"},{"$f":"VLOOKUP(Main3WData16[[#This Row],[Admin Unit Name]],AdminUnits[],3,FALSE)","v":"Nord"},{"$f":"VLOOKUP(Main3WData16[[#This Row],[Admin Unit Name]],AdminUnits[],4,FALSE)","v":7},{"$f":"VLOOKUP(Main3WData16[[#This Row],[Sector]],Sectors[],2,FALSE)","v":1}]
[null,"UNHCR",{"$f":"INDEX(Organizations[],MATCH(Main3WData16[[#This Row],[Acronym]],AcronymList,0),1)","v":"Haut Commissariat des Nations Unies pour les réfugiés"},{"$f":"INDEX(Organizations[],MATCH(Main3WData16[[#This Row],[Acronym]],AcronymList,0),3)","v":"UN"},"Abris et NFI","Regulier","TOMBOUCTOU",{"$f":"VLOOKUP(Main3WData16[[#This Row],[Admin Unit Name]],AdminUnits[],2,FALSE)","v":"ML06"},{"$f":"VLOOKUP(Main3WData16[[#This Row],[Admin Unit Name]],AdminUnits[],3,FALSE)","v":"Nord"},{"$f":"VLOOKUP(Main3WData16[[#This Row],[Admin Unit Name]],AdminUnits[],4,FALSE)","v":6},{"$f":"VLOOKUP(Main3WData16[[#This Row],[Sector]],Sectors[],2,FALSE)","v":1}]
[null,"UNHCR",{"$f":"INDEX(Organizations[],MATCH(Main3WData16[[#This Row],[Acronym]],AcronymList,0),1)","v":"Haut Commissariat des Nations Unies pour les réfugiés"},{"$f":"INDEX(Organizations[],MATCH(Main3WData16[[#This Row],[Acronym]],AcronymList,0),3)","v":"UN"},"Abris et NFI","Regulier","MOPTI",{"$f":"VLOOKUP(Main3WData16[[#This Row],[Admin Unit Name]],AdminUnits[],2,FALSE)","v":"ML05"},{"$f":"VLOOKUP(Main3WData16[[#This Row],[Admin Unit Name]],AdminUnits[],3,FALSE)","v":"Sud"},{"$f":"VLOOKUP(Main3WData16[[#This Row],[Admin Unit Name]],AdminUnits[],4,FALSE)","v":5},{"$f":"VLOOKUP(Main3WData16[[#This Row],[Sector]],Sectors[],2,FALSE)","v":1}]
[null,"UNHCR",{"$f":"INDEX(Organizations[],MATCH(Main3WData16[[#This Row],[Acronym]],AcronymList,0),1)","v":"Haut Commissariat des Nations Unies pour les réfugiés"},{"$f":"INDEX(Organizations[],MATCH(Main3WData16[[#This Row],[Acronym]],AcronymList,0),3)","v":"UN"},"Abris et NFI","Regulier","Bamako",{"$f":"VLOOKUP(Main3WData16[[#This Row],[Admin Unit Name]],AdminUnits[],2,FALSE)","v":"ML09"},{"$f":"VLOOKUP(Main3WData16[[#This Row],[Admin Unit Name]],AdminUnits[],3,FALSE)","v":"Sud"},{"$f":"VLOOKUP(Main3WData16[[#This Row],[Admin Unit Name]],AdminUnits[],4,FALSE)","v":0},{"$f":"VLOOKUP(Main3WData16[[#This Row],[Sector]],Sectors[],2,FALSE)","v":1}]
[null,"UNHCR",{"$f":"INDEX(Organizations[],MATCH(Main3WData16[[#This Row],[Acronym]],AcronymList,0),1)","v":"Haut Commissariat des Nations Unies pour les réfugiés"},{"$f":"INDEX(Organizations[],MATCH(Main3WData16[[#This Row],[Acronym]],AcronymList,0),3)","v":"UN"},"Coordination","Regulier","Bamako",{"$f":"VLOOKUP(Main3WData16[[#This Row],[Admin Unit Name]],AdminUnits[],2,FALSE)","v":"ML09"},{"$f":"VLOOKUP(Main3WData16[[#This Row],[Admin Unit Name]],AdminUnits[],3,FALSE)","v":"Sud"},{"$f":"VLOOKUP(Main3WData16[[#This Row],[Admin Unit Name]],AdminUnits[],4,FALSE)","v":0},{"$f":"VLOOKUP(Main3WData16[[#This Row],[Sector]],Sectors[],2,FALSE)","v":2}]
[null,"UNHCR",{"$f":"INDEX(Organizations[],MATCH(Main3WData16[[#This Row],[Acronym]],AcronymList,0),1)","v":"Haut Commissariat des Nations Unies pour les réfugiés"},{"$f":"INDEX(Organizations[],MATCH(Main3WData16[[#This Row],[Acronym]],AcronymList,0),3)","v":"UN"},"Protection","Regulier","Gao",{"$f":"VLOOKUP(Main3WData16[[#This Row],[Admin Unit Name]],AdminUnits[],2,FALSE)","v":"ML07"},{"$f":"VLOOKUP(Main3WData16[[#This Row],[Admin Unit Name]],AdminUnits[],3,FALSE)","v":"Nord"},{"$f":"VLOOKUP(Main3WData16[[#This Row],[Admin Unit Name]],AdminUnits[],4,FALSE)","v":7},{"$f":"VLOOKUP(Main3WData16[[#This Row],[Sector]],Sectors[],2,FALSE)","v":5}]
[null,"UNHCR",{"$f":"INDEX(Organizations[],MATCH(Main3WData16[[#This Row],[Acronym]],AcronymList,0),1)","v":"Haut Commissariat des Nations Unies pour les réfugiés"},{"$f":"INDEX(Organizations[],MATCH(Main3WData16[[#This Row],[Acronym]],AcronymList,0),3)","v":"UN"},"Protection","Regulier","Kidal",{"$f":"VLOOKUP(Main3WData16[[#This Row],[Admin Unit Name]],AdminUnits[],2,FALSE)","v":"ML08"},{"$f":"VLOOKUP(Main3WData16[[#This Row],[Admin Unit Name]],AdminUnits[],3,FALSE)","v":"Nord"},{"$f":"VLOOKUP(Main3WData16[[#This Row],[Admin Unit Name]],AdminUnits[],4,FALSE)","v":8},{"$f":"VLOOKUP(Main3WData16[[#This Row],[Sector]],Sectors[],2,FALSE)","v":5}]
[null,"UNHCR",{"$f":"INDEX(Organizations[],MATCH(Main3WData16[[#This Row],[Acronym]],AcronymList,0),1)","v":"Haut Commissariat des Nations Unies pour les réfugiés"},{"$f":"INDEX(Organizations[],MATCH(Main3WData16[[#This Row],[Acronym]],AcronymList,0),3)","v":"UN"},"Protection","Regulier","Segou",{"$f":"VLOOKUP(Main3WData16[[#This Row],[Admin Unit Name]],AdminUnits[],2,FALSE)","v":"ML04"},{"$f":"VLOOKUP(Main3WData16[[#This Row],[Admin Unit Name]],AdminUnits[],3,FALSE)","v":"Sud"},{"$f":"VLOOKUP(Main3WData16[[#This Row],[Admin Unit Name]],AdminUnits[],4,FALSE)","v":4},{"$f":"VLOOKUP(Main3WData16[[#This Row],[Sector]],Sectors[],2,FALSE)","v":5}]
[null,"UNHCR",{"$f":"INDEX(Organizations[],MATCH(Main3WData16[[#This Row],[Acronym]],AcronymList,0),1)","v":"Haut Commissariat des Nations Unies pour les réfugiés"},{"$f":"INDEX(Organizations[],MATCH(Main3WData16[[#This Row],[Acronym]],AcronymList,0),3)","v":"UN"},"Protection","Regulier","Tombouctou",{"$f":"VLOOKUP(Main3WData16[[#This Row],[Admin Unit Name]],AdminUnits[],2,FALSE)","v":"ML06"},{"$f":"VLOOKUP(Main3WData16[[#This Row],[Admin Unit Name]],AdminUnits[],3,FALSE)","v":"Nord"},{"$f":"VLOOKUP(Main3WData16[[#This Row],[Admin Unit Name]],AdminUnits[],4,FALSE)","v":6},{"$f":"VLOOKUP(Main3WData16[[#This Row],[Sector]],Sectors[],2,FALSE)","v":5}]
[null,"UNFPA",{"$f":"INDEX(Organizations[],MATCH(Main3WData16[[#This Row],[Acronym]],AcronymList,0),1)","v":"Fonds des Nations Unies pour la Population"},{"$f":"INDEX(Organizations[],MATCH(Main3WData16[[#This Row],[Acronym]],AcronymList,0),3)","v":"UN"},"Coordination","Regulier","Bamako",{"$f":"VLOOKUP(Main3WData16[[#This Row],[Admin Unit Name]],AdminUnits[],2,FALSE)","v":"ML09"},{"$f":"VLOOKUP(Main3WData16[[#This Row],[Admin Unit Name]],AdminUnits[],3,FALSE)","v":"Sud"},{"$f":"VLOOKUP(Main3WData16[[#This Row],[Admin Unit Name]],AdminUnits[],4,FALSE)","v":0},{"$f":"VLOOKUP(Main3WData16[[#This Row],[Sector]],Sectors[],2,FALSE)","v":2}]
[null,"Terre des Hommes Lausanne",{"$f":"INDEX(Organizations[],MATCH(Main3WData16[[#This Row],[Acronym]],AcronymList,0),1)","v":{"$error":"#N/A"}},{"$f":"INDEX(Organizations[],MATCH(Main3WData16[[#This Row],[Acronym]],AcronymList,0),3)","v":{"$error":"#N/A"}},"EHA","Regulier","SEGOU",{"$f":"VLOOKUP(Main3WData16[[#This Row],[Admin Unit Name]],AdminUnits[],2,FALSE)","v":"ML04"},{"$f":"VLOOKUP(Main3WData16[[#This Row],[Admin Unit Name]],AdminUnits[],3,FALSE)","v":"Sud"},{"$f":"VLOOKUP(Main3WData16[[#This Row],[Admin Unit Name]],AdminUnits[],4,FALSE)","v":4},{"$f":"VLOOKUP(Main3WData16[[#This Row],[Sector]],Sectors[],2,FALSE)","v":8}]
[null,"Terre des Hommes Lausanne",{"$f":"INDEX(Organizations[],MATCH(Main3WData16[[#This Row],[Acronym]],AcronymList,0),1)","v":{"$error":"#N/A"}},{"$f":"INDEX(Organizations[],MATCH(Main3WData16[[#This Row],[Acronym]],AcronymList,0),3)","v":{"$error":"#N/A"}},"Nutrition","Regulier","Segou",{"$f":"VLOOKUP(Main3WData16[[#This Row],[Admin Unit Name]],AdminUnits[],2,FALSE)","v":"ML04"},{"$f":"VLOOKUP(Main3WData16[[#This Row],[Admin Unit Name]],AdminUnits[],3,FALSE)","v":"Sud"},{"$f":"VLOOKUP(Main3WData16[[#This Row],[Admin Unit Name]],AdminUnits[],4,FALSE)","v":4},{"$f":"VLOOKUP(Main3WData16[[#This Row],[Sector]],Sectors[],2,FALSE)","v":4}]
[null,"Terre des Hommes Lausanne",{"$f":"INDEX(Organizations[],MATCH(Main3WData16[[#This Row],[Acronym]],AcronymList,0),1)","v":{"$error":"#N/A"}},{"$f":"INDEX(Organizations[],MATCH(Main3WData16[[#This Row],[Acronym]],AcronymList,0),3)","v":{"$error":"#N/A"}},"Protection","Regulier","Segou",{"$f":"VLOOKUP(Main3WData16[[#This Row],[Admin Unit Name]],AdminUnits[],2,FALSE)","v":"ML04"},{"$f":"VLOOKUP(Main3WData16[[#This Row],[Admin Unit Name]],AdminUnits[],3,FALSE)","v":"Sud"},{"$f":"VLOOKUP(Main3WData16[[#This Row],[Admin Unit Name]],AdminUnits[],4,FALSE)","v":4},{"$f":"VLOOKUP(Main3WData16[[#This Row],[Sector]],Sectors[],2,FALSE)","v":5}]
[null,"TASSAGHT",{"$f":"INDEX(Organizations[],MATCH(Main3WData16[[#This Row],[Acronym]],AcronymList,0),1)","v":"Tassaght"},{"$f":"INDEX(Organizations[],MATCH(Main3WData16[[#This Row],[Acronym]],AcronymList,0),3)","v":"ONG Nat."},"Sécurité alimentaire","Regulier","Gao",{"$f":"VLOOKUP(Main3WData16[[#This Row],[Admin Unit Name]],AdminUnits[],2,FALSE)","v":"ML07"},{"$f":"VLOOKUP(Main3WData16[[#This Row],[Admin Unit Name]],AdminUnits[],3,FALSE)","v":"Nord"},{"$f":"VLOOKUP(Main3WData16[[#This Row],[Admin Unit Name]],AdminUnits[],4,FALSE)","v":7},{"$f":"VLOOKUP(Main3WData16[[#This Row],[Sector]],Sectors[],2,FALSE)","v":7}]
[null,"Stop Sahel ",{"$f":"INDEX(Organizations[],MATCH(Main3WData16[[#This Row],[Acronym]],AcronymList,0),1)","v":{"$error":"#N/A"}},{"$f":"INDEX(Organizations[],MATCH(Main3WData16[[#This Row],[Acronym]],AcronymList,0),3)","v":{"$error":"#N/A"}},"Sécurité alimentaire","Regulier","Kayes",{"$f":"VLOOKUP(Main3WData16[[#This Row],[Admin Unit Name]],AdminUnits[],2,FALSE)","v":"ML01"},{"$f":"VLOOKUP(Main3WData16[[#This Row],[Admin Unit Name]],AdminUnits[],3,FALSE)","v":"Sud"},{"$f":"VLOOKUP(Main3WData16[[#This Row],[Admin Unit Name]],AdminUnits[],4,FALSE)","v":1},{"$f":"VLOOKUP(Main3WData16[[#This Row],[Sector]],Sectors[],2,FALSE)","v":7}]
[null,"Solidarité internationale",{"$f":"INDEX(Organizations[],MATCH(Main3WData16[[#This Row],[Acronym]],AcronymList,0),1)","v":{"$error":"#N/A"}},{"$f":"INDEX(Organizations[],MATCH(Main3WData16[[#This Row],[Acronym]],AcronymList,0),3)","v":{"$error":"#N/A"}},"EHA","Regulier","TOMBOUCTOU",{"$f":"VLOOKUP(Main3WData16[[#This Row],[Admin Unit Name]],AdminUnits[],2,FALSE)","v":"ML06"},{"$f":"VLOOKUP(Main3WData16[[#This Row],[Admin Unit Name]],AdminUnits[],3,FALSE)","v":"Nord"},{"$f":"VLOOKUP(Main3WData16[[#This Row],[Admin Unit Name]],AdminUnits[],4,FALSE)","v":6},{"$f":"VLOOKUP(Main3WData16[[#This Row],[Sector]],Sectors[],2,FALSE)","v":8}]
[null,"Solidarité internationale",{"$f":"INDEX(Organizations[],MATCH(Main3WData16[[#This Row],[Acronym]],AcronymList,0),1)","v":{"$error":"#N/A"}},{"$f":"INDEX(Organizations[],MATCH(Main3WData16[[#This Row],[Acronym]],AcronymList,0),3)","v":{"$error":"#N/A"}},"EHA","Regulier","KIDAL",{"$f":"VLOOKUP(Main3WData16[[#This Row],[Admin Unit Name]],AdminUnits[],2,FALSE)","v":"ML08"},{"$f":"VLOOKUP(Main3WData16[[#This Row],[Admin Unit Name]],AdminUnits[],3,FALSE)","v":"Nord"},{"$f":"VLOOKUP(Main3WData16[[#This Row],[Admin Unit Name]],AdminUnits[],4,FALSE)","v":8},{"$f":"VLOOKUP(Main3WData16[[#This Row],[Sector]],Sectors[],2,FALSE)","v":8}]
[null,"Solidarité internationale",{"$f":"INDEX(Organizations[],MATCH(Main3WData16[[#This Row],[Acronym]],AcronymList,0),1)","v":{"$error":"#N/A"}},{"$f":"INDEX(Organizations[],MATCH(Main3WData16[[#This Row],[Acronym]],AcronymList,0),3)","v":{"$error":"#N/A"}},"EHA","Regulier","KOULIKORO",{"$f":"VLOOKUP(Main3WData16[[#This Row],[Admin Unit Name]],AdminUnits[],2,FALSE)","v":"ML02"},{"$f":"VLOOKUP(Main3WData16[[#This Row],[Admin Unit Name]],AdminUnits[],3,FALSE)","v":"Sud"},{"$f":"VLOOKUP(Main3WData16[[#This Row],[Admin Unit Name]],AdminUnits[],4,FALSE)","v":2},{"$f":"VLOOKUP(Main3WData16[[#This Row],[Sector]],Sectors[],2,FALSE)","v":8}]
[null,"Solidarité internationale",{"$f":"INDEX(Organizations[],MATCH(Main3WData16[[#This Row],[Acronym]],AcronymList,0),1)","v":{"$error":"#N/A"}},{"$f":"INDEX(Organizations[],MATCH(Main3WData16[[#This Row],[Acronym]],AcronymList,0),3)","v":{"$error":"#N/A"}},"Sécurité alimentaire","Regulier","Tombouctou",{"$f":"VLOOKUP(Main3WData16[[#This Row],[Admin Unit Name]],AdminUnits[],2,FALSE)","v":"ML06"},{"$f":"VLOOKUP(Main3WData16[[#This Row],[Admin Unit Name]],AdminUnits[],3,FALSE)","v":"Nord"},{"$f":"VLOOKUP(Main3WData16[[#This Row],[Admin Unit Name]],AdminUnits[],4,FALSE)","v":6},{"$f":"VLOOKUP(Main3WData16[[#This Row],[Sector]],Sectors[],2,FALSE)","v":7}]
[null,"SMARA",{"$f":"INDEX(Organizations[],MATCH(Main3WData16[[#This Row],[Acronym]],AcronymList,0),1)","v":"SMARA"},{"$f":"INDEX(Organizations[],MATCH(Main3WData16[[#This Row],[Acronym]],AcronymList,0),3)","v":"ONG Int."},"Santé","Regulier","Tombouctou",{"$f":"VLOOKUP(Main3WData16[[#This Row],[Admin Unit Name]],AdminUnits[],2,FALSE)","v":"ML06"},{"$f":"VLOOKUP(Main3WData16[[#This Row],[Admin Unit Name]],AdminUnits[],3,FALSE)","v":"Nord"},{"$f":"VLOOKUP(Main3WData16[[#This Row],[Admin Unit Name]],AdminUnits[],4,FALSE)","v":6},{"$f":"VLOOKUP(Main3WData16[[#This Row],[Sector]],Sectors[],2,FALSE)","v":6}]
[null,"Save the Children",{"$f":"INDEX(Organizations[],MATCH(Main3WData16[[#This Row],[Acronym]],AcronymList,0),1)","v":"Save the Children"},{"$f":"INDEX(Organizations[],MATCH(Main3WData16[[#This Row],[Acronym]],AcronymList,0),3)","v":"ONG Int."},"Education","Regulier","Segou",{"$f":"VLOOKUP(Main3WData16[[#This Row],[Admin Unit Name]],AdminUnits[],2,FALSE)","v":"ML04"},{"$f":"VLOOKUP(Main3WData16[[#This Row],[Admin Unit Name]],AdminUnits[],3,FALSE)","v":"Sud"},{"$f":"VLOOKUP(Main3WData16[[#This Row],[Admin Unit Name]],AdminUnits[],4,FALSE)","v":4},{"$f":"VLOOKUP(Main3WData16[[#This Row],[Sector]],Sectors[],2,FALSE)","v":3}]
[null,"Save the Children",{"$f":"INDEX(Organizations[],MATCH(Main3WData16[[#This Row],[Acronym]],AcronymList,0),1)","v":"Save the Children"},{"$f":"INDEX(Organizations[],MATCH(Main3WData16[[#This Row],[Acronym]],AcronymList,0),3)","v":"ONG Int."},"Education","Regulier","Mopti",{"$f":"VLOOKUP(Main3WData16[[#This Row],[Admin Unit Name]],AdminUnits[],2,FALSE)","v":"ML05"},{"$f":"VLOOKUP(Main3WData16[[#This Row],[Admin Unit Name]],AdminUnits[],3,FALSE)","v":"Sud"},{"$f":"VLOOKUP(Main3WData16[[#This Row],[Admin Unit Name]],AdminUnits[],4,FALSE)","v":5},{"$f":"VLOOKUP(Main3WData16[[#This Row],[Sector]],Sectors[],2,FALSE)","v":3}]
[null,"Save the Children",{"$f":"INDEX(Organizations[],MATCH(Main3WData16[[#This Row],[Acronym]],AcronymList,0),1)","v":"Save the Children"},{"$f":"INDEX(Organizations[],MATCH(Main3WData16[[#This Row],[Acronym]],AcronymList,0),3)","v":"ONG Int."},"Education","Regulier","Gao",{"$f":"VLOOKUP(Main3WData16[[#This Row],[Admin Unit Name]],AdminUnits[],2,FALSE)","v":"ML07"},{"$f":"VLOOKUP(Main3WData16[[#This Row],[Admin Unit Name]],AdminUnits[],3,FALSE)","v":"Nord"},{"$f":"VLOOKUP(Main3WData16[[#This Row],[Admin Unit Name]],AdminUnits[],4,FALSE)","v":7},{"$f":"VLOOKUP(Main3WData16[[#This Row],[Sector]],Sectors[],2,FALSE)","v":3}]
[null,"Save the Children",{"$f":"INDEX(Organizations[],MATCH(Main3WData16[[#This Row],[Acronym]],AcronymList,0),1)","v":"Save the Children"},{"$f":"INDEX(Organizations[],MATCH(Main3WData16[[#This Row],[Acronym]],AcronymList,0),3)","v":"ONG Int."},"Education","Regulier","Sikasso",{"$f":"VLOOKUP(Main3WData16[[#This Row],[Admin Unit Name]],AdminUnits[],2,FALSE)","v":"ML03"},{"$f":"VLOOKUP(Main3WData16[[#This Row],[Admin Unit Name]],AdminUnits[],3,FALSE)","v":"Sud"},{"$f":"VLOOKUP(Main3WData16[[#This Row],[Admin Unit Name]],AdminUnits[],4,FALSE)","v":3},{"$f":"VLOOKUP(Main3WData16[[#This Row],[Sector]],Sectors[],2,FALSE)","v":3}]
[null,"Save the Children",{"$f":"INDEX(Organizations[],MATCH(Main3WData16[[#This Row],[Acronym]],AcronymList,0),1)","v":"Save the Children"},{"$f":"INDEX(Organizations[],MATCH(Main3WData16[[#This Row],[Acronym]],AcronymList,0),3)","v":"ONG Int."},"Education","Regulier","Kayes",{"$f":"VLOOKUP(Main3WData16[[#This Row],[Admin Unit Name]],AdminUnits[],2,FALSE)","v":"ML01"},{"$f":"VLOOKUP(Main3WData16[[#This Row],[Admin Unit Name]],AdminUnits[],3,FALSE)","v":"Sud"},{"$f":"VLOOKUP(Main3WData16[[#This Row],[Admin Unit Name]],AdminUnits[],4,FALSE)","v":1},{"$f":"VLOOKUP(Main3WData16[[#This Row],[Sector]],Sectors[],2,FALSE)","v":3}]
[null,"Save the Children",{"$f":"INDEX(Organizations[],MATCH(Main3WData16[[#This Row],[Acronym]],AcronymList,0),1)","v":"Save the Children"},{"$f":"INDEX(Organizations[],MATCH(Main3WData16[[#This Row],[Acronym]],AcronymList,0),3)","v":"ONG Int."},"Education","Regulier","Bamako",{"$f":"VLOOKUP(Main3WData16[[#This Row],[Admin Unit Name]],AdminUnits[],2,FALSE)","v":"ML09"},{"$f":"VLOOKUP(Main3WData16[[#This Row],[Admin Unit Name]],AdminUnits[],3,FALSE)","v":"Sud"},{"$f":"VLOOKUP(Main3WData16[[#This Row],[Admin Unit Name]],AdminUnits[],4,FALSE)","v":0},{"$f":"VLOOKUP(Main3WData16[[#This Row],[Sector]],Sectors[],2,FALSE)","v":3}]
[null,"Save The Children",{"$f":"INDEX(Organizations[],MATCH(Main3WData16[[#This Row],[Acronym]],AcronymList,0),1)","v":"Save the Children"},{"$f":"INDEX(Organizations[],MATCH(Main3WData16[[#This Row],[Acronym]],AcronymList,0),3)","v":"ONG Int."},"Nutrition","Regulier","Gao",{"$f":"VLOOKUP(Main3WData16[[#This Row],[Admin Unit Name]],AdminUnits[],2,FALSE)","v":"ML07"},{"$f":"VLOOKUP(Main3WData16[[#This Row],[Admin Unit Name]],AdminUnits[],3,FALSE)","v":"Nord"},{"$f":"VLOOKUP(Main3WData16[[#This Row],[Admin Unit Name]],AdminUnits[],4,FALSE)","v":7},{"$f":"VLOOKUP(Main3WData16[[#This Row],[Sector]],Sectors[],2,FALSE)","v":4}]
[null,"Save the Children",{"$f":"INDEX(Organizations[],MATCH(Main3WData16[[#This Row],[Acronym]],AcronymList,0),1)","v":"Save the Children"},{"$f":"INDEX(Organizations[],MATCH(Main3WData16[[#This Row],[Acronym]],AcronymList,0),3)","v":"ONG Int."},"Nutrition","Regulier","Mopti",{"$f":"VLOOKUP(Main3WData16[[#This Row],[Admin Unit Name]],AdminUnits[],2,FALSE)","v":"ML05"},{"$f":"VLOOKUP(Main3WData16[[#This Row],[Admin Unit Name]],AdminUnits[],3,FALSE)","v":"Sud"},{"$f":"VLOOKUP(Main3WData16[[#This Row],[Admin Unit Name]],AdminUnits[],4,FALSE)","v":5},{"$f":"VLOOKUP(Main3WData16[[#This Row],[Sector]],Sectors[],2,FALSE)","v":4}]
[null,"Save the Children",{"$f":"INDEX(Organizations[],MATCH(Main3WData16[[#This Row],[Acronym]],AcronymList,0),1)","v":"Save the Children"},{"$f":"INDEX(Organizations[],MATCH(Main3WData16[[#This Row],[Acronym]],AcronymList,0),3)","v":"ONG Int."},"Nutrition","Regulier","Sikasso",{"$f":"VLOOKUP(Main3WData16[[#This Row],[Admin Unit Name]],AdminUnits[],2,FALSE)","v":"ML03"},{"$f":"VLOOKUP(Main3WData16[[#This Row],[Admin Unit Name]],AdminUnits[],3,FALSE)","v":"Sud"},{"$f":"VLOOKUP(Main3WData16[[#This Row],[Admin Unit Name]],AdminUnits[],4,FALSE)","v":3},{"$f":"VLOOKUP(Main3WData16[[#This Row],[Sector]],Sectors[],2,FALSE)","v":4}]
[null,"Save the Children",{"$f":"INDEX(Organizations[],MATCH(Main3WData16[[#This Row],[Acronym]],AcronymList,0),1)","v":"Save the Children"},{"$f":"INDEX(Organizations[],MATCH(Main3WData16[[#This Row],[Acronym]],AcronymList,0),3)","v":"ONG Int."},"Santé","Regulier","Gao",{"$f":"VLOOKUP(Main3WData16[[#This Row],[Admin Unit Name]],AdminUnits[],2,FALSE)","v":"ML07"},{"$f":"VLOOKUP(Main3WData16[[#This Row],[Admin Unit Name]],AdminUnits[],3,FALSE)","v":"Nord"},{"$f":"VLOOKUP(Main3WData16[[#This Row],[Admin Unit Name]],AdminUnits[],4,FALSE)","v":7},{"$f":"VLOOKUP(Main3WData16[[#This Row],[Sector]],Sectors[],2,FALSE)","v":6}]
[null,"Save the Children",{"$f":"INDEX(Organizations[],MATCH(Main3WData16[[#This Row],[Acronym]],AcronymList,0),1)","v":"Save the Children"},{"$f":"INDEX(Organizations[],MATCH(Main3WData16[[#This Row],[Acronym]],AcronymList,0),3)","v":"ONG Int."},"Sécurité alimentaire","Regulier","Kayes",{"$f":"VLOOKUP(Main3WData16[[#This Row],[Admin Unit Name]],AdminUnits[],2,FALSE)","v":"ML01"},{"$f":"VLOOKUP(Main3WData16[[#This Row],[Admin Unit Name]],AdminUnits[],3,FALSE)","v":"Sud"},{"$f":"VLOOKUP(Main3WData16[[#This Row],[Admin Unit Name]],AdminUnits[],4,FALSE)","v":1},{"$f":"VLOOKUP(Main3WData16[[#This Row],[Sector]],Sectors[],2,FALSE)","v":7}]
[null,"SAVE THE CHILDREN",{"$f":"INDEX(Organizations[],MATCH(Main3WData16[[#This Row],[Acronym]],AcronymList,0),1)","v":"Save the Children"},{"$f":"INDEX(Organizations[],MATCH(Main3WData16[[#This Row],[Acronym]],AcronymList,0),3)","v":"ONG Int."},"Sécurité alimentaire","Regulier","Sikasso",{"$f":"VLOOKUP(Main3WData16[[#This Row],[Admin Unit Name]],AdminUnits[],2,FALSE)","v":"ML03"},{"$f":"VLOOKUP(Main3WData16[[#This Row],[Admin Unit Name]],AdminUnits[],3,FALSE)","v":"Sud"},{"$f":"VLOOKUP(Main3WData16[[#This Row],[Admin Unit Name]],AdminUnits[],4,FALSE)","v":3},{"$f":"VLOOKUP(Main3WData16[[#This Row],[Sector]],Sectors[],2,FALSE)","v":7}]
[null,"Santé Diabète",{"$f":"INDEX(Organizations[],MATCH(Main3WData16[[#This Row],[Acronym]],AcronymList,0),1)","v":"Santé Diabète"},{"$f":"INDEX(Organizations[],MATCH(Main3WData16[[#This Row],[Acronym]],AcronymList,0),3)","v":"ONG Nat."},"Santé","Regulier","Bamako",{"$f":"VLOOKUP(Main3WData16[[#This Row],[Admin Unit Name]],AdminUnits[],2,FALSE)","v":"ML09"},{"$f":"VLOOKUP(Main3WData16[[#This Row],[Admin Unit Name]],AdminUnits[],3,FALSE)","v":"Sud"},{"$f":"VLOOKUP(Main3WData16[[#This Row],[Admin Unit Name]],AdminUnits[],4,FALSE)","v":0},{"$f":"VLOOKUP(Main3WData16[[#This Row],[Sector]],Sectors[],2,FALSE)","v":6}]
[null,"Santé Diabète",{"$f":"INDEX(Organizations[],MATCH(Main3WData16[[#This Row],[Acronym]],AcronymList,0),1)","v":"Santé Diabète"},{"$f":"INDEX(Organizations[],MATCH(Main3WData16[[#This Row],[Acronym]],AcronymList,0),3)","v":"ONG Nat."},"Santé","Regulier","Gao",{"$f":"VLOOKUP(Main3WData16[[#This Row],[Admin Unit Name]],AdminUnits[],2,FALSE)","v":"ML07"},{"$f":"VLOOKUP(Main3WData16[[#This Row],[Admin Unit Name]],AdminUnits[],3,FALSE)","v":"Nord"},{"$f":"VLOOKUP(Main3WData16[[#This Row],[Admin Unit Name]],AdminUnits[],4,FALSE)","v":7},{"$f":"VLOOKUP(Main3WData16[[#This Row],[Sector]],Sectors[],2,FALSE)","v":6}]
[null,"Santé Diabète",{"$f":"INDEX(Organizations[],MATCH(Main3WData16[[#This Row],[Acronym]],AcronymList,0),1)","v":"Santé Diabète"},{"$f":"INDEX(Organizations[],MATCH(Main3WData16[[#This Row],[Acronym]],AcronymList,0),3)","v":"ONG Nat."},"Santé","Regulier","Kidal",{"$f":"VLOOKUP(Main3WData16[[#This Row],[Admin Unit Name]],AdminUnits[],2,FALSE)","v":"ML08"},{"$f":"VLOOKUP(Main3WData16[[#This Row],[Admin Unit Name]],AdminUnits[],3,FALSE)","v":"Nord"},{"$f":"VLOOKUP(Main3WData16[[#This Row],[Admin Unit Name]],AdminUnits[],4,FALSE)","v":8},{"$f":"VLOOKUP(Main3WData16[[#This Row],[Sector]],Sectors[],2,FALSE)","v":6}]
[null,"Santé Diabète",{"$f":"INDEX(Organizations[],MATCH(Main3WData16[[#This Row],[Acronym]],AcronymList,0),1)","v":"Santé Diabète"},{"$f":"INDEX(Organizations[],MATCH(Main3WData16[[#This Row],[Acronym]],AcronymList,0),3)","v":"ONG Nat."},"Santé","Regulier","Mopti",{"$f":"VLOOKUP(Main3WData16[[#This Row],[Admin Unit Name]],AdminUnits[],2,FALSE)","v":"ML05"},{"$f":"VLOOKUP(Main3WData16[[#This Row],[Admin Unit Name]],AdminUnits[],3,FALSE)","v":"Sud"},{"$f":"VLOOKUP(Main3WData16[[#This Row],[Admin Unit Name]],AdminUnits[],4,FALSE)","v":5},{"$f":"VLOOKUP(Main3WData16[[#This Row],[Sector]],Sectors[],2,FALSE)","v":6}]
[null,"Santé Diabète",{"$f":"INDEX(Organizations[],MATCH(Main3WData16[[#This Row],[Acronym]],AcronymList,0),1)","v":"Santé Diabète"},{"$f":"INDEX(Organizations[],MATCH(Main3WData16[[#This Row],[Acronym]],AcronymList,0),3)","v":"ONG Nat."},"Santé","Regulier","Tombouctou",{"$f":"VLOOKUP(Main3WData16[[#This Row],[Admin Unit Name]],AdminUnits[],2,FALSE)","v":"ML06"},{"$f":"VLOOKUP(Main3WData16[[#This Row],[Admin Unit Name]],AdminUnits[],3,FALSE)","v":"Nord"},{"$f":"VLOOKUP(Main3WData16[[#This Row],[Admin Unit Name]],AdminUnits[],4,FALSE)","v":6},{"$f":"VLOOKUP(Main3WData16[[#This Row],[Sector]],Sectors[],2,FALSE)","v":6}]
[null,"Samu Social Mali ",{"$f":"INDEX(Organizations[],MATCH(Main3WData16[[#This Row],[Acronym]],AcronymList,0),1)","v":"Samu Social Mali "},{"$f":"INDEX(Organizations[],MATCH(Main3WData16[[#This Row],[Acronym]],AcronymList,0),3)","v":"ONG Nat."},"Protection","Regulier","Bamako",{"$f":"VLOOKUP(Main3WData16[[#This Row],[Admin Unit Name]],AdminUnits[],2,FALSE)","v":"ML09"},{"$f":"VLOOKUP(Main3WData16[[#This Row],[Admin Unit Name]],AdminUnits[],3,FALSE)","v":"Sud"},{"$f":"VLOOKUP(Main3WData16[[#This Row],[Admin Unit Name]],AdminUnits[],4,FALSE)","v":0},{"$f":"VLOOKUP(Main3WData16[[#This Row],[Sector]],Sectors[],2,FALSE)","v":5}]
[null,"Sahel Consult",{"$f":"INDEX(Organizations[],MATCH(Main3WData16[[#This Row],[Acronym]],AcronymList,0),1)","v":"Sahel Consult"},{"$f":"INDEX(Organizations[],MATCH(Main3WData16[[#This Row],[Acronym]],AcronymList,0),3)","v":"ONG Nat."},"Sécurité alimentaire","Regulier","Gao",{"$f":"VLOOKUP(Main3WData16[[#This Row],[Admin Unit Name]],AdminUnits[],2,FALSE)","v":"ML07"},{"$f":"VLOOKUP(Main3WData16[[#This Row],[Admin Unit Name]],AdminUnits[],3,FALSE)","v":"Nord"},{"$f":"VLOOKUP(Main3WData16[[#This Row],[Admin Unit Name]],AdminUnits[],4,FALSE)","v":7},{"$f":"VLOOKUP(Main3WData16[[#This Row],[Sector]],Sectors[],2,FALSE)","v":7}]
[null,"Right to Play",{"$f":"INDEX(Organizations[],MATCH(Main3WData16[[#This Row],[Acronym]],AcronymList,0),1)","v":"Right to Play"},{"$f":"INDEX(Organizations[],MATCH(Main3WData16[[#This Row],[Acronym]],AcronymList,0),3)","v":"ONG Int."},"Education","Regulier","Gao",{"$f":"VLOOKUP(Main3WData16[[#This Row],[Admin Unit Name]],AdminUnits[],2,FALSE)","v":"ML07"},{"$f":"VLOOKUP(Main3WData16[[#This Row],[Admin Unit Name]],AdminUnits[],3,FALSE)","v":"Nord"},{"$f":"VLOOKUP(Main3WData16[[#This Row],[Admin Unit Name]],AdminUnits[],4,FALSE)","v":7},{"$f":"VLOOKUP(Main3WData16[[#This Row],[Sector]],Sectors[],2,FALSE)","v":3}]
[null,"Right to Play",{"$f":"INDEX(Organizations[],MATCH(Main3WData16[[#This Row],[Acronym]],AcronymList,0),1)","v":"Right to Play"},{"$f":"INDEX(Organizations[],MATCH(Main3WData16[[#This Row],[Acronym]],AcronymList,0),3)","v":"ONG Int."},"Education","Regulier","Tombouctou",{"$f":"VLOOKUP(Main3WData16[[#This Row],[Admin Unit Name]],AdminUnits[],2,FALSE)","v":"ML06"},{"$f":"VLOOKUP(Main3WData16[[#This Row],[Admin Unit Name]],AdminUnits[],3,FALSE)","v":"Nord"},{"$f":"VLOOKUP(Main3WData16[[#This Row],[Admin Unit Name]],AdminUnits[],4,FALSE)","v":6},{"$f":"VLOOKUP(Main3WData16[[#This Row],[Sector]],Sectors[],2,FALSE)","v":3}]
[null,"Right to Play",{"$f":"INDEX(Organizations[],MATCH(Main3WData16[[#This Row],[Acronym]],AcronymList,0),1)","v":"Right to Play"},{"$f":"INDEX(Organizations[],MATCH(Main3WData16[[#This Row],[Acronym]],AcronymList,0),3)","v":"ONG Int."},"Education","Regulier","Mopti",{"$f":"VLOOKUP(Main3WData16[[#This Row],[Admin Unit Name]],AdminUnits[],2,FALSE)","v":"ML05"},{"$f":"VLOOKUP(Main3WData16[[#This Row],[Admin Unit Name]],AdminUnits[],3,FALSE)","v":"Sud"},{"$f":"VLOOKUP(Main3WData16[[#This Row],[Admin Unit Name]],AdminUnits[],4,FALSE)","v":5},{"$f":"VLOOKUP(Main3WData16[[#This Row],[Sector]],Sectors[],2,FALSE)","v":3}]
[null,"Right To Play",{"$f":"INDEX(Organizations[],MATCH(Main3WData16[[#This Row],[Acronym]],AcronymList,0),1)","v":"Right to Play"},{"$f":"INDEX(Organizations[],MATCH(Main3WData16[[#This Row],[Acronym]],AcronymList,0),3)","v":"ONG Int."},"Protection","Regulier","Bamako",{"$f":"VLOOKUP(Main3WData16[[#This Row],[Admin Unit Name]],AdminUnits[],2,FALSE)","v":"ML09"},{"$f":"VLOOKUP(Main3WData16[[#This Row],[Admin Unit Name]],AdminUnits[],3,FALSE)","v":"Sud"},{"$f":"VLOOKUP(Main3WData16[[#This Row],[Admin Unit Name]],AdminUnits[],4,FALSE)","v":0},{"$f":"VLOOKUP(Main3WData16[[#This Row],[Sector]],Sectors[],2,FALSE)","v":5}]
[null,"Right To Play",{"$f":"INDEX(Organizations[],MATCH(Main3WData16[[#This Row],[Acronym]],AcronymList,0),1)","v":"Right to Play"},{"$f":"INDEX(Organizations[],MATCH(Main3WData16[[#This Row],[Acronym]],AcronymList,0),3)","v":"ONG Int."},"Protection","Regulier","Segou",{"$f":"VLOOKUP(Main3WData16[[#This Row],[Admin Unit Name]],AdminUnits[],2,FALSE)","v":"ML04"},{"$f":"VLOOKUP(Main3WData16[[#This Row],[Admin Unit Name]],AdminUnits[],3,FALSE)","v":"Sud"},{"$f":"VLOOKUP(Main3WData16[[#This Row],[Admin Unit Name]],AdminUnits[],4,FALSE)","v":4},{"$f":"VLOOKUP(Main3WData16[[#This Row],[Sector]],Sectors[],2,FALSE)","v":5}]
[null,"Right To Play",{"$f":"INDEX(Organizations[],MATCH(Main3WData16[[#This Row],[Acronym]],AcronymList,0),1)","v":"Right to Play"},{"$f":"INDEX(Organizations[],MATCH(Main3WData16[[#This Row],[Acronym]],AcronymList,0),3)","v":"ONG Int."},"Protection","Regulier","Sikasso",{"$f":"VLOOKUP(Main3WData16[[#This Row],[Admin Unit Name]],AdminUnits[],2,FALSE)","v":"ML03"},{"$f":"VLOOKUP(Main3WData16[[#This Row],[Admin Unit Name]],AdminUnits[],3,FALSE)","v":"Sud"},{"$f":"VLOOKUP(Main3WData16[[#This Row],[Admin Unit Name]],AdminUnits[],4,FALSE)","v":3},{"$f":"VLOOKUP(Main3WData16[[#This Row],[Sector]],Sectors[],2,FALSE)","v":5}]
[null,"REACH ITALIA",{"$f":"INDEX(Organizations[],MATCH(Main3WData16[[#This Row],[Acronym]],AcronymList,0),1)","v":"Reach Italia"},{"$f":"INDEX(Organizations[],MATCH(Main3WData16[[#This Row],[Acronym]],AcronymList,0),3)","v":"ONG Int."},"Sécurité alimentaire","Regulier","Koulikoro",{"$f":"VLOOKUP(Main3WData16[[#This Row],[Admin Unit Name]],AdminUnits[],2,FALSE)","v":"ML02"},{"$f":"VLOOKUP(Main3WData16[[#This Row],[Admin Unit Name]],AdminUnits[],3,FALSE)","v":"Sud"},{"$f":"VLOOKUP(Main3WData16[[#This Row],[Admin Unit Name]],AdminUnits[],4,FALSE)","v":2},{"$f":"VLOOKUP(Main3WData16[[#This Row],[Sector]],Sectors[],2,FALSE)","v":7}]
[null,"PU-AMI",{"$f":"INDEX(Organizations[],MATCH(Main3WData16[[#This Row],[Acronym]],AcronymList,0),1)","v":"Première Urgence-Aide Médicale Internationale"},{"$f":"INDEX(Organizations[],MATCH(Main3WData16[[#This Row],[Acronym]],AcronymList,0),3)","v":"ONG Int."},"Santé","Regulier","Gao",{"$f":"VLOOKUP(Main3WData16[[#This Row],[Admin Unit Name]],AdminUnits[],2,FALSE)","v":"ML07"},{"$f":"VLOOKUP(Main3WData16[[#This Row],[Admin Unit Name]],AdminUnits[],3,FALSE)","v":"Nord"},{"$f":"VLOOKUP(Main3WData16[[#This Row],[Admin Unit Name]],AdminUnits[],4,FALSE)","v":7},{"$f":"VLOOKUP(Main3WData16[[#This Row],[Sector]],Sectors[],2,FALSE)","v":6}]
[null,"PSI",{"$f":"INDEX(Organizations[],MATCH(Main3WData16[[#This Row],[Acronym]],AcronymList,0),1)","v":"Population Services International"},{"$f":"INDEX(Organizations[],MATCH(Main3WData16[[#This Row],[Acronym]],AcronymList,0),3)","v":"ONG Int."},"Santé","Regulier","Segou",{"$f":"VLOOKUP(Main3WData16[[#This Row],[Admin Unit Name]],AdminUnits[],2,FALSE)","v":"ML04"},{"$f":"VLOOKUP(Main3WData16[[#This Row],[Admin Unit Name]],AdminUnits[],3,FALSE)","v":"Sud"},{"$f":"VLOOKUP(Main3WData16[[#This Row],[Admin Unit Name]],AdminUnits[],4,FALSE)","v":4},{"$f":"VLOOKUP(Main3WData16[[#This Row],[Sector]],Sectors[],2,FALSE)","v":6}]
[null,"PR-Riziculteurs-Mopti",{"$f":"INDEX(Organizations[],MATCH(Main3WData16[[#This Row],[Acronym]],AcronymList,0),1)","v":"PLATEFORME REGIONALE DE RIZICULTEURS - MOPTI"},{"$f":"INDEX(Organizations[],MATCH(Main3WData16[[#This Row],[Acronym]],AcronymList,0),3)","v":"ONG Nat."},"Sécurité alimentaire","Regulier","Mopti",{"$f":"VLOOKUP(Main3WData16[[#This Row],[Admin Unit Name]],AdminUnits[],2,FALSE)","v":"ML05"},{"$f":"VLOOKUP(Main3WData16[[#This Row],[Admin Unit Name]],AdminUnits[],3,FALSE)","v":"Sud"},{"$f":"VLOOKUP(Main3WData16[[#This Row],[Admin Unit Name]],AdminUnits[],4,FALSE)","v":5},{"$f":"VLOOKUP(Main3WData16[[#This Row],[Sector]],Sectors[],2,FALSE)","v":7}]
[null,"Plan Mali",{"$f":"INDEX(Organizations[],MATCH(Main3WData16[[#This Row],[Acronym]],AcronymList,0),1)","v":"Plan Mali"},{"$f":"INDEX(Organizations[],MATCH(Main3WData16[[#This Row],[Acronym]],AcronymList,0),3)","v":"ONG Int."},"Education","Regulier","Segou",{"$f":"VLOOKUP(Main3WData16[[#This Row],[Admin Unit Name]],AdminUnits[],2,FALSE)","v":"ML04"},{"$f":"VLOOKUP(Main3WData16[[#This Row],[Admin Unit Name]],AdminUnits[],3,FALSE)","v":"Sud"},{"$f":"VLOOKUP(Main3WData16[[#This Row],[Admin Unit Name]],AdminUnits[],4,FALSE)","v":4},{"$f":"VLOOKUP(Main3WData16[[#This Row],[Sector]],Sectors[],2,FALSE)","v":3}]
[null,"Plan Mali",{"$f":"INDEX(Organizations[],MATCH(Main3WData16[[#This Row],[Acronym]],AcronymList,0),1)","v":"Plan Mali"},{"$f":"INDEX(Organizations[],MATCH(Main3WData16[[#This Row],[Acronym]],AcronymList,0),3)","v":"ONG Int."},"Education","Regulier","Mopti",{"$f":"VLOOKUP(Main3WData16[[#This Row],[Admin Unit Name]],AdminUnits[],2,FALSE)","v":"ML05"},{"$f":"VLOOKUP(Main3WData16[[#This Row],[Admin Unit Name]],AdminUnits[],3,FALSE)","v":"Sud"},{"$f":"VLOOKUP(Main3WData16[[#This Row],[Admin Unit Name]],AdminUnits[],4,FALSE)","v":5},{"$f":"VLOOKUP(Main3WData16[[#This Row],[Sector]],Sectors[],2,FALSE)","v":3}]
[null,"Plan Mali",{"$f":"INDEX(Organizations[],MATCH(Main3WData16[[#This Row],[Acronym]],AcronymList,0),1)","v":"Plan Mali"},{"$f":"INDEX(Organizations[],MATCH(Main3WData16[[#This Row],[Acronym]],AcronymList,0),3)","v":"ONG Int."},"Education","Regulier","Tombouctou",{"$f":"VLOOKUP(Main3WData16[[#This Row],[Admin Unit Name]],AdminUnits[],2,FALSE)","v":"ML06"},{"$f":"VLOOKUP(Main3WData16[[#This Row],[Admin Unit Name]],AdminUnits[],3,FALSE)","v":"Nord"},{"$f":"VLOOKUP(Main3WData16[[#This Row],[Admin Unit Name]],AdminUnits[],4,FALSE)","v":6},{"$f":"VLOOKUP(Main3WData16[[#This Row],[Sector]],Sectors[],2,FALSE)","v":3}]
[null,"PLAN MALI",{"$f":"INDEX(Organizations[],MATCH(Main3WData16[[#This Row],[Acronym]],AcronymList,0),1)","v":"Plan Mali"},{"$f":"INDEX(Organizations[],MATCH(Main3WData16[[#This Row],[Acronym]],AcronymList,0),3)","v":"ONG Int."},"Nutrition","Regulier","Kayes",{"$f":"VLOOKUP(Main3WData16[[#This Row],[Admin Unit Name]],AdminUnits[],2,FALSE)","v":"ML01"},{"$f":"VLOOKUP(Main3WData16[[#This Row],[Admin Unit Name]],AdminUnits[],3,FALSE)","v":"Sud"},{"$f":"VLOOKUP(Main3WData16[[#This Row],[Admin Unit Name]],AdminUnits[],4,FALSE)","v":1},{"$f":"VLOOKUP(Main3WData16[[#This Row],[Sector]],Sectors[],2,FALSE)","v":4}]
[null,"PLAN Mali",{"$f":"INDEX(Organizations[],MATCH(Main3WData16[[#This Row],[Acronym]],AcronymList,0),1)","v":"Plan Mali"},{"$f":"INDEX(Organizations[],MATCH(Main3WData16[[#This Row],[Acronym]],AcronymList,0),3)","v":"ONG Int."},"Nutrition","Regulier","Koulikoro",{"$f":"VLOOKUP(Main3WData16[[#This Row],[Admin Unit Name]],AdminUnits[],2,FALSE)","v":"ML02"},{"$f":"VLOOKUP(Main3WData16[[#This Row],[Admin Unit Name]],AdminUnits[],3,FALSE)","v":"Sud"},{"$f":"VLOOKUP(Main3WData16[[#This Row],[Admin Unit Name]],AdminUnits[],4,FALSE)","v":2},{"$f":"VLOOKUP(Main3WData16[[#This Row],[Sector]],Sectors[],2,FALSE)","v":4}]
[null,"PLAN Mali",{"$f":"INDEX(Organizations[],MATCH(Main3WData16[[#This Row],[Acronym]],AcronymList,0),1)","v":"Plan Mali"},{"$f":"INDEX(Organizations[],MATCH(Main3WData16[[#This Row],[Acronym]],AcronymList,0),3)","v":"ONG Int."},"Nutrition","Regulier","Segou",{"$f":"VLOOKUP(Main3WData16[[#This Row],[Admin Unit Name]],AdminUnits[],2,FALSE)","v":"ML04"},{"$f":"VLOOKUP(Main3WData16[[#This Row],[Admin Unit Name]],AdminUnits[],3,FALSE)","v":"Sud"},{"$f":"VLOOKUP(Main3WData16[[#This Row],[Admin Unit Name]],AdminUnits[],4,FALSE)","v":4},{"$f":"VLOOKUP(Main3WData16[[#This Row],[Sector]],Sectors[],2,FALSE)","v":4}]
[null,"PLAN Mali",{"$f":"INDEX(Organizations[],MATCH(Main3WData16[[#This Row],[Acronym]],AcronymList,0),1)","v":"Plan Mali"},{"$f":"INDEX(Organizations[],MATCH(Main3WData16[[#This Row],[Acronym]],AcronymList,0),3)","v":"ONG Int."},"Protection","Regulier","Mopti",{"$f":"VLOOKUP(Main3WData16[[#This Row],[Admin Unit Name]],AdminUnits[],2,FALSE)","v":"ML05"},{"$f":"VLOOKUP(Main3WData16[[#This Row],[Admin Unit Name]],AdminUnits[],3,FALSE)","v":"Sud"},{"$f":"VLOOKUP(Main3WData16[[#This Row],[Admin Unit Name]],AdminUnits[],4,FALSE)","v":5},{"$f":"VLOOKUP(Main3WData16[[#This Row],[Sector]],Sectors[],2,FALSE)","v":5}]
[null,"PLAN Mali",{"$f":"INDEX(Organizations[],MATCH(Main3WData16[[#This Row],[Acronym]],AcronymList,0),1)","v":"Plan Mali"},{"$f":"INDEX(Organizations[],MATCH(Main3WData16[[#This Row],[Acronym]],AcronymList,0),3)","v":"ONG Int."},"Protection","Regulier","Segou",{"$f":"VLOOKUP(Main3WData16[[#This Row],[Admin Unit Name]],AdminUnits[],2,FALSE)","v":"ML04"},{"$f":"VLOOKUP(Main3WData16[[#This Row],[Admin Unit Name]],AdminUnits[],3,FALSE)","v":"Sud"},{"$f":"VLOOKUP(Main3WData16[[#This Row],[Admin Unit Name]],AdminUnits[],4,FALSE)","v":4},{"$f":"VLOOKUP(Main3WData16[[#This Row],[Sector]],Sectors[],2,FALSE)","v":5}]
[null,"Plan Mali",{"$f":"INDEX(Organizations[],MATCH(Main3WData16[[#This Row],[Acronym]],AcronymList,0),1)","v":"Plan Mali"},{"$f":"INDEX(Organizations[],MATCH(Main3WData16[[#This Row],[Acronym]],AcronymList,0),3)","v":"ONG Int."},"Santé","Regulier","Mopti",{"$f":"VLOOKUP(Main3WData16[[#This Row],[Admin Unit Name]],AdminUnits[],2,FALSE)","v":"ML05"},{"$f":"VLOOKUP(Main3WData16[[#This Row],[Admin Unit Name]],AdminUnits[],3,FALSE)","v":"Sud"},{"$f":"VLOOKUP(Main3WData16[[#This Row],[Admin Unit Name]],AdminUnits[],4,FALSE)","v":5},{"$f":"VLOOKUP(Main3WData16[[#This Row],[Sector]],Sectors[],2,FALSE)","v":6}]
[null,"Plan Mali",{"$f":"INDEX(Organizations[],MATCH(Main3WData16[[#This Row],[Acronym]],AcronymList,0),1)","v":"Plan Mali"},{"$f":"INDEX(Organizations[],MATCH(Main3WData16[[#This Row],[Acronym]],AcronymList,0),3)","v":"ONG Int."},"Sécurité alimentaire","Regulier","Segou",{"$f":"VLOOKUP(Main3WData16[[#This Row],[Admin Unit Name]],AdminUnits[],2,FALSE)","v":"ML04"},{"$f":"VLOOKUP(Main3WData16[[#This Row],[Admin Unit Name]],AdminUnits[],3,FALSE)","v":"Sud"},{"$f":"VLOOKUP(Main3WData16[[#This Row],[Admin Unit Name]],AdminUnits[],4,FALSE)","v":4},{"$f":"VLOOKUP(Main3WData16[[#This Row],[Sector]],Sectors[],2,FALSE)","v":7}]
[null,"PAM",{"$f":"INDEX(Organizations[],MATCH(Main3WData16[[#This Row],[Acronym]],AcronymList,0),1)","v":"Programme Alimentaire Mondial"},{"$f":"INDEX(Organizations[],MATCH(Main3WData16[[#This Row],[Acronym]],AcronymList,0),3)","v":"UN"},"Coordination","Regulier","Bamako",{"$f":"VLOOKUP(Main3WData16[[#This Row],[Admin Unit Name]],AdminUnits[],2,FALSE)","v":"ML09"},{"$f":"VLOOKUP(Main3WData16[[#This Row],[Admin Unit Name]],AdminUnits[],3,FALSE)","v":"Sud"},{"$f":"VLOOKUP(Main3WData16[[#This Row],[Admin Unit Name]],AdminUnits[],4,FALSE)","v":0},{"$f":"VLOOKUP(Main3WData16[[#This Row],[Sector]],Sectors[],2,FALSE)","v":2}]
[null,"PAM",{"$f":"INDEX(Organizations[],MATCH(Main3WData16[[#This Row],[Acronym]],AcronymList,0),1)","v":"Programme Alimentaire Mondial"},{"$f":"INDEX(Organizations[],MATCH(Main3WData16[[#This Row],[Acronym]],AcronymList,0),3)","v":"UN"},"Education","Regulier","Kayes",{"$f":"VLOOKUP(Main3WData16[[#This Row],[Admin Unit Name]],AdminUnits[],2,FALSE)","v":"ML01"},{"$f":"VLOOKUP(Main3WData16[[#This Row],[Admin Unit Name]],AdminUnits[],3,FALSE)","v":"Sud"},{"$f":"VLOOKUP(Main3WData16[[#This Row],[Admin Unit Name]],AdminUnits[],4,FALSE)","v":1},{"$f":"VLOOKUP(Main3WData16[[#This Row],[Sector]],Sectors[],2,FALSE)","v":3}]
[null,"PAM",{"$f":"INDEX(Organizations[],MATCH(Main3WData16[[#This Row],[Acronym]],AcronymList,0),1)","v":"Programme Alimentaire Mondial"},{"$f":"INDEX(Organizations[],MATCH(Main3WData16[[#This Row],[Acronym]],AcronymList,0),3)","v":"UN"},"Education","Regulier","Koulikoro",{"$f":"VLOOKUP(Main3WData16[[#This Row],[Admin Unit Name]],AdminUnits[],2,FALSE)","v":"ML02"},{"$f":"VLOOKUP(Main3WData16[[#This Row],[Admin Unit Name]],AdminUnits[],3,FALSE)","v":"Sud"},{"$f":"VLOOKUP(Main3WData16[[#This Row],[Admin Unit Name]],AdminUnits[],4,FALSE)","v":2},{"$f":"VLOOKUP(Main3WData16[[#This Row],[Sector]],Sectors[],2,FALSE)","v":3}]
[null,"PAM",{"$f":"INDEX(Organizations[],MATCH(Main3WData16[[#This Row],[Acronym]],AcronymList,0),1)","v":"Programme Alimentaire Mondial"},{"$f":"INDEX(Organizations[],MATCH(Main3WData16[[#This Row],[Acronym]],AcronymList,0),3)","v":"UN"},"Education","Regulier","Mopti",{"$f":"VLOOKUP(Main3WData16[[#This Row],[Admin Unit Name]],AdminUnits[],2,FALSE)","v":"ML05"},{"$f":"VLOOKUP(Main3WData16[[#This Row],[Admin Unit Name]],AdminUnits[],3,FALSE)","v":"Sud"},{"$f":"VLOOKUP(Main3WData16[[#This Row],[Admin Unit Name]],AdminUnits[],4,FALSE)","v":5},{"$f":"VLOOKUP(Main3WData16[[#This Row],[Sector]],Sectors[],2,FALSE)","v":3}]
[null,"PAM",{"$f":"INDEX(Organizations[],MATCH(Main3WData16[[#This Row],[Acronym]],AcronymList,0),1)","v":"Programme Alimentaire Mondial"},{"$f":"INDEX(Organizations[],MATCH(Main3WData16[[#This Row],[Acronym]],AcronymList,0),3)","v":"UN"},"Education","Regulier","Gao",{"$f":"VLOOKUP(Main3WData16[[#This Row],[Admin Unit Name]],AdminUnits[],2,FALSE)","v":"ML07"},{"$f":"VLOOKUP(Main3WData16[[#This Row],[Admin Unit Name]],AdminUnits[],3,FALSE)","v":"Nord"},{"$f":"VLOOKUP(Main3WData16[[#This Row],[Admin Unit Name]],AdminUnits[],4,FALSE)","v":7},{"$f":"VLOOKUP(Main3WData16[[#This Row],[Sector]],Sectors[],2,FALSE)","v":3}]
[null,"PAM",{"$f":"INDEX(Organizations[],MATCH(Main3WData16[[#This Row],[Acronym]],AcronymList,0),1)","v":"Programme Alimentaire Mondial"},{"$f":"INDEX(Organizations[],MATCH(Main3WData16[[#This Row],[Acronym]],AcronymList,0),3)","v":"UN"},"Education","Regulier","Tombouctou",{"$f":"VLOOKUP(Main3WData16[[#This Row],[Admin Unit Name]],AdminUnits[],2,FALSE)","v":"ML06"},{"$f":"VLOOKUP(Main3WData16[[#This Row],[Admin Unit Name]],AdminUnits[],3,FALSE)","v":"Nord"},{"$f":"VLOOKUP(Main3WData16[[#This Row],[Admin Unit Name]],AdminUnits[],4,FALSE)","v":6},{"$f":"VLOOKUP(Main3WData16[[#This Row],[Sector]],Sectors[],2,FALSE)","v":3}]
[null,"PAM",{"$f":"INDEX(Organizations[],MATCH(Main3WData16[[#This Row],[Acronym]],AcronymList,0),1)","v":"Programme Alimentaire Mondial"},{"$f":"INDEX(Organizations[],MATCH(Main3WData16[[#This Row],[Acronym]],AcronymList,0),3)","v":"UN"},"Logistique","Regulier","Mopti",{"$f":"VLOOKUP(Main3WData16[[#This Row],[Admin Unit Name]],AdminUnits[],2,FALSE)","v":"ML05"},{"$f":"VLOOKUP(Main3WData16[[#This Row],[Admin Unit Name]],AdminUnits[],3,FALSE)","v":"Sud"},{"$f":"VLOOKUP(Main3WData16[[#This Row],[Admin Unit Name]],AdminUnits[],4,FALSE)","v":5},{"$f":"VLOOKUP(Main3WData16[[#This Row],[Sector]],Sectors[],2,FALSE)","v":{"$error":"#N/A"}}]
[null,"PAM",{"$f":"INDEX(Organizations[],MATCH(Main3WData16[[#This Row],[Acronym]],AcronymList,0),1)","v":"Programme Alimentaire Mondial"},{"$f":"INDEX(Organizations[],MATCH(Main3WData16[[#This Row],[Acronym]],AcronymList,0),3)","v":"UN"},"Logistique","Regulier","Bamako",{"$f":"VLOOKUP(Main3WData16[[#This Row],[Admin Unit Name]],AdminUnits[],2,FALSE)","v":"ML09"},{"$f":"VLOOKUP(Main3WData16[[#This Row],[Admin Unit Name]],AdminUnits[],3,FALSE)","v":"Sud"},{"$f":"VLOOKUP(Main3WData16[[#This Row],[Admin Unit Name]],AdminUnits[],4,FALSE)","v":0},{"$f":"VLOOKUP(Main3WData16[[#This Row],[Sector]],Sectors[],2,FALSE)","v":{"$error":"#N/A"}}]
[null,"PAM",{"$f":"INDEX(Organizations[],MATCH(Main3WData16[[#This Row],[Acronym]],AcronymList,0),1)","v":"Programme Alimentaire Mondial"},{"$f":"INDEX(Organizations[],MATCH(Main3WData16[[#This Row],[Acronym]],AcronymList,0),3)","v":"UN"},"Sécurité alimentaire","Regulier","Gao",{"$f":"VLOOKUP(Main3WData16[[#This Row],[Admin Unit Name]],AdminUnits[],2,FALSE)","v":"ML07"},{"$f":"VLOOKUP(Main3WData16[[#This Row],[Admin Unit Name]],AdminUnits[],3,FALSE)","v":"Nord"},{"$f":"VLOOKUP(Main3WData16[[#This Row],[Admin Unit Name]],AdminUnits[],4,FALSE)","v":7},{"$f":"VLOOKUP(Main3WData16[[#This Row],[Sector]],Sectors[],2,FALSE)","v":7}]
[null,"PAM",{"$f":"INDEX(Organizations[],MATCH(Main3WData16[[#This Row],[Acronym]],AcronymList,0),1)","v":"Programme Alimentaire Mondial"},{"$f":"INDEX(Organizations[],MATCH(Main3WData16[[#This Row],[Acronym]],AcronymList,0),3)","v":"UN"},"Sécurité alimentaire","Regulier","Kayes",{"$f":"VLOOKUP(Main3WData16[[#This Row],[Admin Unit Name]],AdminUnits[],2,FALSE)","v":"ML01"},{"$f":"VLOOKUP(Main3WData16[[#This Row],[Admin Unit Name]],AdminUnits[],3,FALSE)","v":"Sud"},{"$f":"VLOOKUP(Main3WData16[[#This Row],[Admin Unit Name]],AdminUnits[],4,FALSE)","v":1},{"$f":"VLOOKUP(Main3WData16[[#This Row],[Sector]],Sectors[],2,FALSE)","v":7}]
[null,"PAM",{"$f":"INDEX(Organizations[],MATCH(Main3WData16[[#This Row],[Acronym]],AcronymList,0),1)","v":"Programme Alimentaire Mondial"},{"$f":"INDEX(Organizations[],MATCH(Main3WData16[[#This Row],[Acronym]],AcronymList,0),3)","v":"UN"},"Sécurité alimentaire","Regulier","Kidal",{"$f":"VLOOKUP(Main3WData16[[#This Row],[Admin Unit Name]],AdminUnits[],2,FALSE)","v":"ML08"},{"$f":"VLOOKUP(Main3WData16[[#This Row],[Admin Unit Name]],AdminUnits[],3,FALSE)","v":"Nord"},{"$f":"VLOOKUP(Main3WData16[[#This Row],[Admin Unit Name]],AdminUnits[],4,FALSE)","v":8},{"$f":"VLOOKUP(Main3WData16[[#This Row],[Sector]],Sectors[],2,FALSE)","v":7}]
[null,"PAM",{"$f":"INDEX(Organizations[],MATCH(Main3WData16[[#This Row],[Acronym]],AcronymList,0),1)","v":"Programme Alimentaire Mondial"},{"$f":"INDEX(Organizations[],MATCH(Main3WData16[[#This Row],[Acronym]],AcronymList,0),3)","v":"UN"},"Sécurité alimentaire","Regulier","Koulikoro",{"$f":"VLOOKUP(Main3WData16[[#This Row],[Admin Unit Name]],AdminUnits[],2,FALSE)","v":"ML02"},{"$f":"VLOOKUP(Main3WData16[[#This Row],[Admin Unit Name]],AdminUnits[],3,FALSE)","v":"Sud"},{"$f":"VLOOKUP(Main3WData16[[#This Row],[Admin Unit Name]],AdminUnits[],4,FALSE)","v":2},{"$f":"VLOOKUP(Main3WData16[[#This Row],[Sector]],Sectors[],2,FALSE)","v":7}]
[null,"PAM",{"$f":"INDEX(Organizations[],MATCH(Main3WData16[[#This Row],[Acronym]],AcronymList,0),1)","v":"Programme Alimentaire Mondial"},{"$f":"INDEX(Organizations[],MATCH(Main3WData16[[#This Row],[Acronym]],AcronymList,0),3)","v":"UN"},"Sécurité alimentaire","Regulier","Mopti",{"$f":"VLOOKUP(Main3WData16[[#This Row],[Admin Unit Name]],AdminUnits[],2,FALSE)","v":"ML05"},{"$f":"VLOOKUP(Main3WData16[[#This Row],[Admin Unit Name]],AdminUnits[],3,FALSE)","v":"Sud"},{"$f":"VLOOKUP(Main3WData16[[#This Row],[Admin Unit Name]],AdminUnits[],4,FALSE)","v":5},{"$f":"VLOOKUP(Main3WData16[[#This Row],[Sector]],Sectors[],2,FALSE)","v":7}]
[null,"PAM",{"$f":"INDEX(Organizations[],MATCH(Main3WData16[[#This Row],[Acronym]],AcronymList,0),1)","v":"Programme Alimentaire Mondial"},{"$f":"INDEX(Organizations[],MATCH(Main3WData16[[#This Row],[Acronym]],AcronymList,0),3)","v":"UN"},"Sécurité alimentaire","Regulier","Segou",{"$f":"VLOOKUP(Main3WData16[[#This Row],[Admin Unit Name]],AdminUnits[],2,FALSE)","v":"ML04"},{"$f":"VLOOKUP(Main3WData16[[#This Row],[Admin Unit Name]],AdminUnits[],3,FALSE)","v":"Sud"},{"$f":"VLOOKUP(Main3WData16[[#This Row],[Admin Unit Name]],AdminUnits[],4,FALSE)","v":4},{"$f":"VLOOKUP(Main3WData16[[#This Row],[Sector]],Sectors[],2,FALSE)","v":7}]
[null,"PAM",{"$f":"INDEX(Organizations[],MATCH(Main3WData16[[#This Row],[Acronym]],AcronymList,0),1)","v":"Programme Alimentaire Mondial"},{"$f":"INDEX(Organizations[],MATCH(Main3WData16[[#This Row],[Acronym]],AcronymList,0),3)","v":"UN"},"Sécurité alimentaire","Regulier","Sikasso",{"$f":"VLOOKUP(Main3WData16[[#This Row],[Admin Unit Name]],AdminUnits[],2,FALSE)","v":"ML03"},{"$f":"VLOOKUP(Main3WData16[[#This Row],[Admin Unit Name]],AdminUnits[],3,FALSE)","v":"Sud"},{"$f":"VLOOKUP(Main3WData16[[#This Row],[Admin Unit Name]],AdminUnits[],4,FALSE)","v":3},{"$f":"VLOOKUP(Main3WData16[[#This Row],[Sector]],Sectors[],2,FALSE)","v":7}]
[null,"PAM",{"$f":"INDEX(Organizations[],MATCH(Main3WData16[[#This Row],[Acronym]],AcronymList,0),1)","v":"Programme Alimentaire Mondial"},{"$f":"INDEX(Organizations[],MATCH(Main3WData16[[#This Row],[Acronym]],AcronymList,0),3)","v":"UN"},"Sécurité alimentaire","Regulier","Tombouctou",{"$f":"VLOOKUP(Main3WData16[[#This Row],[Admin Unit Name]],AdminUnits[],2,FALSE)","v":"ML06"},{"$f":"VLOOKUP(Main3WData16[[#This Row],[Admin Unit Name]],AdminUnits[],3,FALSE)","v":"Nord"},{"$f":"VLOOKUP(Main3WData16[[#This Row],[Admin Unit Name]],AdminUnits[],4,FALSE)","v":6},{"$f":"VLOOKUP(Main3WData16[[#This Row],[Sector]],Sectors[],2,FALSE)","v":7}]
[null,"PAM",{"$f":"INDEX(Organizations[],MATCH(Main3WData16[[#This Row],[Acronym]],AcronymList,0),1)","v":"Programme Alimentaire Mondial"},{"$f":"INDEX(Organizations[],MATCH(Main3WData16[[#This Row],[Acronym]],AcronymList,0),3)","v":"UN"},"Télécom.  d'urgence","Regulier","Mopti",{"$f":"VLOOKUP(Main3WData16[[#This Row],[Admin Unit Name]],AdminUnits[],2,FALSE)","v":"ML05"},{"$f":"VLOOKUP(Main3WData16[[#This Row],[Admin Unit Name]],AdminUnits[],3,FALSE)","v":"Sud"},{"$f":"VLOOKUP(Main3WData16[[#This Row],[Admin Unit Name]],AdminUnits[],4,FALSE)","v":5},{"$f":"VLOOKUP(Main3WData16[[#This Row],[Sector]],Sectors[],2,FALSE)","v":{"$error":"#N/A"}}]
[null,"PAM",{"$f":"INDEX(Organizations[],MATCH(Main3WData16[[#This Row],[Acronym]],AcronymList,0),1)","v":"Programme Alimentaire Mondial"},{"$f":"INDEX(Organizations[],MATCH(Main3WData16[[#This Row],[Acronym]],AcronymList,0),3)","v":"UN"},"Télécom.  d'urgence","Regulier","TOMBOUCTOU",{"$f":"VLOOKUP(Main3WData16[[#This Row],[Admin Unit Name]],AdminUnits[],2,FALSE)","v":"ML06"},{"$f":"VLOOKUP(Main3WData16[[#This Row],[Admin Unit Name]],AdminUnits[],3,FALSE)","v":"Nord"},{"$f":"VLOOKUP(Main3WData16[[#This Row],[Admin Unit Name]],AdminUnits[],4,FALSE)","v":6},{"$f":"VLOOKUP(Main3WData16[[#This Row],[Sector]],Sectors[],2,FALSE)","v":{"$error":"#N/A"}}]
[null,"PAM",{"$f":"INDEX(Organizations[],MATCH(Main3WData16[[#This Row],[Acronym]],AcronymList,0),1)","v":"Programme Alimentaire Mondial"},{"$f":"INDEX(Organizations[],MATCH(Main3WData16[[#This Row],[Acronym]],AcronymList,0),3)","v":"UN"},"Télécom.  d'urgence","Regulier","Bamako",{"$f":"VLOOKUP(Main3WData16[[#This Row],[Admin Unit Name]],AdminUnits[],2,FALSE)","v":"ML09"},{"$f":"VLOOKUP(Main3WData16[[#This Row],[Admin Unit Name]],AdminUnits[],3,FALSE)","v":"Sud"},{"$f":"VLOOKUP(Main3WData16[[#This Row],[Admin Unit Name]],AdminUnits[],4,FALSE)","v":0},{"$f":"VLOOKUP(Main3WData16[[#This Row],[Sector]],Sectors[],2,FALSE)","v":{"$error":"#N/A"}}]
[null,"PAM",{"$f":"INDEX(Organizations[],MATCH(Main3WData16[[#This Row],[Acronym]],AcronymList,0),1)","v":"Programme Alimentaire Mondial"},{"$f":"INDEX(Organizations[],MATCH(Main3WData16[[#This Row],[Acronym]],AcronymList,0),3)","v":"UN"},"Télécom.  d'urgence","Regulier","Gao",{"$f":"VLOOKUP(Main3WData16[[#This Row],[Admin Unit Name]],AdminUnits[],2,FALSE)","v":"ML07"},{"$f":"VLOOKUP(Main3WData16[[#This Row],[Admin Unit Name]],AdminUnits[],3,FALSE)","v":"Nord"},{"$f":"VLOOKUP(Main3WData16[[#This Row],[Admin Unit Name]],AdminUnits[],4,FALSE)","v":7},{"$f":"VLOOKUP(Main3WData16[[#This Row],[Sector]],Sectors[],2,FALSE)","v":{"$error":"#N/A"}}]
[null,"OXFAM GB",{"$f":"INDEX(Organizations[],MATCH(Main3WData16[[#This Row],[Acronym]],AcronymList,0),1)","v":"OXFAM GB"},{"$f":"INDEX(Organizations[],MATCH(Main3WData16[[#This Row],[Acronym]],AcronymList,0),3)","v":"ONG Int."},"EHA","Regulier","GAO",{"$f":"VLOOKUP(Main3WData16[[#This Row],[Admin Unit Name]],AdminUnits[],2,FALSE)","v":"ML07"},{"$f":"VLOOKUP(Main3WData16[[#This Row],[Admin Unit Name]],AdminUnits[],3,FALSE)","v":"Nord"},{"$f":"VLOOKUP(Main3WData16[[#This Row],[Admin Unit Name]],AdminUnits[],4,FALSE)","v":7},{"$f":"VLOOKUP(Main3WData16[[#This Row],[Sector]],Sectors[],2,FALSE)","v":8}]
[null,"OXFAM GB",{"$f":"INDEX(Organizations[],MATCH(Main3WData16[[#This Row],[Acronym]],AcronymList,0),1)","v":"OXFAM GB"},{"$f":"INDEX(Organizations[],MATCH(Main3WData16[[#This Row],[Acronym]],AcronymList,0),3)","v":"ONG Int."},"Protection","Regulier","Gao",{"$f":"VLOOKUP(Main3WData16[[#This Row],[Admin Unit Name]],AdminUnits[],2,FALSE)","v":"ML07"},{"$f":"VLOOKUP(Main3WData16[[#This Row],[Admin Unit Name]],AdminUnits[],3,FALSE)","v":"Nord"},{"$f":"VLOOKUP(Main3WData16[[#This Row],[Admin Unit Name]],AdminUnits[],4,FALSE)","v":7},{"$f":"VLOOKUP(Main3WData16[[#This Row],[Sector]],Sectors[],2,FALSE)","v":5}]
[null,"OXFAM GB",{"$f":"INDEX(Organizations[],MATCH(Main3WData16[[#This Row],[Acronym]],AcronymList,0),1)","v":"OXFAM GB"},{"$f":"INDEX(Organizations[],MATCH(Main3WData16[[#This Row],[Acronym]],AcronymList,0),3)","v":"ONG Int."},"Sécurité alimentaire","Regulier","Gao",{"$f":"VLOOKUP(Main3WData16[[#This Row],[Admin Unit Name]],AdminUnits[],2,FALSE)","v":"ML07"},{"$f":"VLOOKUP(Main3WData16[[#This Row],[Admin Unit Name]],AdminUnits[],3,FALSE)","v":"Nord"},{"$f":"VLOOKUP(Main3WData16[[#This Row],[Admin Unit Name]],AdminUnits[],4,FALSE)","v":7},{"$f":"VLOOKUP(Main3WData16[[#This Row],[Sector]],Sectors[],2,FALSE)","v":7}]
[null,"OXFAM GB",{"$f":"INDEX(Organizations[],MATCH(Main3WData16[[#This Row],[Acronym]],AcronymList,0),1)","v":"OXFAM GB"},{"$f":"INDEX(Organizations[],MATCH(Main3WData16[[#This Row],[Acronym]],AcronymList,0),3)","v":"ONG Int."},"Sécurité alimentaire","Regulier","Kayes",{"$f":"VLOOKUP(Main3WData16[[#This Row],[Admin Unit Name]],AdminUnits[],2,FALSE)","v":"ML01"},{"$f":"VLOOKUP(Main3WData16[[#This Row],[Admin Unit Name]],AdminUnits[],3,FALSE)","v":"Sud"},{"$f":"VLOOKUP(Main3WData16[[#This Row],[Admin Unit Name]],AdminUnits[],4,FALSE)","v":1},{"$f":"VLOOKUP(Main3WData16[[#This Row],[Sector]],Sectors[],2,FALSE)","v":7}]
[null,"ONUFEMME",{"$f":"INDEX(Organizations[],MATCH(Main3WData16[[#This Row],[Acronym]],AcronymList,0),1)","v":"ONUFEMME"},{"$f":"INDEX(Organizations[],MATCH(Main3WData16[[#This Row],[Acronym]],AcronymList,0),3)","v":"UN"},"Sécurité alimentaire","Regulier","Bamako",{"$f":"VLOOKUP(Main3WData16[[#This Row],[Admin Unit Name]],AdminUnits[],2,FALSE)","v":"ML09"},{"$f":"VLOOKUP(Main3WData16[[#This Row],[Admin Unit Name]],AdminUnits[],3,FALSE)","v":"Sud"},{"$f":"VLOOKUP(Main3WData16[[#This Row],[Admin Unit Name]],AdminUnits[],4,FALSE)","v":0},{"$f":"VLOOKUP(Main3WData16[[#This Row],[Sector]],Sectors[],2,FALSE)","v":7}]
[null,"ONUFEMME",{"$f":"INDEX(Organizations[],MATCH(Main3WData16[[#This Row],[Acronym]],AcronymList,0),1)","v":"ONUFEMME"},{"$f":"INDEX(Organizations[],MATCH(Main3WData16[[#This Row],[Acronym]],AcronymList,0),3)","v":"UN"},"Sécurité alimentaire","Regulier","Gao",{"$f":"VLOOKUP(Main3WData16[[#This Row],[Admin Unit Name]],AdminUnits[],2,FALSE)","v":"ML07"},{"$f":"VLOOKUP(Main3WData16[[#This Row],[Admin Unit Name]],AdminUnits[],3,FALSE)","v":"Nord"},{"$f":"VLOOKUP(Main3WData16[[#This Row],[Admin Unit Name]],AdminUnits[],4,FALSE)","v":7},{"$f":"VLOOKUP(Main3WData16[[#This Row],[Sector]],Sectors[],2,FALSE)","v":7}]
[null,"ONUFEMME",{"$f":"INDEX(Organizations[],MATCH(Main3WData16[[#This Row],[Acronym]],AcronymList,0),1)","v":"ONUFEMME"},{"$f":"INDEX(Organizations[],MATCH(Main3WData16[[#This Row],[Acronym]],AcronymList,0),3)","v":"UN"},"Sécurité alimentaire","Regulier","Kidal",{"$f":"VLOOKUP(Main3WData16[[#This Row],[Admin Unit Name]],AdminUnits[],2,FALSE)","v":"ML08"},{"$f":"VLOOKUP(Main3WData16[[#This Row],[Admin Unit Name]],AdminUnits[],3,FALSE)","v":"Nord"},{"$f":"VLOOKUP(Main3WData16[[#This Row],[Admin Unit Name]],AdminUnits[],4,FALSE)","v":8},{"$f":"VLOOKUP(Main3WData16[[#This Row],[Sector]],Sectors[],2,FALSE)","v":7}]
[null,"ONUFEMME",{"$f":"INDEX(Organizations[],MATCH(Main3WData16[[#This Row],[Acronym]],AcronymList,0),1)","v":"ONUFEMME"},{"$f":"INDEX(Organizations[],MATCH(Main3WData16[[#This Row],[Acronym]],AcronymList,0),3)","v":"UN"},"Sécurité alimentaire","Regulier","Koulikoro",{"$f":"VLOOKUP(Main3WData16[[#This Row],[Admin Unit Name]],AdminUnits[],2,FALSE)","v":"ML02"},{"$f":"VLOOKUP(Main3WData16[[#This Row],[Admin Unit Name]],AdminUnits[],3,FALSE)","v":"Sud"},{"$f":"VLOOKUP(Main3WData16[[#This Row],[Admin Unit Name]],AdminUnits[],4,FALSE)","v":2},{"$f":"VLOOKUP(Main3WData16[[#This Row],[Sector]],Sectors[],2,FALSE)","v":7}]
[null,"ONUFEMME",{"$f":"INDEX(Organizations[],MATCH(Main3WData16[[#This Row],[Acronym]],AcronymList,0),1)","v":"ONUFEMME"},{"$f":"INDEX(Organizations[],MATCH(Main3WData16[[#This Row],[Acronym]],AcronymList,0),3)","v":"UN"},"Sécurité alimentaire","Regulier","Mopti",{"$f":"VLOOKUP(Main3WData16[[#This Row],[Admin Unit Name]],AdminUnits[],2,FALSE)","v":"ML05"},{"$f":"VLOOKUP(Main3WData16[[#This Row],[Admin Unit Name]],AdminUnits[],3,FALSE)","v":"Sud"},{"$f":"VLOOKUP(Main3WData16[[#This Row],[Admin Unit Name]],AdminUnits[],4,FALSE)","v":5},{"$f":"VLOOKUP(Main3WData16[[#This Row],[Sector]],Sectors[],2,FALSE)","v":7}]
[null,"OMS",{"$f":"INDEX(Organizations[],MATCH(Main3WData16[[#This Row],[Acronym]],AcronymList,0),1)","v":"Organisation Mondiale de la Sante"},{"$f":"INDEX(Organizations[],MATCH(Main3WData16[[#This Row],[Acronym]],AcronymList,0),3)","v":"UN"},"Coordination","Regulier","Bamako",{"$f":"VLOOKUP(Main3WData16[[#This Row],[Admin Unit Name]],AdminUnits[],2,FALSE)","v":"ML09"},{"$f":"VLOOKUP(Main3WData16[[#This Row],[Admin Unit Name]],AdminUnits[],3,FALSE)","v":"Sud"},{"$f":"VLOOKUP(Main3WData16[[#This Row],[Admin Unit Name]],AdminUnits[],4,FALSE)","v":0},{"$f":"VLOOKUP(Main3WData16[[#This Row],[Sector]],Sectors[],2,FALSE)","v":2}]
[null,"OMS",{"$f":"INDEX(Organizations[],MATCH(Main3WData16[[#This Row],[Acronym]],AcronymList,0),1)","v":"Organisation Mondiale de la Sante"},{"$f":"INDEX(Organizations[],MATCH(Main3WData16[[#This Row],[Acronym]],AcronymList,0),3)","v":"UN"},"Santé","Regulier","Gao",{"$f":"VLOOKUP(Main3WData16[[#This Row],[Admin Unit Name]],AdminUnits[],2,FALSE)","v":"ML07"},{"$f":"VLOOKUP(Main3WData16[[#This Row],[Admin Unit Name]],AdminUnits[],3,FALSE)","v":"Nord"},{"$f":"VLOOKUP(Main3WData16[[#This Row],[Admin Unit Name]],AdminUnits[],4,FALSE)","v":7},{"$f":"VLOOKUP(Main3WData16[[#This Row],[Sector]],Sectors[],2,FALSE)","v":6}]
[null,"OMS",{"$f":"INDEX(Organizations[],MATCH(Main3WData16[[#This Row],[Acronym]],AcronymList,0),1)","v":"Organisation Mondiale de la Sante"},{"$f":"INDEX(Organizations[],MATCH(Main3WData16[[#This Row],[Acronym]],AcronymList,0),3)","v":"UN"},"Santé","Regulier","Kidal",{"$f":"VLOOKUP(Main3WData16[[#This Row],[Admin Unit Name]],AdminUnits[],2,FALSE)","v":"ML08"},{"$f":"VLOOKUP(Main3WData16[[#This Row],[Admin Unit Name]],AdminUnits[],3,FALSE)","v":"Nord"},{"$f":"VLOOKUP(Main3WData16[[#This Row],[Admin Unit Name]],AdminUnits[],4,FALSE)","v":8},{"$f":"VLOOKUP(Main3WData16[[#This Row],[Sector]],Sectors[],2,FALSE)","v":6}]
[null,"OMS",{"$f":"INDEX(Organizations[],MATCH(Main3WData16[[#This Row],[Acronym]],AcronymList,0),1)","v":"Organisation Mondiale de la Sante"},{"$f":"INDEX(Organizations[],MATCH(Main3WData16[[#This Row],[Acronym]],AcronymList,0),3)","v":"UN"},"Santé","Regulier","Tombouctou",{"$f":"VLOOKUP(Main3WData16[[#This Row],[Admin Unit Name]],AdminUnits[],2,FALSE)","v":"ML06"},{"$f":"VLOOKUP(Main3WData16[[#This Row],[Admin Unit Name]],AdminUnits[],3,FALSE)","v":"Nord"},{"$f":"VLOOKUP(Main3WData16[[#This Row],[Admin Unit Name]],AdminUnits[],4,FALSE)","v":6},{"$f":"VLOOKUP(Main3WData16[[#This Row],[Sector]],Sectors[],2,FALSE)","v":6}]
[null,"OMAES",{"$f":"INDEX(Organizations[],MATCH(Main3WData16[[#This Row],[Acronym]],AcronymList,0),1)","v":"Œuvre Malienne d'Aide à l'Enfance du Sahel"},{"$f":"INDEX(Organizations[],MATCH(Main3WData16[[#This Row],[Acronym]],AcronymList,0),3)","v":"ONG Nat."},"Nutrition","Regulier","Kayes",{"$f":"VLOOKUP(Main3WData16[[#This Row],[Admin Unit Name]],AdminUnits[],2,FALSE)","v":"ML01"},{"$f":"VLOOKUP(Main3WData16[[#This Row],[Admin Unit Name]],AdminUnits[],3,FALSE)","v":"Sud"},{"$f":"VLOOKUP(Main3WData16[[#This Row],[Admin Unit Name]],AdminUnits[],4,FALSE)","v":1},{"$f":"VLOOKUP(Main3WData16[[#This Row],[Sector]],Sectors[],2,FALSE)","v":4}]
[null,"OMAES",{"$f":"INDEX(Organizations[],MATCH(Main3WData16[[#This Row],[Acronym]],AcronymList,0),1)","v":"Œuvre Malienne d'Aide à l'Enfance du Sahel"},{"$f":"INDEX(Organizations[],MATCH(Main3WData16[[#This Row],[Acronym]],AcronymList,0),3)","v":"ONG Nat."},"Sécurité alimentaire","Regulier","Tombouctou",{"$f":"VLOOKUP(Main3WData16[[#This Row],[Admin Unit Name]],AdminUnits[],2,FALSE)","v":"ML06"},{"$f":"VLOOKUP(Main3WData16[[#This Row],[Admin Unit Name]],AdminUnits[],3,FALSE)","v":"Nord"},{"$f":"VLOOKUP(Main3WData16[[#This Row],[Admin Unit Name]],AdminUnits[],4,FALSE)","v":6},{"$f":"VLOOKUP(Main3WData16[[#This Row],[Sector]],Sectors[],2,FALSE)","v":7}]
[null,"OIM",{"$f":"INDEX(Organizations[],MATCH(Main3WData16[[#This Row],[Acronym]],AcronymList,0),1)","v":"Organisation Internationale pour les Migrations"},{"$f":"INDEX(Organizations[],MATCH(Main3WData16[[#This Row],[Acronym]],AcronymList,0),3)","v":"Org Int."},"Abris et NFI","Regulier","TOMBOUCTOU",{"$f":"VLOOKUP(Main3WData16[[#This Row],[Admin Unit Name]],AdminUnits[],2,FALSE)","v":"ML06"},{"$f":"VLOOKUP(Main3WData16[[#This Row],[Admin Unit Name]],AdminUnits[],3,FALSE)","v":"Nord"},{"$f":"VLOOKUP(Main3WData16[[#This Row],[Admin Unit Name]],AdminUnits[],4,FALSE)","v":6},{"$f":"VLOOKUP(Main3WData16[[#This Row],[Sector]],Sectors[],2,FALSE)","v":1}]
[null,"OIM",{"$f":"INDEX(Organizations[],MATCH(Main3WData16[[#This Row],[Acronym]],AcronymList,0),1)","v":"Organisation Internationale pour les Migrations"},{"$f":"INDEX(Organizations[],MATCH(Main3WData16[[#This Row],[Acronym]],AcronymList,0),3)","v":"Org Int."},"Abris et NFI","Regulier","Bamako",{"$f":"VLOOKUP(Main3WData16[[#This Row],[Admin Unit Name]],AdminUnits[],2,FALSE)","v":"ML09"},{"$f":"VLOOKUP(Main3WData16[[#This Row],[Admin Unit Name]],AdminUnits[],3,FALSE)","v":"Sud"},{"$f":"VLOOKUP(Main3WData16[[#This Row],[Admin Unit Name]],AdminUnits[],4,FALSE)","v":0},{"$f":"VLOOKUP(Main3WData16[[#This Row],[Sector]],Sectors[],2,FALSE)","v":1}]
[null,"OIM",{"$f":"INDEX(Organizations[],MATCH(Main3WData16[[#This Row],[Acronym]],AcronymList,0),1)","v":"Organisation Internationale pour les Migrations"},{"$f":"INDEX(Organizations[],MATCH(Main3WData16[[#This Row],[Acronym]],AcronymList,0),3)","v":"Org Int."},"Coordination","Regulier","Bamako",{"$f":"VLOOKUP(Main3WData16[[#This Row],[Admin Unit Name]],AdminUnits[],2,FALSE)","v":"ML09"},{"$f":"VLOOKUP(Main3WData16[[#This Row],[Admin Unit Name]],AdminUnits[],3,FALSE)","v":"Sud"},{"$f":"VLOOKUP(Main3WData16[[#This Row],[Admin Unit Name]],AdminUnits[],4,FALSE)","v":0},{"$f":"VLOOKUP(Main3WData16[[#This Row],[Sector]],Sectors[],2,FALSE)","v":2}]
[null,"OIM",{"$f":"INDEX(Organizations[],MATCH(Main3WData16[[#This Row],[Acronym]],AcronymList,0),1)","v":"Organisation Internationale pour les Migrations"},{"$f":"INDEX(Organizations[],MATCH(Main3WData16[[#This Row],[Acronym]],AcronymList,0),3)","v":"Org Int."},"Protection","Regulier","Bamako",{"$f":"VLOOKUP(Main3WData16[[#This Row],[Admin Unit Name]],AdminUnits[],2,FALSE)","v":"ML09"},{"$f":"VLOOKUP(Main3WData16[[#This Row],[Admin Unit Name]],AdminUnits[],3,FALSE)","v":"Sud"},{"$f":"VLOOKUP(Main3WData16[[#This Row],[Admin Unit Name]],AdminUnits[],4,FALSE)","v":0},{"$f":"VLOOKUP(Main3WData16[[#This Row],[Sector]],Sectors[],2,FALSE)","v":5}]
[null,"OIM",{"$f":"INDEX(Organizations[],MATCH(Main3WData16[[#This Row],[Acronym]],AcronymList,0),1)","v":"Organisation Internationale pour les Migrations"},{"$f":"INDEX(Organizations[],MATCH(Main3WData16[[#This Row],[Acronym]],AcronymList,0),3)","v":"Org Int."},"Protection","Regulier","Bamako",{"$f":"VLOOKUP(Main3WData16[[#This Row],[Admin Unit Name]],AdminUnits[],2,FALSE)","v":"ML09"},{"$f":"VLOOKUP(Main3WData16[[#This Row],[Admin Unit Name]],AdminUnits[],3,FALSE)","v":"Sud"},{"$f":"VLOOKUP(Main3WData16[[#This Row],[Admin Unit Name]],AdminUnits[],4,FALSE)","v":0},{"$f":"VLOOKUP(Main3WData16[[#This Row],[Sector]],Sectors[],2,FALSE)","v":5}]
[null,"OIM",{"$f":"INDEX(Organizations[],MATCH(Main3WData16[[#This Row],[Acronym]],AcronymList,0),1)","v":"Organisation Internationale pour les Migrations"},{"$f":"INDEX(Organizations[],MATCH(Main3WData16[[#This Row],[Acronym]],AcronymList,0),3)","v":"Org Int."},"Protection","Regulier","Gao",{"$f":"VLOOKUP(Main3WData16[[#This Row],[Admin Unit Name]],AdminUnits[],2,FALSE)","v":"ML07"},{"$f":"VLOOKUP(Main3WData16[[#This Row],[Admin Unit Name]],AdminUnits[],3,FALSE)","v":"Nord"},{"$f":"VLOOKUP(Main3WData16[[#This Row],[Admin Unit Name]],AdminUnits[],4,FALSE)","v":7},{"$f":"VLOOKUP(Main3WData16[[#This Row],[Sector]],Sectors[],2,FALSE)","v":5}]
[null,"OIM",{"$f":"INDEX(Organizations[],MATCH(Main3WData16[[#This Row],[Acronym]],AcronymList,0),1)","v":"Organisation Internationale pour les Migrations"},{"$f":"INDEX(Organizations[],MATCH(Main3WData16[[#This Row],[Acronym]],AcronymList,0),3)","v":"Org Int."},"Protection","Regulier","Koulikoro",{"$f":"VLOOKUP(Main3WData16[[#This Row],[Admin Unit Name]],AdminUnits[],2,FALSE)","v":"ML02"},{"$f":"VLOOKUP(Main3WData16[[#This Row],[Admin Unit Name]],AdminUnits[],3,FALSE)","v":"Sud"},{"$f":"VLOOKUP(Main3WData16[[#This Row],[Admin Unit Name]],AdminUnits[],4,FALSE)","v":2},{"$f":"VLOOKUP(Main3WData16[[#This Row],[Sector]],Sectors[],2,FALSE)","v":5}]
[null,"OIM",{"$f":"INDEX(Organizations[],MATCH(Main3WData16[[#This Row],[Acronym]],AcronymList,0),1)","v":"Organisation Internationale pour les Migrations"},{"$f":"INDEX(Organizations[],MATCH(Main3WData16[[#This Row],[Acronym]],AcronymList,0),3)","v":"Org Int."},"Protection","Regulier","Tombouctou",{"$f":"VLOOKUP(Main3WData16[[#This Row],[Admin Unit Name]],AdminUnits[],2,FALSE)","v":"ML06"},{"$f":"VLOOKUP(Main3WData16[[#This Row],[Admin Unit Name]],AdminUnits[],3,FALSE)","v":"Nord"},{"$f":"VLOOKUP(Main3WData16[[#This Row],[Admin Unit Name]],AdminUnits[],4,FALSE)","v":6},{"$f":"VLOOKUP(Main3WData16[[#This Row],[Sector]],Sectors[],2,FALSE)","v":5}]
[null,"OIM",{"$f":"INDEX(Organizations[],MATCH(Main3WData16[[#This Row],[Acronym]],AcronymList,0),1)","v":"Organisation Internationale pour les Migrations"},{"$f":"INDEX(Organizations[],MATCH(Main3WData16[[#This Row],[Acronym]],AcronymList,0),3)","v":"Org Int."},"Santé","Regulier","Bamako",{"$f":"VLOOKUP(Main3WData16[[#This Row],[Admin Unit Name]],AdminUnits[],2,FALSE)","v":"ML09"},{"$f":"VLOOKUP(Main3WData16[[#This Row],[Admin Unit Name]],AdminUnits[],3,FALSE)","v":"Sud"},{"$f":"VLOOKUP(Main3WData16[[#This Row],[Admin Unit Name]],AdminUnits[],4,FALSE)","v":0},{"$f":"VLOOKUP(Main3WData16[[#This Row],[Sector]],Sectors[],2,FALSE)","v":6}]
[null,"OIM",{"$f":"INDEX(Organizations[],MATCH(Main3WData16[[#This Row],[Acronym]],AcronymList,0),1)","v":"Organisation Internationale pour les Migrations"},{"$f":"INDEX(Organizations[],MATCH(Main3WData16[[#This Row],[Acronym]],AcronymList,0),3)","v":"Org Int."},"Santé","Regulier","Mopti",{"$f":"VLOOKUP(Main3WData16[[#This Row],[Admin Unit Name]],AdminUnits[],2,FALSE)","v":"ML05"},{"$f":"VLOOKUP(Main3WData16[[#This Row],[Admin Unit Name]],AdminUnits[],3,FALSE)","v":"Sud"},{"$f":"VLOOKUP(Main3WData16[[#This Row],[Admin Unit Name]],AdminUnits[],4,FALSE)","v":5},{"$f":"VLOOKUP(Main3WData16[[#This Row],[Sector]],Sectors[],2,FALSE)","v":6}]
[null,"OGES",{"$f":"INDEX(Organizations[],MATCH(Main3WData16[[#This Row],[Acronym]],AcronymList,0),1)","v":"OGES"},{"$f":"INDEX(Organizations[],MATCH(Main3WData16[[#This Row],[Acronym]],AcronymList,0),3)","v":"ONG Nat."},"Sécurité alimentaire","Regulier","Mopti",{"$f":"VLOOKUP(Main3WData16[[#This Row],[Admin Unit Name]],AdminUnits[],2,FALSE)","v":"ML05"},{"$f":"VLOOKUP(Main3WData16[[#This Row],[Admin Unit Name]],AdminUnits[],3,FALSE)","v":"Sud"},{"$f":"VLOOKUP(Main3WData16[[#This Row],[Admin Unit Name]],AdminUnits[],4,FALSE)","v":5},{"$f":"VLOOKUP(Main3WData16[[#This Row],[Sector]],Sectors[],2,FALSE)","v":7}]
[null,"OCHA",{"$f":"INDEX(Organizations[],MATCH(Main3WData16[[#This Row],[Acronym]],AcronymList,0),1)","v":"Bureau de coordination des affaires humanitaires"},{"$f":"INDEX(Organizations[],MATCH(Main3WData16[[#This Row],[Acronym]],AcronymList,0),3)","v":"UN"},"Coordination","Regulier","Bamako",{"$f":"VLOOKUP(Main3WData16[[#This Row],[Admin Unit Name]],AdminUnits[],2,FALSE)","v":"ML09"},{"$f":"VLOOKUP(Main3WData16[[#This Row],[Admin Unit Name]],AdminUnits[],3,FALSE)","v":"Sud"},{"$f":"VLOOKUP(Main3WData16[[#This Row],[Admin Unit Name]],AdminUnits[],4,FALSE)","v":0},{"$f":"VLOOKUP(Main3WData16[[#This Row],[Sector]],Sectors[],2,FALSE)","v":2}]
[null,"OCHA",{"$f":"INDEX(Organizations[],MATCH(Main3WData16[[#This Row],[Acronym]],AcronymList,0),1)","v":"Bureau de coordination des affaires humanitaires"},{"$f":"INDEX(Organizations[],MATCH(Main3WData16[[#This Row],[Acronym]],AcronymList,0),3)","v":"UN"},"Coordination","Regulier","Kayes",{"$f":"VLOOKUP(Main3WData16[[#This Row],[Admin Unit Name]],AdminUnits[],2,FALSE)","v":"ML01"},{"$f":"VLOOKUP(Main3WData16[[#This Row],[Admin Unit Name]],AdminUnits[],3,FALSE)","v":"Sud"},{"$f":"VLOOKUP(Main3WData16[[#This Row],[Admin Unit Name]],AdminUnits[],4,FALSE)","v":1},{"$f":"VLOOKUP(Main3WData16[[#This Row],[Sector]],Sectors[],2,FALSE)","v":2}]
[null,"OCHA",{"$f":"INDEX(Organizations[],MATCH(Main3WData16[[#This Row],[Acronym]],AcronymList,0),1)","v":"Bureau de coordination des affaires humanitaires"},{"$f":"INDEX(Organizations[],MATCH(Main3WData16[[#This Row],[Acronym]],AcronymList,0),3)","v":"UN"},"Coordination","Regulier","Mopti",{"$f":"VLOOKUP(Main3WData16[[#This Row],[Admin Unit Name]],AdminUnits[],2,FALSE)","v":"ML05"},{"$f":"VLOOKUP(Main3WData16[[#This Row],[Admin Unit Name]],AdminUnits[],3,FALSE)","v":"Sud"},{"$f":"VLOOKUP(Main3WData16[[#This Row],[Admin Unit Name]],AdminUnits[],4,FALSE)","v":5},{"$f":"VLOOKUP(Main3WData16[[#This Row],[Sector]],Sectors[],2,FALSE)","v":2}]
[null,"OCHA",{"$f":"INDEX(Organizations[],MATCH(Main3WData16[[#This Row],[Acronym]],AcronymList,0),1)","v":"Bureau de coordination des affaires humanitaires"},{"$f":"INDEX(Organizations[],MATCH(Main3WData16[[#This Row],[Acronym]],AcronymList,0),3)","v":"UN"},"Coordination","Regulier","Tombouctou",{"$f":"VLOOKUP(Main3WData16[[#This Row],[Admin Unit Name]],AdminUnits[],2,FALSE)","v":"ML06"},{"$f":"VLOOKUP(Main3WData16[[#This Row],[Admin Unit Name]],AdminUnits[],3,FALSE)","v":"Nord"},{"$f":"VLOOKUP(Main3WData16[[#This Row],[Admin Unit Name]],AdminUnits[],4,FALSE)","v":6},{"$f":"VLOOKUP(Main3WData16[[#This Row],[Sector]],Sectors[],2,FALSE)","v":2}]
[null,"OCHA",{"$f":"INDEX(Organizations[],MATCH(Main3WData16[[#This Row],[Acronym]],AcronymList,0),1)","v":"Bureau de coordination des affaires humanitaires"},{"$f":"INDEX(Organizations[],MATCH(Main3WData16[[#This Row],[Acronym]],AcronymList,0),3)","v":"UN"},"Coordination","Regulier","Gao",{"$f":"VLOOKUP(Main3WData16[[#This Row],[Admin Unit Name]],AdminUnits[],2,FALSE)","v":"ML07"},{"$f":"VLOOKUP(Main3WData16[[#This Row],[Admin Unit Name]],AdminUnits[],3,FALSE)","v":"Nord"},{"$f":"VLOOKUP(Main3WData16[[#This Row],[Admin Unit Name]],AdminUnits[],4,FALSE)","v":7},{"$f":"VLOOKUP(Main3WData16[[#This Row],[Sector]],Sectors[],2,FALSE)","v":2}]
[null,"NRC",{"$f":"INDEX(Organizations[],MATCH(Main3WData16[[#This Row],[Acronym]],AcronymList,0),1)","v":"Norwegian Refugee Council "},{"$f":"INDEX(Organizations[],MATCH(Main3WData16[[#This Row],[Acronym]],AcronymList,0),3)","v":"ONG Int."},"Abris et NFI","Regulier","SEGOU",{"$f":"VLOOKUP(Main3WData16[[#This Row],[Admin Unit Name]],AdminUnits[],2,FALSE)","v":"ML04"},{"$f":"VLOOKUP(Main3WData16[[#This Row],[Admin Unit Name]],AdminUnits[],3,FALSE)","v":"Sud"},{"$f":"VLOOKUP(Main3WData16[[#This Row],[Admin Unit Name]],AdminUnits[],4,FALSE)","v":4},{"$f":"VLOOKUP(Main3WData16[[#This Row],[Sector]],Sectors[],2,FALSE)","v":1}]
[null,"NRC",{"$f":"INDEX(Organizations[],MATCH(Main3WData16[[#This Row],[Acronym]],AcronymList,0),1)","v":"Norwegian Refugee Council "},{"$f":"INDEX(Organizations[],MATCH(Main3WData16[[#This Row],[Acronym]],AcronymList,0),3)","v":"ONG Int."},"Abris et NFI","Regulier","TOMBOUCTOU",{"$f":"VLOOKUP(Main3WData16[[#This Row],[Admin Unit Name]],AdminUnits[],2,FALSE)","v":"ML06"},{"$f":"VLOOKUP(Main3WData16[[#This Row],[Admin Unit Name]],AdminUnits[],3,FALSE)","v":"Nord"},{"$f":"VLOOKUP(Main3WData16[[#This Row],[Admin Unit Name]],AdminUnits[],4,FALSE)","v":6},{"$f":"VLOOKUP(Main3WData16[[#This Row],[Sector]],Sectors[],2,FALSE)","v":1}]
[null,"NRC",{"$f":"INDEX(Organizations[],MATCH(Main3WData16[[#This Row],[Acronym]],AcronymList,0),1)","v":"Norwegian Refugee Council "},{"$f":"INDEX(Organizations[],MATCH(Main3WData16[[#This Row],[Acronym]],AcronymList,0),3)","v":"ONG Int."},"Abris et NFI","Regulier","Bamako",{"$f":"VLOOKUP(Main3WData16[[#This Row],[Admin Unit Name]],AdminUnits[],2,FALSE)","v":"ML09"},{"$f":"VLOOKUP(Main3WData16[[#This Row],[Admin Unit Name]],AdminUnits[],3,FALSE)","v":"Sud"},{"$f":"VLOOKUP(Main3WData16[[#This Row],[Admin Unit Name]],AdminUnits[],4,FALSE)","v":0},{"$f":"VLOOKUP(Main3WData16[[#This Row],[Sector]],Sectors[],2,FALSE)","v":1}]
[null,"NRC",{"$f":"INDEX(Organizations[],MATCH(Main3WData16[[#This Row],[Acronym]],AcronymList,0),1)","v":"Norwegian Refugee Council "},{"$f":"INDEX(Organizations[],MATCH(Main3WData16[[#This Row],[Acronym]],AcronymList,0),3)","v":"ONG Int."},"Abris et NFI","Regulier","GAO",{"$f":"VLOOKUP(Main3WData16[[#This Row],[Admin Unit Name]],AdminUnits[],2,FALSE)","v":"ML07"},{"$f":"VLOOKUP(Main3WData16[[#This Row],[Admin Unit Name]],AdminUnits[],3,FALSE)","v":"Nord"},{"$f":"VLOOKUP(Main3WData16[[#This Row],[Admin Unit Name]],AdminUnits[],4,FALSE)","v":7},{"$f":"VLOOKUP(Main3WData16[[#This Row],[Sector]],Sectors[],2,FALSE)","v":1}]
[null,"NRC",{"$f":"INDEX(Organizations[],MATCH(Main3WData16[[#This Row],[Acronym]],AcronymList,0),1)","v":"Norwegian Refugee Council "},{"$f":"INDEX(Organizations[],MATCH(Main3WData16[[#This Row],[Acronym]],AcronymList,0),3)","v":"ONG Int."},"Abris et NFI","Regulier","MOPTI",{"$f":"VLOOKUP(Main3WData16[[#This Row],[Admin Unit Name]],AdminUnits[],2,FALSE)","v":"ML05"},{"$f":"VLOOKUP(Main3WData16[[#This Row],[Admin Unit Name]],AdminUnits[],3,FALSE)","v":"Sud"},{"$f":"VLOOKUP(Main3WData16[[#This Row],[Admin Unit Name]],AdminUnits[],4,FALSE)","v":5},{"$f":"VLOOKUP(Main3WData16[[#This Row],[Sector]],Sectors[],2,FALSE)","v":1}]
[null,"NRC",{"$f":"INDEX(Organizations[],MATCH(Main3WData16[[#This Row],[Acronym]],AcronymList,0),1)","v":"Norwegian Refugee Council "},{"$f":"INDEX(Organizations[],MATCH(Main3WData16[[#This Row],[Acronym]],AcronymList,0),3)","v":"ONG Int."},"Education","Regulier","Segou",{"$f":"VLOOKUP(Main3WData16[[#This Row],[Admin Unit Name]],AdminUnits[],2,FALSE)","v":"ML04"},{"$f":"VLOOKUP(Main3WData16[[#This Row],[Admin Unit Name]],AdminUnits[],3,FALSE)","v":"Sud"},{"$f":"VLOOKUP(Main3WData16[[#This Row],[Admin Unit Name]],AdminUnits[],4,FALSE)","v":4},{"$f":"VLOOKUP(Main3WData16[[#This Row],[Sector]],Sectors[],2,FALSE)","v":3}]
[null,"NRC",{"$f":"INDEX(Organizations[],MATCH(Main3WData16[[#This Row],[Acronym]],AcronymList,0),1)","v":"Norwegian Refugee Council "},{"$f":"INDEX(Organizations[],MATCH(Main3WData16[[#This Row],[Acronym]],AcronymList,0),3)","v":"ONG Int."},"Education","Regulier","Mopti",{"$f":"VLOOKUP(Main3WData16[[#This Row],[Admin Unit Name]],AdminUnits[],2,FALSE)","v":"ML05"},{"$f":"VLOOKUP(Main3WData16[[#This Row],[Admin Unit Name]],AdminUnits[],3,FALSE)","v":"Sud"},{"$f":"VLOOKUP(Main3WData16[[#This Row],[Admin Unit Name]],AdminUnits[],4,FALSE)","v":5},{"$f":"VLOOKUP(Main3WData16[[#This Row],[Sector]],Sectors[],2,FALSE)","v":3}]
[null,"NRC",{"$f":"INDEX(Organizations[],MATCH(Main3WData16[[#This Row],[Acronym]],AcronymList,0),1)","v":"Norwegian Refugee Council "},{"$f":"INDEX(Organizations[],MATCH(Main3WData16[[#This Row],[Acronym]],AcronymList,0),3)","v":"ONG Int."},"Education","Regulier","Bamako",{"$f":"VLOOKUP(Main3WData16[[#This Row],[Admin Unit Name]],AdminUnits[],2,FALSE)","v":"ML09"},{"$f":"VLOOKUP(Main3WData16[[#This Row],[Admin Unit Name]],AdminUnits[],3,FALSE)","v":"Sud"},{"$f":"VLOOKUP(Main3WData16[[#This Row],[Admin Unit Name]],AdminUnits[],4,FALSE)","v":0},{"$f":"VLOOKUP(Main3WData16[[#This Row],[Sector]],Sectors[],2,FALSE)","v":3}]
[null,"NRC",{"$f":"INDEX(Organizations[],MATCH(Main3WData16[[#This Row],[Acronym]],AcronymList,0),1)","v":"Norwegian Refugee Council "},{"$f":"INDEX(Organizations[],MATCH(Main3WData16[[#This Row],[Acronym]],AcronymList,0),3)","v":"ONG Int."},"Protection","Regulier","Bamako",{"$f":"VLOOKUP(Main3WData16[[#This Row],[Admin Unit Name]],AdminUnits[],2,FALSE)","v":"ML09"},{"$f":"VLOOKUP(Main3WData16[[#This Row],[Admin Unit Name]],AdminUnits[],3,FALSE)","v":"Sud"},{"$f":"VLOOKUP(Main3WData16[[#This Row],[Admin Unit Name]],AdminUnits[],4,FALSE)","v":0},{"$f":"VLOOKUP(Main3WData16[[#This Row],[Sector]],Sectors[],2,FALSE)","v":5}]
[null,"NRC",{"$f":"INDEX(Organizations[],MATCH(Main3WData16[[#This Row],[Acronym]],AcronymList,0),1)","v":"Norwegian Refugee Council "},{"$f":"INDEX(Organizations[],MATCH(Main3WData16[[#This Row],[Acronym]],AcronymList,0),3)","v":"ONG Int."},"Protection","Regulier","Mopti",{"$f":"VLOOKUP(Main3WData16[[#This Row],[Admin Unit Name]],AdminUnits[],2,FALSE)","v":"ML05"},{"$f":"VLOOKUP(Main3WData16[[#This Row],[Admin Unit Name]],AdminUnits[],3,FALSE)","v":"Sud"},{"$f":"VLOOKUP(Main3WData16[[#This Row],[Admin Unit Name]],AdminUnits[],4,FALSE)","v":5},{"$f":"VLOOKUP(Main3WData16[[#This Row],[Sector]],Sectors[],2,FALSE)","v":5}]
[null,"NRC",{"$f":"INDEX(Organizations[],MATCH(Main3WData16[[#This Row],[Acronym]],AcronymList,0),1)","v":"Norwegian Refugee Council "},{"$f":"INDEX(Organizations[],MATCH(Main3WData16[[#This Row],[Acronym]],AcronymList,0),3)","v":"ONG Int."},"Protection","Regulier","Segou",{"$f":"VLOOKUP(Main3WData16[[#This Row],[Admin Unit Name]],AdminUnits[],2,FALSE)","v":"ML04"},{"$f":"VLOOKUP(Main3WData16[[#This Row],[Admin Unit Name]],AdminUnits[],3,FALSE)","v":"Sud"},{"$f":"VLOOKUP(Main3WData16[[#This Row],[Admin Unit Name]],AdminUnits[],4,FALSE)","v":4},{"$f":"VLOOKUP(Main3WData16[[#This Row],[Sector]],Sectors[],2,FALSE)","v":5}]
[null,"NCA",{"$f":"INDEX(Organizations[],MATCH(Main3WData16[[#This Row],[Acronym]],AcronymList,0),1)","v":"Norwegian Church Aid"},{"$f":"INDEX(Organizations[],MATCH(Main3WData16[[#This Row],[Acronym]],AcronymList,0),3)","v":"ONG Int."},"Protection","Regulier","Tombouctou",{"$f":"VLOOKUP(Main3WData16[[#This Row],[Admin Unit Name]],AdminUnits[],2,FALSE)","v":"ML06"},{"$f":"VLOOKUP(Main3WData16[[#This Row],[Admin Unit Name]],AdminUnits[],3,FALSE)","v":"Nord"},{"$f":"VLOOKUP(Main3WData16[[#This Row],[Admin Unit Name]],AdminUnits[],4,FALSE)","v":6},{"$f":"VLOOKUP(Main3WData16[[#This Row],[Sector]],Sectors[],2,FALSE)","v":5}]
[null,"NCA",{"$f":"INDEX(Organizations[],MATCH(Main3WData16[[#This Row],[Acronym]],AcronymList,0),1)","v":"Norwegian Church Aid"},{"$f":"INDEX(Organizations[],MATCH(Main3WData16[[#This Row],[Acronym]],AcronymList,0),3)","v":"ONG Int."},"Sécurité alimentaire","Regulier","Kidal",{"$f":"VLOOKUP(Main3WData16[[#This Row],[Admin Unit Name]],AdminUnits[],2,FALSE)","v":"ML08"},{"$f":"VLOOKUP(Main3WData16[[#This Row],[Admin Unit Name]],AdminUnits[],3,FALSE)","v":"Nord"},{"$f":"VLOOKUP(Main3WData16[[#This Row],[Admin Unit Name]],AdminUnits[],4,FALSE)","v":8},{"$f":"VLOOKUP(Main3WData16[[#This Row],[Sector]],Sectors[],2,FALSE)","v":7}]
[null,"MSI",{"$f":"INDEX(Organizations[],MATCH(Main3WData16[[#This Row],[Acronym]],AcronymList,0),1)","v":"Marie Stopes International"},{"$f":"INDEX(Organizations[],MATCH(Main3WData16[[#This Row],[Acronym]],AcronymList,0),3)","v":"ONG Int."},"Santé","Regulier","Segou",{"$f":"VLOOKUP(Main3WData16[[#This Row],[Admin Unit Name]],AdminUnits[],2,FALSE)","v":"ML04"},{"$f":"VLOOKUP(Main3WData16[[#This Row],[Admin Unit Name]],AdminUnits[],3,FALSE)","v":"Sud"},{"$f":"VLOOKUP(Main3WData16[[#This Row],[Admin Unit Name]],AdminUnits[],4,FALSE)","v":4},{"$f":"VLOOKUP(Main3WData16[[#This Row],[Sector]],Sectors[],2,FALSE)","v":6}]
[null,"MSF",{"$f":"INDEX(Organizations[],MATCH(Main3WData16[[#This Row],[Acronym]],AcronymList,0),1)","v":"Médecins Sans Frontières"},{"$f":"INDEX(Organizations[],MATCH(Main3WData16[[#This Row],[Acronym]],AcronymList,0),3)","v":"ONG Int."},"Nutrition","Regulier","Mopti",{"$f":"VLOOKUP(Main3WData16[[#This Row],[Admin Unit Name]],AdminUnits[],2,FALSE)","v":"ML05"},{"$f":"VLOOKUP(Main3WData16[[#This Row],[Admin Unit Name]],AdminUnits[],3,FALSE)","v":"Sud"},{"$f":"VLOOKUP(Main3WData16[[#This Row],[Admin Unit Name]],AdminUnits[],4,FALSE)","v":5},{"$f":"VLOOKUP(Main3WData16[[#This Row],[Sector]],Sectors[],2,FALSE)","v":4}]
[null,"MSF",{"$f":"INDEX(Organizations[],MATCH(Main3WData16[[#This Row],[Acronym]],AcronymList,0),1)","v":"Médecins Sans Frontières"},{"$f":"INDEX(Organizations[],MATCH(Main3WData16[[#This Row],[Acronym]],AcronymList,0),3)","v":"ONG Int."},"Nutrition","Regulier","Sikasso",{"$f":"VLOOKUP(Main3WData16[[#This Row],[Admin Unit Name]],AdminUnits[],2,FALSE)","v":"ML03"},{"$f":"VLOOKUP(Main3WData16[[#This Row],[Admin Unit Name]],AdminUnits[],3,FALSE)","v":"Sud"},{"$f":"VLOOKUP(Main3WData16[[#This Row],[Admin Unit Name]],AdminUnits[],4,FALSE)","v":3},{"$f":"VLOOKUP(Main3WData16[[#This Row],[Sector]],Sectors[],2,FALSE)","v":4}]
[null,"MSF",{"$f":"INDEX(Organizations[],MATCH(Main3WData16[[#This Row],[Acronym]],AcronymList,0),1)","v":"Médecins Sans Frontières"},{"$f":"INDEX(Organizations[],MATCH(Main3WData16[[#This Row],[Acronym]],AcronymList,0),3)","v":"ONG Int."},"Nutrition","Regulier","Tombouctou",{"$f":"VLOOKUP(Main3WData16[[#This Row],[Admin Unit Name]],AdminUnits[],2,FALSE)","v":"ML06"},{"$f":"VLOOKUP(Main3WData16[[#This Row],[Admin Unit Name]],AdminUnits[],3,FALSE)","v":"Nord"},{"$f":"VLOOKUP(Main3WData16[[#This Row],[Admin Unit Name]],AdminUnits[],4,FALSE)","v":6},{"$f":"VLOOKUP(Main3WData16[[#This Row],[Sector]],Sectors[],2,FALSE)","v":4}]
[null,"MSF",{"$f":"INDEX(Organizations[],MATCH(Main3WData16[[#This Row],[Acronym]],AcronymList,0),1)","v":"Médecins Sans Frontières"},{"$f":"INDEX(Organizations[],MATCH(Main3WData16[[#This Row],[Acronym]],AcronymList,0),3)","v":"ONG Int."},"Santé","Regulier","Gao",{"$f":"VLOOKUP(Main3WData16[[#This Row],[Admin Unit Name]],AdminUnits[],2,FALSE)","v":"ML07"},{"$f":"VLOOKUP(Main3WData16[[#This Row],[Admin Unit Name]],AdminUnits[],3,FALSE)","v":"Nord"},{"$f":"VLOOKUP(Main3WData16[[#This Row],[Admin Unit Name]],AdminUnits[],4,FALSE)","v":7},{"$f":"VLOOKUP(Main3WData16[[#This Row],[Sector]],Sectors[],2,FALSE)","v":6}]
[null,"MSF",{"$f":"INDEX(Organizations[],MATCH(Main3WData16[[#This Row],[Acronym]],AcronymList,0),1)","v":"Médecins Sans Frontières"},{"$f":"INDEX(Organizations[],MATCH(Main3WData16[[#This Row],[Acronym]],AcronymList,0),3)","v":"ONG Int."},"Santé","Regulier","Mopti",{"$f":"VLOOKUP(Main3WData16[[#This Row],[Admin Unit Name]],AdminUnits[],2,FALSE)","v":"ML05"},{"$f":"VLOOKUP(Main3WData16[[#This Row],[Admin Unit Name]],AdminUnits[],3,FALSE)","v":"Sud"},{"$f":"VLOOKUP(Main3WData16[[#This Row],[Admin Unit Name]],AdminUnits[],4,FALSE)","v":5},{"$f":"VLOOKUP(Main3WData16[[#This Row],[Sector]],Sectors[],2,FALSE)","v":6}]
[null,"MSF",{"$f":"INDEX(Organizations[],MATCH(Main3WData16[[#This Row],[Acronym]],AcronymList,0),1)","v":"Médecins Sans Frontières"},{"$f":"INDEX(Organizations[],MATCH(Main3WData16[[#This Row],[Acronym]],AcronymList,0),3)","v":"ONG Int."},"Santé","Regulier","Tombouctou",{"$f":"VLOOKUP(Main3WData16[[#This Row],[Admin Unit Name]],AdminUnits[],2,FALSE)","v":"ML06"},{"$f":"VLOOKUP(Main3WData16[[#This Row],[Admin Unit Name]],AdminUnits[],3,FALSE)","v":"Nord"},{"$f":"VLOOKUP(Main3WData16[[#This Row],[Admin Unit Name]],AdminUnits[],4,FALSE)","v":6},{"$f":"VLOOKUP(Main3WData16[[#This Row],[Sector]],Sectors[],2,FALSE)","v":6}]
[null,"MPDL",{"$f":"INDEX(Organizations[],MATCH(Main3WData16[[#This Row],[Acronym]],AcronymList,0),1)","v":"Mouvement pour la Paix "},{"$f":"INDEX(Organizations[],MATCH(Main3WData16[[#This Row],[Acronym]],AcronymList,0),3)","v":"ONG Int."},"Nutrition","Regulier","Kayes",{"$f":"VLOOKUP(Main3WData16[[#This Row],[Admin Unit Name]],AdminUnits[],2,FALSE)","v":"ML01"},{"$f":"VLOOKUP(Main3WData16[[#This Row],[Admin Unit Name]],AdminUnits[],3,FALSE)","v":"Sud"},{"$f":"VLOOKUP(Main3WData16[[#This Row],[Admin Unit Name]],AdminUnits[],4,FALSE)","v":1},{"$f":"VLOOKUP(Main3WData16[[#This Row],[Sector]],Sectors[],2,FALSE)","v":4}]
[null,"MPDL",{"$f":"INDEX(Organizations[],MATCH(Main3WData16[[#This Row],[Acronym]],AcronymList,0),1)","v":"Mouvement pour la Paix "},{"$f":"INDEX(Organizations[],MATCH(Main3WData16[[#This Row],[Acronym]],AcronymList,0),3)","v":"ONG Int."},"Sécurité alimentaire","Regulier","Kayes",{"$f":"VLOOKUP(Main3WData16[[#This Row],[Admin Unit Name]],AdminUnits[],2,FALSE)","v":"ML01"},{"$f":"VLOOKUP(Main3WData16[[#This Row],[Admin Unit Name]],AdminUnits[],3,FALSE)","v":"Sud"},{"$f":"VLOOKUP(Main3WData16[[#This Row],[Admin Unit Name]],AdminUnits[],4,FALSE)","v":1},{"$f":"VLOOKUP(Main3WData16[[#This Row],[Sector]],Sectors[],2,FALSE)","v":7}]
[null,"Mines Advisory Group",{"$f":"INDEX(Organizations[],MATCH(Main3WData16[[#This Row],[Acronym]],AcronymList,0),1)","v":"Mines Advisory Group"},{"$f":"INDEX(Organizations[],MATCH(Main3WData16[[#This Row],[Acronym]],AcronymList,0),3)","v":"ONG Int."},"Protection","Regulier","Segou",{"$f":"VLOOKUP(Main3WData16[[#This Row],[Admin Unit Name]],AdminUnits[],2,FALSE)","v":"ML04"},{"$f":"VLOOKUP(Main3WData16[[#This Row],[Admin Unit Name]],AdminUnits[],3,FALSE)","v":"Sud"},{"$f":"VLOOKUP(Main3WData16[[#This Row],[Admin Unit Name]],AdminUnits[],4,FALSE)","v":4},{"$f":"VLOOKUP(Main3WData16[[#This Row],[Sector]],Sectors[],2,FALSE)","v":5}]
[null,"MERLIN",{"$f":"INDEX(Organizations[],MATCH(Main3WData16[[#This Row],[Acronym]],AcronymList,0),1)","v":"MERLIN"},{"$f":"INDEX(Organizations[],MATCH(Main3WData16[[#This Row],[Acronym]],AcronymList,0),3)","v":"ONG Int."},"Nutrition","Regulier","Tombouctou",{"$f":"VLOOKUP(Main3WData16[[#This Row],[Admin Unit Name]],AdminUnits[],2,FALSE)","v":"ML06"},{"$f":"VLOOKUP(Main3WData16[[#This Row],[Admin Unit Name]],AdminUnits[],3,FALSE)","v":"Nord"},{"$f":"VLOOKUP(Main3WData16[[#This Row],[Admin Unit Name]],AdminUnits[],4,FALSE)","v":6},{"$f":"VLOOKUP(Main3WData16[[#This Row],[Sector]],Sectors[],2,FALSE)","v":4}]
[null,"MERLIN",{"$f":"INDEX(Organizations[],MATCH(Main3WData16[[#This Row],[Acronym]],AcronymList,0),1)","v":"MERLIN"},{"$f":"INDEX(Organizations[],MATCH(Main3WData16[[#This Row],[Acronym]],AcronymList,0),3)","v":"ONG Int."},"Santé","Regulier","Tombouctou",{"$f":"VLOOKUP(Main3WData16[[#This Row],[Admin Unit Name]],AdminUnits[],2,FALSE)","v":"ML06"},{"$f":"VLOOKUP(Main3WData16[[#This Row],[Admin Unit Name]],AdminUnits[],3,FALSE)","v":"Nord"},{"$f":"VLOOKUP(Main3WData16[[#This Row],[Admin Unit Name]],AdminUnits[],4,FALSE)","v":6},{"$f":"VLOOKUP(Main3WData16[[#This Row],[Sector]],Sectors[],2,FALSE)","v":6}]
[null,"MERLIN",{"$f":"INDEX(Organizations[],MATCH(Main3WData16[[#This Row],[Acronym]],AcronymList,0),1)","v":"MERLIN"},{"$f":"INDEX(Organizations[],MATCH(Main3WData16[[#This Row],[Acronym]],AcronymList,0),3)","v":"ONG Int."},"Sécurité alimentaire","Regulier","Tombouctou",{"$f":"VLOOKUP(Main3WData16[[#This Row],[Admin Unit Name]],AdminUnits[],2,FALSE)","v":"ML06"},{"$f":"VLOOKUP(Main3WData16[[#This Row],[Admin Unit Name]],AdminUnits[],3,FALSE)","v":"Nord"},{"$f":"VLOOKUP(Main3WData16[[#This Row],[Admin Unit Name]],AdminUnits[],4,FALSE)","v":6},{"$f":"VLOOKUP(Main3WData16[[#This Row],[Sector]],Sectors[],2,FALSE)","v":7}]
[null,"MERCY CORPS",{"$f":"INDEX(Organizations[],MATCH(Main3WData16[[#This Row],[Acronym]],AcronymList,0),1)","v":"Mercy Corps"},{"$f":"INDEX(Organizations[],MATCH(Main3WData16[[#This Row],[Acronym]],AcronymList,0),3)","v":"ONG Int."},"Sécurité alimentaire","Regulier","Gao",{"$f":"VLOOKUP(Main3WData16[[#This Row],[Admin Unit Name]],AdminUnits[],2,FALSE)","v":"ML07"},{"$f":"VLOOKUP(Main3WData16[[#This Row],[Admin Unit Name]],AdminUnits[],3,FALSE)","v":"Nord"},{"$f":"VLOOKUP(Main3WData16[[#This Row],[Admin Unit Name]],AdminUnits[],4,FALSE)","v":7},{"$f":"VLOOKUP(Main3WData16[[#This Row],[Sector]],Sectors[],2,FALSE)","v":7}]
[null,"MEDICUS MUNDI",{"$f":"INDEX(Organizations[],MATCH(Main3WData16[[#This Row],[Acronym]],AcronymList,0),1)","v":"MEDICUS MUNDI"},{"$f":"INDEX(Organizations[],MATCH(Main3WData16[[#This Row],[Acronym]],AcronymList,0),3)","v":"ONG Int."},"Nutrition","Regulier","Kayes",{"$f":"VLOOKUP(Main3WData16[[#This Row],[Admin Unit Name]],AdminUnits[],2,FALSE)","v":"ML01"},{"$f":"VLOOKUP(Main3WData16[[#This Row],[Admin Unit Name]],AdminUnits[],3,FALSE)","v":"Sud"},{"$f":"VLOOKUP(Main3WData16[[#This Row],[Admin Unit Name]],AdminUnits[],4,FALSE)","v":1},{"$f":"VLOOKUP(Main3WData16[[#This Row],[Sector]],Sectors[],2,FALSE)","v":4}]
[null,"MDM France",{"$f":"INDEX(Organizations[],MATCH(Main3WData16[[#This Row],[Acronym]],AcronymList,0),1)","v":"Médecins Du Monde France"},{"$f":"INDEX(Organizations[],MATCH(Main3WData16[[#This Row],[Acronym]],AcronymList,0),3)","v":"ONG Int."},"Nutrition","Regulier","Mopti",{"$f":"VLOOKUP(Main3WData16[[#This Row],[Admin Unit Name]],AdminUnits[],2,FALSE)","v":"ML05"},{"$f":"VLOOKUP(Main3WData16[[#This Row],[Admin Unit Name]],AdminUnits[],3,FALSE)","v":"Sud"},{"$f":"VLOOKUP(Main3WData16[[#This Row],[Admin Unit Name]],AdminUnits[],4,FALSE)","v":5},{"$f":"VLOOKUP(Main3WData16[[#This Row],[Sector]],Sectors[],2,FALSE)","v":4}]
[null,"MDM France",{"$f":"INDEX(Organizations[],MATCH(Main3WData16[[#This Row],[Acronym]],AcronymList,0),1)","v":"Médecins Du Monde France"},{"$f":"INDEX(Organizations[],MATCH(Main3WData16[[#This Row],[Acronym]],AcronymList,0),3)","v":"ONG Int."},"Santé","Regulier","Bamako",{"$f":"VLOOKUP(Main3WData16[[#This Row],[Admin Unit Name]],AdminUnits[],2,FALSE)","v":"ML09"},{"$f":"VLOOKUP(Main3WData16[[#This Row],[Admin Unit Name]],AdminUnits[],3,FALSE)","v":"Sud"},{"$f":"VLOOKUP(Main3WData16[[#This Row],[Admin Unit Name]],AdminUnits[],4,FALSE)","v":0},{"$f":"VLOOKUP(Main3WData16[[#This Row],[Sector]],Sectors[],2,FALSE)","v":6}]
[null,"MDM France",{"$f":"INDEX(Organizations[],MATCH(Main3WData16[[#This Row],[Acronym]],AcronymList,0),1)","v":"Médecins Du Monde France"},{"$f":"INDEX(Organizations[],MATCH(Main3WData16[[#This Row],[Acronym]],AcronymList,0),3)","v":"ONG Int."},"Santé","Regulier","Mopti",{"$f":"VLOOKUP(Main3WData16[[#This Row],[Admin Unit Name]],AdminUnits[],2,FALSE)","v":"ML05"},{"$f":"VLOOKUP(Main3WData16[[#This Row],[Admin Unit Name]],AdminUnits[],3,FALSE)","v":"Sud"},{"$f":"VLOOKUP(Main3WData16[[#This Row],[Admin Unit Name]],AdminUnits[],4,FALSE)","v":5},{"$f":"VLOOKUP(Main3WData16[[#This Row],[Sector]],Sectors[],2,FALSE)","v":6}]
[null,"MDM Belgique",{"$f":"INDEX(Organizations[],MATCH(Main3WData16[[#This Row],[Acronym]],AcronymList,0),1)","v":"Médecins Du Monde Belgique"},{"$f":"INDEX(Organizations[],MATCH(Main3WData16[[#This Row],[Acronym]],AcronymList,0),3)","v":"ONG Int."},"Nutrition","Regulier","Gao",{"$f":"VLOOKUP(Main3WData16[[#This Row],[Admin Unit Name]],AdminUnits[],2,FALSE)","v":"ML07"},{"$f":"VLOOKUP(Main3WData16[[#This Row],[Admin Unit Name]],AdminUnits[],3,FALSE)","v":"Nord"},{"$f":"VLOOKUP(Main3WData16[[#This Row],[Admin Unit Name]],AdminUnits[],4,FALSE)","v":7},{"$f":"VLOOKUP(Main3WData16[[#This Row],[Sector]],Sectors[],2,FALSE)","v":4}]
[null,"MDM Belgique",{"$f":"INDEX(Organizations[],MATCH(Main3WData16[[#This Row],[Acronym]],AcronymList,0),1)","v":"Médecins Du Monde Belgique"},{"$f":"INDEX(Organizations[],MATCH(Main3WData16[[#This Row],[Acronym]],AcronymList,0),3)","v":"ONG Int."},"Nutrition","Regulier","Kidal",{"$f":"VLOOKUP(Main3WData16[[#This Row],[Admin Unit Name]],AdminUnits[],2,FALSE)","v":"ML08"},{"$f":"VLOOKUP(Main3WData16[[#This Row],[Admin Unit Name]],AdminUnits[],3,FALSE)","v":"Nord"},{"$f":"VLOOKUP(Main3WData16[[#This Row],[Admin Unit Name]],AdminUnits[],4,FALSE)","v":8},{"$f":"VLOOKUP(Main3WData16[[#This Row],[Sector]],Sectors[],2,FALSE)","v":4}]
[null,"MDM Belgique",{"$f":"INDEX(Organizations[],MATCH(Main3WData16[[#This Row],[Acronym]],AcronymList,0),1)","v":"Médecins Du Monde Belgique"},{"$f":"INDEX(Organizations[],MATCH(Main3WData16[[#This Row],[Acronym]],AcronymList,0),3)","v":"ONG Int."},"Santé","Regulier","Gao",{"$f":"VLOOKUP(Main3WData16[[#This Row],[Admin Unit Name]],AdminUnits[],2,FALSE)","v":"ML07"},{"$f":"VLOOKUP(Main3WData16[[#This Row],[Admin Unit Name]],AdminUnits[],3,FALSE)","v":"Nord"},{"$f":"VLOOKUP(Main3WData16[[#This Row],[Admin Unit Name]],AdminUnits[],4,FALSE)","v":7},{"$f":"VLOOKUP(Main3WData16[[#This Row],[Sector]],Sectors[],2,FALSE)","v":6}]
[null,"MDM Belgique",{"$f":"INDEX(Organizations[],MATCH(Main3WData16[[#This Row],[Acronym]],AcronymList,0),1)","v":"Médecins Du Monde Belgique"},{"$f":"INDEX(Organizations[],MATCH(Main3WData16[[#This Row],[Acronym]],AcronymList,0),3)","v":"ONG Int."},"Santé","Regulier","Kidal",{"$f":"VLOOKUP(Main3WData16[[#This Row],[Admin Unit Name]],AdminUnits[],2,FALSE)","v":"ML08"},{"$f":"VLOOKUP(Main3WData16[[#This Row],[Admin Unit Name]],AdminUnits[],3,FALSE)","v":"Nord"},{"$f":"VLOOKUP(Main3WData16[[#This Row],[Admin Unit Name]],AdminUnits[],4,FALSE)","v":8},{"$f":"VLOOKUP(Main3WData16[[#This Row],[Sector]],Sectors[],2,FALSE)","v":6}]
[null,"MDM Belgique",{"$f":"INDEX(Organizations[],MATCH(Main3WData16[[#This Row],[Acronym]],AcronymList,0),1)","v":"Médecins Du Monde Belgique"},{"$f":"INDEX(Organizations[],MATCH(Main3WData16[[#This Row],[Acronym]],AcronymList,0),3)","v":"ONG Int."},"Sécurité alimentaire","Regulier","Kidal",{"$f":"VLOOKUP(Main3WData16[[#This Row],[Admin Unit Name]],AdminUnits[],2,FALSE)","v":"ML08"},{"$f":"VLOOKUP(Main3WData16[[#This Row],[Admin Unit Name]],AdminUnits[],3,FALSE)","v":"Nord"},{"$f":"VLOOKUP(Main3WData16[[#This Row],[Admin Unit Name]],AdminUnits[],4,FALSE)","v":8},{"$f":"VLOOKUP(Main3WData16[[#This Row],[Sector]],Sectors[],2,FALSE)","v":7}]
[null,"Lux Dev.",{"$f":"INDEX(Organizations[],MATCH(Main3WData16[[#This Row],[Acronym]],AcronymList,0),1)","v":"Lux Developpement"},{"$f":"INDEX(Organizations[],MATCH(Main3WData16[[#This Row],[Acronym]],AcronymList,0),3)","v":"ONG Int."},"Education","Regulier","Tombouctou",{"$f":"VLOOKUP(Main3WData16[[#This Row],[Admin Unit Name]],AdminUnits[],2,FALSE)","v":"ML06"},{"$f":"VLOOKUP(Main3WData16[[#This Row],[Admin Unit Name]],AdminUnits[],3,FALSE)","v":"Nord"},{"$f":"VLOOKUP(Main3WData16[[#This Row],[Admin Unit Name]],AdminUnits[],4,FALSE)","v":6},{"$f":"VLOOKUP(Main3WData16[[#This Row],[Sector]],Sectors[],2,FALSE)","v":3}]
[null,"Lux Dev.",{"$f":"INDEX(Organizations[],MATCH(Main3WData16[[#This Row],[Acronym]],AcronymList,0),1)","v":"Lux Developpement"},{"$f":"INDEX(Organizations[],MATCH(Main3WData16[[#This Row],[Acronym]],AcronymList,0),3)","v":"ONG Int."},"Education","Regulier","Gao",{"$f":"VLOOKUP(Main3WData16[[#This Row],[Admin Unit Name]],AdminUnits[],2,FALSE)","v":"ML07"},{"$f":"VLOOKUP(Main3WData16[[#This Row],[Admin Unit Name]],AdminUnits[],3,FALSE)","v":"Nord"},{"$f":"VLOOKUP(Main3WData16[[#This Row],[Admin Unit Name]],AdminUnits[],4,FALSE)","v":7},{"$f":"VLOOKUP(Main3WData16[[#This Row],[Sector]],Sectors[],2,FALSE)","v":3}]
[null,"Lux Dev.",{"$f":"INDEX(Organizations[],MATCH(Main3WData16[[#This Row],[Acronym]],AcronymList,0),1)","v":"Lux Developpement"},{"$f":"INDEX(Organizations[],MATCH(Main3WData16[[#This Row],[Acronym]],AcronymList,0),3)","v":"ONG Int."},"Education","Regulier","Kidal",{"$f":"VLOOKUP(Main3WData16[[#This Row],[Admin Unit Name]],AdminUnits[],2,FALSE)","v":"ML08"},{"$f":"VLOOKUP(Main3WData16[[#This Row],[Admin Unit Name]],AdminUnits[],3,FALSE)","v":"Nord"},{"$f":"VLOOKUP(Main3WData16[[#This Row],[Admin Unit Name]],AdminUnits[],4,FALSE)","v":8},{"$f":"VLOOKUP(Main3WData16[[#This Row],[Sector]],Sectors[],2,FALSE)","v":3}]
[null,"Lux Dev.",{"$f":"INDEX(Organizations[],MATCH(Main3WData16[[#This Row],[Acronym]],AcronymList,0),1)","v":"Lux Developpement"},{"$f":"INDEX(Organizations[],MATCH(Main3WData16[[#This Row],[Acronym]],AcronymList,0),3)","v":"ONG Int."},"Education","Regulier","Mopti",{"$f":"VLOOKUP(Main3WData16[[#This Row],[Admin Unit Name]],AdminUnits[],2,FALSE)","v":"ML05"},{"$f":"VLOOKUP(Main3WData16[[#This Row],[Admin Unit Name]],AdminUnits[],3,FALSE)","v":"Sud"},{"$f":"VLOOKUP(Main3WData16[[#This Row],[Admin Unit Name]],AdminUnits[],4,FALSE)","v":5},{"$f":"VLOOKUP(Main3WData16[[#This Row],[Sector]],Sectors[],2,FALSE)","v":3}]
[null,"Lux Dev.",{"$f":"INDEX(Organizations[],MATCH(Main3WData16[[#This Row],[Acronym]],AcronymList,0),1)","v":"Lux Developpement"},{"$f":"INDEX(Organizations[],MATCH(Main3WData16[[#This Row],[Acronym]],AcronymList,0),3)","v":"ONG Int."},"Santé","Regulier","Segou",{"$f":"VLOOKUP(Main3WData16[[#This Row],[Admin Unit Name]],AdminUnits[],2,FALSE)","v":"ML04"},{"$f":"VLOOKUP(Main3WData16[[#This Row],[Admin Unit Name]],AdminUnits[],3,FALSE)","v":"Sud"},{"$f":"VLOOKUP(Main3WData16[[#This Row],[Admin Unit Name]],AdminUnits[],4,FALSE)","v":4},{"$f":"VLOOKUP(Main3WData16[[#This Row],[Sector]],Sectors[],2,FALSE)","v":6}]
[null,"Lux Dev.",{"$f":"INDEX(Organizations[],MATCH(Main3WData16[[#This Row],[Acronym]],AcronymList,0),1)","v":"Lux Developpement"},{"$f":"INDEX(Organizations[],MATCH(Main3WData16[[#This Row],[Acronym]],AcronymList,0),3)","v":"ONG Int."},"Santé","Regulier","Tombouctou",{"$f":"VLOOKUP(Main3WData16[[#This Row],[Admin Unit Name]],AdminUnits[],2,FALSE)","v":"ML06"},{"$f":"VLOOKUP(Main3WData16[[#This Row],[Admin Unit Name]],AdminUnits[],3,FALSE)","v":"Nord"},{"$f":"VLOOKUP(Main3WData16[[#This Row],[Admin Unit Name]],AdminUnits[],4,FALSE)","v":6},{"$f":"VLOOKUP(Main3WData16[[#This Row],[Sector]],Sectors[],2,FALSE)","v":6}]
[null,"Le tonus",{"$f":"INDEX(Organizations[],MATCH(Main3WData16[[#This Row],[Acronym]],AcronymList,0),1)","v":{"$error":"#N/A"}},{"$f":"INDEX(Organizations[],MATCH(Main3WData16[[#This Row],[Acronym]],AcronymList,0),3)","v":{"$error":"#N/A"}},"Sécurité alimentaire","Regulier","Koulikoro",{"$f":"VLOOKUP(Main3WData16[[#This Row],[Admin Unit Name]],AdminUnits[],2,FALSE)","v":"ML02"},{"$f":"VLOOKUP(Main3WData16[[#This Row],[Admin Unit Name]],AdminUnits[],3,FALSE)","v":"Sud"},{"$f":"VLOOKUP(Main3WData16[[#This Row],[Admin Unit Name]],AdminUnits[],4,FALSE)","v":2},{"$f":"VLOOKUP(Main3WData16[[#This Row],[Sector]],Sectors[],2,FALSE)","v":7}]
[null,"JEKATAANIEN",{"$f":"INDEX(Organizations[],MATCH(Main3WData16[[#This Row],[Acronym]],AcronymList,0),1)","v":"JEKATAANIEN"},{"$f":"INDEX(Organizations[],MATCH(Main3WData16[[#This Row],[Acronym]],AcronymList,0),3)","v":"ONG Nat."},"Sécurité alimentaire","Regulier","Sikasso",{"$f":"VLOOKUP(Main3WData16[[#This Row],[Admin Unit Name]],AdminUnits[],2,FALSE)","v":"ML03"},{"$f":"VLOOKUP(Main3WData16[[#This Row],[Admin Unit Name]],AdminUnits[],3,FALSE)","v":"Sud"},{"$f":"VLOOKUP(Main3WData16[[#This Row],[Admin Unit Name]],AdminUnits[],4,FALSE)","v":3},{"$f":"VLOOKUP(Main3WData16[[#This Row],[Sector]],Sectors[],2,FALSE)","v":7}]
[null,"Islamic Relief",{"$f":"INDEX(Organizations[],MATCH(Main3WData16[[#This Row],[Acronym]],AcronymList,0),1)","v":"Islamic Relief"},{"$f":"INDEX(Organizations[],MATCH(Main3WData16[[#This Row],[Acronym]],AcronymList,0),3)","v":"ONG Int."},"Sécurité alimentaire","Regulier","Mopti",{"$f":"VLOOKUP(Main3WData16[[#This Row],[Admin Unit Name]],AdminUnits[],2,FALSE)","v":"ML05"},{"$f":"VLOOKUP(Main3WData16[[#This Row],[Admin Unit Name]],AdminUnits[],3,FALSE)","v":"Sud"},{"$f":"VLOOKUP(Main3WData16[[#This Row],[Admin Unit Name]],AdminUnits[],4,FALSE)","v":5},{"$f":"VLOOKUP(Main3WData16[[#This Row],[Sector]],Sectors[],2,FALSE)","v":7}]
[null,"ISLAMIC RELIEF",{"$f":"INDEX(Organizations[],MATCH(Main3WData16[[#This Row],[Acronym]],AcronymList,0),1)","v":"Islamic Relief"},{"$f":"INDEX(Organizations[],MATCH(Main3WData16[[#This Row],[Acronym]],AcronymList,0),3)","v":"ONG Int."},"Sécurité alimentaire","Regulier","Tombouctou",{"$f":"VLOOKUP(Main3WData16[[#This Row],[Admin Unit Name]],AdminUnits[],2,FALSE)","v":"ML06"},{"$f":"VLOOKUP(Main3WData16[[#This Row],[Admin Unit Name]],AdminUnits[],3,FALSE)","v":"Nord"},{"$f":"VLOOKUP(Main3WData16[[#This Row],[Admin Unit Name]],AdminUnits[],4,FALSE)","v":6},{"$f":"VLOOKUP(Main3WData16[[#This Row],[Sector]],Sectors[],2,FALSE)","v":7}]
[null,"IRC",{"$f":"INDEX(Organizations[],MATCH(Main3WData16[[#This Row],[Acronym]],AcronymList,0),1)","v":"International Rescue Committee"},{"$f":"INDEX(Organizations[],MATCH(Main3WData16[[#This Row],[Acronym]],AcronymList,0),3)","v":"ONG Int."},"Education","Regulier","Koulikoro",{"$f":"VLOOKUP(Main3WData16[[#This Row],[Admin Unit Name]],AdminUnits[],2,FALSE)","v":"ML02"},{"$f":"VLOOKUP(Main3WData16[[#This Row],[Admin Unit Name]],AdminUnits[],3,FALSE)","v":"Sud"},{"$f":"VLOOKUP(Main3WData16[[#This Row],[Admin Unit Name]],AdminUnits[],4,FALSE)","v":2},{"$f":"VLOOKUP(Main3WData16[[#This Row],[Sector]],Sectors[],2,FALSE)","v":3}]
[null,"IRC",{"$f":"INDEX(Organizations[],MATCH(Main3WData16[[#This Row],[Acronym]],AcronymList,0),1)","v":"International Rescue Committee"},{"$f":"INDEX(Organizations[],MATCH(Main3WData16[[#This Row],[Acronym]],AcronymList,0),3)","v":"ONG Int."},"Education","Regulier","Gao",{"$f":"VLOOKUP(Main3WData16[[#This Row],[Admin Unit Name]],AdminUnits[],2,FALSE)","v":"ML07"},{"$f":"VLOOKUP(Main3WData16[[#This Row],[Admin Unit Name]],AdminUnits[],3,FALSE)","v":"Nord"},{"$f":"VLOOKUP(Main3WData16[[#This Row],[Admin Unit Name]],AdminUnits[],4,FALSE)","v":7},{"$f":"VLOOKUP(Main3WData16[[#This Row],[Sector]],Sectors[],2,FALSE)","v":3}]
[null,"IRC",{"$f":"INDEX(Organizations[],MATCH(Main3WData16[[#This Row],[Acronym]],AcronymList,0),1)","v":"International Rescue Committee"},{"$f":"INDEX(Organizations[],MATCH(Main3WData16[[#This Row],[Acronym]],AcronymList,0),3)","v":"ONG Int."},"EHA","Regulier","KOULIKORO",{"$f":"VLOOKUP(Main3WData16[[#This Row],[Admin Unit Name]],AdminUnits[],2,FALSE)","v":"ML02"},{"$f":"VLOOKUP(Main3WData16[[#This Row],[Admin Unit Name]],AdminUnits[],3,FALSE)","v":"Sud"},{"$f":"VLOOKUP(Main3WData16[[#This Row],[Admin Unit Name]],AdminUnits[],4,FALSE)","v":2},{"$f":"VLOOKUP(Main3WData16[[#This Row],[Sector]],Sectors[],2,FALSE)","v":8}]
[null,"IRC",{"$f":"INDEX(Organizations[],MATCH(Main3WData16[[#This Row],[Acronym]],AcronymList,0),1)","v":"International Rescue Committee"},{"$f":"INDEX(Organizations[],MATCH(Main3WData16[[#This Row],[Acronym]],AcronymList,0),3)","v":"ONG Int."},"EHA","Regulier","GAO",{"$f":"VLOOKUP(Main3WData16[[#This Row],[Admin Unit Name]],AdminUnits[],2,FALSE)","v":"ML07"},{"$f":"VLOOKUP(Main3WData16[[#This Row],[Admin Unit Name]],AdminUnits[],3,FALSE)","v":"Nord"},{"$f":"VLOOKUP(Main3WData16[[#This Row],[Admin Unit Name]],AdminUnits[],4,FALSE)","v":7},{"$f":"VLOOKUP(Main3WData16[[#This Row],[Sector]],Sectors[],2,FALSE)","v":8}]
[null,"IRC",{"$f":"INDEX(Organizations[],MATCH(Main3WData16[[#This Row],[Acronym]],AcronymList,0),1)","v":"International Rescue Committee"},{"$f":"INDEX(Organizations[],MATCH(Main3WData16[[#This Row],[Acronym]],AcronymList,0),3)","v":"ONG Int."},"Nutrition","Regulier","Gao",{"$f":"VLOOKUP(Main3WData16[[#This Row],[Admin Unit Name]],AdminUnits[],2,FALSE)","v":"ML07"},{"$f":"VLOOKUP(Main3WData16[[#This Row],[Admin Unit Name]],AdminUnits[],3,FALSE)","v":"Nord"},{"$f":"VLOOKUP(Main3WData16[[#This Row],[Admin Unit Name]],AdminUnits[],4,FALSE)","v":7},{"$f":"VLOOKUP(Main3WData16[[#This Row],[Sector]],Sectors[],2,FALSE)","v":4}]
[null,"IRC",{"$f":"INDEX(Organizations[],MATCH(Main3WData16[[#This Row],[Acronym]],AcronymList,0),1)","v":"International Rescue Committee"},{"$f":"INDEX(Organizations[],MATCH(Main3WData16[[#This Row],[Acronym]],AcronymList,0),3)","v":"ONG Int."},"Nutrition","Regulier","Koulikoro",{"$f":"VLOOKUP(Main3WData16[[#This Row],[Admin Unit Name]],AdminUnits[],2,FALSE)","v":"ML02"},{"$f":"VLOOKUP(Main3WData16[[#This Row],[Admin Unit Name]],AdminUnits[],3,FALSE)","v":"Sud"},{"$f":"VLOOKUP(Main3WData16[[#This Row],[Admin Unit Name]],AdminUnits[],4,FALSE)","v":2},{"$f":"VLOOKUP(Main3WData16[[#This Row],[Sector]],Sectors[],2,FALSE)","v":4}]
[null,"IRC",{"$f":"INDEX(Organizations[],MATCH(Main3WData16[[#This Row],[Acronym]],AcronymList,0),1)","v":"International Rescue Committee"},{"$f":"INDEX(Organizations[],MATCH(Main3WData16[[#This Row],[Acronym]],AcronymList,0),3)","v":"ONG Int."},"Nutrition","Regulier","Mopti",{"$f":"VLOOKUP(Main3WData16[[#This Row],[Admin Unit Name]],AdminUnits[],2,FALSE)","v":"ML05"},{"$f":"VLOOKUP(Main3WData16[[#This Row],[Admin Unit Name]],AdminUnits[],3,FALSE)","v":"Sud"},{"$f":"VLOOKUP(Main3WData16[[#This Row],[Admin Unit Name]],AdminUnits[],4,FALSE)","v":5},{"$f":"VLOOKUP(Main3WData16[[#This Row],[Sector]],Sectors[],2,FALSE)","v":4}]
[null,"IRC",{"$f":"INDEX(Organizations[],MATCH(Main3WData16[[#This Row],[Acronym]],AcronymList,0),1)","v":"International Rescue Committee"},{"$f":"INDEX(Organizations[],MATCH(Main3WData16[[#This Row],[Acronym]],AcronymList,0),3)","v":"ONG Int."},"Protection","Regulier","Gao",{"$f":"VLOOKUP(Main3WData16[[#This Row],[Admin Unit Name]],AdminUnits[],2,FALSE)","v":"ML07"},{"$f":"VLOOKUP(Main3WData16[[#This Row],[Admin Unit Name]],AdminUnits[],3,FALSE)","v":"Nord"},{"$f":"VLOOKUP(Main3WData16[[#This Row],[Admin Unit Name]],AdminUnits[],4,FALSE)","v":7},{"$f":"VLOOKUP(Main3WData16[[#This Row],[Sector]],Sectors[],2,FALSE)","v":5}]
[null,"IRC",{"$f":"INDEX(Organizations[],MATCH(Main3WData16[[#This Row],[Acronym]],AcronymList,0),1)","v":"International Rescue Committee"},{"$f":"INDEX(Organizations[],MATCH(Main3WData16[[#This Row],[Acronym]],AcronymList,0),3)","v":"ONG Int."},"Protection","Regulier","Koulikoro",{"$f":"VLOOKUP(Main3WData16[[#This Row],[Admin Unit Name]],AdminUnits[],2,FALSE)","v":"ML02"},{"$f":"VLOOKUP(Main3WData16[[#This Row],[Admin Unit Name]],AdminUnits[],3,FALSE)","v":"Sud"},{"$f":"VLOOKUP(Main3WData16[[#This Row],[Admin Unit Name]],AdminUnits[],4,FALSE)","v":2},{"$f":"VLOOKUP(Main3WData16[[#This Row],[Sector]],Sectors[],2,FALSE)","v":5}]
[null,"IRC",{"$f":"INDEX(Organizations[],MATCH(Main3WData16[[#This Row],[Acronym]],AcronymList,0),1)","v":"International Rescue Committee"},{"$f":"INDEX(Organizations[],MATCH(Main3WData16[[#This Row],[Acronym]],AcronymList,0),3)","v":"ONG Int."},"Protection","Regulier","Mopti",{"$f":"VLOOKUP(Main3WData16[[#This Row],[Admin Unit Name]],AdminUnits[],2,FALSE)","v":"ML05"},{"$f":"VLOOKUP(Main3WData16[[#This Row],[Admin Unit Name]],AdminUnits[],3,FALSE)","v":"Sud"},{"$f":"VLOOKUP(Main3WData16[[#This Row],[Admin Unit Name]],AdminUnits[],4,FALSE)","v":5},{"$f":"VLOOKUP(Main3WData16[[#This Row],[Sector]],Sectors[],2,FALSE)","v":5}]
[null,"IRC",{"$f":"INDEX(Organizations[],MATCH(Main3WData16[[#This Row],[Acronym]],AcronymList,0),1)","v":"International Rescue Committee"},{"$f":"INDEX(Organizations[],MATCH(Main3WData16[[#This Row],[Acronym]],AcronymList,0),3)","v":"ONG Int."},"Protection","Regulier","Mopti",{"$f":"VLOOKUP(Main3WData16[[#This Row],[Admin Unit Name]],AdminUnits[],2,FALSE)","v":"ML05"},{"$f":"VLOOKUP(Main3WData16[[#This Row],[Admin Unit Name]],AdminUnits[],3,FALSE)","v":"Sud"},{"$f":"VLOOKUP(Main3WData16[[#This Row],[Admin Unit Name]],AdminUnits[],4,FALSE)","v":5},{"$f":"VLOOKUP(Main3WData16[[#This Row],[Sector]],Sectors[],2,FALSE)","v":5}]
[null,"IRC",{"$f":"INDEX(Organizations[],MATCH(Main3WData16[[#This Row],[Acronym]],AcronymList,0),1)","v":"International Rescue Committee"},{"$f":"INDEX(Organizations[],MATCH(Main3WData16[[#This Row],[Acronym]],AcronymList,0),3)","v":"ONG Int."},"Santé","Regulier","Gao",{"$f":"VLOOKUP(Main3WData16[[#This Row],[Admin Unit Name]],AdminUnits[],2,FALSE)","v":"ML07"},{"$f":"VLOOKUP(Main3WData16[[#This Row],[Admin Unit Name]],AdminUnits[],3,FALSE)","v":"Nord"},{"$f":"VLOOKUP(Main3WData16[[#This Row],[Admin Unit Name]],AdminUnits[],4,FALSE)","v":7},{"$f":"VLOOKUP(Main3WData16[[#This Row],[Sector]],Sectors[],2,FALSE)","v":6}]
[null,"IRC",{"$f":"INDEX(Organizations[],MATCH(Main3WData16[[#This Row],[Acronym]],AcronymList,0),1)","v":"International Rescue Committee"},{"$f":"INDEX(Organizations[],MATCH(Main3WData16[[#This Row],[Acronym]],AcronymList,0),3)","v":"ONG Int."},"Santé","Regulier","Koulikoro",{"$f":"VLOOKUP(Main3WData16[[#This Row],[Admin Unit Name]],AdminUnits[],2,FALSE)","v":"ML02"},{"$f":"VLOOKUP(Main3WData16[[#This Row],[Admin Unit Name]],AdminUnits[],3,FALSE)","v":"Sud"},{"$f":"VLOOKUP(Main3WData16[[#This Row],[Admin Unit Name]],AdminUnits[],4,FALSE)","v":2},{"$f":"VLOOKUP(Main3WData16[[#This Row],[Sector]],Sectors[],2,FALSE)","v":6}]
[null,"IRC",{"$f":"INDEX(Organizations[],MATCH(Main3WData16[[#This Row],[Acronym]],AcronymList,0),1)","v":"International Rescue Committee"},{"$f":"INDEX(Organizations[],MATCH(Main3WData16[[#This Row],[Acronym]],AcronymList,0),3)","v":"ONG Int."},"Sécurité alimentaire","Regulier","Gao",{"$f":"VLOOKUP(Main3WData16[[#This Row],[Admin Unit Name]],AdminUnits[],2,FALSE)","v":"ML07"},{"$f":"VLOOKUP(Main3WData16[[#This Row],[Admin Unit Name]],AdminUnits[],3,FALSE)","v":"Nord"},{"$f":"VLOOKUP(Main3WData16[[#This Row],[Admin Unit Name]],AdminUnits[],4,FALSE)","v":7},{"$f":"VLOOKUP(Main3WData16[[#This Row],[Sector]],Sectors[],2,FALSE)","v":7}]
[null,"IRC",{"$f":"INDEX(Organizations[],MATCH(Main3WData16[[#This Row],[Acronym]],AcronymList,0),1)","v":"International Rescue Committee"},{"$f":"INDEX(Organizations[],MATCH(Main3WData16[[#This Row],[Acronym]],AcronymList,0),3)","v":"ONG Int."},"Sécurité alimentaire","Regulier","Kidal",{"$f":"VLOOKUP(Main3WData16[[#This Row],[Admin Unit Name]],AdminUnits[],2,FALSE)","v":"ML08"},{"$f":"VLOOKUP(Main3WData16[[#This Row],[Admin Unit Name]],AdminUnits[],3,FALSE)","v":"Nord"},{"$f":"VLOOKUP(Main3WData16[[#This Row],[Admin Unit Name]],AdminUnits[],4,FALSE)","v":8},{"$f":"VLOOKUP(Main3WData16[[#This Row],[Sector]],Sectors[],2,FALSE)","v":7}]
[null,"Intervida",{"$f":"INDEX(Organizations[],MATCH(Main3WData16[[#This Row],[Acronym]],AcronymList,0),1)","v":"Intervida"},{"$f":"INDEX(Organizations[],MATCH(Main3WData16[[#This Row],[Acronym]],AcronymList,0),3)","v":"ONG Int."},"Education","Regulier","Segou",{"$f":"VLOOKUP(Main3WData16[[#This Row],[Admin Unit Name]],AdminUnits[],2,FALSE)","v":"ML04"},{"$f":"VLOOKUP(Main3WData16[[#This Row],[Admin Unit Name]],AdminUnits[],3,FALSE)","v":"Sud"},{"$f":"VLOOKUP(Main3WData16[[#This Row],[Admin Unit Name]],AdminUnits[],4,FALSE)","v":4},{"$f":"VLOOKUP(Main3WData16[[#This Row],[Sector]],Sectors[],2,FALSE)","v":3}]
[null,"Intersos",{"$f":"INDEX(Organizations[],MATCH(Main3WData16[[#This Row],[Acronym]],AcronymList,0),1)","v":"Intersos"},{"$f":"INDEX(Organizations[],MATCH(Main3WData16[[#This Row],[Acronym]],AcronymList,0),3)","v":"ONG Int."},"Abris et NFI","Regulier","MOPTI",{"$f":"VLOOKUP(Main3WData16[[#This Row],[Admin Unit Name]],AdminUnits[],2,FALSE)","v":"ML05"},{"$f":"VLOOKUP(Main3WData16[[#This Row],[Admin Unit Name]],AdminUnits[],3,FALSE)","v":"Sud"},{"$f":"VLOOKUP(Main3WData16[[#This Row],[Admin Unit Name]],AdminUnits[],4,FALSE)","v":5},{"$f":"VLOOKUP(Main3WData16[[#This Row],[Sector]],Sectors[],2,FALSE)","v":1}]
[null,"INTERSOS",{"$f":"INDEX(Organizations[],MATCH(Main3WData16[[#This Row],[Acronym]],AcronymList,0),1)","v":"Intersos"},{"$f":"INDEX(Organizations[],MATCH(Main3WData16[[#This Row],[Acronym]],AcronymList,0),3)","v":"ONG Int."},"Protection","Regulier","Mopti",{"$f":"VLOOKUP(Main3WData16[[#This Row],[Admin Unit Name]],AdminUnits[],2,FALSE)","v":"ML05"},{"$f":"VLOOKUP(Main3WData16[[#This Row],[Admin Unit Name]],AdminUnits[],3,FALSE)","v":"Sud"},{"$f":"VLOOKUP(Main3WData16[[#This Row],[Admin Unit Name]],AdminUnits[],4,FALSE)","v":5},{"$f":"VLOOKUP(Main3WData16[[#This Row],[Sector]],Sectors[],2,FALSE)","v":5}]
[null,"IMC",{"$f":"INDEX(Organizations[],MATCH(Main3WData16[[#This Row],[Acronym]],AcronymList,0),1)","v":"International Medical Corps"},{"$f":"INDEX(Organizations[],MATCH(Main3WData16[[#This Row],[Acronym]],AcronymList,0),3)","v":"ONG Int."},"Nutrition","Regulier","Tombouctou",{"$f":"VLOOKUP(Main3WData16[[#This Row],[Admin Unit Name]],AdminUnits[],2,FALSE)","v":"ML06"},{"$f":"VLOOKUP(Main3WData16[[#This Row],[Admin Unit Name]],AdminUnits[],3,FALSE)","v":"Nord"},{"$f":"VLOOKUP(Main3WData16[[#This Row],[Admin Unit Name]],AdminUnits[],4,FALSE)","v":6},{"$f":"VLOOKUP(Main3WData16[[#This Row],[Sector]],Sectors[],2,FALSE)","v":4}]
[null,"IMC",{"$f":"INDEX(Organizations[],MATCH(Main3WData16[[#This Row],[Acronym]],AcronymList,0),1)","v":"International Medical Corps"},{"$f":"INDEX(Organizations[],MATCH(Main3WData16[[#This Row],[Acronym]],AcronymList,0),3)","v":"ONG Int."},"Santé","Regulier","Gao",{"$f":"VLOOKUP(Main3WData16[[#This Row],[Admin Unit Name]],AdminUnits[],2,FALSE)","v":"ML07"},{"$f":"VLOOKUP(Main3WData16[[#This Row],[Admin Unit Name]],AdminUnits[],3,FALSE)","v":"Nord"},{"$f":"VLOOKUP(Main3WData16[[#This Row],[Admin Unit Name]],AdminUnits[],4,FALSE)","v":7},{"$f":"VLOOKUP(Main3WData16[[#This Row],[Sector]],Sectors[],2,FALSE)","v":6}]
[null,"IMC",{"$f":"INDEX(Organizations[],MATCH(Main3WData16[[#This Row],[Acronym]],AcronymList,0),1)","v":"International Medical Corps"},{"$f":"INDEX(Organizations[],MATCH(Main3WData16[[#This Row],[Acronym]],AcronymList,0),3)","v":"ONG Int."},"Santé","Regulier","Tombouctou",{"$f":"VLOOKUP(Main3WData16[[#This Row],[Admin Unit Name]],AdminUnits[],2,FALSE)","v":"ML06"},{"$f":"VLOOKUP(Main3WData16[[#This Row],[Admin Unit Name]],AdminUnits[],3,FALSE)","v":"Nord"},{"$f":"VLOOKUP(Main3WData16[[#This Row],[Admin Unit Name]],AdminUnits[],4,FALSE)","v":6},{"$f":"VLOOKUP(Main3WData16[[#This Row],[Sector]],Sectors[],2,FALSE)","v":6}]
[null,"IMC",{"$f":"INDEX(Organizations[],MATCH(Main3WData16[[#This Row],[Acronym]],AcronymList,0),1)","v":"International Medical Corps"},{"$f":"INDEX(Organizations[],MATCH(Main3WData16[[#This Row],[Acronym]],AcronymList,0),3)","v":"ONG Int."},"Sécurité alimentaire","Regulier","Tombouctou",{"$f":"VLOOKUP(Main3WData16[[#This Row],[Admin Unit Name]],AdminUnits[],2,FALSE)","v":"ML06"},{"$f":"VLOOKUP(Main3WData16[[#This Row],[Admin Unit Name]],AdminUnits[],3,FALSE)","v":"Nord"},{"$f":"VLOOKUP(Main3WData16[[#This Row],[Admin Unit Name]],AdminUnits[],4,FALSE)","v":6},{"$f":"VLOOKUP(Main3WData16[[#This Row],[Sector]],Sectors[],2,FALSE)","v":7}]
[null,"IEDA Relief",{"$f":"INDEX(Organizations[],MATCH(Main3WData16[[#This Row],[Acronym]],AcronymList,0),1)","v":"International Emergency and Development Aid Relief"},{"$f":"INDEX(Organizations[],MATCH(Main3WData16[[#This Row],[Acronym]],AcronymList,0),3)","v":"ONG Int."},"Protection","Regulier","Gao",{"$f":"VLOOKUP(Main3WData16[[#This Row],[Admin Unit Name]],AdminUnits[],2,FALSE)","v":"ML07"},{"$f":"VLOOKUP(Main3WData16[[#This Row],[Admin Unit Name]],AdminUnits[],3,FALSE)","v":"Nord"},{"$f":"VLOOKUP(Main3WData16[[#This Row],[Admin Unit Name]],AdminUnits[],4,FALSE)","v":7},{"$f":"VLOOKUP(Main3WData16[[#This Row],[Sector]],Sectors[],2,FALSE)","v":5}]
[null,"IEDA Relief",{"$f":"INDEX(Organizations[],MATCH(Main3WData16[[#This Row],[Acronym]],AcronymList,0),1)","v":"International Emergency and Development Aid Relief"},{"$f":"INDEX(Organizations[],MATCH(Main3WData16[[#This Row],[Acronym]],AcronymList,0),3)","v":"ONG Int."},"Protection","Regulier","Segou",{"$f":"VLOOKUP(Main3WData16[[#This Row],[Admin Unit Name]],AdminUnits[],2,FALSE)","v":"ML04"},{"$f":"VLOOKUP(Main3WData16[[#This Row],[Admin Unit Name]],AdminUnits[],3,FALSE)","v":"Sud"},{"$f":"VLOOKUP(Main3WData16[[#This Row],[Admin Unit Name]],AdminUnits[],4,FALSE)","v":4},{"$f":"VLOOKUP(Main3WData16[[#This Row],[Sector]],Sectors[],2,FALSE)","v":5}]
[null,"IEDA Relief",{"$f":"INDEX(Organizations[],MATCH(Main3WData16[[#This Row],[Acronym]],AcronymList,0),1)","v":"International Emergency and Development Aid Relief"},{"$f":"INDEX(Organizations[],MATCH(Main3WData16[[#This Row],[Acronym]],AcronymList,0),3)","v":"ONG Int."},"Protection","Regulier","Tombouctou",{"$f":"VLOOKUP(Main3WData16[[#This Row],[Admin Unit Name]],AdminUnits[],2,FALSE)","v":"ML06"},{"$f":"VLOOKUP(Main3WData16[[#This Row],[Admin Unit Name]],AdminUnits[],3,FALSE)","v":"Nord"},{"$f":"VLOOKUP(Main3WData16[[#This Row],[Admin Unit Name]],AdminUnits[],4,FALSE)","v":6},{"$f":"VLOOKUP(Main3WData16[[#This Row],[Sector]],Sectors[],2,FALSE)","v":5}]
[null,"ICD",{"$f":"INDEX(Organizations[],MATCH(Main3WData16[[#This Row],[Acronym]],AcronymList,0),1)","v":"Initiatives-Conseils-Développement"},{"$f":"INDEX(Organizations[],MATCH(Main3WData16[[#This Row],[Acronym]],AcronymList,0),3)","v":"Association"},"Sécurité alimentaire","Regulier","Mopti",{"$f":"VLOOKUP(Main3WData16[[#This Row],[Admin Unit Name]],AdminUnits[],2,FALSE)","v":"ML05"},{"$f":"VLOOKUP(Main3WData16[[#This Row],[Admin Unit Name]],AdminUnits[],3,FALSE)","v":"Sud"},{"$f":"VLOOKUP(Main3WData16[[#This Row],[Admin Unit Name]],AdminUnits[],4,FALSE)","v":5},{"$f":"VLOOKUP(Main3WData16[[#This Row],[Sector]],Sectors[],2,FALSE)","v":7}]
[null,"ICCO",{"$f":"INDEX(Organizations[],MATCH(Main3WData16[[#This Row],[Acronym]],AcronymList,0),1)","v":"ICCO"},{"$f":"INDEX(Organizations[],MATCH(Main3WData16[[#This Row],[Acronym]],AcronymList,0),3)","v":"ONG Int."},"Sécurité alimentaire","Regulier","Mopti",{"$f":"VLOOKUP(Main3WData16[[#This Row],[Admin Unit Name]],AdminUnits[],2,FALSE)","v":"ML05"},{"$f":"VLOOKUP(Main3WData16[[#This Row],[Admin Unit Name]],AdminUnits[],3,FALSE)","v":"Sud"},{"$f":"VLOOKUP(Main3WData16[[#This Row],[Admin Unit Name]],AdminUnits[],4,FALSE)","v":5},{"$f":"VLOOKUP(Main3WData16[[#This Row],[Sector]],Sectors[],2,FALSE)","v":7}]
[null,"ICCO",{"$f":"INDEX(Organizations[],MATCH(Main3WData16[[#This Row],[Acronym]],AcronymList,0),1)","v":"ICCO"},{"$f":"INDEX(Organizations[],MATCH(Main3WData16[[#This Row],[Acronym]],AcronymList,0),3)","v":"ONG Int."},"Sécurité alimentaire","Regulier","Segou",{"$f":"VLOOKUP(Main3WData16[[#This Row],[Admin Unit Name]],AdminUnits[],2,FALSE)","v":"ML04"},{"$f":"VLOOKUP(Main3WData16[[#This Row],[Admin Unit Name]],AdminUnits[],3,FALSE)","v":"Sud"},{"$f":"VLOOKUP(Main3WData16[[#This Row],[Admin Unit Name]],AdminUnits[],4,FALSE)","v":4},{"$f":"VLOOKUP(Main3WData16[[#This Row],[Sector]],Sectors[],2,FALSE)","v":7}]
[null,"ICCO",{"$f":"INDEX(Organizations[],MATCH(Main3WData16[[#This Row],[Acronym]],AcronymList,0),1)","v":"ICCO"},{"$f":"INDEX(Organizations[],MATCH(Main3WData16[[#This Row],[Acronym]],AcronymList,0),3)","v":"ONG Int."},"Sécurité alimentaire","Regulier","Tombouctou",{"$f":"VLOOKUP(Main3WData16[[#This Row],[Admin Unit Name]],AdminUnits[],2,FALSE)","v":"ML06"},{"$f":"VLOOKUP(Main3WData16[[#This Row],[Admin Unit Name]],AdminUnits[],3,FALSE)","v":"Nord"},{"$f":"VLOOKUP(Main3WData16[[#This Row],[Admin Unit Name]],AdminUnits[],4,FALSE)","v":6},{"$f":"VLOOKUP(Main3WData16[[#This Row],[Sector]],Sectors[],2,FALSE)","v":7}]
[null,"HKI",{"$f":"INDEX(Organizations[],MATCH(Main3WData16[[#This Row],[Acronym]],AcronymList,0),1)","v":"Helen Keller International"},{"$f":"INDEX(Organizations[],MATCH(Main3WData16[[#This Row],[Acronym]],AcronymList,0),3)","v":"ONG Int."},"Nutrition","Regulier","Koulikoro",{"$f":"VLOOKUP(Main3WData16[[#This Row],[Admin Unit Name]],AdminUnits[],2,FALSE)","v":"ML02"},{"$f":"VLOOKUP(Main3WData16[[#This Row],[Admin Unit Name]],AdminUnits[],3,FALSE)","v":"Sud"},{"$f":"VLOOKUP(Main3WData16[[#This Row],[Admin Unit Name]],AdminUnits[],4,FALSE)","v":2},{"$f":"VLOOKUP(Main3WData16[[#This Row],[Sector]],Sectors[],2,FALSE)","v":4}]
[null,"HKI",{"$f":"INDEX(Organizations[],MATCH(Main3WData16[[#This Row],[Acronym]],AcronymList,0),1)","v":"Helen Keller International"},{"$f":"INDEX(Organizations[],MATCH(Main3WData16[[#This Row],[Acronym]],AcronymList,0),3)","v":"ONG Int."},"Nutrition","Regulier","Mopti",{"$f":"VLOOKUP(Main3WData16[[#This Row],[Admin Unit Name]],AdminUnits[],2,FALSE)","v":"ML05"},{"$f":"VLOOKUP(Main3WData16[[#This Row],[Admin Unit Name]],AdminUnits[],3,FALSE)","v":"Sud"},{"$f":"VLOOKUP(Main3WData16[[#This Row],[Admin Unit Name]],AdminUnits[],4,FALSE)","v":5},{"$f":"VLOOKUP(Main3WData16[[#This Row],[Sector]],Sectors[],2,FALSE)","v":4}]
[null,"HKI",{"$f":"INDEX(Organizations[],MATCH(Main3WData16[[#This Row],[Acronym]],AcronymList,0),1)","v":"Helen Keller International"},{"$f":"INDEX(Organizations[],MATCH(Main3WData16[[#This Row],[Acronym]],AcronymList,0),3)","v":"ONG Int."},"Nutrition","Regulier","Segou",{"$f":"VLOOKUP(Main3WData16[[#This Row],[Admin Unit Name]],AdminUnits[],2,FALSE)","v":"ML04"},{"$f":"VLOOKUP(Main3WData16[[#This Row],[Admin Unit Name]],AdminUnits[],3,FALSE)","v":"Sud"},{"$f":"VLOOKUP(Main3WData16[[#This Row],[Admin Unit Name]],AdminUnits[],4,FALSE)","v":4},{"$f":"VLOOKUP(Main3WData16[[#This Row],[Sector]],Sectors[],2,FALSE)","v":4}]
[null,"HKI",{"$f":"INDEX(Organizations[],MATCH(Main3WData16[[#This Row],[Acronym]],AcronymList,0),1)","v":"Helen Keller International"},{"$f":"INDEX(Organizations[],MATCH(Main3WData16[[#This Row],[Acronym]],AcronymList,0),3)","v":"ONG Int."},"Nutrition","Regulier","Sikasso",{"$f":"VLOOKUP(Main3WData16[[#This Row],[Admin Unit Name]],AdminUnits[],2,FALSE)","v":"ML03"},{"$f":"VLOOKUP(Main3WData16[[#This Row],[Admin Unit Name]],AdminUnits[],3,FALSE)","v":"Sud"},{"$f":"VLOOKUP(Main3WData16[[#This Row],[Admin Unit Name]],AdminUnits[],4,FALSE)","v":3},{"$f":"VLOOKUP(Main3WData16[[#This Row],[Sector]],Sectors[],2,FALSE)","v":4}]
[null,"HELVETAS Swiss Interoperation",{"$f":"INDEX(Organizations[],MATCH(Main3WData16[[#This Row],[Acronym]],AcronymList,0),1)","v":{"$error":"#N/A"}},{"$f":"INDEX(Organizations[],MATCH(Main3WData16[[#This Row],[Acronym]],AcronymList,0),3)","v":{"$error":"#N/A"}},"Sécurité alimentaire","Regulier","Mopti",{"$f":"VLOOKUP(Main3WData16[[#This Row],[Admin Unit Name]],AdminUnits[],2,FALSE)","v":"ML05"},{"$f":"VLOOKUP(Main3WData16[[#This Row],[Admin Unit Name]],AdminUnits[],3,FALSE)","v":"Sud"},{"$f":"VLOOKUP(Main3WData16[[#This Row],[Admin Unit Name]],AdminUnits[],4,FALSE)","v":5},{"$f":"VLOOKUP(Main3WData16[[#This Row],[Sector]],Sectors[],2,FALSE)","v":7}]
[null,"Handicap International",{"$f":"INDEX(Organizations[],MATCH(Main3WData16[[#This Row],[Acronym]],AcronymList,0),1)","v":{"$error":"#N/A"}},{"$f":"INDEX(Organizations[],MATCH(Main3WData16[[#This Row],[Acronym]],AcronymList,0),3)","v":{"$error":"#N/A"}},"EHA","Regulier","TOMBOUCTOU",{"$f":"VLOOKUP(Main3WData16[[#This Row],[Admin Unit Name]],AdminUnits[],2,FALSE)","v":"ML06"},{"$f":"VLOOKUP(Main3WData16[[#This Row],[Admin Unit Name]],AdminUnits[],3,FALSE)","v":"Nord"},{"$f":"VLOOKUP(Main3WData16[[#This Row],[Admin Unit Name]],AdminUnits[],4,FALSE)","v":6},{"$f":"VLOOKUP(Main3WData16[[#This Row],[Sector]],Sectors[],2,FALSE)","v":8}]
[null,"Handicap International",{"$f":"INDEX(Organizations[],MATCH(Main3WData16[[#This Row],[Acronym]],AcronymList,0),1)","v":{"$error":"#N/A"}},{"$f":"INDEX(Organizations[],MATCH(Main3WData16[[#This Row],[Acronym]],AcronymList,0),3)","v":{"$error":"#N/A"}},"Protection","Regulier","Mopti",{"$f":"VLOOKUP(Main3WData16[[#This Row],[Admin Unit Name]],AdminUnits[],2,FALSE)","v":"ML05"},{"$f":"VLOOKUP(Main3WData16[[#This Row],[Admin Unit Name]],AdminUnits[],3,FALSE)","v":"Sud"},{"$f":"VLOOKUP(Main3WData16[[#This Row],[Admin Unit Name]],AdminUnits[],4,FALSE)","v":5},{"$f":"VLOOKUP(Main3WData16[[#This Row],[Sector]],Sectors[],2,FALSE)","v":5}]
[null,"Handicap International",{"$f":"INDEX(Organizations[],MATCH(Main3WData16[[#This Row],[Acronym]],AcronymList,0),1)","v":{"$error":"#N/A"}},{"$f":"INDEX(Organizations[],MATCH(Main3WData16[[#This Row],[Acronym]],AcronymList,0),3)","v":{"$error":"#N/A"}},"Protection","Regulier","Tombouctou",{"$f":"VLOOKUP(Main3WData16[[#This Row],[Admin Unit Name]],AdminUnits[],2,FALSE)","v":"ML06"},{"$f":"VLOOKUP(Main3WData16[[#This Row],[Admin Unit Name]],AdminUnits[],3,FALSE)","v":"Nord"},{"$f":"VLOOKUP(Main3WData16[[#This Row],[Admin Unit Name]],AdminUnits[],4,FALSE)","v":6},{"$f":"VLOOKUP(Main3WData16[[#This Row],[Sector]],Sectors[],2,FALSE)","v":5}]
[null,"Handicap International",{"$f":"INDEX(Organizations[],MATCH(Main3WData16[[#This Row],[Acronym]],AcronymList,0),1)","v":{"$error":"#N/A"}},{"$f":"INDEX(Organizations[],MATCH(Main3WData16[[#This Row],[Acronym]],AcronymList,0),3)","v":{"$error":"#N/A"}},"Santé","Regulier","Mopti",{"$f":"VLOOKUP(Main3WData16[[#This Row],[Admin Unit Name]],AdminUnits[],2,FALSE)","v":"ML05"},{"$f":"VLOOKUP(Main3WData16[[#This Row],[Admin Unit Name]],AdminUnits[],3,FALSE)","v":"Sud"},{"$f":"VLOOKUP(Main3WData16[[#This Row],[Admin Unit Name]],AdminUnits[],4,FALSE)","v":5},{"$f":"VLOOKUP(Main3WData16[[#This Row],[Sector]],Sectors[],2,FALSE)","v":6}]
[null,"Handicap International",{"$f":"INDEX(Organizations[],MATCH(Main3WData16[[#This Row],[Acronym]],AcronymList,0),1)","v":{"$error":"#N/A"}},{"$f":"INDEX(Organizations[],MATCH(Main3WData16[[#This Row],[Acronym]],AcronymList,0),3)","v":{"$error":"#N/A"}},"Santé","Regulier","Tombouctou",{"$f":"VLOOKUP(Main3WData16[[#This Row],[Admin Unit Name]],AdminUnits[],2,FALSE)","v":"ML06"},{"$f":"VLOOKUP(Main3WData16[[#This Row],[Admin Unit Name]],AdminUnits[],3,FALSE)","v":"Nord"},{"$f":"VLOOKUP(Main3WData16[[#This Row],[Admin Unit Name]],AdminUnits[],4,FALSE)","v":6},{"$f":"VLOOKUP(Main3WData16[[#This Row],[Sector]],Sectors[],2,FALSE)","v":6}]
[null,"Handicap International",{"$f":"INDEX(Organizations[],MATCH(Main3WData16[[#This Row],[Acronym]],AcronymList,0),1)","v":{"$error":"#N/A"}},{"$f":"INDEX(Organizations[],MATCH(Main3WData16[[#This Row],[Acronym]],AcronymList,0),3)","v":{"$error":"#N/A"}},"Sécurité alimentaire","Regulier","Tombouctou",{"$f":"VLOOKUP(Main3WData16[[#This Row],[Admin Unit Name]],AdminUnits[],2,FALSE)","v":"ML06"},{"$f":"VLOOKUP(Main3WData16[[#This Row],[Admin Unit Name]],AdminUnits[],3,FALSE)","v":"Nord"},{"$f":"VLOOKUP(Main3WData16[[#This Row],[Admin Unit Name]],AdminUnits[],4,FALSE)","v":6},{"$f":"VLOOKUP(Main3WData16[[#This Row],[Sector]],Sectors[],2,FALSE)","v":7}]
[null,"GREFFA",{"$f":"INDEX(Organizations[],MATCH(Main3WData16[[#This Row],[Acronym]],AcronymList,0),1)","v":"GREFFA"},{"$f":"INDEX(Organizations[],MATCH(Main3WData16[[#This Row],[Acronym]],AcronymList,0),3)","v":"ONG Nat."},"Protection","Regulier","Gao",{"$f":"VLOOKUP(Main3WData16[[#This Row],[Admin Unit Name]],AdminUnits[],2,FALSE)","v":"ML07"},{"$f":"VLOOKUP(Main3WData16[[#This Row],[Admin Unit Name]],AdminUnits[],3,FALSE)","v":"Nord"},{"$f":"VLOOKUP(Main3WData16[[#This Row],[Admin Unit Name]],AdminUnits[],4,FALSE)","v":7},{"$f":"VLOOKUP(Main3WData16[[#This Row],[Sector]],Sectors[],2,FALSE)","v":5}]
[null,"GREFFA",{"$f":"INDEX(Organizations[],MATCH(Main3WData16[[#This Row],[Acronym]],AcronymList,0),1)","v":"GREFFA"},{"$f":"INDEX(Organizations[],MATCH(Main3WData16[[#This Row],[Acronym]],AcronymList,0),3)","v":"ONG Nat."},"Protection","Regulier","Kidal",{"$f":"VLOOKUP(Main3WData16[[#This Row],[Admin Unit Name]],AdminUnits[],2,FALSE)","v":"ML08"},{"$f":"VLOOKUP(Main3WData16[[#This Row],[Admin Unit Name]],AdminUnits[],3,FALSE)","v":"Nord"},{"$f":"VLOOKUP(Main3WData16[[#This Row],[Admin Unit Name]],AdminUnits[],4,FALSE)","v":8},{"$f":"VLOOKUP(Main3WData16[[#This Row],[Sector]],Sectors[],2,FALSE)","v":5}]
[null,"GREFFA",{"$f":"INDEX(Organizations[],MATCH(Main3WData16[[#This Row],[Acronym]],AcronymList,0),1)","v":"GREFFA"},{"$f":"INDEX(Organizations[],MATCH(Main3WData16[[#This Row],[Acronym]],AcronymList,0),3)","v":"ONG Nat."},"Protection","Regulier","Segou",{"$f":"VLOOKUP(Main3WData16[[#This Row],[Admin Unit Name]],AdminUnits[],2,FALSE)","v":"ML04"},{"$f":"VLOOKUP(Main3WData16[[#This Row],[Admin Unit Name]],AdminUnits[],3,FALSE)","v":"Sud"},{"$f":"VLOOKUP(Main3WData16[[#This Row],[Admin Unit Name]],AdminUnits[],4,FALSE)","v":4},{"$f":"VLOOKUP(Main3WData16[[#This Row],[Sector]],Sectors[],2,FALSE)","v":5}]
[null,"GREFFA",{"$f":"INDEX(Organizations[],MATCH(Main3WData16[[#This Row],[Acronym]],AcronymList,0),1)","v":"GREFFA"},{"$f":"INDEX(Organizations[],MATCH(Main3WData16[[#This Row],[Acronym]],AcronymList,0),3)","v":"ONG Nat."},"Protection","Regulier","Tombouctou",{"$f":"VLOOKUP(Main3WData16[[#This Row],[Admin Unit Name]],AdminUnits[],2,FALSE)","v":"ML06"},{"$f":"VLOOKUP(Main3WData16[[#This Row],[Admin Unit Name]],AdminUnits[],3,FALSE)","v":"Nord"},{"$f":"VLOOKUP(Main3WData16[[#This Row],[Admin Unit Name]],AdminUnits[],4,FALSE)","v":6},{"$f":"VLOOKUP(Main3WData16[[#This Row],[Sector]],Sectors[],2,FALSE)","v":5}]
[null,"GREFFA",{"$f":"INDEX(Organizations[],MATCH(Main3WData16[[#This Row],[Acronym]],AcronymList,0),1)","v":"GREFFA"},{"$f":"INDEX(Organizations[],MATCH(Main3WData16[[#This Row],[Acronym]],AcronymList,0),3)","v":"ONG Nat."},"Santé","Regulier","Bamako",{"$f":"VLOOKUP(Main3WData16[[#This Row],[Admin Unit Name]],AdminUnits[],2,FALSE)","v":"ML09"},{"$f":"VLOOKUP(Main3WData16[[#This Row],[Admin Unit Name]],AdminUnits[],3,FALSE)","v":"Sud"},{"$f":"VLOOKUP(Main3WData16[[#This Row],[Admin Unit Name]],AdminUnits[],4,FALSE)","v":0},{"$f":"VLOOKUP(Main3WData16[[#This Row],[Sector]],Sectors[],2,FALSE)","v":6}]
[null,"GREFFA",{"$f":"INDEX(Organizations[],MATCH(Main3WData16[[#This Row],[Acronym]],AcronymList,0),1)","v":"GREFFA"},{"$f":"INDEX(Organizations[],MATCH(Main3WData16[[#This Row],[Acronym]],AcronymList,0),3)","v":"ONG Nat."},"Santé","Regulier","Gao",{"$f":"VLOOKUP(Main3WData16[[#This Row],[Admin Unit Name]],AdminUnits[],2,FALSE)","v":"ML07"},{"$f":"VLOOKUP(Main3WData16[[#This Row],[Admin Unit Name]],AdminUnits[],3,FALSE)","v":"Nord"},{"$f":"VLOOKUP(Main3WData16[[#This Row],[Admin Unit Name]],AdminUnits[],4,FALSE)","v":7},{"$f":"VLOOKUP(Main3WData16[[#This Row],[Sector]],Sectors[],2,FALSE)","v":6}]
[null,"GREFFA",{"$f":"INDEX(Organizations[],MATCH(Main3WData16[[#This Row],[Acronym]],AcronymList,0),1)","v":"GREFFA"},{"$f":"INDEX(Organizations[],MATCH(Main3WData16[[#This Row],[Acronym]],AcronymList,0),3)","v":"ONG Nat."},"Santé","Regulier","Kidal",{"$f":"VLOOKUP(Main3WData16[[#This Row],[Admin Unit Name]],AdminUnits[],2,FALSE)","v":"ML08"},{"$f":"VLOOKUP(Main3WData16[[#This Row],[Admin Unit Name]],AdminUnits[],3,FALSE)","v":"Nord"},{"$f":"VLOOKUP(Main3WData16[[#This Row],[Admin Unit Name]],AdminUnits[],4,FALSE)","v":8},{"$f":"VLOOKUP(Main3WData16[[#This Row],[Sector]],Sectors[],2,FALSE)","v":6}]
[null,"GREFFA",{"$f":"INDEX(Organizations[],MATCH(Main3WData16[[#This Row],[Acronym]],AcronymList,0),1)","v":"GREFFA"},{"$f":"INDEX(Organizations[],MATCH(Main3WData16[[#This Row],[Acronym]],AcronymList,0),3)","v":"ONG Nat."},"Sécurité alimentaire","Regulier","Gao",{"$f":"VLOOKUP(Main3WData16[[#This Row],[Admin Unit Name]],AdminUnits[],2,FALSE)","v":"ML07"},{"$f":"VLOOKUP(Main3WData16[[#This Row],[Admin Unit Name]],AdminUnits[],3,FALSE)","v":"Nord"},{"$f":"VLOOKUP(Main3WData16[[#This Row],[Admin Unit Name]],AdminUnits[],4,FALSE)","v":7},{"$f":"VLOOKUP(Main3WData16[[#This Row],[Sector]],Sectors[],2,FALSE)","v":7}]
[null,"GRDR",{"$f":"INDEX(Organizations[],MATCH(Main3WData16[[#This Row],[Acronym]],AcronymList,0),1)","v":"Groupe de Recherche et de Réalisation en Développement Rural "},{"$f":"INDEX(Organizations[],MATCH(Main3WData16[[#This Row],[Acronym]],AcronymList,0),3)","v":"ONG Int."},"Sécurité alimentaire","Regulier","Bamako",{"$f":"VLOOKUP(Main3WData16[[#This Row],[Admin Unit Name]],AdminUnits[],2,FALSE)","v":"ML09"},{"$f":"VLOOKUP(Main3WData16[[#This Row],[Admin Unit Name]],AdminUnits[],3,FALSE)","v":"Sud"},{"$f":"VLOOKUP(Main3WData16[[#This Row],[Admin Unit Name]],AdminUnits[],4,FALSE)","v":0},{"$f":"VLOOKUP(Main3WData16[[#This Row],[Sector]],Sectors[],2,FALSE)","v":7}]
[null,"GRDR",{"$f":"INDEX(Organizations[],MATCH(Main3WData16[[#This Row],[Acronym]],AcronymList,0),1)","v":"Groupe de Recherche et de Réalisation en Développement Rural "},{"$f":"INDEX(Organizations[],MATCH(Main3WData16[[#This Row],[Acronym]],AcronymList,0),3)","v":"ONG Int."},"Sécurité alimentaire","Regulier","Kayes",{"$f":"VLOOKUP(Main3WData16[[#This Row],[Admin Unit Name]],AdminUnits[],2,FALSE)","v":"ML01"},{"$f":"VLOOKUP(Main3WData16[[#This Row],[Admin Unit Name]],AdminUnits[],3,FALSE)","v":"Sud"},{"$f":"VLOOKUP(Main3WData16[[#This Row],[Admin Unit Name]],AdminUnits[],4,FALSE)","v":1},{"$f":"VLOOKUP(Main3WData16[[#This Row],[Sector]],Sectors[],2,FALSE)","v":7}]
[null,"GRDR",{"$f":"INDEX(Organizations[],MATCH(Main3WData16[[#This Row],[Acronym]],AcronymList,0),1)","v":"Groupe de Recherche et de Réalisation en Développement Rural "},{"$f":"INDEX(Organizations[],MATCH(Main3WData16[[#This Row],[Acronym]],AcronymList,0),3)","v":"ONG Int."},"Sécurité alimentaire","Regulier","Koulikoro",{"$f":"VLOOKUP(Main3WData16[[#This Row],[Admin Unit Name]],AdminUnits[],2,FALSE)","v":"ML02"},{"$f":"VLOOKUP(Main3WData16[[#This Row],[Admin Unit Name]],AdminUnits[],3,FALSE)","v":"Sud"},{"$f":"VLOOKUP(Main3WData16[[#This Row],[Admin Unit Name]],AdminUnits[],4,FALSE)","v":2},{"$f":"VLOOKUP(Main3WData16[[#This Row],[Sector]],Sectors[],2,FALSE)","v":7}]
[null,"GRDR",{"$f":"INDEX(Organizations[],MATCH(Main3WData16[[#This Row],[Acronym]],AcronymList,0),1)","v":"Groupe de Recherche et de Réalisation en Développement Rural "},{"$f":"INDEX(Organizations[],MATCH(Main3WData16[[#This Row],[Acronym]],AcronymList,0),3)","v":"ONG Int."},"Sécurité alimentaire","Regulier","Sikasso",{"$f":"VLOOKUP(Main3WData16[[#This Row],[Admin Unit Name]],AdminUnits[],2,FALSE)","v":"ML03"},{"$f":"VLOOKUP(Main3WData16[[#This Row],[Admin Unit Name]],AdminUnits[],3,FALSE)","v":"Sud"},{"$f":"VLOOKUP(Main3WData16[[#This Row],[Admin Unit Name]],AdminUnits[],4,FALSE)","v":3},{"$f":"VLOOKUP(Main3WData16[[#This Row],[Sector]],Sectors[],2,FALSE)","v":7}]
[null,"GRAT",{"$f":"INDEX(Organizations[],MATCH(Main3WData16[[#This Row],[Acronym]],AcronymList,0),1)","v":"GRAT"},{"$f":"INDEX(Organizations[],MATCH(Main3WData16[[#This Row],[Acronym]],AcronymList,0),3)","v":"ONG Nat."},"Sécurité alimentaire","Regulier","Mopti",{"$f":"VLOOKUP(Main3WData16[[#This Row],[Admin Unit Name]],AdminUnits[],2,FALSE)","v":"ML05"},{"$f":"VLOOKUP(Main3WData16[[#This Row],[Admin Unit Name]],AdminUnits[],3,FALSE)","v":"Sud"},{"$f":"VLOOKUP(Main3WData16[[#This Row],[Admin Unit Name]],AdminUnits[],4,FALSE)","v":5},{"$f":"VLOOKUP(Main3WData16[[#This Row],[Sector]],Sectors[],2,FALSE)","v":7}]
[null,"GAAS-Mali",{"$f":"INDEX(Organizations[],MATCH(Main3WData16[[#This Row],[Acronym]],AcronymList,0),1)","v":{"$error":"#N/A"}},{"$f":"INDEX(Organizations[],MATCH(Main3WData16[[#This Row],[Acronym]],AcronymList,0),3)","v":{"$error":"#N/A"}},"Sécurité alimentaire","Regulier","Mopti",{"$f":"VLOOKUP(Main3WData16[[#This Row],[Admin Unit Name]],AdminUnits[],2,FALSE)","v":"ML05"},{"$f":"VLOOKUP(Main3WData16[[#This Row],[Admin Unit Name]],AdminUnits[],3,FALSE)","v":"Sud"},{"$f":"VLOOKUP(Main3WData16[[#This Row],[Admin Unit Name]],AdminUnits[],4,FALSE)","v":5},{"$f":"VLOOKUP(Main3WData16[[#This Row],[Sector]],Sectors[],2,FALSE)","v":7}]
[null,"Fondation Novartis",{"$f":"INDEX(Organizations[],MATCH(Main3WData16[[#This Row],[Acronym]],AcronymList,0),1)","v":"Fondation Novartis"},{"$f":"INDEX(Organizations[],MATCH(Main3WData16[[#This Row],[Acronym]],AcronymList,0),3)","v":"Fondation"},"Santé","Regulier","Segou",{"$f":"VLOOKUP(Main3WData16[[#This Row],[Admin Unit Name]],AdminUnits[],2,FALSE)","v":"ML04"},{"$f":"VLOOKUP(Main3WData16[[#This Row],[Admin Unit Name]],AdminUnits[],3,FALSE)","v":"Sud"},{"$f":"VLOOKUP(Main3WData16[[#This Row],[Admin Unit Name]],AdminUnits[],4,FALSE)","v":4},{"$f":"VLOOKUP(Main3WData16[[#This Row],[Sector]],Sectors[],2,FALSE)","v":6}]
[null,"Fondation Intervida",{"$f":"INDEX(Organizations[],MATCH(Main3WData16[[#This Row],[Acronym]],AcronymList,0),1)","v":"Fondation Intervida"},{"$f":"INDEX(Organizations[],MATCH(Main3WData16[[#This Row],[Acronym]],AcronymList,0),3)","v":"Fondation"},"Santé","Regulier","Segou",{"$f":"VLOOKUP(Main3WData16[[#This Row],[Admin Unit Name]],AdminUnits[],2,FALSE)","v":"ML04"},{"$f":"VLOOKUP(Main3WData16[[#This Row],[Admin Unit Name]],AdminUnits[],3,FALSE)","v":"Sud"},{"$f":"VLOOKUP(Main3WData16[[#This Row],[Admin Unit Name]],AdminUnits[],4,FALSE)","v":4},{"$f":"VLOOKUP(Main3WData16[[#This Row],[Sector]],Sectors[],2,FALSE)","v":6}]
[null,"FIDA",{"$f":"INDEX(Organizations[],MATCH(Main3WData16[[#This Row],[Acronym]],AcronymList,0),1)","v":"Fonds international de développement agricole"},{"$f":"INDEX(Organizations[],MATCH(Main3WData16[[#This Row],[Acronym]],AcronymList,0),3)","v":"UN"},"Santé","Regulier","Gao",{"$f":"VLOOKUP(Main3WData16[[#This Row],[Admin Unit Name]],AdminUnits[],2,FALSE)","v":"ML07"},{"$f":"VLOOKUP(Main3WData16[[#This Row],[Admin Unit Name]],AdminUnits[],3,FALSE)","v":"Nord"},{"$f":"VLOOKUP(Main3WData16[[#This Row],[Admin Unit Name]],AdminUnits[],4,FALSE)","v":7},{"$f":"VLOOKUP(Main3WData16[[#This Row],[Sector]],Sectors[],2,FALSE)","v":6}]
[null,"FIDA",{"$f":"INDEX(Organizations[],MATCH(Main3WData16[[#This Row],[Acronym]],AcronymList,0),1)","v":"Fonds international de développement agricole"},{"$f":"INDEX(Organizations[],MATCH(Main3WData16[[#This Row],[Acronym]],AcronymList,0),3)","v":"UN"},"Santé","Regulier","Kidal",{"$f":"VLOOKUP(Main3WData16[[#This Row],[Admin Unit Name]],AdminUnits[],2,FALSE)","v":"ML08"},{"$f":"VLOOKUP(Main3WData16[[#This Row],[Admin Unit Name]],AdminUnits[],3,FALSE)","v":"Nord"},{"$f":"VLOOKUP(Main3WData16[[#This Row],[Admin Unit Name]],AdminUnits[],4,FALSE)","v":8},{"$f":"VLOOKUP(Main3WData16[[#This Row],[Sector]],Sectors[],2,FALSE)","v":6}]
[null,"FIDA",{"$f":"INDEX(Organizations[],MATCH(Main3WData16[[#This Row],[Acronym]],AcronymList,0),1)","v":"Fonds international de développement agricole"},{"$f":"INDEX(Organizations[],MATCH(Main3WData16[[#This Row],[Acronym]],AcronymList,0),3)","v":"UN"},"Santé","Regulier","Tombouctou",{"$f":"VLOOKUP(Main3WData16[[#This Row],[Admin Unit Name]],AdminUnits[],2,FALSE)","v":"ML06"},{"$f":"VLOOKUP(Main3WData16[[#This Row],[Admin Unit Name]],AdminUnits[],3,FALSE)","v":"Nord"},{"$f":"VLOOKUP(Main3WData16[[#This Row],[Admin Unit Name]],AdminUnits[],4,FALSE)","v":6},{"$f":"VLOOKUP(Main3WData16[[#This Row],[Sector]],Sectors[],2,FALSE)","v":6}]
[null,"FENAFER",{"$f":"INDEX(Organizations[],MATCH(Main3WData16[[#This Row],[Acronym]],AcronymList,0),1)","v":"Fédération Nationale des Femmes Rurales du Mali"},{"$f":"INDEX(Organizations[],MATCH(Main3WData16[[#This Row],[Acronym]],AcronymList,0),3)","v":"Association"},"Sécurité alimentaire","Regulier","Bamako",{"$f":"VLOOKUP(Main3WData16[[#This Row],[Admin Unit Name]],AdminUnits[],2,FALSE)","v":"ML09"},{"$f":"VLOOKUP(Main3WData16[[#This Row],[Admin Unit Name]],AdminUnits[],3,FALSE)","v":"Sud"},{"$f":"VLOOKUP(Main3WData16[[#This Row],[Admin Unit Name]],AdminUnits[],4,FALSE)","v":0},{"$f":"VLOOKUP(Main3WData16[[#This Row],[Sector]],Sectors[],2,FALSE)","v":7}]
[null,"FEBEVIM",{"$f":"INDEX(Organizations[],MATCH(Main3WData16[[#This Row],[Acronym]],AcronymList,0),1)","v":"Fédération Nationale de la Filière Bétail et Viande"},{"$f":"INDEX(Organizations[],MATCH(Main3WData16[[#This Row],[Acronym]],AcronymList,0),3)","v":"Association"},"Sécurité alimentaire","Regulier","Mopti",{"$f":"VLOOKUP(Main3WData16[[#This Row],[Admin Unit Name]],AdminUnits[],2,FALSE)","v":"ML05"},{"$f":"VLOOKUP(Main3WData16[[#This Row],[Admin Unit Name]],AdminUnits[],3,FALSE)","v":"Sud"},{"$f":"VLOOKUP(Main3WData16[[#This Row],[Admin Unit Name]],AdminUnits[],4,FALSE)","v":5},{"$f":"VLOOKUP(Main3WData16[[#This Row],[Sector]],Sectors[],2,FALSE)","v":7}]
[null,"FAO",{"$f":"INDEX(Organizations[],MATCH(Main3WData16[[#This Row],[Acronym]],AcronymList,0),1)","v":"United Nations Food and Agriculture Organization"},{"$f":"INDEX(Organizations[],MATCH(Main3WData16[[#This Row],[Acronym]],AcronymList,0),3)","v":"UN"},"Coordination","Regulier","Bamako",{"$f":"VLOOKUP(Main3WData16[[#This Row],[Admin Unit Name]],AdminUnits[],2,FALSE)","v":"ML09"},{"$f":"VLOOKUP(Main3WData16[[#This Row],[Admin Unit Name]],AdminUnits[],3,FALSE)","v":"Sud"},{"$f":"VLOOKUP(Main3WData16[[#This Row],[Admin Unit Name]],AdminUnits[],4,FALSE)","v":0},{"$f":"VLOOKUP(Main3WData16[[#This Row],[Sector]],Sectors[],2,FALSE)","v":2}]
[null,"FAO",{"$f":"INDEX(Organizations[],MATCH(Main3WData16[[#This Row],[Acronym]],AcronymList,0),1)","v":"United Nations Food and Agriculture Organization"},{"$f":"INDEX(Organizations[],MATCH(Main3WData16[[#This Row],[Acronym]],AcronymList,0),3)","v":"UN"},"Sécurité alimentaire","Regulier","Koulikoro",{"$f":"VLOOKUP(Main3WData16[[#This Row],[Admin Unit Name]],AdminUnits[],2,FALSE)","v":"ML02"},{"$f":"VLOOKUP(Main3WData16[[#This Row],[Admin Unit Name]],AdminUnits[],3,FALSE)","v":"Sud"},{"$f":"VLOOKUP(Main3WData16[[#This Row],[Admin Unit Name]],AdminUnits[],4,FALSE)","v":2},{"$f":"VLOOKUP(Main3WData16[[#This Row],[Sector]],Sectors[],2,FALSE)","v":7}]
[null,"FAO",{"$f":"INDEX(Organizations[],MATCH(Main3WData16[[#This Row],[Acronym]],AcronymList,0),1)","v":"United Nations Food and Agriculture Organization"},{"$f":"INDEX(Organizations[],MATCH(Main3WData16[[#This Row],[Acronym]],AcronymList,0),3)","v":"UN"},"Sécurité alimentaire","Regulier","Mopti",{"$f":"VLOOKUP(Main3WData16[[#This Row],[Admin Unit Name]],AdminUnits[],2,FALSE)","v":"ML05"},{"$f":"VLOOKUP(Main3WData16[[#This Row],[Admin Unit Name]],AdminUnits[],3,FALSE)","v":"Sud"},{"$f":"VLOOKUP(Main3WData16[[#This Row],[Admin Unit Name]],AdminUnits[],4,FALSE)","v":5},{"$f":"VLOOKUP(Main3WData16[[#This Row],[Sector]],Sectors[],2,FALSE)","v":7}]
[null,"FAO",{"$f":"INDEX(Organizations[],MATCH(Main3WData16[[#This Row],[Acronym]],AcronymList,0),1)","v":"United Nations Food and Agriculture Organization"},{"$f":"INDEX(Organizations[],MATCH(Main3WData16[[#This Row],[Acronym]],AcronymList,0),3)","v":"UN"},"Sécurité alimentaire","Regulier","Segou",{"$f":"VLOOKUP(Main3WData16[[#This Row],[Admin Unit Name]],AdminUnits[],2,FALSE)","v":"ML04"},{"$f":"VLOOKUP(Main3WData16[[#This Row],[Admin Unit Name]],AdminUnits[],3,FALSE)","v":"Sud"},{"$f":"VLOOKUP(Main3WData16[[#This Row],[Admin Unit Name]],AdminUnits[],4,FALSE)","v":4},{"$f":"VLOOKUP(Main3WData16[[#This Row],[Sector]],Sectors[],2,FALSE)","v":7}]
[null,"FAO",{"$f":"INDEX(Organizations[],MATCH(Main3WData16[[#This Row],[Acronym]],AcronymList,0),1)","v":"United Nations Food and Agriculture Organization"},{"$f":"INDEX(Organizations[],MATCH(Main3WData16[[#This Row],[Acronym]],AcronymList,0),3)","v":"UN"},"Sécurité alimentaire","Regulier","Tombouctou",{"$f":"VLOOKUP(Main3WData16[[#This Row],[Admin Unit Name]],AdminUnits[],2,FALSE)","v":"ML06"},{"$f":"VLOOKUP(Main3WData16[[#This Row],[Admin Unit Name]],AdminUnits[],3,FALSE)","v":"Nord"},{"$f":"VLOOKUP(Main3WData16[[#This Row],[Admin Unit Name]],AdminUnits[],4,FALSE)","v":6},{"$f":"VLOOKUP(Main3WData16[[#This Row],[Sector]],Sectors[],2,FALSE)","v":7}]
[null,"EFFAD",{"$f":"INDEX(Organizations[],MATCH(Main3WData16[[#This Row],[Acronym]],AcronymList,0),1)","v":"EFFAD"},{"$f":"INDEX(Organizations[],MATCH(Main3WData16[[#This Row],[Acronym]],AcronymList,0),3)","v":"ONG Nat."},"Sécurité alimentaire","Regulier","Kidal",{"$f":"VLOOKUP(Main3WData16[[#This Row],[Admin Unit Name]],AdminUnits[],2,FALSE)","v":"ML08"},{"$f":"VLOOKUP(Main3WData16[[#This Row],[Admin Unit Name]],AdminUnits[],3,FALSE)","v":"Nord"},{"$f":"VLOOKUP(Main3WData16[[#This Row],[Admin Unit Name]],AdminUnits[],4,FALSE)","v":8},{"$f":"VLOOKUP(Main3WData16[[#This Row],[Sector]],Sectors[],2,FALSE)","v":7}]
[null,"DRC",{"$f":"INDEX(Organizations[],MATCH(Main3WData16[[#This Row],[Acronym]],AcronymList,0),1)","v":"Danish Refugee Council"},{"$f":"INDEX(Organizations[],MATCH(Main3WData16[[#This Row],[Acronym]],AcronymList,0),3)","v":"ONG Int."},"Education","Regulier","Mopti",{"$f":"VLOOKUP(Main3WData16[[#This Row],[Admin Unit Name]],AdminUnits[],2,FALSE)","v":"ML05"},{"$f":"VLOOKUP(Main3WData16[[#This Row],[Admin Unit Name]],AdminUnits[],3,FALSE)","v":"Sud"},{"$f":"VLOOKUP(Main3WData16[[#This Row],[Admin Unit Name]],AdminUnits[],4,FALSE)","v":5},{"$f":"VLOOKUP(Main3WData16[[#This Row],[Sector]],Sectors[],2,FALSE)","v":3}]
[null,"DRC",{"$f":"INDEX(Organizations[],MATCH(Main3WData16[[#This Row],[Acronym]],AcronymList,0),1)","v":"Danish Refugee Council"},{"$f":"INDEX(Organizations[],MATCH(Main3WData16[[#This Row],[Acronym]],AcronymList,0),3)","v":"ONG Int."},"Sécurité alimentaire","Regulier","Mopti",{"$f":"VLOOKUP(Main3WData16[[#This Row],[Admin Unit Name]],AdminUnits[],2,FALSE)","v":"ML05"},{"$f":"VLOOKUP(Main3WData16[[#This Row],[Admin Unit Name]],AdminUnits[],3,FALSE)","v":"Sud"},{"$f":"VLOOKUP(Main3WData16[[#This Row],[Admin Unit Name]],AdminUnits[],4,FALSE)","v":5},{"$f":"VLOOKUP(Main3WData16[[#This Row],[Sector]],Sectors[],2,FALSE)","v":7}]
[null,"DanChurchAid",{"$f":"INDEX(Organizations[],MATCH(Main3WData16[[#This Row],[Acronym]],AcronymList,0),1)","v":"DanChurchAid"},{"$f":"INDEX(Organizations[],MATCH(Main3WData16[[#This Row],[Acronym]],AcronymList,0),3)","v":"ONG Int."},"Protection","Regulier","Gao",{"$f":"VLOOKUP(Main3WData16[[#This Row],[Admin Unit Name]],AdminUnits[],2,FALSE)","v":"ML07"},{"$f":"VLOOKUP(Main3WData16[[#This Row],[Admin Unit Name]],AdminUnits[],3,FALSE)","v":"Nord"},{"$f":"VLOOKUP(Main3WData16[[#This Row],[Admin Unit Name]],AdminUnits[],4,FALSE)","v":7},{"$f":"VLOOKUP(Main3WData16[[#This Row],[Sector]],Sectors[],2,FALSE)","v":5}]
[null,"DAMIER",{"$f":"INDEX(Organizations[],MATCH(Main3WData16[[#This Row],[Acronym]],AcronymList,0),1)","v":"Le DAMIER"},{"$f":"INDEX(Organizations[],MATCH(Main3WData16[[#This Row],[Acronym]],AcronymList,0),3)","v":"ONG Nat."},"Sécurité alimentaire","Regulier","Kayes",{"$f":"VLOOKUP(Main3WData16[[#This Row],[Admin Unit Name]],AdminUnits[],2,FALSE)","v":"ML01"},{"$f":"VLOOKUP(Main3WData16[[#This Row],[Admin Unit Name]],AdminUnits[],3,FALSE)","v":"Sud"},{"$f":"VLOOKUP(Main3WData16[[#This Row],[Admin Unit Name]],AdminUnits[],4,FALSE)","v":1},{"$f":"VLOOKUP(Main3WData16[[#This Row],[Sector]],Sectors[],2,FALSE)","v":7}]
[null,"CSPEEDA",{"$f":"INDEX(Organizations[],MATCH(Main3WData16[[#This Row],[Acronym]],AcronymList,0),1)","v":"CSPEEDA"},{"$f":"INDEX(Organizations[],MATCH(Main3WData16[[#This Row],[Acronym]],AcronymList,0),3)","v":"ONG Nat."},"Sécurité alimentaire","Regulier","Koulikoro",{"$f":"VLOOKUP(Main3WData16[[#This Row],[Admin Unit Name]],AdminUnits[],2,FALSE)","v":"ML02"},{"$f":"VLOOKUP(Main3WData16[[#This Row],[Admin Unit Name]],AdminUnits[],3,FALSE)","v":"Sud"},{"$f":"VLOOKUP(Main3WData16[[#This Row],[Admin Unit Name]],AdminUnits[],4,FALSE)","v":2},{"$f":"VLOOKUP(Main3WData16[[#This Row],[Sector]],Sectors[],2,FALSE)","v":7}]
[null,"CRS",{"$f":"INDEX(Organizations[],MATCH(Main3WData16[[#This Row],[Acronym]],AcronymList,0),1)","v":"Catholic Relief Services"},{"$f":"INDEX(Organizations[],MATCH(Main3WData16[[#This Row],[Acronym]],AcronymList,0),3)","v":"ONG Int."},"Education","Regulier","Mopti",{"$f":"VLOOKUP(Main3WData16[[#This Row],[Admin Unit Name]],AdminUnits[],2,FALSE)","v":"ML05"},{"$f":"VLOOKUP(Main3WData16[[#This Row],[Admin Unit Name]],AdminUnits[],3,FALSE)","v":"Sud"},{"$f":"VLOOKUP(Main3WData16[[#This Row],[Admin Unit Name]],AdminUnits[],4,FALSE)","v":5},{"$f":"VLOOKUP(Main3WData16[[#This Row],[Sector]],Sectors[],2,FALSE)","v":3}]
[null,"CRS",{"$f":"INDEX(Organizations[],MATCH(Main3WData16[[#This Row],[Acronym]],AcronymList,0),1)","v":"Catholic Relief Services"},{"$f":"INDEX(Organizations[],MATCH(Main3WData16[[#This Row],[Acronym]],AcronymList,0),3)","v":"ONG Int."},"Education","Regulier","Koulikoro",{"$f":"VLOOKUP(Main3WData16[[#This Row],[Admin Unit Name]],AdminUnits[],2,FALSE)","v":"ML02"},{"$f":"VLOOKUP(Main3WData16[[#This Row],[Admin Unit Name]],AdminUnits[],3,FALSE)","v":"Sud"},{"$f":"VLOOKUP(Main3WData16[[#This Row],[Admin Unit Name]],AdminUnits[],4,FALSE)","v":2},{"$f":"VLOOKUP(Main3WData16[[#This Row],[Sector]],Sectors[],2,FALSE)","v":3}]
[null,"CRS",{"$f":"INDEX(Organizations[],MATCH(Main3WData16[[#This Row],[Acronym]],AcronymList,0),1)","v":"Catholic Relief Services"},{"$f":"INDEX(Organizations[],MATCH(Main3WData16[[#This Row],[Acronym]],AcronymList,0),3)","v":"ONG Int."},"Nutrition","Regulier","Koulikoro",{"$f":"VLOOKUP(Main3WData16[[#This Row],[Admin Unit Name]],AdminUnits[],2,FALSE)","v":"ML02"},{"$f":"VLOOKUP(Main3WData16[[#This Row],[Admin Unit Name]],AdminUnits[],3,FALSE)","v":"Sud"},{"$f":"VLOOKUP(Main3WData16[[#This Row],[Admin Unit Name]],AdminUnits[],4,FALSE)","v":2},{"$f":"VLOOKUP(Main3WData16[[#This Row],[Sector]],Sectors[],2,FALSE)","v":4}]
[null,"CRS",{"$f":"INDEX(Organizations[],MATCH(Main3WData16[[#This Row],[Acronym]],AcronymList,0),1)","v":"Catholic Relief Services"},{"$f":"INDEX(Organizations[],MATCH(Main3WData16[[#This Row],[Acronym]],AcronymList,0),3)","v":"ONG Int."},"Nutrition","Regulier","Mopti",{"$f":"VLOOKUP(Main3WData16[[#This Row],[Admin Unit Name]],AdminUnits[],2,FALSE)","v":"ML05"},{"$f":"VLOOKUP(Main3WData16[[#This Row],[Admin Unit Name]],AdminUnits[],3,FALSE)","v":"Sud"},{"$f":"VLOOKUP(Main3WData16[[#This Row],[Admin Unit Name]],AdminUnits[],4,FALSE)","v":5},{"$f":"VLOOKUP(Main3WData16[[#This Row],[Sector]],Sectors[],2,FALSE)","v":4}]
[null,"CRS",{"$f":"INDEX(Organizations[],MATCH(Main3WData16[[#This Row],[Acronym]],AcronymList,0),1)","v":"Catholic Relief Services"},{"$f":"INDEX(Organizations[],MATCH(Main3WData16[[#This Row],[Acronym]],AcronymList,0),3)","v":"ONG Int."},"Sécurité alimentaire","Regulier","Koulikoro",{"$f":"VLOOKUP(Main3WData16[[#This Row],[Admin Unit Name]],AdminUnits[],2,FALSE)","v":"ML02"},{"$f":"VLOOKUP(Main3WData16[[#This Row],[Admin Unit Name]],AdminUnits[],3,FALSE)","v":"Sud"},{"$f":"VLOOKUP(Main3WData16[[#This Row],[Admin Unit Name]],AdminUnits[],4,FALSE)","v":2},{"$f":"VLOOKUP(Main3WData16[[#This Row],[Sector]],Sectors[],2,FALSE)","v":7}]
[null,"CRS",{"$f":"INDEX(Organizations[],MATCH(Main3WData16[[#This Row],[Acronym]],AcronymList,0),1)","v":"Catholic Relief Services"},{"$f":"INDEX(Organizations[],MATCH(Main3WData16[[#This Row],[Acronym]],AcronymList,0),3)","v":"ONG Int."},"Sécurité alimentaire","Regulier","Mopti",{"$f":"VLOOKUP(Main3WData16[[#This Row],[Admin Unit Name]],AdminUnits[],2,FALSE)","v":"ML05"},{"$f":"VLOOKUP(Main3WData16[[#This Row],[Admin Unit Name]],AdminUnits[],3,FALSE)","v":"Sud"},{"$f":"VLOOKUP(Main3WData16[[#This Row],[Admin Unit Name]],AdminUnits[],4,FALSE)","v":5},{"$f":"VLOOKUP(Main3WData16[[#This Row],[Sector]],Sectors[],2,FALSE)","v":7}]
[null,"CRS",{"$f":"INDEX(Organizations[],MATCH(Main3WData16[[#This Row],[Acronym]],AcronymList,0),1)","v":"Catholic Relief Services"},{"$f":"INDEX(Organizations[],MATCH(Main3WData16[[#This Row],[Acronym]],AcronymList,0),3)","v":"ONG Int."},"Sécurité alimentaire","Regulier","Segou",{"$f":"VLOOKUP(Main3WData16[[#This Row],[Admin Unit Name]],AdminUnits[],2,FALSE)","v":"ML04"},{"$f":"VLOOKUP(Main3WData16[[#This Row],[Admin Unit Name]],AdminUnits[],3,FALSE)","v":"Sud"},{"$f":"VLOOKUP(Main3WData16[[#This Row],[Admin Unit Name]],AdminUnits[],4,FALSE)","v":4},{"$f":"VLOOKUP(Main3WData16[[#This Row],[Sector]],Sectors[],2,FALSE)","v":7}]
[null,"CRS",{"$f":"INDEX(Organizations[],MATCH(Main3WData16[[#This Row],[Acronym]],AcronymList,0),1)","v":"Catholic Relief Services"},{"$f":"INDEX(Organizations[],MATCH(Main3WData16[[#This Row],[Acronym]],AcronymList,0),3)","v":"ONG Int."},"Sécurité alimentaire","Regulier","Sikasso",{"$f":"VLOOKUP(Main3WData16[[#This Row],[Admin Unit Name]],AdminUnits[],2,FALSE)","v":"ML03"},{"$f":"VLOOKUP(Main3WData16[[#This Row],[Admin Unit Name]],AdminUnits[],3,FALSE)","v":"Sud"},{"$f":"VLOOKUP(Main3WData16[[#This Row],[Admin Unit Name]],AdminUnits[],4,FALSE)","v":3},{"$f":"VLOOKUP(Main3WData16[[#This Row],[Sector]],Sectors[],2,FALSE)","v":7}]
[null,"CR-Mali",{"$f":"INDEX(Organizations[],MATCH(Main3WData16[[#This Row],[Acronym]],AcronymList,0),1)","v":"Croix-Rouge Mali"},{"$f":"INDEX(Organizations[],MATCH(Main3WData16[[#This Row],[Acronym]],AcronymList,0),3)","v":"Mouv. Croix-rouge"},"Abris et NFI","Regulier","Bamako",{"$f":"VLOOKUP(Main3WData16[[#This Row],[Admin Unit Name]],AdminUnits[],2,FALSE)","v":"ML09"},{"$f":"VLOOKUP(Main3WData16[[#This Row],[Admin Unit Name]],AdminUnits[],3,FALSE)","v":"Sud"},{"$f":"VLOOKUP(Main3WData16[[#This Row],[Admin Unit Name]],AdminUnits[],4,FALSE)","v":0},{"$f":"VLOOKUP(Main3WData16[[#This Row],[Sector]],Sectors[],2,FALSE)","v":1}]
[null,"CR-Mali",{"$f":"INDEX(Organizations[],MATCH(Main3WData16[[#This Row],[Acronym]],AcronymList,0),1)","v":"Croix-Rouge Mali"},{"$f":"INDEX(Organizations[],MATCH(Main3WData16[[#This Row],[Acronym]],AcronymList,0),3)","v":"Mouv. Croix-rouge"},"Abris et NFI","Regulier","MOPTI",{"$f":"VLOOKUP(Main3WData16[[#This Row],[Admin Unit Name]],AdminUnits[],2,FALSE)","v":"ML05"},{"$f":"VLOOKUP(Main3WData16[[#This Row],[Admin Unit Name]],AdminUnits[],3,FALSE)","v":"Sud"},{"$f":"VLOOKUP(Main3WData16[[#This Row],[Admin Unit Name]],AdminUnits[],4,FALSE)","v":5},{"$f":"VLOOKUP(Main3WData16[[#This Row],[Sector]],Sectors[],2,FALSE)","v":1}]
[null,"CR-Mali",{"$f":"INDEX(Organizations[],MATCH(Main3WData16[[#This Row],[Acronym]],AcronymList,0),1)","v":"Croix-Rouge Mali"},{"$f":"INDEX(Organizations[],MATCH(Main3WData16[[#This Row],[Acronym]],AcronymList,0),3)","v":"Mouv. Croix-rouge"},"Santé","Regulier","Gao",{"$f":"VLOOKUP(Main3WData16[[#This Row],[Admin Unit Name]],AdminUnits[],2,FALSE)","v":"ML07"},{"$f":"VLOOKUP(Main3WData16[[#This Row],[Admin Unit Name]],AdminUnits[],3,FALSE)","v":"Nord"},{"$f":"VLOOKUP(Main3WData16[[#This Row],[Admin Unit Name]],AdminUnits[],4,FALSE)","v":7},{"$f":"VLOOKUP(Main3WData16[[#This Row],[Sector]],Sectors[],2,FALSE)","v":6}]
[null,"CR-Mali",{"$f":"INDEX(Organizations[],MATCH(Main3WData16[[#This Row],[Acronym]],AcronymList,0),1)","v":"Croix-Rouge Mali"},{"$f":"INDEX(Organizations[],MATCH(Main3WData16[[#This Row],[Acronym]],AcronymList,0),3)","v":"Mouv. Croix-rouge"},"Santé","Regulier","Kayes",{"$f":"VLOOKUP(Main3WData16[[#This Row],[Admin Unit Name]],AdminUnits[],2,FALSE)","v":"ML01"},{"$f":"VLOOKUP(Main3WData16[[#This Row],[Admin Unit Name]],AdminUnits[],3,FALSE)","v":"Sud"},{"$f":"VLOOKUP(Main3WData16[[#This Row],[Admin Unit Name]],AdminUnits[],4,FALSE)","v":1},{"$f":"VLOOKUP(Main3WData16[[#This Row],[Sector]],Sectors[],2,FALSE)","v":6}]
[null,"CR-Mali",{"$f":"INDEX(Organizations[],MATCH(Main3WData16[[#This Row],[Acronym]],AcronymList,0),1)","v":"Croix-Rouge Mali"},{"$f":"INDEX(Organizations[],MATCH(Main3WData16[[#This Row],[Acronym]],AcronymList,0),3)","v":"Mouv. Croix-rouge"},"Sécurité alimentaire","Regulier","Mopti",{"$f":"VLOOKUP(Main3WData16[[#This Row],[Admin Unit Name]],AdminUnits[],2,FALSE)","v":"ML05"},{"$f":"VLOOKUP(Main3WData16[[#This Row],[Admin Unit Name]],AdminUnits[],3,FALSE)","v":"Sud"},{"$f":"VLOOKUP(Main3WData16[[#This Row],[Admin Unit Name]],AdminUnits[],4,FALSE)","v":5},{"$f":"VLOOKUP(Main3WData16[[#This Row],[Sector]],Sectors[],2,FALSE)","v":7}]
[null,"CR-Mali",{"$f":"INDEX(Organizations[],MATCH(Main3WData16[[#This Row],[Acronym]],AcronymList,0),1)","v":"Croix-Rouge Mali"},{"$f":"INDEX(Organizations[],MATCH(Main3WData16[[#This Row],[Acronym]],AcronymList,0),3)","v":"Mouv. Croix-rouge"},"Sécurité alimentaire","Regulier","Segou",{"$f":"VLOOKUP(Main3WData16[[#This Row],[Admin Unit Name]],AdminUnits[],2,FALSE)","v":"ML04"},{"$f":"VLOOKUP(Main3WData16[[#This Row],[Admin Unit Name]],AdminUnits[],3,FALSE)","v":"Sud"},{"$f":"VLOOKUP(Main3WData16[[#This Row],[Admin Unit Name]],AdminUnits[],4,FALSE)","v":4},{"$f":"VLOOKUP(Main3WData16[[#This Row],[Sector]],Sectors[],2,FALSE)","v":7}]
[null,"CR-Mali",{"$f":"INDEX(Organizations[],MATCH(Main3WData16[[#This Row],[Acronym]],AcronymList,0),1)","v":"Croix-Rouge Mali"},{"$f":"INDEX(Organizations[],MATCH(Main3WData16[[#This Row],[Acronym]],AcronymList,0),3)","v":"Mouv. Croix-rouge"},"Sécurité alimentaire","Regulier","Tombouctou",{"$f":"VLOOKUP(Main3WData16[[#This Row],[Admin Unit Name]],AdminUnits[],2,FALSE)","v":"ML06"},{"$f":"VLOOKUP(Main3WData16[[#This Row],[Admin Unit Name]],AdminUnits[],3,FALSE)","v":"Nord"},{"$f":"VLOOKUP(Main3WData16[[#This Row],[Admin Unit Name]],AdminUnits[],4,FALSE)","v":6},{"$f":"VLOOKUP(Main3WData16[[#This Row],[Sector]],Sectors[],2,FALSE)","v":7}]
[null,"CR-France",{"$f":"INDEX(Organizations[],MATCH(Main3WData16[[#This Row],[Acronym]],AcronymList,0),1)","v":"Croix Rouge France"},{"$f":"INDEX(Organizations[],MATCH(Main3WData16[[#This Row],[Acronym]],AcronymList,0),3)","v":"Mouv. Croix-rouge"},"Nutrition","Regulier","Bamako",{"$f":"VLOOKUP(Main3WData16[[#This Row],[Admin Unit Name]],AdminUnits[],2,FALSE)","v":"ML09"},{"$f":"VLOOKUP(Main3WData16[[#This Row],[Admin Unit Name]],AdminUnits[],3,FALSE)","v":"Sud"},{"$f":"VLOOKUP(Main3WData16[[#This Row],[Admin Unit Name]],AdminUnits[],4,FALSE)","v":0},{"$f":"VLOOKUP(Main3WData16[[#This Row],[Sector]],Sectors[],2,FALSE)","v":4}]
[null,"CR-France",{"$f":"INDEX(Organizations[],MATCH(Main3WData16[[#This Row],[Acronym]],AcronymList,0),1)","v":"Croix Rouge France"},{"$f":"INDEX(Organizations[],MATCH(Main3WData16[[#This Row],[Acronym]],AcronymList,0),3)","v":"Mouv. Croix-rouge"},"Nutrition","Regulier","Gao",{"$f":"VLOOKUP(Main3WData16[[#This Row],[Admin Unit Name]],AdminUnits[],2,FALSE)","v":"ML07"},{"$f":"VLOOKUP(Main3WData16[[#This Row],[Admin Unit Name]],AdminUnits[],3,FALSE)","v":"Nord"},{"$f":"VLOOKUP(Main3WData16[[#This Row],[Admin Unit Name]],AdminUnits[],4,FALSE)","v":7},{"$f":"VLOOKUP(Main3WData16[[#This Row],[Sector]],Sectors[],2,FALSE)","v":4}]
[null,"CR-France",{"$f":"INDEX(Organizations[],MATCH(Main3WData16[[#This Row],[Acronym]],AcronymList,0),1)","v":"Croix Rouge France"},{"$f":"INDEX(Organizations[],MATCH(Main3WData16[[#This Row],[Acronym]],AcronymList,0),3)","v":"Mouv. Croix-rouge"},"Nutrition","Regulier","Kayes",{"$f":"VLOOKUP(Main3WData16[[#This Row],[Admin Unit Name]],AdminUnits[],2,FALSE)","v":"ML01"},{"$f":"VLOOKUP(Main3WData16[[#This Row],[Admin Unit Name]],AdminUnits[],3,FALSE)","v":"Sud"},{"$f":"VLOOKUP(Main3WData16[[#This Row],[Admin Unit Name]],AdminUnits[],4,FALSE)","v":1},{"$f":"VLOOKUP(Main3WData16[[#This Row],[Sector]],Sectors[],2,FALSE)","v":4}]
[null,"CR-France",{"$f":"INDEX(Organizations[],MATCH(Main3WData16[[#This Row],[Acronym]],AcronymList,0),1)","v":"Croix Rouge France"},{"$f":"INDEX(Organizations[],MATCH(Main3WData16[[#This Row],[Acronym]],AcronymList,0),3)","v":"Mouv. Croix-rouge"},"Nutrition","Regulier","Tombouctou",{"$f":"VLOOKUP(Main3WData16[[#This Row],[Admin Unit Name]],AdminUnits[],2,FALSE)","v":"ML06"},{"$f":"VLOOKUP(Main3WData16[[#This Row],[Admin Unit Name]],AdminUnits[],3,FALSE)","v":"Nord"},{"$f":"VLOOKUP(Main3WData16[[#This Row],[Admin Unit Name]],AdminUnits[],4,FALSE)","v":6},{"$f":"VLOOKUP(Main3WData16[[#This Row],[Sector]],Sectors[],2,FALSE)","v":4}]
[null,"CR-France",{"$f":"INDEX(Organizations[],MATCH(Main3WData16[[#This Row],[Acronym]],AcronymList,0),1)","v":"Croix Rouge France"},{"$f":"INDEX(Organizations[],MATCH(Main3WData16[[#This Row],[Acronym]],AcronymList,0),3)","v":"Mouv. Croix-rouge"},"Santé","Regulier","Gao",{"$f":"VLOOKUP(Main3WData16[[#This Row],[Admin Unit Name]],AdminUnits[],2,FALSE)","v":"ML07"},{"$f":"VLOOKUP(Main3WData16[[#This Row],[Admin Unit Name]],AdminUnits[],3,FALSE)","v":"Nord"},{"$f":"VLOOKUP(Main3WData16[[#This Row],[Admin Unit Name]],AdminUnits[],4,FALSE)","v":7},{"$f":"VLOOKUP(Main3WData16[[#This Row],[Sector]],Sectors[],2,FALSE)","v":6}]
[null,"CR-Espagne",{"$f":"INDEX(Organizations[],MATCH(Main3WData16[[#This Row],[Acronym]],AcronymList,0),1)","v":"Croix Rouge Espagne"},{"$f":"INDEX(Organizations[],MATCH(Main3WData16[[#This Row],[Acronym]],AcronymList,0),3)","v":"Mouv. Croix-rouge"},"Nutrition","Regulier","Tombouctou",{"$f":"VLOOKUP(Main3WData16[[#This Row],[Admin Unit Name]],AdminUnits[],2,FALSE)","v":"ML06"},{"$f":"VLOOKUP(Main3WData16[[#This Row],[Admin Unit Name]],AdminUnits[],3,FALSE)","v":"Nord"},{"$f":"VLOOKUP(Main3WData16[[#This Row],[Admin Unit Name]],AdminUnits[],4,FALSE)","v":6},{"$f":"VLOOKUP(Main3WData16[[#This Row],[Sector]],Sectors[],2,FALSE)","v":4}]
[null,"CR-Belgique",{"$f":"INDEX(Organizations[],MATCH(Main3WData16[[#This Row],[Acronym]],AcronymList,0),1)","v":"Croix Rouge Belgique"},{"$f":"INDEX(Organizations[],MATCH(Main3WData16[[#This Row],[Acronym]],AcronymList,0),3)","v":"Mouv. Croix-rouge"},"Nutrition","Regulier","Kayes",{"$f":"VLOOKUP(Main3WData16[[#This Row],[Admin Unit Name]],AdminUnits[],2,FALSE)","v":"ML01"},{"$f":"VLOOKUP(Main3WData16[[#This Row],[Admin Unit Name]],AdminUnits[],3,FALSE)","v":"Sud"},{"$f":"VLOOKUP(Main3WData16[[#This Row],[Admin Unit Name]],AdminUnits[],4,FALSE)","v":1},{"$f":"VLOOKUP(Main3WData16[[#This Row],[Sector]],Sectors[],2,FALSE)","v":4}]
[null,"CR-Belgique",{"$f":"INDEX(Organizations[],MATCH(Main3WData16[[#This Row],[Acronym]],AcronymList,0),1)","v":"Croix Rouge Belgique"},{"$f":"INDEX(Organizations[],MATCH(Main3WData16[[#This Row],[Acronym]],AcronymList,0),3)","v":"Mouv. Croix-rouge"},"Nutrition","Regulier","Koulikoro",{"$f":"VLOOKUP(Main3WData16[[#This Row],[Admin Unit Name]],AdminUnits[],2,FALSE)","v":"ML02"},{"$f":"VLOOKUP(Main3WData16[[#This Row],[Admin Unit Name]],AdminUnits[],3,FALSE)","v":"Sud"},{"$f":"VLOOKUP(Main3WData16[[#This Row],[Admin Unit Name]],AdminUnits[],4,FALSE)","v":2},{"$f":"VLOOKUP(Main3WData16[[#This Row],[Sector]],Sectors[],2,FALSE)","v":4}]
[null,"CR-Belgique",{"$f":"INDEX(Organizations[],MATCH(Main3WData16[[#This Row],[Acronym]],AcronymList,0),1)","v":"Croix Rouge Belgique"},{"$f":"INDEX(Organizations[],MATCH(Main3WData16[[#This Row],[Acronym]],AcronymList,0),3)","v":"Mouv. Croix-rouge"},"Nutrition","Regulier","Segou",{"$f":"VLOOKUP(Main3WData16[[#This Row],[Admin Unit Name]],AdminUnits[],2,FALSE)","v":"ML04"},{"$f":"VLOOKUP(Main3WData16[[#This Row],[Admin Unit Name]],AdminUnits[],3,FALSE)","v":"Sud"},{"$f":"VLOOKUP(Main3WData16[[#This Row],[Admin Unit Name]],AdminUnits[],4,FALSE)","v":4},{"$f":"VLOOKUP(Main3WData16[[#This Row],[Sector]],Sectors[],2,FALSE)","v":4}]
[null,"COOPI",{"$f":"INDEX(Organizations[],MATCH(Main3WData16[[#This Row],[Acronym]],AcronymList,0),1)","v":"COOPI"},{"$f":"INDEX(Organizations[],MATCH(Main3WData16[[#This Row],[Acronym]],AcronymList,0),3)","v":"ONG Int."},"Nutrition","Regulier","Segou",{"$f":"VLOOKUP(Main3WData16[[#This Row],[Admin Unit Name]],AdminUnits[],2,FALSE)","v":"ML04"},{"$f":"VLOOKUP(Main3WData16[[#This Row],[Admin Unit Name]],AdminUnits[],3,FALSE)","v":"Sud"},{"$f":"VLOOKUP(Main3WData16[[#This Row],[Admin Unit Name]],AdminUnits[],4,FALSE)","v":4},{"$f":"VLOOKUP(Main3WData16[[#This Row],[Sector]],Sectors[],2,FALSE)","v":4}]
[null,"Coopération Mali-Luxembourg",{"$f":"INDEX(Organizations[],MATCH(Main3WData16[[#This Row],[Acronym]],AcronymList,0),1)","v":"Coopération Mali-Luxembourg"},{"$f":"INDEX(Organizations[],MATCH(Main3WData16[[#This Row],[Acronym]],AcronymList,0),3)","v":"ONG Int."},"Education","Regulier","Kidal",{"$f":"VLOOKUP(Main3WData16[[#This Row],[Admin Unit Name]],AdminUnits[],2,FALSE)","v":"ML08"},{"$f":"VLOOKUP(Main3WData16[[#This Row],[Admin Unit Name]],AdminUnits[],3,FALSE)","v":"Nord"},{"$f":"VLOOKUP(Main3WData16[[#This Row],[Admin Unit Name]],AdminUnits[],4,FALSE)","v":8},{"$f":"VLOOKUP(Main3WData16[[#This Row],[Sector]],Sectors[],2,FALSE)","v":3}]
[null,"CISV",{"$f":"INDEX(Organizations[],MATCH(Main3WData16[[#This Row],[Acronym]],AcronymList,0),1)","v":"Comunità Impegno Servizio Volontariato"},{"$f":"INDEX(Organizations[],MATCH(Main3WData16[[#This Row],[Acronym]],AcronymList,0),3)","v":"ONG Nat."},"Sécurité alimentaire","Regulier","Koulikoro",{"$f":"VLOOKUP(Main3WData16[[#This Row],[Admin Unit Name]],AdminUnits[],2,FALSE)","v":"ML02"},{"$f":"VLOOKUP(Main3WData16[[#This Row],[Admin Unit Name]],AdminUnits[],3,FALSE)","v":"Sud"},{"$f":"VLOOKUP(Main3WData16[[#This Row],[Admin Unit Name]],AdminUnits[],4,FALSE)","v":2},{"$f":"VLOOKUP(Main3WData16[[#This Row],[Sector]],Sectors[],2,FALSE)","v":7}]
[null,"CISV",{"$f":"INDEX(Organizations[],MATCH(Main3WData16[[#This Row],[Acronym]],AcronymList,0),1)","v":"Comunità Impegno Servizio Volontariato"},{"$f":"INDEX(Organizations[],MATCH(Main3WData16[[#This Row],[Acronym]],AcronymList,0),3)","v":"ONG Nat."},"Sécurité alimentaire","Regulier","Mopti",{"$f":"VLOOKUP(Main3WData16[[#This Row],[Admin Unit Name]],AdminUnits[],2,FALSE)","v":"ML05"},{"$f":"VLOOKUP(Main3WData16[[#This Row],[Admin Unit Name]],AdminUnits[],3,FALSE)","v":"Sud"},{"$f":"VLOOKUP(Main3WData16[[#This Row],[Admin Unit Name]],AdminUnits[],4,FALSE)","v":5},{"$f":"VLOOKUP(Main3WData16[[#This Row],[Sector]],Sectors[],2,FALSE)","v":7}]
[null,"CISV",{"$f":"INDEX(Organizations[],MATCH(Main3WData16[[#This Row],[Acronym]],AcronymList,0),1)","v":"Comunità Impegno Servizio Volontariato"},{"$f":"INDEX(Organizations[],MATCH(Main3WData16[[#This Row],[Acronym]],AcronymList,0),3)","v":"ONG Nat."},"Sécurité alimentaire","Regulier","Segou",{"$f":"VLOOKUP(Main3WData16[[#This Row],[Admin Unit Name]],AdminUnits[],2,FALSE)","v":"ML04"},{"$f":"VLOOKUP(Main3WData16[[#This Row],[Admin Unit Name]],AdminUnits[],3,FALSE)","v":"Sud"},{"$f":"VLOOKUP(Main3WData16[[#This Row],[Admin Unit Name]],AdminUnits[],4,FALSE)","v":4},{"$f":"VLOOKUP(Main3WData16[[#This Row],[Sector]],Sectors[],2,FALSE)","v":7}]
[null,"Caritas Segou",{"$f":"INDEX(Organizations[],MATCH(Main3WData16[[#This Row],[Acronym]],AcronymList,0),1)","v":"Caritas Segou"},{"$f":"INDEX(Organizations[],MATCH(Main3WData16[[#This Row],[Acronym]],AcronymList,0),3)","v":"ONG Int."},"Protection","Regulier","Segou",{"$f":"VLOOKUP(Main3WData16[[#This Row],[Admin Unit Name]],AdminUnits[],2,FALSE)","v":"ML04"},{"$f":"VLOOKUP(Main3WData16[[#This Row],[Admin Unit Name]],AdminUnits[],3,FALSE)","v":"Sud"},{"$f":"VLOOKUP(Main3WData16[[#This Row],[Admin Unit Name]],AdminUnits[],4,FALSE)","v":4},{"$f":"VLOOKUP(Main3WData16[[#This Row],[Sector]],Sectors[],2,FALSE)","v":5}]
[null,"CARITAS SAN",{"$f":"INDEX(Organizations[],MATCH(Main3WData16[[#This Row],[Acronym]],AcronymList,0),1)","v":"Caritas San"},{"$f":"INDEX(Organizations[],MATCH(Main3WData16[[#This Row],[Acronym]],AcronymList,0),3)","v":"ONG Int."},"Sécurité alimentaire","Regulier","Segou",{"$f":"VLOOKUP(Main3WData16[[#This Row],[Admin Unit Name]],AdminUnits[],2,FALSE)","v":"ML04"},{"$f":"VLOOKUP(Main3WData16[[#This Row],[Admin Unit Name]],AdminUnits[],3,FALSE)","v":"Sud"},{"$f":"VLOOKUP(Main3WData16[[#This Row],[Admin Unit Name]],AdminUnits[],4,FALSE)","v":4},{"$f":"VLOOKUP(Main3WData16[[#This Row],[Sector]],Sectors[],2,FALSE)","v":7}]
[null,"Caritas Mopti",{"$f":"INDEX(Organizations[],MATCH(Main3WData16[[#This Row],[Acronym]],AcronymList,0),1)","v":"Caritas Mopti"},{"$f":"INDEX(Organizations[],MATCH(Main3WData16[[#This Row],[Acronym]],AcronymList,0),3)","v":"ONG Int."},"Protection","Regulier","Mopti",{"$f":"VLOOKUP(Main3WData16[[#This Row],[Admin Unit Name]],AdminUnits[],2,FALSE)","v":"ML05"},{"$f":"VLOOKUP(Main3WData16[[#This Row],[Admin Unit Name]],AdminUnits[],3,FALSE)","v":"Sud"},{"$f":"VLOOKUP(Main3WData16[[#This Row],[Admin Unit Name]],AdminUnits[],4,FALSE)","v":5},{"$f":"VLOOKUP(Main3WData16[[#This Row],[Sector]],Sectors[],2,FALSE)","v":5}]
[null,"CARITAS MOPTI",{"$f":"INDEX(Organizations[],MATCH(Main3WData16[[#This Row],[Acronym]],AcronymList,0),1)","v":"Caritas Mopti"},{"$f":"INDEX(Organizations[],MATCH(Main3WData16[[#This Row],[Acronym]],AcronymList,0),3)","v":"ONG Int."},"Sécurité alimentaire","Regulier","Mopti",{"$f":"VLOOKUP(Main3WData16[[#This Row],[Admin Unit Name]],AdminUnits[],2,FALSE)","v":"ML05"},{"$f":"VLOOKUP(Main3WData16[[#This Row],[Admin Unit Name]],AdminUnits[],3,FALSE)","v":"Sud"},{"$f":"VLOOKUP(Main3WData16[[#This Row],[Admin Unit Name]],AdminUnits[],4,FALSE)","v":5},{"$f":"VLOOKUP(Main3WData16[[#This Row],[Sector]],Sectors[],2,FALSE)","v":7}]
[null,"Caritas",{"$f":"INDEX(Organizations[],MATCH(Main3WData16[[#This Row],[Acronym]],AcronymList,0),1)","v":"CARITAS Mali"},{"$f":"INDEX(Organizations[],MATCH(Main3WData16[[#This Row],[Acronym]],AcronymList,0),3)","v":"ONG Int."},"Santé","Regulier","Segou",{"$f":"VLOOKUP(Main3WData16[[#This Row],[Admin Unit Name]],AdminUnits[],2,FALSE)","v":"ML04"},{"$f":"VLOOKUP(Main3WData16[[#This Row],[Admin Unit Name]],AdminUnits[],3,FALSE)","v":"Sud"},{"$f":"VLOOKUP(Main3WData16[[#This Row],[Admin Unit Name]],AdminUnits[],4,FALSE)","v":4},{"$f":"VLOOKUP(Main3WData16[[#This Row],[Sector]],Sectors[],2,FALSE)","v":6}]
[null,"CARE Mali",{"$f":"INDEX(Organizations[],MATCH(Main3WData16[[#This Row],[Acronym]],AcronymList,0),1)","v":"CARE Interntional Mali"},{"$f":"INDEX(Organizations[],MATCH(Main3WData16[[#This Row],[Acronym]],AcronymList,0),3)","v":"ONG Int."},"Nutrition","Regulier","Mopti",{"$f":"VLOOKUP(Main3WData16[[#This Row],[Admin Unit Name]],AdminUnits[],2,FALSE)","v":"ML05"},{"$f":"VLOOKUP(Main3WData16[[#This Row],[Admin Unit Name]],AdminUnits[],3,FALSE)","v":"Sud"},{"$f":"VLOOKUP(Main3WData16[[#This Row],[Admin Unit Name]],AdminUnits[],4,FALSE)","v":5},{"$f":"VLOOKUP(Main3WData16[[#This Row],[Sector]],Sectors[],2,FALSE)","v":4}]
[null,"CARE Mali",{"$f":"INDEX(Organizations[],MATCH(Main3WData16[[#This Row],[Acronym]],AcronymList,0),1)","v":"CARE Interntional Mali"},{"$f":"INDEX(Organizations[],MATCH(Main3WData16[[#This Row],[Acronym]],AcronymList,0),3)","v":"ONG Int."},"Santé","Regulier","Segou",{"$f":"VLOOKUP(Main3WData16[[#This Row],[Admin Unit Name]],AdminUnits[],2,FALSE)","v":"ML04"},{"$f":"VLOOKUP(Main3WData16[[#This Row],[Admin Unit Name]],AdminUnits[],3,FALSE)","v":"Sud"},{"$f":"VLOOKUP(Main3WData16[[#This Row],[Admin Unit Name]],AdminUnits[],4,FALSE)","v":4},{"$f":"VLOOKUP(Main3WData16[[#This Row],[Sector]],Sectors[],2,FALSE)","v":6}]
[null,"CARE Mali",{"$f":"INDEX(Organizations[],MATCH(Main3WData16[[#This Row],[Acronym]],AcronymList,0),1)","v":"CARE Interntional Mali"},{"$f":"INDEX(Organizations[],MATCH(Main3WData16[[#This Row],[Acronym]],AcronymList,0),3)","v":"ONG Int."},"Santé","Regulier","Tombouctou",{"$f":"VLOOKUP(Main3WData16[[#This Row],[Admin Unit Name]],AdminUnits[],2,FALSE)","v":"ML06"},{"$f":"VLOOKUP(Main3WData16[[#This Row],[Admin Unit Name]],AdminUnits[],3,FALSE)","v":"Nord"},{"$f":"VLOOKUP(Main3WData16[[#This Row],[Admin Unit Name]],AdminUnits[],4,FALSE)","v":6},{"$f":"VLOOKUP(Main3WData16[[#This Row],[Sector]],Sectors[],2,FALSE)","v":6}]
[null,"CARE MALI",{"$f":"INDEX(Organizations[],MATCH(Main3WData16[[#This Row],[Acronym]],AcronymList,0),1)","v":"CARE Interntional Mali"},{"$f":"INDEX(Organizations[],MATCH(Main3WData16[[#This Row],[Acronym]],AcronymList,0),3)","v":"ONG Int."},"Sécurité alimentaire","Regulier","Mopti",{"$f":"VLOOKUP(Main3WData16[[#This Row],[Admin Unit Name]],AdminUnits[],2,FALSE)","v":"ML05"},{"$f":"VLOOKUP(Main3WData16[[#This Row],[Admin Unit Name]],AdminUnits[],3,FALSE)","v":"Sud"},{"$f":"VLOOKUP(Main3WData16[[#This Row],[Admin Unit Name]],AdminUnits[],4,FALSE)","v":5},{"$f":"VLOOKUP(Main3WData16[[#This Row],[Sector]],Sectors[],2,FALSE)","v":7}]
[null,"CARE MALI",{"$f":"INDEX(Organizations[],MATCH(Main3WData16[[#This Row],[Acronym]],AcronymList,0),1)","v":"CARE Interntional Mali"},{"$f":"INDEX(Organizations[],MATCH(Main3WData16[[#This Row],[Acronym]],AcronymList,0),3)","v":"ONG Int."},"Sécurité alimentaire","Regulier","Segou",{"$f":"VLOOKUP(Main3WData16[[#This Row],[Admin Unit Name]],AdminUnits[],2,FALSE)","v":"ML04"},{"$f":"VLOOKUP(Main3WData16[[#This Row],[Admin Unit Name]],AdminUnits[],3,FALSE)","v":"Sud"},{"$f":"VLOOKUP(Main3WData16[[#This Row],[Admin Unit Name]],AdminUnits[],4,FALSE)","v":4},{"$f":"VLOOKUP(Main3WData16[[#This Row],[Sector]],Sectors[],2,FALSE)","v":7}]
[null,"CARE MALI",{"$f":"INDEX(Organizations[],MATCH(Main3WData16[[#This Row],[Acronym]],AcronymList,0),1)","v":"CARE Interntional Mali"},{"$f":"INDEX(Organizations[],MATCH(Main3WData16[[#This Row],[Acronym]],AcronymList,0),3)","v":"ONG Int."},"Sécurité alimentaire","Regulier","Tombouctou",{"$f":"VLOOKUP(Main3WData16[[#This Row],[Admin Unit Name]],AdminUnits[],2,FALSE)","v":"ML06"},{"$f":"VLOOKUP(Main3WData16[[#This Row],[Admin Unit Name]],AdminUnits[],3,FALSE)","v":"Nord"},{"$f":"VLOOKUP(Main3WData16[[#This Row],[Admin Unit Name]],AdminUnits[],4,FALSE)","v":6},{"$f":"VLOOKUP(Main3WData16[[#This Row],[Sector]],Sectors[],2,FALSE)","v":7}]
[null,"CAES",{"$f":"INDEX(Organizations[],MATCH(Main3WData16[[#This Row],[Acronym]],AcronymList,0),1)","v":"CAES"},{"$f":"INDEX(Organizations[],MATCH(Main3WData16[[#This Row],[Acronym]],AcronymList,0),3)","v":"ONG Nat."},"Sécurité alimentaire","Regulier","Segou",{"$f":"VLOOKUP(Main3WData16[[#This Row],[Admin Unit Name]],AdminUnits[],2,FALSE)","v":"ML04"},{"$f":"VLOOKUP(Main3WData16[[#This Row],[Admin Unit Name]],AdminUnits[],3,FALSE)","v":"Sud"},{"$f":"VLOOKUP(Main3WData16[[#This Row],[Admin Unit Name]],AdminUnits[],4,FALSE)","v":4},{"$f":"VLOOKUP(Main3WData16[[#This Row],[Sector]],Sectors[],2,FALSE)","v":7}]
[null,"BØRNEfonden",{"$f":"INDEX(Organizations[],MATCH(Main3WData16[[#This Row],[Acronym]],AcronymList,0),1)","v":"BØRNEfonden"},{"$f":"INDEX(Organizations[],MATCH(Main3WData16[[#This Row],[Acronym]],AcronymList,0),3)","v":"ONG Int."},"Nutrition","Regulier","Koulikoro",{"$f":"VLOOKUP(Main3WData16[[#This Row],[Admin Unit Name]],AdminUnits[],2,FALSE)","v":"ML02"},{"$f":"VLOOKUP(Main3WData16[[#This Row],[Admin Unit Name]],AdminUnits[],3,FALSE)","v":"Sud"},{"$f":"VLOOKUP(Main3WData16[[#This Row],[Admin Unit Name]],AdminUnits[],4,FALSE)","v":2},{"$f":"VLOOKUP(Main3WData16[[#This Row],[Sector]],Sectors[],2,FALSE)","v":4}]
[null,"BØRNEfonden",{"$f":"INDEX(Organizations[],MATCH(Main3WData16[[#This Row],[Acronym]],AcronymList,0),1)","v":"BØRNEfonden"},{"$f":"INDEX(Organizations[],MATCH(Main3WData16[[#This Row],[Acronym]],AcronymList,0),3)","v":"ONG Int."},"Nutrition","Regulier","Sikasso",{"$f":"VLOOKUP(Main3WData16[[#This Row],[Admin Unit Name]],AdminUnits[],2,FALSE)","v":"ML03"},{"$f":"VLOOKUP(Main3WData16[[#This Row],[Admin Unit Name]],AdminUnits[],3,FALSE)","v":"Sud"},{"$f":"VLOOKUP(Main3WData16[[#This Row],[Admin Unit Name]],AdminUnits[],4,FALSE)","v":3},{"$f":"VLOOKUP(Main3WData16[[#This Row],[Sector]],Sectors[],2,FALSE)","v":4}]
[null,"BØRNEfonden",{"$f":"INDEX(Organizations[],MATCH(Main3WData16[[#This Row],[Acronym]],AcronymList,0),1)","v":"BØRNEfonden"},{"$f":"INDEX(Organizations[],MATCH(Main3WData16[[#This Row],[Acronym]],AcronymList,0),3)","v":"ONG Int."},"Sécurité alimentaire","Regulier","Koulikoro",{"$f":"VLOOKUP(Main3WData16[[#This Row],[Admin Unit Name]],AdminUnits[],2,FALSE)","v":"ML02"},{"$f":"VLOOKUP(Main3WData16[[#This Row],[Admin Unit Name]],AdminUnits[],3,FALSE)","v":"Sud"},{"$f":"VLOOKUP(Main3WData16[[#This Row],[Admin Unit Name]],AdminUnits[],4,FALSE)","v":2},{"$f":"VLOOKUP(Main3WData16[[#This Row],[Sector]],Sectors[],2,FALSE)","v":7}]
[null,"BØRNEfonden",{"$f":"INDEX(Organizations[],MATCH(Main3WData16[[#This Row],[Acronym]],AcronymList,0),1)","v":"BØRNEfonden"},{"$f":"INDEX(Organizations[],MATCH(Main3WData16[[#This Row],[Acronym]],AcronymList,0),3)","v":"ONG Int."},"Sécurité alimentaire","Regulier","Sikasso",{"$f":"VLOOKUP(Main3WData16[[#This Row],[Admin Unit Name]],AdminUnits[],2,FALSE)","v":"ML03"},{"$f":"VLOOKUP(Main3WData16[[#This Row],[Admin Unit Name]],AdminUnits[],3,FALSE)","v":"Sud"},{"$f":"VLOOKUP(Main3WData16[[#This Row],[Admin Unit Name]],AdminUnits[],4,FALSE)","v":3},{"$f":"VLOOKUP(Main3WData16[[#This Row],[Sector]],Sectors[],2,FALSE)","v":7}]
[null,"AVSF",{"$f":"INDEX(Organizations[],MATCH(Main3WData16[[#This Row],[Acronym]],AcronymList,0),1)","v":"Agronomes et Vétérinaires Sans Frontières"},{"$f":"INDEX(Organizations[],MATCH(Main3WData16[[#This Row],[Acronym]],AcronymList,0),3)","v":"ONG Int."},"EHA","Regulier","GAO",{"$f":"VLOOKUP(Main3WData16[[#This Row],[Admin Unit Name]],AdminUnits[],2,FALSE)","v":"ML07"},{"$f":"VLOOKUP(Main3WData16[[#This Row],[Admin Unit Name]],AdminUnits[],3,FALSE)","v":"Nord"},{"$f":"VLOOKUP(Main3WData16[[#This Row],[Admin Unit Name]],AdminUnits[],4,FALSE)","v":7},{"$f":"VLOOKUP(Main3WData16[[#This Row],[Sector]],Sectors[],2,FALSE)","v":8}]
[null,"AVSF",{"$f":"INDEX(Organizations[],MATCH(Main3WData16[[#This Row],[Acronym]],AcronymList,0),1)","v":"Agronomes et Vétérinaires Sans Frontières"},{"$f":"INDEX(Organizations[],MATCH(Main3WData16[[#This Row],[Acronym]],AcronymList,0),3)","v":"ONG Int."},"EHA","Regulier","TOMBOUCTOU",{"$f":"VLOOKUP(Main3WData16[[#This Row],[Admin Unit Name]],AdminUnits[],2,FALSE)","v":"ML06"},{"$f":"VLOOKUP(Main3WData16[[#This Row],[Admin Unit Name]],AdminUnits[],3,FALSE)","v":"Nord"},{"$f":"VLOOKUP(Main3WData16[[#This Row],[Admin Unit Name]],AdminUnits[],4,FALSE)","v":6},{"$f":"VLOOKUP(Main3WData16[[#This Row],[Sector]],Sectors[],2,FALSE)","v":8}]
[null,"AVSF",{"$f":"INDEX(Organizations[],MATCH(Main3WData16[[#This Row],[Acronym]],AcronymList,0),1)","v":"Agronomes et Vétérinaires Sans Frontières"},{"$f":"INDEX(Organizations[],MATCH(Main3WData16[[#This Row],[Acronym]],AcronymList,0),3)","v":"ONG Int."},"Nutrition","Regulier","Gao",{"$f":"VLOOKUP(Main3WData16[[#This Row],[Admin Unit Name]],AdminUnits[],2,FALSE)","v":"ML07"},{"$f":"VLOOKUP(Main3WData16[[#This Row],[Admin Unit Name]],AdminUnits[],3,FALSE)","v":"Nord"},{"$f":"VLOOKUP(Main3WData16[[#This Row],[Admin Unit Name]],AdminUnits[],4,FALSE)","v":7},{"$f":"VLOOKUP(Main3WData16[[#This Row],[Sector]],Sectors[],2,FALSE)","v":4}]
[null,"AVSF",{"$f":"INDEX(Organizations[],MATCH(Main3WData16[[#This Row],[Acronym]],AcronymList,0),1)","v":"Agronomes et Vétérinaires Sans Frontières"},{"$f":"INDEX(Organizations[],MATCH(Main3WData16[[#This Row],[Acronym]],AcronymList,0),3)","v":"ONG Int."},"Nutrition","Regulier","Tombouctou",{"$f":"VLOOKUP(Main3WData16[[#This Row],[Admin Unit Name]],AdminUnits[],2,FALSE)","v":"ML06"},{"$f":"VLOOKUP(Main3WData16[[#This Row],[Admin Unit Name]],AdminUnits[],3,FALSE)","v":"Nord"},{"$f":"VLOOKUP(Main3WData16[[#This Row],[Admin Unit Name]],AdminUnits[],4,FALSE)","v":6},{"$f":"VLOOKUP(Main3WData16[[#This Row],[Sector]],Sectors[],2,FALSE)","v":4}]
[null,"AVSF",{"$f":"INDEX(Organizations[],MATCH(Main3WData16[[#This Row],[Acronym]],AcronymList,0),1)","v":"Agronomes et Vétérinaires Sans Frontières"},{"$f":"INDEX(Organizations[],MATCH(Main3WData16[[#This Row],[Acronym]],AcronymList,0),3)","v":"ONG Int."},"Santé","Regulier","Tombouctou",{"$f":"VLOOKUP(Main3WData16[[#This Row],[Admin Unit Name]],AdminUnits[],2,FALSE)","v":"ML06"},{"$f":"VLOOKUP(Main3WData16[[#This Row],[Admin Unit Name]],AdminUnits[],3,FALSE)","v":"Nord"},{"$f":"VLOOKUP(Main3WData16[[#This Row],[Admin Unit Name]],AdminUnits[],4,FALSE)","v":6},{"$f":"VLOOKUP(Main3WData16[[#This Row],[Sector]],Sectors[],2,FALSE)","v":6}]
[null,"AVSF",{"$f":"INDEX(Organizations[],MATCH(Main3WData16[[#This Row],[Acronym]],AcronymList,0),1)","v":"Agronomes et Vétérinaires Sans Frontières"},{"$f":"INDEX(Organizations[],MATCH(Main3WData16[[#This Row],[Acronym]],AcronymList,0),3)","v":"ONG Int."},"Sécurité alimentaire","Regulier","Gao",{"$f":"VLOOKUP(Main3WData16[[#This Row],[Admin Unit Name]],AdminUnits[],2,FALSE)","v":"ML07"},{"$f":"VLOOKUP(Main3WData16[[#This Row],[Admin Unit Name]],AdminUnits[],3,FALSE)","v":"Nord"},{"$f":"VLOOKUP(Main3WData16[[#This Row],[Admin Unit Name]],AdminUnits[],4,FALSE)","v":7},{"$f":"VLOOKUP(Main3WData16[[#This Row],[Sector]],Sectors[],2,FALSE)","v":7}]
[null,"AVSF",{"$f":"INDEX(Organizations[],MATCH(Main3WData16[[#This Row],[Acronym]],AcronymList,0),1)","v":"Agronomes et Vétérinaires Sans Frontières"},{"$f":"INDEX(Organizations[],MATCH(Main3WData16[[#This Row],[Acronym]],AcronymList,0),3)","v":"ONG Int."},"Sécurité alimentaire","Regulier","Kayes",{"$f":"VLOOKUP(Main3WData16[[#This Row],[Admin Unit Name]],AdminUnits[],2,FALSE)","v":"ML01"},{"$f":"VLOOKUP(Main3WData16[[#This Row],[Admin Unit Name]],AdminUnits[],3,FALSE)","v":"Sud"},{"$f":"VLOOKUP(Main3WData16[[#This Row],[Admin Unit Name]],AdminUnits[],4,FALSE)","v":1},{"$f":"VLOOKUP(Main3WData16[[#This Row],[Sector]],Sectors[],2,FALSE)","v":7}]
[null,"AVSF",{"$f":"INDEX(Organizations[],MATCH(Main3WData16[[#This Row],[Acronym]],AcronymList,0),1)","v":"Agronomes et Vétérinaires Sans Frontières"},{"$f":"INDEX(Organizations[],MATCH(Main3WData16[[#This Row],[Acronym]],AcronymList,0),3)","v":"ONG Int."},"Sécurité alimentaire","Regulier","Mopti",{"$f":"VLOOKUP(Main3WData16[[#This Row],[Admin Unit Name]],AdminUnits[],2,FALSE)","v":"ML05"},{"$f":"VLOOKUP(Main3WData16[[#This Row],[Admin Unit Name]],AdminUnits[],3,FALSE)","v":"Sud"},{"$f":"VLOOKUP(Main3WData16[[#This Row],[Admin Unit Name]],AdminUnits[],4,FALSE)","v":5},{"$f":"VLOOKUP(Main3WData16[[#This Row],[Sector]],Sectors[],2,FALSE)","v":7}]
[null,"AVSF",{"$f":"INDEX(Organizations[],MATCH(Main3WData16[[#This Row],[Acronym]],AcronymList,0),1)","v":"Agronomes et Vétérinaires Sans Frontières"},{"$f":"INDEX(Organizations[],MATCH(Main3WData16[[#This Row],[Acronym]],AcronymList,0),3)","v":"ONG Int."},"Sécurité alimentaire","Regulier","Tombouctou",{"$f":"VLOOKUP(Main3WData16[[#This Row],[Admin Unit Name]],AdminUnits[],2,FALSE)","v":"ML06"},{"$f":"VLOOKUP(Main3WData16[[#This Row],[Admin Unit Name]],AdminUnits[],3,FALSE)","v":"Nord"},{"$f":"VLOOKUP(Main3WData16[[#This Row],[Admin Unit Name]],AdminUnits[],4,FALSE)","v":6},{"$f":"VLOOKUP(Main3WData16[[#This Row],[Sector]],Sectors[],2,FALSE)","v":7}]
[null,"AVES",{"$f":"INDEX(Organizations[],MATCH(Main3WData16[[#This Row],[Acronym]],AcronymList,0),1)","v":"Avenir Enfance Sahel"},{"$f":"INDEX(Organizations[],MATCH(Main3WData16[[#This Row],[Acronym]],AcronymList,0),3)","v":"ONG Nat."},"Sécurité alimentaire","Regulier","Mopti",{"$f":"VLOOKUP(Main3WData16[[#This Row],[Admin Unit Name]],AdminUnits[],2,FALSE)","v":"ML05"},{"$f":"VLOOKUP(Main3WData16[[#This Row],[Admin Unit Name]],AdminUnits[],3,FALSE)","v":"Sud"},{"$f":"VLOOKUP(Main3WData16[[#This Row],[Admin Unit Name]],AdminUnits[],4,FALSE)","v":5},{"$f":"VLOOKUP(Main3WData16[[#This Row],[Sector]],Sectors[],2,FALSE)","v":7}]
[null,"ASDAP",{"$f":"INDEX(Organizations[],MATCH(Main3WData16[[#This Row],[Acronym]],AcronymList,0),1)","v":"Association pour le Soutien du Développement des Activités de Population"},{"$f":"INDEX(Organizations[],MATCH(Main3WData16[[#This Row],[Acronym]],AcronymList,0),3)","v":"ONG Nat."},"Nutrition","Regulier","Mopti",{"$f":"VLOOKUP(Main3WData16[[#This Row],[Admin Unit Name]],AdminUnits[],2,FALSE)","v":"ML05"},{"$f":"VLOOKUP(Main3WData16[[#This Row],[Admin Unit Name]],AdminUnits[],3,FALSE)","v":"Sud"},{"$f":"VLOOKUP(Main3WData16[[#This Row],[Admin Unit Name]],AdminUnits[],4,FALSE)","v":5},{"$f":"VLOOKUP(Main3WData16[[#This Row],[Sector]],Sectors[],2,FALSE)","v":4}]
[null,"ASDAP",{"$f":"INDEX(Organizations[],MATCH(Main3WData16[[#This Row],[Acronym]],AcronymList,0),1)","v":"Association pour le Soutien du Développement des Activités de Population"},{"$f":"INDEX(Organizations[],MATCH(Main3WData16[[#This Row],[Acronym]],AcronymList,0),3)","v":"ONG Nat."},"Nutrition","Regulier","Segou",{"$f":"VLOOKUP(Main3WData16[[#This Row],[Admin Unit Name]],AdminUnits[],2,FALSE)","v":"ML04"},{"$f":"VLOOKUP(Main3WData16[[#This Row],[Admin Unit Name]],AdminUnits[],3,FALSE)","v":"Sud"},{"$f":"VLOOKUP(Main3WData16[[#This Row],[Admin Unit Name]],AdminUnits[],4,FALSE)","v":4},{"$f":"VLOOKUP(Main3WData16[[#This Row],[Sector]],Sectors[],2,FALSE)","v":4}]
[null,"ASDAP",{"$f":"INDEX(Organizations[],MATCH(Main3WData16[[#This Row],[Acronym]],AcronymList,0),1)","v":"Association pour le Soutien du Développement des Activités de Population"},{"$f":"INDEX(Organizations[],MATCH(Main3WData16[[#This Row],[Acronym]],AcronymList,0),3)","v":"ONG Nat."},"Nutrition","Regulier","Sikasso",{"$f":"VLOOKUP(Main3WData16[[#This Row],[Admin Unit Name]],AdminUnits[],2,FALSE)","v":"ML03"},{"$f":"VLOOKUP(Main3WData16[[#This Row],[Admin Unit Name]],AdminUnits[],3,FALSE)","v":"Sud"},{"$f":"VLOOKUP(Main3WData16[[#This Row],[Admin Unit Name]],AdminUnits[],4,FALSE)","v":3},{"$f":"VLOOKUP(Main3WData16[[#This Row],[Sector]],Sectors[],2,FALSE)","v":4}]
[null,"ASDAP",{"$f":"INDEX(Organizations[],MATCH(Main3WData16[[#This Row],[Acronym]],AcronymList,0),1)","v":"Association pour le Soutien du Développement des Activités de Population"},{"$f":"INDEX(Organizations[],MATCH(Main3WData16[[#This Row],[Acronym]],AcronymList,0),3)","v":"ONG Nat."},"Santé","Regulier","Mopti",{"$f":"VLOOKUP(Main3WData16[[#This Row],[Admin Unit Name]],AdminUnits[],2,FALSE)","v":"ML05"},{"$f":"VLOOKUP(Main3WData16[[#This Row],[Admin Unit Name]],AdminUnits[],3,FALSE)","v":"Sud"},{"$f":"VLOOKUP(Main3WData16[[#This Row],[Admin Unit Name]],AdminUnits[],4,FALSE)","v":5},{"$f":"VLOOKUP(Main3WData16[[#This Row],[Sector]],Sectors[],2,FALSE)","v":6}]
[null,"ArcheNova",{"$f":"INDEX(Organizations[],MATCH(Main3WData16[[#This Row],[Acronym]],AcronymList,0),1)","v":"ArcheNova"},{"$f":"INDEX(Organizations[],MATCH(Main3WData16[[#This Row],[Acronym]],AcronymList,0),3)","v":"ONG Int."},"Education","Regulier","Tombouctou",{"$f":"VLOOKUP(Main3WData16[[#This Row],[Admin Unit Name]],AdminUnits[],2,FALSE)","v":"ML06"},{"$f":"VLOOKUP(Main3WData16[[#This Row],[Admin Unit Name]],AdminUnits[],3,FALSE)","v":"Nord"},{"$f":"VLOOKUP(Main3WData16[[#This Row],[Admin Unit Name]],AdminUnits[],4,FALSE)","v":6},{"$f":"VLOOKUP(Main3WData16[[#This Row],[Sector]],Sectors[],2,FALSE)","v":3}]
[null,"APDF",{"$f":"INDEX(Organizations[],MATCH(Main3WData16[[#This Row],[Acronym]],AcronymList,0),1)","v":"APDF"},{"$f":"INDEX(Organizations[],MATCH(Main3WData16[[#This Row],[Acronym]],AcronymList,0),3)","v":"ONG Nat."},"Sécurité alimentaire","Regulier","Bamako",{"$f":"VLOOKUP(Main3WData16[[#This Row],[Admin Unit Name]],AdminUnits[],2,FALSE)","v":"ML09"},{"$f":"VLOOKUP(Main3WData16[[#This Row],[Admin Unit Name]],AdminUnits[],3,FALSE)","v":"Sud"},{"$f":"VLOOKUP(Main3WData16[[#This Row],[Admin Unit Name]],AdminUnits[],4,FALSE)","v":0},{"$f":"VLOOKUP(Main3WData16[[#This Row],[Sector]],Sectors[],2,FALSE)","v":7}]
[null,"APDF",{"$f":"INDEX(Organizations[],MATCH(Main3WData16[[#This Row],[Acronym]],AcronymList,0),1)","v":"APDF"},{"$f":"INDEX(Organizations[],MATCH(Main3WData16[[#This Row],[Acronym]],AcronymList,0),3)","v":"ONG Nat."},"Sécurité alimentaire","Regulier","Mopti",{"$f":"VLOOKUP(Main3WData16[[#This Row],[Admin Unit Name]],AdminUnits[],2,FALSE)","v":"ML05"},{"$f":"VLOOKUP(Main3WData16[[#This Row],[Admin Unit Name]],AdminUnits[],3,FALSE)","v":"Sud"},{"$f":"VLOOKUP(Main3WData16[[#This Row],[Admin Unit Name]],AdminUnits[],4,FALSE)","v":5},{"$f":"VLOOKUP(Main3WData16[[#This Row],[Sector]],Sectors[],2,FALSE)","v":7}]
[null,"AOPP",{"$f":"INDEX(Organizations[],MATCH(Main3WData16[[#This Row],[Acronym]],AcronymList,0),1)","v":"Association des Organisations Professionelles Paysannes"},{"$f":"INDEX(Organizations[],MATCH(Main3WData16[[#This Row],[Acronym]],AcronymList,0),3)","v":"ONG Nat."},"Sécurité alimentaire","Regulier","Mopti",{"$f":"VLOOKUP(Main3WData16[[#This Row],[Admin Unit Name]],AdminUnits[],2,FALSE)","v":"ML05"},{"$f":"VLOOKUP(Main3WData16[[#This Row],[Admin Unit Name]],AdminUnits[],3,FALSE)","v":"Sud"},{"$f":"VLOOKUP(Main3WData16[[#This Row],[Admin Unit Name]],AdminUnits[],4,FALSE)","v":5},{"$f":"VLOOKUP(Main3WData16[[#This Row],[Sector]],Sectors[],2,FALSE)","v":7}]
[null,"AMSS",{"$f":"INDEX(Organizations[],MATCH(Main3WData16[[#This Row],[Acronym]],AcronymList,0),1)","v":"Association Malienne pour la Survie au Sahel"},{"$f":"INDEX(Organizations[],MATCH(Main3WData16[[#This Row],[Acronym]],AcronymList,0),3)","v":"ONG Nat."},"Protection","Regulier","Tombouctou",{"$f":"VLOOKUP(Main3WData16[[#This Row],[Admin Unit Name]],AdminUnits[],2,FALSE)","v":"ML06"},{"$f":"VLOOKUP(Main3WData16[[#This Row],[Admin Unit Name]],AdminUnits[],3,FALSE)","v":"Nord"},{"$f":"VLOOKUP(Main3WData16[[#This Row],[Admin Unit Name]],AdminUnits[],4,FALSE)","v":6},{"$f":"VLOOKUP(Main3WData16[[#This Row],[Sector]],Sectors[],2,FALSE)","v":5}]
[null,"AMSS",{"$f":"INDEX(Organizations[],MATCH(Main3WData16[[#This Row],[Acronym]],AcronymList,0),1)","v":"Association Malienne pour la Survie au Sahel"},{"$f":"INDEX(Organizations[],MATCH(Main3WData16[[#This Row],[Acronym]],AcronymList,0),3)","v":"ONG Nat."},"Sécurité alimentaire","Regulier","Tombouctou",{"$f":"VLOOKUP(Main3WData16[[#This Row],[Admin Unit Name]],AdminUnits[],2,FALSE)","v":"ML06"},{"$f":"VLOOKUP(Main3WData16[[#This Row],[Admin Unit Name]],AdminUnits[],3,FALSE)","v":"Nord"},{"$f":"VLOOKUP(Main3WData16[[#This Row],[Admin Unit Name]],AdminUnits[],4,FALSE)","v":6},{"$f":"VLOOKUP(Main3WData16[[#This Row],[Sector]],Sectors[],2,FALSE)","v":7}]
[null,"AMPRODE SAHEL",{"$f":"INDEX(Organizations[],MATCH(Main3WData16[[#This Row],[Acronym]],AcronymList,0),1)","v":"AMPRODE Sahel"},{"$f":"INDEX(Organizations[],MATCH(Main3WData16[[#This Row],[Acronym]],AcronymList,0),3)","v":"ONG Nat."},"Sécurité alimentaire","Regulier","Bamako",{"$f":"VLOOKUP(Main3WData16[[#This Row],[Admin Unit Name]],AdminUnits[],2,FALSE)","v":"ML09"},{"$f":"VLOOKUP(Main3WData16[[#This Row],[Admin Unit Name]],AdminUnits[],3,FALSE)","v":"Sud"},{"$f":"VLOOKUP(Main3WData16[[#This Row],[Admin Unit Name]],AdminUnits[],4,FALSE)","v":0},{"$f":"VLOOKUP(Main3WData16[[#This Row],[Sector]],Sectors[],2,FALSE)","v":7}]
[null,"AMPRODE SAHEL",{"$f":"INDEX(Organizations[],MATCH(Main3WData16[[#This Row],[Acronym]],AcronymList,0),1)","v":"AMPRODE Sahel"},{"$f":"INDEX(Organizations[],MATCH(Main3WData16[[#This Row],[Acronym]],AcronymList,0),3)","v":"ONG Nat."},"Sécurité alimentaire","Regulier","Mopti",{"$f":"VLOOKUP(Main3WData16[[#This Row],[Admin Unit Name]],AdminUnits[],2,FALSE)","v":"ML05"},{"$f":"VLOOKUP(Main3WData16[[#This Row],[Admin Unit Name]],AdminUnits[],3,FALSE)","v":"Sud"},{"$f":"VLOOKUP(Main3WData16[[#This Row],[Admin Unit Name]],AdminUnits[],4,FALSE)","v":5},{"$f":"VLOOKUP(Main3WData16[[#This Row],[Sector]],Sectors[],2,FALSE)","v":7}]
[null,"AMCP",{"$f":"INDEX(Organizations[],MATCH(Main3WData16[[#This Row],[Acronym]],AcronymList,0),1)","v":"ALLIANCE MEDICALE CONTRE LE PALUDISME"},{"$f":"INDEX(Organizations[],MATCH(Main3WData16[[#This Row],[Acronym]],AcronymList,0),3)","v":"ONG Int."},"Santé","Regulier","Tombouctou",{"$f":"VLOOKUP(Main3WData16[[#This Row],[Admin Unit Name]],AdminUnits[],2,FALSE)","v":"ML06"},{"$f":"VLOOKUP(Main3WData16[[#This Row],[Admin Unit Name]],AdminUnits[],3,FALSE)","v":"Nord"},{"$f":"VLOOKUP(Main3WData16[[#This Row],[Admin Unit Name]],AdminUnits[],4,FALSE)","v":6},{"$f":"VLOOKUP(Main3WData16[[#This Row],[Sector]],Sectors[],2,FALSE)","v":6}]
[null,"ALPHALOG",{"$f":"INDEX(Organizations[],MATCH(Main3WData16[[#This Row],[Acronym]],AcronymList,0),1)","v":"ALPHALOG"},{"$f":"INDEX(Organizations[],MATCH(Main3WData16[[#This Row],[Acronym]],AcronymList,0),3)","v":"ONG Nat."},"Sécurité alimentaire","Regulier","Segou",{"$f":"VLOOKUP(Main3WData16[[#This Row],[Admin Unit Name]],AdminUnits[],2,FALSE)","v":"ML04"},{"$f":"VLOOKUP(Main3WData16[[#This Row],[Admin Unit Name]],AdminUnits[],3,FALSE)","v":"Sud"},{"$f":"VLOOKUP(Main3WData16[[#This Row],[Admin Unit Name]],AdminUnits[],4,FALSE)","v":4},{"$f":"VLOOKUP(Main3WData16[[#This Row],[Sector]],Sectors[],2,FALSE)","v":7}]
[null,"ALIMA/AMCP",{"$f":"INDEX(Organizations[],MATCH(Main3WData16[[#This Row],[Acronym]],AcronymList,0),1)","v":"Alliance Internationale for Medical Action"},{"$f":"INDEX(Organizations[],MATCH(Main3WData16[[#This Row],[Acronym]],AcronymList,0),3)","v":"ONG Int."},"Nutrition","Regulier","Koulikoro",{"$f":"VLOOKUP(Main3WData16[[#This Row],[Admin Unit Name]],AdminUnits[],2,FALSE)","v":"ML02"},{"$f":"VLOOKUP(Main3WData16[[#This Row],[Admin Unit Name]],AdminUnits[],3,FALSE)","v":"Sud"},{"$f":"VLOOKUP(Main3WData16[[#This Row],[Admin Unit Name]],AdminUnits[],4,FALSE)","v":2},{"$f":"VLOOKUP(Main3WData16[[#This Row],[Sector]],Sectors[],2,FALSE)","v":4}]
[null,"ALIMA/AMCP",{"$f":"INDEX(Organizations[],MATCH(Main3WData16[[#This Row],[Acronym]],AcronymList,0),1)","v":"Alliance Internationale for Medical Action"},{"$f":"INDEX(Organizations[],MATCH(Main3WData16[[#This Row],[Acronym]],AcronymList,0),3)","v":"ONG Int."},"Nutrition","Regulier","Tombouctou",{"$f":"VLOOKUP(Main3WData16[[#This Row],[Admin Unit Name]],AdminUnits[],2,FALSE)","v":"ML06"},{"$f":"VLOOKUP(Main3WData16[[#This Row],[Admin Unit Name]],AdminUnits[],3,FALSE)","v":"Nord"},{"$f":"VLOOKUP(Main3WData16[[#This Row],[Admin Unit Name]],AdminUnits[],4,FALSE)","v":6},{"$f":"VLOOKUP(Main3WData16[[#This Row],[Sector]],Sectors[],2,FALSE)","v":4}]
[null,"ALIMA",{"$f":"INDEX(Organizations[],MATCH(Main3WData16[[#This Row],[Acronym]],AcronymList,0),1)","v":"Alliance Internationale for Medical Action"},{"$f":"INDEX(Organizations[],MATCH(Main3WData16[[#This Row],[Acronym]],AcronymList,0),3)","v":"ONG Int."},"Santé","Regulier","Tombouctou",{"$f":"VLOOKUP(Main3WData16[[#This Row],[Admin Unit Name]],AdminUnits[],2,FALSE)","v":"ML06"},{"$f":"VLOOKUP(Main3WData16[[#This Row],[Admin Unit Name]],AdminUnits[],3,FALSE)","v":"Nord"},{"$f":"VLOOKUP(Main3WData16[[#This Row],[Admin Unit Name]],AdminUnits[],4,FALSE)","v":6},{"$f":"VLOOKUP(Main3WData16[[#This Row],[Sector]],Sectors[],2,FALSE)","v":6}]
[null,"AKF",{"$f":"INDEX(Organizations[],MATCH(Main3WData16[[#This Row],[Acronym]],AcronymList,0),1)","v":"Aga Khan Foundation"},{"$f":"INDEX(Organizations[],MATCH(Main3WData16[[#This Row],[Acronym]],AcronymList,0),3)","v":"Fondation"},"Education","Regulier","Mopti",{"$f":"VLOOKUP(Main3WData16[[#This Row],[Admin Unit Name]],AdminUnits[],2,FALSE)","v":"ML05"},{"$f":"VLOOKUP(Main3WData16[[#This Row],[Admin Unit Name]],AdminUnits[],3,FALSE)","v":"Sud"},{"$f":"VLOOKUP(Main3WData16[[#This Row],[Admin Unit Name]],AdminUnits[],4,FALSE)","v":5},{"$f":"VLOOKUP(Main3WData16[[#This Row],[Sector]],Sectors[],2,FALSE)","v":3}]
[null,"AKF",{"$f":"INDEX(Organizations[],MATCH(Main3WData16[[#This Row],[Acronym]],AcronymList,0),1)","v":"Aga Khan Foundation"},{"$f":"INDEX(Organizations[],MATCH(Main3WData16[[#This Row],[Acronym]],AcronymList,0),3)","v":"Fondation"},"Sécurité alimentaire","Regulier","Mopti",{"$f":"VLOOKUP(Main3WData16[[#This Row],[Admin Unit Name]],AdminUnits[],2,FALSE)","v":"ML05"},{"$f":"VLOOKUP(Main3WData16[[#This Row],[Admin Unit Name]],AdminUnits[],3,FALSE)","v":"Sud"},{"$f":"VLOOKUP(Main3WData16[[#This Row],[Admin Unit Name]],AdminUnits[],4,FALSE)","v":5},{"$f":"VLOOKUP(Main3WData16[[#This Row],[Sector]],Sectors[],2,FALSE)","v":7}]
[null,"AJDM",{"$f":"INDEX(Organizations[],MATCH(Main3WData16[[#This Row],[Acronym]],AcronymList,0),1)","v":"AJDM"},{"$f":"INDEX(Organizations[],MATCH(Main3WData16[[#This Row],[Acronym]],AcronymList,0),3)","v":"Association"},"Protection","Regulier","Bamako",{"$f":"VLOOKUP(Main3WData16[[#This Row],[Admin Unit Name]],AdminUnits[],2,FALSE)","v":"ML09"},{"$f":"VLOOKUP(Main3WData16[[#This Row],[Admin Unit Name]],AdminUnits[],3,FALSE)","v":"Sud"},{"$f":"VLOOKUP(Main3WData16[[#This Row],[Admin Unit Name]],AdminUnits[],4,FALSE)","v":0},{"$f":"VLOOKUP(Main3WData16[[#This Row],[Sector]],Sectors[],2,FALSE)","v":5}]
[null,"AFRICARE",{"$f":"INDEX(Organizations[],MATCH(Main3WData16[[#This Row],[Acronym]],AcronymList,0),1)","v":"AFRICARE"},{"$f":"INDEX(Organizations[],MATCH(Main3WData16[[#This Row],[Acronym]],AcronymList,0),3)","v":"ONG Int."},"Sécurité alimentaire","Regulier","Koulikoro",{"$f":"VLOOKUP(Main3WData16[[#This Row],[Admin Unit Name]],AdminUnits[],2,FALSE)","v":"ML02"},{"$f":"VLOOKUP(Main3WData16[[#This Row],[Admin Unit Name]],AdminUnits[],3,FALSE)","v":"Sud"},{"$f":"VLOOKUP(Main3WData16[[#This Row],[Admin Unit Name]],AdminUnits[],4,FALSE)","v":2},{"$f":"VLOOKUP(Main3WData16[[#This Row],[Sector]],Sectors[],2,FALSE)","v":7}]
[null,"AFRICARE",{"$f":"INDEX(Organizations[],MATCH(Main3WData16[[#This Row],[Acronym]],AcronymList,0),1)","v":"AFRICARE"},{"$f":"INDEX(Organizations[],MATCH(Main3WData16[[#This Row],[Acronym]],AcronymList,0),3)","v":"ONG Int."},"Sécurité alimentaire","Regulier","Tombouctou",{"$f":"VLOOKUP(Main3WData16[[#This Row],[Admin Unit Name]],AdminUnits[],2,FALSE)","v":"ML06"},{"$f":"VLOOKUP(Main3WData16[[#This Row],[Admin Unit Name]],AdminUnits[],3,FALSE)","v":"Nord"},{"$f":"VLOOKUP(Main3WData16[[#This Row],[Admin Unit Name]],AdminUnits[],4,FALSE)","v":6},{"$f":"VLOOKUP(Main3WData16[[#This Row],[Sector]],Sectors[],2,FALSE)","v":7}]
[null,"AFASO",{"$f":"INDEX(Organizations[],MATCH(Main3WData16[[#This Row],[Acronym]],AcronymList,0),1)","v":"Association des Femmes et Adolescents Solidaires"},{"$f":"INDEX(Organizations[],MATCH(Main3WData16[[#This Row],[Acronym]],AcronymList,0),3)","v":"Association"},"Nutrition","Regulier","Koulikoro",{"$f":"VLOOKUP(Main3WData16[[#This Row],[Admin Unit Name]],AdminUnits[],2,FALSE)","v":"ML02"},{"$f":"VLOOKUP(Main3WData16[[#This Row],[Admin Unit Name]],AdminUnits[],3,FALSE)","v":"Sud"},{"$f":"VLOOKUP(Main3WData16[[#This Row],[Admin Unit Name]],AdminUnits[],4,FALSE)","v":2},{"$f":"VLOOKUP(Main3WData16[[#This Row],[Sector]],Sectors[],2,FALSE)","v":4}]
[null,"AFAR",{"$f":"INDEX(Organizations[],MATCH(Main3WData16[[#This Row],[Acronym]],AcronymList,0),1)","v":"AFAR"},{"$f":"INDEX(Organizations[],MATCH(Main3WData16[[#This Row],[Acronym]],AcronymList,0),3)","v":"ONG Nat."},"Sécurité alimentaire","Regulier","Mopti",{"$f":"VLOOKUP(Main3WData16[[#This Row],[Admin Unit Name]],AdminUnits[],2,FALSE)","v":"ML05"},{"$f":"VLOOKUP(Main3WData16[[#This Row],[Admin Unit Name]],AdminUnits[],3,FALSE)","v":"Sud"},{"$f":"VLOOKUP(Main3WData16[[#This Row],[Admin Unit Name]],AdminUnits[],4,FALSE)","v":5},{"$f":"VLOOKUP(Main3WData16[[#This Row],[Sector]],Sectors[],2,FALSE)","v":7}]
[null,"AED",{"$f":"INDEX(Organizations[],MATCH(Main3WData16[[#This Row],[Acronym]],AcronymList,0),1)","v":"AED"},{"$f":"INDEX(Organizations[],MATCH(Main3WData16[[#This Row],[Acronym]],AcronymList,0),3)","v":"ONG Nat."},"Sécurité alimentaire","Regulier","Segou",{"$f":"VLOOKUP(Main3WData16[[#This Row],[Admin Unit Name]],AdminUnits[],2,FALSE)","v":"ML04"},{"$f":"VLOOKUP(Main3WData16[[#This Row],[Admin Unit Name]],AdminUnits[],3,FALSE)","v":"Sud"},{"$f":"VLOOKUP(Main3WData16[[#This Row],[Admin Unit Name]],AdminUnits[],4,FALSE)","v":4},{"$f":"VLOOKUP(Main3WData16[[#This Row],[Sector]],Sectors[],2,FALSE)","v":7}]
[null,"ADR",{"$f":"INDEX(Organizations[],MATCH(Main3WData16[[#This Row],[Acronym]],AcronymList,0),1)","v":"ADR"},{"$f":"INDEX(Organizations[],MATCH(Main3WData16[[#This Row],[Acronym]],AcronymList,0),3)","v":"ONG Nat."},"Sécurité alimentaire","Regulier","Kayes",{"$f":"VLOOKUP(Main3WData16[[#This Row],[Admin Unit Name]],AdminUnits[],2,FALSE)","v":"ML01"},{"$f":"VLOOKUP(Main3WData16[[#This Row],[Admin Unit Name]],AdminUnits[],3,FALSE)","v":"Sud"},{"$f":"VLOOKUP(Main3WData16[[#This Row],[Admin Unit Name]],AdminUnits[],4,FALSE)","v":1},{"$f":"VLOOKUP(Main3WData16[[#This Row],[Sector]],Sectors[],2,FALSE)","v":7}]
[null,"ADG",{"$f":"INDEX(Organizations[],MATCH(Main3WData16[[#This Row],[Acronym]],AcronymList,0),1)","v":"ADG"},{"$f":"INDEX(Organizations[],MATCH(Main3WData16[[#This Row],[Acronym]],AcronymList,0),3)","v":"ONG Nat."},"Sécurité alimentaire","Regulier","Kayes",{"$f":"VLOOKUP(Main3WData16[[#This Row],[Admin Unit Name]],AdminUnits[],2,FALSE)","v":"ML01"},{"$f":"VLOOKUP(Main3WData16[[#This Row],[Admin Unit Name]],AdminUnits[],3,FALSE)","v":"Sud"},{"$f":"VLOOKUP(Main3WData16[[#This Row],[Admin Unit Name]],AdminUnits[],4,FALSE)","v":1},{"$f":"VLOOKUP(Main3WData16[[#This Row],[Sector]],Sectors[],2,FALSE)","v":7}]
[null,"ADESAH",{"$f":"INDEX(Organizations[],MATCH(Main3WData16[[#This Row],[Acronym]],AcronymList,0),1)","v":"ADESAH"},{"$f":"INDEX(Organizations[],MATCH(Main3WData16[[#This Row],[Acronym]],AcronymList,0),3)","v":"ONG Nat."},"Sécurité alimentaire","Regulier","Gao",{"$f":"VLOOKUP(Main3WData16[[#This Row],[Admin Unit Name]],AdminUnits[],2,FALSE)","v":"ML07"},{"$f":"VLOOKUP(Main3WData16[[#This Row],[Admin Unit Name]],AdminUnits[],3,FALSE)","v":"Nord"},{"$f":"VLOOKUP(Main3WData16[[#This Row],[Admin Unit Name]],AdminUnits[],4,FALSE)","v":7},{"$f":"VLOOKUP(Main3WData16[[#This Row],[Sector]],Sectors[],2,FALSE)","v":7}]
[null,"ADESAH",{"$f":"INDEX(Organizations[],MATCH(Main3WData16[[#This Row],[Acronym]],AcronymList,0),1)","v":"ADESAH"},{"$f":"INDEX(Organizations[],MATCH(Main3WData16[[#This Row],[Acronym]],AcronymList,0),3)","v":"ONG Nat."},"Sécurité alimentaire","Regulier","Tombouctou",{"$f":"VLOOKUP(Main3WData16[[#This Row],[Admin Unit Name]],AdminUnits[],2,FALSE)","v":"ML06"},{"$f":"VLOOKUP(Main3WData16[[#This Row],[Admin Unit Name]],AdminUnits[],3,FALSE)","v":"Nord"},{"$f":"VLOOKUP(Main3WData16[[#This Row],[Admin Unit Name]],AdminUnits[],4,FALSE)","v":6},{"$f":"VLOOKUP(Main3WData16[[#This Row],[Sector]],Sectors[],2,FALSE)","v":7}]
[null,"ACTED",{"$f":"INDEX(Organizations[],MATCH(Main3WData16[[#This Row],[Acronym]],AcronymList,0),1)","v":"Agence d'aide à la coopération technique et au développement"},{"$f":"INDEX(Organizations[],MATCH(Main3WData16[[#This Row],[Acronym]],AcronymList,0),3)","v":"ONG Int."},"Abris et NFI","Regulier","Bamako",{"$f":"VLOOKUP(Main3WData16[[#This Row],[Admin Unit Name]],AdminUnits[],2,FALSE)","v":"ML09"},{"$f":"VLOOKUP(Main3WData16[[#This Row],[Admin Unit Name]],AdminUnits[],3,FALSE)","v":"Sud"},{"$f":"VLOOKUP(Main3WData16[[#This Row],[Admin Unit Name]],AdminUnits[],4,FALSE)","v":0},{"$f":"VLOOKUP(Main3WData16[[#This Row],[Sector]],Sectors[],2,FALSE)","v":1}]
[null,"ACTED",{"$f":"INDEX(Organizations[],MATCH(Main3WData16[[#This Row],[Acronym]],AcronymList,0),1)","v":"Agence d'aide à la coopération technique et au développement"},{"$f":"INDEX(Organizations[],MATCH(Main3WData16[[#This Row],[Acronym]],AcronymList,0),3)","v":"ONG Int."},"Abris et NFI","Regulier","MOPTI",{"$f":"VLOOKUP(Main3WData16[[#This Row],[Admin Unit Name]],AdminUnits[],2,FALSE)","v":"ML05"},{"$f":"VLOOKUP(Main3WData16[[#This Row],[Admin Unit Name]],AdminUnits[],3,FALSE)","v":"Sud"},{"$f":"VLOOKUP(Main3WData16[[#This Row],[Admin Unit Name]],AdminUnits[],4,FALSE)","v":5},{"$f":"VLOOKUP(Main3WData16[[#This Row],[Sector]],Sectors[],2,FALSE)","v":1}]
[null,"ACTED",{"$f":"INDEX(Organizations[],MATCH(Main3WData16[[#This Row],[Acronym]],AcronymList,0),1)","v":"Agence d'aide à la coopération technique et au développement"},{"$f":"INDEX(Organizations[],MATCH(Main3WData16[[#This Row],[Acronym]],AcronymList,0),3)","v":"ONG Int."},"EHA","Regulier","MOPTI",{"$f":"VLOOKUP(Main3WData16[[#This Row],[Admin Unit Name]],AdminUnits[],2,FALSE)","v":"ML05"},{"$f":"VLOOKUP(Main3WData16[[#This Row],[Admin Unit Name]],AdminUnits[],3,FALSE)","v":"Sud"},{"$f":"VLOOKUP(Main3WData16[[#This Row],[Admin Unit Name]],AdminUnits[],4,FALSE)","v":5},{"$f":"VLOOKUP(Main3WData16[[#This Row],[Sector]],Sectors[],2,FALSE)","v":8}]
[null,"ACTED",{"$f":"INDEX(Organizations[],MATCH(Main3WData16[[#This Row],[Acronym]],AcronymList,0),1)","v":"Agence d'aide à la coopération technique et au développement"},{"$f":"INDEX(Organizations[],MATCH(Main3WData16[[#This Row],[Acronym]],AcronymList,0),3)","v":"ONG Int."},"EHA","Regulier","SEGOU",{"$f":"VLOOKUP(Main3WData16[[#This Row],[Admin Unit Name]],AdminUnits[],2,FALSE)","v":"ML04"},{"$f":"VLOOKUP(Main3WData16[[#This Row],[Admin Unit Name]],AdminUnits[],3,FALSE)","v":"Sud"},{"$f":"VLOOKUP(Main3WData16[[#This Row],[Admin Unit Name]],AdminUnits[],4,FALSE)","v":4},{"$f":"VLOOKUP(Main3WData16[[#This Row],[Sector]],Sectors[],2,FALSE)","v":8}]
[null,"ACTED",{"$f":"INDEX(Organizations[],MATCH(Main3WData16[[#This Row],[Acronym]],AcronymList,0),1)","v":"Agence d'aide à la coopération technique et au développement"},{"$f":"INDEX(Organizations[],MATCH(Main3WData16[[#This Row],[Acronym]],AcronymList,0),3)","v":"ONG Int."},"Nutrition","Regulier","Bamako",{"$f":"VLOOKUP(Main3WData16[[#This Row],[Admin Unit Name]],AdminUnits[],2,FALSE)","v":"ML09"},{"$f":"VLOOKUP(Main3WData16[[#This Row],[Admin Unit Name]],AdminUnits[],3,FALSE)","v":"Sud"},{"$f":"VLOOKUP(Main3WData16[[#This Row],[Admin Unit Name]],AdminUnits[],4,FALSE)","v":0},{"$f":"VLOOKUP(Main3WData16[[#This Row],[Sector]],Sectors[],2,FALSE)","v":4}]
[null,"ACTED",{"$f":"INDEX(Organizations[],MATCH(Main3WData16[[#This Row],[Acronym]],AcronymList,0),1)","v":"Agence d'aide à la coopération technique et au développement"},{"$f":"INDEX(Organizations[],MATCH(Main3WData16[[#This Row],[Acronym]],AcronymList,0),3)","v":"ONG Int."},"Nutrition","Regulier","Mopti",{"$f":"VLOOKUP(Main3WData16[[#This Row],[Admin Unit Name]],AdminUnits[],2,FALSE)","v":"ML05"},{"$f":"VLOOKUP(Main3WData16[[#This Row],[Admin Unit Name]],AdminUnits[],3,FALSE)","v":"Sud"},{"$f":"VLOOKUP(Main3WData16[[#This Row],[Admin Unit Name]],AdminUnits[],4,FALSE)","v":5},{"$f":"VLOOKUP(Main3WData16[[#This Row],[Sector]],Sectors[],2,FALSE)","v":4}]
[null,"ACTED",{"$f":"INDEX(Organizations[],MATCH(Main3WData16[[#This Row],[Acronym]],AcronymList,0),1)","v":"Agence d'aide à la coopération technique et au développement"},{"$f":"INDEX(Organizations[],MATCH(Main3WData16[[#This Row],[Acronym]],AcronymList,0),3)","v":"ONG Int."},"Protection","Regulier","Bamako",{"$f":"VLOOKUP(Main3WData16[[#This Row],[Admin Unit Name]],AdminUnits[],2,FALSE)","v":"ML09"},{"$f":"VLOOKUP(Main3WData16[[#This Row],[Admin Unit Name]],AdminUnits[],3,FALSE)","v":"Sud"},{"$f":"VLOOKUP(Main3WData16[[#This Row],[Admin Unit Name]],AdminUnits[],4,FALSE)","v":0},{"$f":"VLOOKUP(Main3WData16[[#This Row],[Sector]],Sectors[],2,FALSE)","v":5}]
[null,"ACTED",{"$f":"INDEX(Organizations[],MATCH(Main3WData16[[#This Row],[Acronym]],AcronymList,0),1)","v":"Agence d'aide à la coopération technique et au développement"},{"$f":"INDEX(Organizations[],MATCH(Main3WData16[[#This Row],[Acronym]],AcronymList,0),3)","v":"ONG Int."},"Protection","Regulier","Koulikoro",{"$f":"VLOOKUP(Main3WData16[[#This Row],[Admin Unit Name]],AdminUnits[],2,FALSE)","v":"ML02"},{"$f":"VLOOKUP(Main3WData16[[#This Row],[Admin Unit Name]],AdminUnits[],3,FALSE)","v":"Sud"},{"$f":"VLOOKUP(Main3WData16[[#This Row],[Admin Unit Name]],AdminUnits[],4,FALSE)","v":2},{"$f":"VLOOKUP(Main3WData16[[#This Row],[Sector]],Sectors[],2,FALSE)","v":5}]
[null,"ACTED",{"$f":"INDEX(Organizations[],MATCH(Main3WData16[[#This Row],[Acronym]],AcronymList,0),1)","v":"Agence d'aide à la coopération technique et au développement"},{"$f":"INDEX(Organizations[],MATCH(Main3WData16[[#This Row],[Acronym]],AcronymList,0),3)","v":"ONG Int."},"Sécurité alimentaire","Regulier","Bamako",{"$f":"VLOOKUP(Main3WData16[[#This Row],[Admin Unit Name]],AdminUnits[],2,FALSE)","v":"ML09"},{"$f":"VLOOKUP(Main3WData16[[#This Row],[Admin Unit Name]],AdminUnits[],3,FALSE)","v":"Sud"},{"$f":"VLOOKUP(Main3WData16[[#This Row],[Admin Unit Name]],AdminUnits[],4,FALSE)","v":0},{"$f":"VLOOKUP(Main3WData16[[#This Row],[Sector]],Sectors[],2,FALSE)","v":7}]
[null,"ACF – Espagne",{"$f":"INDEX(Organizations[],MATCH(Main3WData16[[#This Row],[Acronym]],AcronymList,0),1)","v":"Action contre la faim Espagne"},{"$f":"INDEX(Organizations[],MATCH(Main3WData16[[#This Row],[Acronym]],AcronymList,0),3)","v":"ONG Int."},"EHA","Regulier","BAMAKO",{"$f":"VLOOKUP(Main3WData16[[#This Row],[Admin Unit Name]],AdminUnits[],2,FALSE)","v":"ML09"},{"$f":"VLOOKUP(Main3WData16[[#This Row],[Admin Unit Name]],AdminUnits[],3,FALSE)","v":"Sud"},{"$f":"VLOOKUP(Main3WData16[[#This Row],[Admin Unit Name]],AdminUnits[],4,FALSE)","v":0},{"$f":"VLOOKUP(Main3WData16[[#This Row],[Sector]],Sectors[],2,FALSE)","v":8}]
[null,"ACF – Espagne",{"$f":"INDEX(Organizations[],MATCH(Main3WData16[[#This Row],[Acronym]],AcronymList,0),1)","v":"Action contre la faim Espagne"},{"$f":"INDEX(Organizations[],MATCH(Main3WData16[[#This Row],[Acronym]],AcronymList,0),3)","v":"ONG Int."},"Nutrition","Regulier","Bamako",{"$f":"VLOOKUP(Main3WData16[[#This Row],[Admin Unit Name]],AdminUnits[],2,FALSE)","v":"ML09"},{"$f":"VLOOKUP(Main3WData16[[#This Row],[Admin Unit Name]],AdminUnits[],3,FALSE)","v":"Sud"},{"$f":"VLOOKUP(Main3WData16[[#This Row],[Admin Unit Name]],AdminUnits[],4,FALSE)","v":0},{"$f":"VLOOKUP(Main3WData16[[#This Row],[Sector]],Sectors[],2,FALSE)","v":4}]
[null,"ACF – Espagne",{"$f":"INDEX(Organizations[],MATCH(Main3WData16[[#This Row],[Acronym]],AcronymList,0),1)","v":"Action contre la faim Espagne"},{"$f":"INDEX(Organizations[],MATCH(Main3WData16[[#This Row],[Acronym]],AcronymList,0),3)","v":"ONG Int."},"Nutrition","Regulier","Gao",{"$f":"VLOOKUP(Main3WData16[[#This Row],[Admin Unit Name]],AdminUnits[],2,FALSE)","v":"ML07"},{"$f":"VLOOKUP(Main3WData16[[#This Row],[Admin Unit Name]],AdminUnits[],3,FALSE)","v":"Nord"},{"$f":"VLOOKUP(Main3WData16[[#This Row],[Admin Unit Name]],AdminUnits[],4,FALSE)","v":7},{"$f":"VLOOKUP(Main3WData16[[#This Row],[Sector]],Sectors[],2,FALSE)","v":4}]
[null,"ACF – Espagne",{"$f":"INDEX(Organizations[],MATCH(Main3WData16[[#This Row],[Acronym]],AcronymList,0),1)","v":"Action contre la faim Espagne"},{"$f":"INDEX(Organizations[],MATCH(Main3WData16[[#This Row],[Acronym]],AcronymList,0),3)","v":"ONG Int."},"Nutrition","Regulier","Kayes",{"$f":"VLOOKUP(Main3WData16[[#This Row],[Admin Unit Name]],AdminUnits[],2,FALSE)","v":"ML01"},{"$f":"VLOOKUP(Main3WData16[[#This Row],[Admin Unit Name]],AdminUnits[],3,FALSE)","v":"Sud"},{"$f":"VLOOKUP(Main3WData16[[#This Row],[Admin Unit Name]],AdminUnits[],4,FALSE)","v":1},{"$f":"VLOOKUP(Main3WData16[[#This Row],[Sector]],Sectors[],2,FALSE)","v":4}]
[null,"ACF – Espagne",{"$f":"INDEX(Organizations[],MATCH(Main3WData16[[#This Row],[Acronym]],AcronymList,0),1)","v":"Action contre la faim Espagne"},{"$f":"INDEX(Organizations[],MATCH(Main3WData16[[#This Row],[Acronym]],AcronymList,0),3)","v":"ONG Int."},"Nutrition","Regulier","Koulikoro",{"$f":"VLOOKUP(Main3WData16[[#This Row],[Admin Unit Name]],AdminUnits[],2,FALSE)","v":"ML02"},{"$f":"VLOOKUP(Main3WData16[[#This Row],[Admin Unit Name]],AdminUnits[],3,FALSE)","v":"Sud"},{"$f":"VLOOKUP(Main3WData16[[#This Row],[Admin Unit Name]],AdminUnits[],4,FALSE)","v":2},{"$f":"VLOOKUP(Main3WData16[[#This Row],[Sector]],Sectors[],2,FALSE)","v":4}]
[null,"ACF – Espagne",{"$f":"INDEX(Organizations[],MATCH(Main3WData16[[#This Row],[Acronym]],AcronymList,0),1)","v":"Action contre la faim Espagne"},{"$f":"INDEX(Organizations[],MATCH(Main3WData16[[#This Row],[Acronym]],AcronymList,0),3)","v":"ONG Int."},"Santé","Regulier","Gao",{"$f":"VLOOKUP(Main3WData16[[#This Row],[Admin Unit Name]],AdminUnits[],2,FALSE)","v":"ML07"},{"$f":"VLOOKUP(Main3WData16[[#This Row],[Admin Unit Name]],AdminUnits[],3,FALSE)","v":"Nord"},{"$f":"VLOOKUP(Main3WData16[[#This Row],[Admin Unit Name]],AdminUnits[],4,FALSE)","v":7},{"$f":"VLOOKUP(Main3WData16[[#This Row],[Sector]],Sectors[],2,FALSE)","v":6}]
[null,"ACF – Espagne",{"$f":"INDEX(Organizations[],MATCH(Main3WData16[[#This Row],[Acronym]],AcronymList,0),1)","v":"Action contre la faim Espagne"},{"$f":"INDEX(Organizations[],MATCH(Main3WData16[[#This Row],[Acronym]],AcronymList,0),3)","v":"ONG Int."},"Sécurité alimentaire","Regulier","Gao",{"$f":"VLOOKUP(Main3WData16[[#This Row],[Admin Unit Name]],AdminUnits[],2,FALSE)","v":"ML07"},{"$f":"VLOOKUP(Main3WData16[[#This Row],[Admin Unit Name]],AdminUnits[],3,FALSE)","v":"Nord"},{"$f":"VLOOKUP(Main3WData16[[#This Row],[Admin Unit Name]],AdminUnits[],4,FALSE)","v":7},{"$f":"VLOOKUP(Main3WData16[[#This Row],[Sector]],Sectors[],2,FALSE)","v":7}]
[null,"ACF – Espagne",{"$f":"INDEX(Organizations[],MATCH(Main3WData16[[#This Row],[Acronym]],AcronymList,0),1)","v":"Action contre la faim Espagne"},{"$f":"INDEX(Organizations[],MATCH(Main3WData16[[#This Row],[Acronym]],AcronymList,0),3)","v":"ONG Int."},"Sécurité alimentaire","Regulier","Kayes",{"$f":"VLOOKUP(Main3WData16[[#This Row],[Admin Unit Name]],AdminUnits[],2,FALSE)","v":"ML01"},{"$f":"VLOOKUP(Main3WData16[[#This Row],[Admin Unit Name]],AdminUnits[],3,FALSE)","v":"Sud"},{"$f":"VLOOKUP(Main3WData16[[#This Row],[Admin Unit Name]],AdminUnits[],4,FALSE)","v":1},{"$f":"VLOOKUP(Main3WData16[[#This Row],[Sector]],Sectors[],2,FALSE)","v":7}]
[null,"ACF – Espagne",{"$f":"INDEX(Organizations[],MATCH(Main3WData16[[#This Row],[Acronym]],AcronymList,0),1)","v":"Action contre la faim Espagne"},{"$f":"INDEX(Organizations[],MATCH(Main3WData16[[#This Row],[Acronym]],AcronymList,0),3)","v":"ONG Int."},"Sécurité alimentaire","Regulier","Koulikoro",{"$f":"VLOOKUP(Main3WData16[[#This Row],[Admin Unit Name]],AdminUnits[],2,FALSE)","v":"ML02"},{"$f":"VLOOKUP(Main3WData16[[#This Row],[Admin Unit Name]],AdminUnits[],3,FALSE)","v":"Sud"},{"$f":"VLOOKUP(Main3WData16[[#This Row],[Admin Unit Name]],AdminUnits[],4,FALSE)","v":2},{"$f":"VLOOKUP(Main3WData16[[#This Row],[Sector]],Sectors[],2,FALSE)","v":7}]
[null,"AAG-Gao",{"$f":"INDEX(Organizations[],MATCH(Main3WData16[[#This Row],[Acronym]],AcronymList,0),1)","v":"AAG-Gao"},{"$f":"INDEX(Organizations[],MATCH(Main3WData16[[#This Row],[Acronym]],AcronymList,0),3)","v":"ONG Nat."},"Nutrition","Regulier","Gao",{"$f":"VLOOKUP(Main3WData16[[#This Row],[Admin Unit Name]],AdminUnits[],2,FALSE)","v":"ML07"},{"$f":"VLOOKUP(Main3WData16[[#This Row],[Admin Unit Name]],AdminUnits[],3,FALSE)","v":"Nord"},{"$f":"VLOOKUP(Main3WData16[[#This Row],[Admin Unit Name]],AdminUnits[],4,FALSE)","v":7},{"$f":"VLOOKUP(Main3WData16[[#This Row],[Sector]],Sectors[],2,FALSE)","v":4}]
[null,"AAA",{"$f":"INDEX(Organizations[],MATCH(Main3WData16[[#This Row],[Acronym]],AcronymList,0),1)","v":"Agro-Action allemande"},{"$f":"INDEX(Organizations[],MATCH(Main3WData16[[#This Row],[Acronym]],AcronymList,0),3)","v":"ONG Int."},"Sécurité alimentaire","Regulier","Kayes",{"$f":"VLOOKUP(Main3WData16[[#This Row],[Admin Unit Name]],AdminUnits[],2,FALSE)","v":"ML01"},{"$f":"VLOOKUP(Main3WData16[[#This Row],[Admin Unit Name]],AdminUnits[],3,FALSE)","v":"Sud"},{"$f":"VLOOKUP(Main3WData16[[#This Row],[Admin Unit Name]],AdminUnits[],4,FALSE)","v":1},{"$f":"VLOOKUP(Main3WData16[[#This Row],[Sector]],Sectors[],2,FALSE)","v":7}]
[null,"AAA",{"$f":"INDEX(Organizations[],MATCH(Main3WData16[[#This Row],[Acronym]],AcronymList,0),1)","v":"Agro-Action allemande"},{"$f":"INDEX(Organizations[],MATCH(Main3WData16[[#This Row],[Acronym]],AcronymList,0),3)","v":"ONG Int."},"Sécurité alimentaire","Regulier","Koulikoro",{"$f":"VLOOKUP(Main3WData16[[#This Row],[Admin Unit Name]],AdminUnits[],2,FALSE)","v":"ML02"},{"$f":"VLOOKUP(Main3WData16[[#This Row],[Admin Unit Name]],AdminUnits[],3,FALSE)","v":"Sud"},{"$f":"VLOOKUP(Main3WData16[[#This Row],[Admin Unit Name]],AdminUnits[],4,FALSE)","v":2},{"$f":"VLOOKUP(Main3WData16[[#This Row],[Sector]],Sectors[],2,FALSE)","v":7}]

{"sheet":"Dashboard","index":5,"n_rows":6,"n_cols":2,"rows_kept":6,"cut":false,"hidden":false,"merged":[[6,9,8,12]]}
[]
[null,"Select the type of activity you want to see in the dashboard:"]
[]
[null,"Regulier"]
[]
[null,"Go to the 3W Data Entry Page"]

{"sheet":"Data","index":6,"n_rows":407,"n_cols":11,"rows_kept":407,"cut":false,"hidden":false,"merged":[[0,1,0,6]]}
[null,"3W Data Entry"]
[null,null,"Add a new organisation"]
[]
[null,"Acronym","Organisation","Org Type","Sector","Activity Type","Admin Unit Name","Pcode","Autre","I. Admin","I. Sector"]
[null,"YA-G-TU",{"$f":"INDEX(Organizations[],MATCH(Main3WData[[#This Row],[Acronym]],AcronymList,0),1)","v":"YA-G-TU"},{"$f":"INDEX(Organizations[],MATCH(Main3WData[[#This Row],[Acronym]],AcronymList,0),3)","v":"ONG Nat."},"Nutrition","Regulier","Mopti",{"$f":"VLOOKUP(Main3WData[[#This Row],[Admin Unit Name]],AdminUnits[],2,FALSE)","v":"ML05"},{"$f":"VLOOKUP(Main3WData[[#This Row],[Admin Unit Name]],AdminUnits[],3,FALSE)","v":"Sud"},{"$f":"VLOOKUP(Main3WData[[#This Row],[Admin Unit Name]],AdminUnits[],4,FALSE)","v":5},{"$f":"VLOOKUP(Main3WData[[#This Row],[Sector]],Sectors[],2,FALSE)","v":4}]
[null,"Woyo Kondeye",{"$f":"INDEX(Organizations[],MATCH(Main3WData[[#This Row],[Acronym]],AcronymList,0),1)","v":"Woyo Kondeye"},{"$f":"INDEX(Organizations[],MATCH(Main3WData[[#This Row],[Acronym]],AcronymList,0),3)","v":"ONG Nat."},"Education","Regulier","Tombouctou",{"$f":"VLOOKUP(Main3WData[[#This Row],[Admin Unit Name]],AdminUnits[],2,FALSE)","v":"ML06"},{"$f":"VLOOKUP(Main3WData[[#This Row],[Admin Unit Name]],AdminUnits[],3,FALSE)","v":"Nord"},{"$f":"VLOOKUP(Main3WData[[#This Row],[Admin Unit Name]],AdminUnits[],4,FALSE)","v":6},{"$f":"VLOOKUP(Main3WData[[#This Row],[Sector]],Sectors[],2,FALSE)","v":3}]
[null,"WorldEd",{"$f":"INDEX(Organizations[],MATCH(Main3WData[[#This Row],[Acronym]],AcronymList,0),1)","v":"World Education"},{"$f":"INDEX(Organizations[],MATCH(Main3WData[[#This Row],[Acronym]],AcronymList,0),3)","v":"ONG Int."},"Education","Regulier","Gao",{"$f":"VLOOKUP(Main3WData[[#This Row],[Admin Unit Name]],AdminUnits[],2,FALSE)","v":"ML07"},{"$f":"VLOOKUP(Main3WData[[#This Row],[Admin Unit Name]],AdminUnits[],3,FALSE)","v":"Nord"},{"$f":"VLOOKUP(Main3WData[[#This Row],[Admin Unit Name]],AdminUnits[],4,FALSE)","v":7},{"$f":"VLOOKUP(Main3WData[[#This Row],[Sector]],Sectors[],2,FALSE)","v":3}]
[null,"WorldEd",{"$f":"INDEX(Organizations[],MATCH(Main3WData[[#This Row],[Acronym]],AcronymList,0),1)","v":"World Education"},{"$f":"INDEX(Organizations[],MATCH(Main3WData[[#This Row],[Acronym]],AcronymList,0),3)","v":"ONG Int."},"Education","Regulier","Tombouctou",{"$f":"VLOOKUP(Main3WData[[#This Row],[Admin Unit Name]],AdminUnits[],2,FALSE)","v":"ML06"},{"$f":"VLOOKUP(Main3WData[[#This Row],[Admin Unit Name]],AdminUnits[],3,FALSE)","v":"Nord"},{"$f":"VLOOKUP(Main3WData[[#This Row],[Admin Unit Name]],AdminUnits[],4,FALSE)","v":6},{"$f":"VLOOKUP(Main3WData[[#This Row],[Sector]],Sectors[],2,FALSE)","v":3}]
[null,"WORLD VISION",{"$f":"INDEX(Organizations[],MATCH(Main3WData[[#This Row],[Acronym]],AcronymList,0),1)","v":"World Vision"},{"$f":"INDEX(Organizations[],MATCH(Main3WData[[#This Row],[Acronym]],AcronymList,0),3)","v":"ONG Int."},"Nutrition","Regulier","Koulikoro",{"$f":"VLOOKUP(Main3WData[[#This Row],[Admin Unit Name]],AdminUnits[],2,FALSE)","v":"ML02"},{"$f":"VLOOKUP(Main3WData[[#This Row],[Admin Unit Name]],AdminUnits[],3,FALSE)","v":"Sud"},{"$f":"VLOOKUP(Main3WData[[#This Row],[Admin Unit Name]],AdminUnits[],4,FALSE)","v":2},{"$f":"VLOOKUP(Main3WData[[#This Row],[Sector]],Sectors[],2,FALSE)","v":4}]
[null,"WORLD VISION",{"$f":"INDEX(Organizations[],MATCH(Main3WData[[#This Row],[Acronym]],AcronymList,0),1)","v":"World Vision"},{"$f":"INDEX(Organizations[],MATCH(Main3WData[[#This Row],[Acronym]],AcronymList,0),3)","v":"ONG Int."},"Nutrition","Regulier","Mopti",{"$f":"VLOOKUP(Main3WData[[#This Row],[Admin Unit Name]],AdminUnits[],2,FALSE)","v":"ML05"},{"$f":"VLOOKUP(Main3WData[[#This Row],[Admin Unit Name]],AdminUnits[],3,FALSE)","v":"Sud"},{"$f":"VLOOKUP(Main3WData[[#This Row],[Admin Unit Name]],AdminUnits[],4,FALSE)","v":5},{"$f":"VLOOKUP(Main3WData[[#This Row],[Sector]],Sectors[],2,FALSE)","v":4}]
[null,"WORLD VISION",{"$f":"INDEX(Organizations[],MATCH(Main3WData[[#This Row],[Acronym]],AcronymList,0),1)","v":"World Vision"},{"$f":"INDEX(Organizations[],MATCH(Main3WData[[#This Row],[Acronym]],AcronymList,0),3)","v":"ONG Int."},"Nutrition","Regulier","Segou",{"$f":"VLOOKUP(Main3WData[[#This Row],[Admin Unit Name]],AdminUnits[],2,FALSE)","v":"ML04"},{"$f":"VLOOKUP(Main3WData[[#This Row],[Admin Unit Name]],AdminUnits[],3,FALSE)","v":"Sud"},{"$f":"VLOOKUP(Main3WData[[#This Row],[Admin Unit Name]],AdminUnits[],4,FALSE)","v":4},{"$f":"VLOOKUP(Main3WData[[#This Row],[Sector]],Sectors[],2,FALSE)","v":4}]
[null,"WORLD VISION",{"$f":"INDEX(Organizations[],MATCH(Main3WData[[#This Row],[Acronym]],AcronymList,0),1)","v":"World Vision"},{"$f":"INDEX(Organizations[],MATCH(Main3WData[[#This Row],[Acronym]],AcronymList,0),3)","v":"ONG Int."},"Nutrition","Regulier","Sikasso",{"$f":"VLOOKUP(Main3WData[[#This Row],[Admin Unit Name]],AdminUnits[],2,FALSE)","v":"ML03"},{"$f":"VLOOKUP(Main3WData[[#This Row],[Admin Unit Name]],AdminUnits[],3,FALSE)","v":"Sud"},{"$f":"VLOOKUP(Main3WData[[#This Row],[Admin Unit Name]],AdminUnits[],4,FALSE)","v":3},{"$f":"VLOOKUP(Main3WData[[#This Row],[Sector]],Sectors[],2,FALSE)","v":4}]
[null,"World Vision",{"$f":"INDEX(Organizations[],MATCH(Main3WData[[#This Row],[Acronym]],AcronymList,0),1)","v":"World Vision"},{"$f":"INDEX(Organizations[],MATCH(Main3WData[[#This Row],[Acronym]],AcronymList,0),3)","v":"ONG Int."},"Protection","Regulier","Bamako",{"$f":"VLOOKUP(Main3WData[[#This Row],[Admin Unit Name]],AdminUnits[],2,FALSE)","v":"ML09"},{"$f":"VLOOKUP(Main3WData[[#This Row],[Admin Unit Name]],AdminUnits[],3,FALSE)","v":"Sud"},{"$f":"VLOOKUP(Main3WData[[#This Row],[Admin Unit Name]],AdminUnits[],4,FALSE)","v":0},{"$f":"VLOOKUP(Main3WData[[#This Row],[Sector]],Sectors[],2,FALSE)","v":5}]
[null,"World Vision",{"$f":"INDEX(Organizations[],MATCH(Main3WData[[#This Row],[Acronym]],AcronymList,0),1)","v":"World Vision"},{"$f":"INDEX(Organizations[],MATCH(Main3WData[[#This Row],[Acronym]],AcronymList,0),3)","v":"ONG Int."},"Protection","Regulier","Gao",{"$f":"VLOOKUP(Main3WData[[#This Row],[Admin Unit Name]],AdminUnits[],2,FALSE)","v":"ML07"},{"$f":"VLOOKUP(Main3WData[[#This Row],[Admin Unit Name]],AdminUnits[],3,FALSE)","v":"Nord"},{"$f":"VLOOKUP(Main3WData[[#This Row],[Admin Unit Name]],AdminUnits[],4,FALSE)","v":7},{"$f":"VLOOKUP(Main3WData[[#This Row],[Sector]],Sectors[],2,FALSE)","v":5}]
[null,"World Vision",{"$f":"INDEX(Organizations[],MATCH(Main3WData[[#This Row],[Acronym]],AcronymList,0),1)","v":"World Vision"},{"$f":"INDEX(Organizations[],MATCH(Main3WData[[#This Row],[Acronym]],AcronymList,0),3)","v":"ONG Int."},"Santé","Regulier","Mopti",{"$f":"VLOOKUP(Main3WData[[#This Row],[Admin Unit Name]],AdminUnits[],2,FALSE)","v":"ML05"},{"$f":"VLOOKUP(Main3WData[[#This Row],[Admin Unit Name]],AdminUnits[],3,FALSE)","v":"Sud"},{"$f":"VLOOKUP(Main3WData[[#This Row],[Admin Unit Name]],AdminUnits[],4,FALSE)","v":5},{"$f":"VLOOKUP(Main3WData[[#This Row],[Sector]],Sectors[],2,FALSE)","v":6}]
[null,"World Vision",{"$f":"INDEX(Organizations[],MATCH(Main3WData[[#This Row],[Acronym]],AcronymList,0),1)","v":"World Vision"},{"$f":"INDEX(Organizations[],MATCH(Main3WData[[#This Row],[Acronym]],AcronymList,0),3)","v":"ONG Int."},"Sécurité alimentaire","Regulier","Mopti",{"$f":"VLOOKUP(Main3WData[[#This Row],[Admin Unit Name]],AdminUnits[],2,FALSE)","v":"ML05"},{"$f":"VLOOKUP(Main3WData[[#This Row],[Admin Unit Name]],AdminUnits[],3,FALSE)","v":"Sud"},{"$f":"VLOOKUP(Main3WData[[#This Row],[Admin Unit Name]],AdminUnits[],4,FALSE)","v":5},{"$f":"VLOOKUP(Main3WData[[#This Row],[Sector]],Sectors[],2,FALSE)","v":7}]
[null,"WILDAF",{"$f":"INDEX(Organizations[],MATCH(Main3WData[[#This Row],[Acronym]],AcronymList,0),1)","v":"Women in Law and Development in Africa"},{"$f":"INDEX(Organizations[],MATCH(Main3WData[[#This Row],[Acronym]],AcronymList,0),3)","v":"ONG Nat."},"Protection","Regulier","Bamako",{"$f":"VLOOKUP(Main3WData[[#This Row],[Admin Unit Name]],AdminUnits[],2,FALSE)","v":"ML09"},{"$f":"VLOOKUP(Main3WData[[#This Row],[Admin Unit Name]],AdminUnits[],3,FALSE)","v":"Sud"},{"$f":"VLOOKUP(Main3WData[[#This Row],[Admin Unit Name]],AdminUnits[],4,FALSE)","v":0},{"$f":"VLOOKUP(Main3WData[[#This Row],[Sector]],Sectors[],2,FALSE)","v":5}]
[null,"WILDAF",{"$f":"INDEX(Organizations[],MATCH(Main3WData[[#This Row],[Acronym]],AcronymList,0),1)","v":"Women in Law and Development in Africa"},{"$f":"INDEX(Organizations[],MATCH(Main3WData[[#This Row],[Acronym]],AcronymList,0),3)","v":"ONG Nat."},"Protection","Regulier","Koulikoro",{"$f":"VLOOKUP(Main3WData[[#This Row],[Admin Unit Name]],AdminUnits[],2,FALSE)","v":"ML02"},{"$f":"VLOOKUP(Main3WData[[#This Row],[Admin Unit Name]],AdminUnits[],3,FALSE)","v":"Sud"},{"$f":"VLOOKUP(Main3WData[[#This Row],[Admin Unit Name]],AdminUnits[],4,FALSE)","v":2},{"$f":"VLOOKUP(Main3WData[[#This Row],[Sector]],Sectors[],2,FALSE)","v":5}]
[null,"UNMAS",{"$f":"INDEX(Organizations[],MATCH(Main3WData[[#This Row],[Acronym]],AcronymList,0),1)","v":"UNMAS"},{"$f":"INDEX(Organizations[],MATCH(Main3WData[[#This Row],[Acronym]],AcronymList,0),3)","v":"UN"},"Protection","Regulier","Gao",{"$f":"VLOOKUP(Main3WData[[#This Row],[Admin Unit Name]],AdminUnits[],2,FALSE)","v":"ML07"},{"$f":"VLOOKUP(Main3WData[[#This Row],[Admin Unit Name]],AdminUnits[],3,FALSE)","v":"Nord"},{"$f":"VLOOKUP(Main3WData[[#This Row],[Admin Unit Name]],AdminUnits[],4,FALSE)","v":7},{"$f":"VLOOKUP(Main3WData[[#This Row],[Sector]],Sectors[],2,FALSE)","v":5}]
[null,"UNMAS",{"$f":"INDEX(Organizations[],MATCH(Main3WData[[#This Row],[Acronym]],AcronymList,0),1)","v":"UNMAS"},{"$f":"INDEX(Organizations[],MATCH(Main3WData[[#This Row],[Acronym]],AcronymList,0),3)","v":"UN"},"Protection","Regulier","Mopti",{"$f":"VLOOKUP(Main3WData[[#This Row],[Admin Unit Name]],AdminUnits[],2,FALSE)","v":"ML05"},{"$f":"VLOOKUP(Main3WData[[#This Row],[Admin Unit Name]],AdminUnits[],3,FALSE)","v":"Sud"},{"$f":"VLOOKUP(Main3WData[[#This Row],[Admin Unit Name]],AdminUnits[],4,FALSE)","v":5},{"$f":"VLOOKUP(Main3WData[[#This Row],[Sector]],Sectors[],2,FALSE)","v":5}]
[null,"UNMAS",{"$f":"INDEX(Organizations[],MATCH(Main3WData[[#This Row],[Acronym]],AcronymList,0),1)","v":"UNMAS"},{"$f":"INDEX(Organizations[],MATCH(Main3WData[[#This Row],[Acronym]],AcronymList,0),3)","v":"UN"},"Protection","Regulier","Tombouctou",{"$f":"VLOOKUP(Main3WData[[#This Row],[Admin Unit Name]],AdminUnits[],2,FALSE)","v":"ML06"},{"$f":"VLOOKUP(Main3WData[[#This Row],[Admin Unit Name]],AdminUnits[],3,FALSE)","v":"Nord"},{"$f":"VLOOKUP(Main3WData[[#This Row],[Admin Unit Name]],AdminUnits[],4,FALSE)","v":6},{"$f":"VLOOKUP(Main3WData[[#This Row],[Sector]],Sectors[],2,FALSE)","v":5}]
[null,"UNICEF",{"$f":"INDEX(Organizations[],MATCH(Main3WData[[#This Row],[Acronym]],AcronymList,0),1)","v":"Fonds des Nations Unies pour l'Enfance"},{"$f":"INDEX(Organizations[],MATCH(Main3WData[[#This Row],[Acronym]],AcronymList,0),3)","v":"UN"},"Coordination","Regulier","Bamako",{"$f":"VLOOKUP(Main3WData[[#This Row],[Admin Unit Name]],AdminUnits[],2,FALSE)","v":"ML09"},{"$f":"VLOOKUP(Main3WData[[#This Row],[Admin Unit Name]],AdminUnits[],3,FALSE)","v":"Sud"},{"$f":"VLOOKUP(Main3WData[[#This Row],[Admin Unit Name]],AdminUnits[],4,FALSE)","v":0},{"$f":"VLOOKUP(Main3WData[[#This Row],[Sector]],Sectors[],2,FALSE)","v":2}]
[null,"UNICEF",{"$f":"INDEX(Organizations[],MATCH(Main3WData[[#This Row],[Acronym]],AcronymList,0),1)","v":"Fonds des Nations Unies pour l'Enfance"},{"$f":"INDEX(Organizations[],MATCH(Main3WData[[#This Row],[Acronym]],AcronymList,0),3)","v":"UN"},"Coordination","Regulier","Gao",{"$f":"VLOOKUP(Main3WData[[#This Row],[Admin Unit Name]],AdminUnits[],2,FALSE)","v":"ML07"},{"$f":"VLOOKUP(Main3WData[[#This Row],[Admin Unit Name]],AdminUnits[],3,FALSE)","v":"Nord"},{"$f":"VLOOKUP(Main3WData[[#This Row],[Admin Unit Name]],AdminUnits[],4,FALSE)","v":7},{"$f":"VLOOKUP(Main3WData[[#This Row],[Sector]],Sectors[],2,FALSE)","v":2}]
[null,"UNICEF",{"$f":"INDEX(Organizations[],MATCH(Main3WData[[#This Row],[Acronym]],AcronymList,0),1)","v":"Fonds des Nations Unies pour l'Enfance"},{"$f":"INDEX(Organizations[],MATCH(Main3WData[[#This Row],[Acronym]],AcronymList,0),3)","v":"UN"},"Coordination","Regulier","Mopti",{"$f":"VLOOKUP(Main3WData[[#This Row],[Admin Unit Name]],AdminUnits[],2,FALSE)","v":"ML05"},{"$f":"VLOOKUP(Main3WData[[#This Row],[Admin Unit Name]],AdminUnits[],3,FALSE)","v":"Sud"},{"$f":"VLOOKUP(Main3WData[[#This Row],[Admin Unit Name]],AdminUnits[],4,FALSE)","v":5},{"$f":"VLOOKUP(Main3WData[[#This Row],[Sector]],Sectors[],2,FALSE)","v":2}]
[null,"UNICEF",{"$f":"INDEX(Organizations[],MATCH(Main3WData[[#This Row],[Acronym]],AcronymList,0),1)","v":"Fonds des Nations Unies pour l'Enfance"},{"$f":"INDEX(Organizations[],MATCH(Main3WData[[#This Row],[Acronym]],AcronymList,0),3)","v":"UN"},"Education","Regulier","Gao",{"$f":"VLOOKUP(Main3WData[[#This Row],[Admin Unit Name]],AdminUnits[],2,FALSE)","v":"ML07"},{"$f":"VLOOKUP(Main3WData[[#This Row],[Admin Unit Name]],AdminUnits[],3,FALSE)","v":"Nord"},{"$f":"VLOOKUP(Main3WData[[#This Row],[Admin Unit Name]],AdminUnits[],4,FALSE)","v":7},{"$f":"VLOOKUP(Main3WData[[#This Row],[Sector]],Sectors[],2,FALSE)","v":3}]
[null,"UNICEF",{"$f":"INDEX(Organizations[],MATCH(Main3WData[[#This Row],[Acronym]],AcronymList,0),1)","v":"Fonds des Nations Unies pour l'Enfance"},{"$f":"INDEX(Organizations[],MATCH(Main3WData[[#This Row],[Acronym]],AcronymList,0),3)","v":"UN"},"Education","Regulier","Mopti",{"$f":"VLOOKUP(Main3WData[[#This Row],[Admin Unit Name]],AdminUnits[],2,FALSE)","v":"ML05"},{"$f":"VLOOKUP(Main3WData[[#This Row],[Admin Unit Name]],AdminUnits[],3,FALSE)","v":"Sud"},{"$f":"VLOOKUP(Main3WData[[#This Row],[Admin Unit Name]],AdminUnits[],4,FALSE)","v":5},{"$f":"VLOOKUP(Main3WData[[#This Row],[Sector]],Sectors[],2,FALSE)","v":3}]
[null,"UNICEF",{"$f":"INDEX(Organizations[],MATCH(Main3WData[[#This Row],[Acronym]],AcronymList,0),1)","v":"Fonds des Nations Unies pour l'Enfance"},{"$f":"INDEX(Organizations[],MATCH(Main3WData[[#This Row],[Acronym]],AcronymList,0),3)","v":"UN"},"Education","Regulier","Tombouctou",{"$f":"VLOOKUP(Main3WData[[#This Row],[Admin Unit Name]],AdminUnits[],2,FALSE)","v":"ML06"},{"$f":"VLOOKUP(Main3WData[[#This Row],[Admin Unit Name]],AdminUnits[],3,FALSE)","v":"Nord"},{"$f":"VLOOKUP(Main3WData[[#This Row],[Admin Unit Name]],AdminUnits[],4,FALSE)","v":6},{"$f":"VLOOKUP(Main3WData[[#This Row],[Sector]],Sectors[],2,FALSE)","v":3}]
[null,"UNICEF",{"$f":"INDEX(Organizations[],MATCH(Main3WData[[#This Row],[Acronym]],AcronymList,0),1)","v":"Fonds des Nations Unies pour l'Enfance"},{"$f":"INDEX(Organizations[],MATCH(Main3WData[[#This Row],[Acronym]],AcronymList,0),3)","v":"UN"},"EHA","Regulier","Gao",{"$f":"VLOOKUP(Main3WData[[#This Row],[Admin Unit Name]],AdminUnits[],2,FALSE)","v":"ML07"},{"$f":"VLOOKUP(Main3WData[[#This Row],[Admin Unit Name]],AdminUnits[],3,FALSE)","v":"Nord"},{"$f":"VLOOKUP(Main3WData[[#This Row],[Admin Unit Name]],AdminUnits[],4,FALSE)","v":7},{"$f":"VLOOKUP(Main3WData[[#This Row],[Sector]],Sectors[],2,FALSE)","v":8}]
[null,"UNICEF",{"$f":"INDEX(Organizations[],MATCH(Main3WData[[#This Row],[Acronym]],AcronymList,0),1)","v":"Fonds des Nations Unies pour l'Enfance"},{"$f":"INDEX(Organizations[],MATCH(Main3WData[[#This Row],[Acronym]],AcronymList,0),3)","v":"UN"},"EHA","Regulier","Kidal",{"$f":"VLOOKUP(Main3WData[[#This Row],[Admin Unit Name]],AdminUnits[],2,FALSE)","v":"ML08"},{"$f":"VLOOKUP(Main3WData[[#This Row],[Admin Unit Name]],AdminUnits[],3,FALSE)","v":"Nord"},{"$f":"VLOOKUP(Main3WData[[#This Row],[Admin Unit Name]],AdminUnits[],4,FALSE)","v":8},{"$f":"VLOOKUP(Main3WData[[#This Row],[Sector]],Sectors[],2,FALSE)","v":8}]
[null,"UNICEF",{"$f":"INDEX(Organizations[],MATCH(Main3WData[[#This Row],[Acronym]],AcronymList,0),1)","v":"Fonds des Nations Unies pour l'Enfance"},{"$f":"INDEX(Organizations[],MATCH(Main3WData[[#This Row],[Acronym]],AcronymList,0),3)","v":"UN"},"EHA","Regulier","Mopti",{"$f":"VLOOKUP(Main3WData[[#This Row],[Admin Unit Name]],AdminUnits[],2,FALSE)","v":"ML05"},{"$f":"VLOOKUP(Main3WData[[#This Row],[Admin Unit Name]],AdminUnits[],3,FALSE)","v":"Sud"},{"$f":"VLOOKUP(Main3WData[[#This Row],[Admin Unit Name]],AdminUnits[],4,FALSE)","v":5},{"$f":"VLOOKUP(Main3WData[[#This Row],[Sector]],Sectors[],2,FALSE)","v":8}]
[null,"UNICEF",{"$f":"INDEX(Organizations[],MATCH(Main3WData[[#This Row],[Acronym]],AcronymList,0),1)","v":"Fonds des Nations Unies pour l'Enfance"},{"$f":"INDEX(Organizations[],MATCH(Main3WData[[#This Row],[Acronym]],AcronymList,0),3)","v":"UN"},"EHA","Regulier","Segou",{"$f":"VLOOKUP(Main3WData[[#This Row],[Admin Unit Name]],AdminUnits[],2,FALSE)","v":"ML04"},{"$f":"VLOOKUP(Main3WData[[#This Row],[Admin Unit Name]],AdminUnits[],3,FALSE)","v":"Sud"},{"$f":"VLOOKUP(Main3WData[[#This Row],[Admin Unit Name]],AdminUnits[],4,FALSE)","v":4},{"$f":"VLOOKUP(Main3WData[[#This Row],[Sector]],Sectors[],2,FALSE)","v":8}]
[null,"UNICEF",{"$f":"INDEX(Organizations[],MATCH(Main3WData[[#This Row],[Acronym]],AcronymList,0),1)","v":"Fonds des Nations Unies pour l'Enfance"},{"$f":"INDEX(Organizations[],MATCH(Main3WData[[#This Row],[Acronym]],AcronymList,0),3)","v":"UN"},"EHA","Regulier","Tombouctou",{"$f":"VLOOKUP(Main3WData[[#This Row],[Admin Unit Name]],AdminUnits[],2,FALSE)","v":"ML06"},{"$f":"VLOOKUP(Main3WData[[#This Row],[Admin Unit Name]],AdminUnits[],3,FALSE)","v":"Nord"},{"$f":"VLOOKUP(Main3WData[[#This Row],[Admin Unit Name]],AdminUnits[],4,FALSE)","v":6},{"$f":"VLOOKUP(Main3WData[[#This Row],[Sector]],Sectors[],2,FALSE)","v":8}]
[null,"UNICEF",{"$f":"INDEX(Organizations[],MATCH(Main3WData[[#This Row],[Acronym]],AcronymList,0),1)","v":"Fonds des Nations Unies pour l'Enfance"},{"$f":"INDEX(Organizations[],MATCH(Main3WData[[#This Row],[Acronym]],AcronymList,0),3)","v":"UN"},"Nutrition","Regulier","Mopti",{"$f":"VLOOKUP(Main3WData[[#This Row],[Admin Unit Name]],AdminUnits[],2,FALSE)","v":"ML05"},{"$f":"VLOOKUP(Main3WData[[#This Row],[Admin Unit Name]],AdminUnits[],3,FALSE)","v":"Sud"},{"$f":"VLOOKUP(Main3WData[[#This Row],[Admin Unit Name]],AdminUnits[],4,FALSE)","v":5},{"$f":"VLOOKUP(Main3WData[[#This Row],[Sector]],Sectors[],2,FALSE)","v":4}]
[null,"UNICEF",{"$f":"INDEX(Organizations[],MATCH(Main3WData[[#This Row],[Acronym]],AcronymList,0),1)","v":"Fonds des Nations Unies pour l'Enfance"},{"$f":"INDEX(Organizations[],MATCH(Main3WData[[#This Row],[Acronym]],AcronymList,0),3)","v":"UN"},"Protection","Regulier","Bamako",{"$f":"VLOOKUP(Main3WData[[#This Row],[Admin Unit Name]],AdminUnits[],2,FALSE)","v":"ML09"},{"$f":"VLOOKUP(Main3WData[[#This Row],[Admin Unit Name]],AdminUnits[],3,FALSE)","v":"Sud"},{"$f":"VLOOKUP(Main3WData[[#This Row],[Admin Unit Name]],AdminUnits[],4,FALSE)","v":0},{"$f":"VLOOKUP(Main3WData[[#This Row],[Sector]],Sectors[],2,FALSE)","v":5}]
[null,"UNICEF",{"$f":"INDEX(Organizations[],MATCH(Main3WData[[#This Row],[Acronym]],AcronymList,0),1)","v":"Fonds des Nations Unies pour l'Enfance"},{"$f":"INDEX(Organizations[],MATCH(Main3WData[[#This Row],[Acronym]],AcronymList,0),3)","v":"UN"},"Santé","Regulier","Bamako",{"$f":"VLOOKUP(Main3WData[[#This Row],[Admin Unit Name]],AdminUnits[],2,FALSE)","v":"ML09"},{"$f":"VLOOKUP(Main3WData[[#This Row],[Admin Unit Name]],AdminUnits[],3,FALSE)","v":"Sud"},{"$f":"VLOOKUP(Main3WData[[#This Row],[Admin Unit Name]],AdminUnits[],4,FALSE)","v":0},{"$f":"VLOOKUP(Main3WData[[#This Row],[Sector]],Sectors[],2,FALSE)","v":6}]
[null,"UNICEF",{"$f":"INDEX(Organizations[],MATCH(Main3WData[[#This Row],[Acronym]],AcronymList,0),1)","v":"Fonds des Nations Unies pour l'Enfance"},{"$f":"INDEX(Organizations[],MATCH(Main3WData[[#This Row],[Acronym]],AcronymList,0),3)","v":"UN"},"Santé","Regulier","Gao",{"$f":"VLOOKUP(Main3WData[[#This Row],[Admin Unit Name]],AdminUnits[],2,FALSE)","v":"ML07"},{"$f":"VLOOKUP(Main3WData[[#This Row],[Admin Unit Name]],AdminUnits[],3,FALSE)","v":"Nord"},{"$f":"VLOOKUP(Main3WData[[#This Row],[Admin Unit Name]],AdminUnits[],4,FALSE)","v":7},{"$f":"VLOOKUP(Main3WData[[#This Row],[Sector]],Sectors[],2,FALSE)","v":6}]
[null,"UNICEF",{"$f":"INDEX(Organizations[],MATCH(Main3WData[[#This Row],[Acronym]],AcronymList,0),1)","v":"Fonds des Nations Unies pour l'Enfance"},{"$f":"INDEX(Organizations[],MATCH(Main3WData[[#This Row],[Acronym]],AcronymList,0),3)","v":"UN"},"Santé","Regulier","Kayes",{"$f":"VLOOKUP(Main3WData[[#This Row],[Admin Unit Name]],AdminUnits[],2,FALSE)","v":"ML01"},{"$f":"VLOOKUP(Main3WData[[#This Row],[Admin Unit Name]],AdminUnits[],3,FALSE)","v":"Sud"},{"$f":"VLOOKUP(Main3WData[[#This Row],[Admin Unit Name]],AdminUnits[],4,FALSE)","v":1},{"$f":"VLOOKUP(Main3WData[[#This Row],[Sector]],Sectors[],2,FALSE)","v":6}]
[null,"UNICEF",{"$f":"INDEX(Organizations[],MATCH(Main3WData[[#This Row],[Acronym]],AcronymList,0),1)","v":"Fonds des Nations Unies pour l'Enfance"},{"$f":"INDEX(Organizations[],MATCH(Main3WData[[#This Row],[Acronym]],AcronymList,0),3)","v":"UN"},"Santé","Regulier","Kidal",{"$f":"VLOOKUP(Main3WData[[#This Row],[Admin Unit Name]],AdminUnits[],2,FALSE)","v":"ML08"},{"$f":"VLOOKUP(Main3WData[[#This Row],[Admin Unit Name]],AdminUnits[],3,FALSE)","v":"Nord"},{"$f":"VLOOKUP(Main3WData[[#This Row],[Admin Unit Name]],AdminUnits[],4,FALSE)","v":8},{"$f":"VLOOKUP(Main3WData[[#This Row],[Sector]],Sectors[],2,FALSE)","v":6}]
[null,"UNICEF",{"$f":"INDEX(Organizations[],MATCH(Main3WData[[#This Row],[Acronym]],AcronymList,0),1)","v":"Fonds des Nations Unies pour l'Enfance"},{"$f":"INDEX(Organizations[],MATCH(Main3WData[[#This Row],[Acronym]],AcronymList,0),3)","v":"UN"},"Santé","Regulier","Koulikoro",{"$f":"VLOOKUP(Main3WData[[#This Row],[Admin Unit Name]],AdminUnits[],2,FALSE)","v":"ML02"},{"$f":"VLOOKUP(Main3WData[[#This Row],[Admin Unit Name]],AdminUnits[],3,FALSE)","v":"Sud"},{"$f":"VLOOKUP(Main3WData[[#This Row],[Admin Unit Name]],AdminUnits[],4,FALSE)","v":2},{"$f":"VLOOKUP(Main3WData[[#This Row],[Sector]],Sectors[],2,FALSE)","v":6}]
[null,"UNICEF",{"$f":"INDEX(Organizations[],MATCH(Main3WData[[#This Row],[Acronym]],AcronymList,0),1)","v":"Fonds des Nations Unies pour l'Enfance"},{"$f":"INDEX(Organizations[],MATCH(Main3WData[[#This Row],[Acronym]],AcronymList,0),3)","v":"UN"},"Santé","Regulier","Mopti",{"$f":"VLOOKUP(Main3WData[[#This Row],[Admin Unit Name]],AdminUnits[],2,FALSE)","v":"ML05"},{"$f":"VLOOKUP(Main3WData[[#This Row],[Admin Unit Name]],AdminUnits[],3,FALSE)","v":"Sud"},{"$f":"VLOOKUP(Main3WData[[#This Row],[Admin Unit Name]],AdminUnits[],4,FALSE)","v":5},{"$f":"VLOOKUP(Main3WData[[#This Row],[Sector]],Sectors[],2,FALSE)","v":6}]
[null,"UNICEF",{"$f":"INDEX(Organizations[],MATCH(Main3WData[[#This Row],[Acronym]],AcronymList,0),1)","v":"Fonds des Nations Unies pour l'Enfance"},{"$f":"INDEX(Organizations[],MATCH(Main3WData[[#This Row],[Acronym]],AcronymList,0),3)","v":"UN"},"Santé","Regulier","Segou",{"$f":"VLOOKUP(Main3WData[[#This Row],[Admin Unit Name]],AdminUnits[],2,FALSE)","v":"ML04"},{"$f":"VLOOKUP(Main3WData[[#This Row],[Admin Unit Name]],AdminUnits[],3,FALSE)","v":"Sud"},{"$f":"VLOOKUP(Main3WData[[#This Row],[Admin Unit Name]],AdminUnits[],4,FALSE)","v":4},{"$f":"VLOOKUP(Main3WData[[#This Row],[Sector]],Sectors[],2,FALSE)","v":6}]
[null,"UNICEF",{"$f":"INDEX(Organizations[],MATCH(Main3WData[[#This Row],[Acronym]],AcronymList,0),1)","v":"Fonds des Nations Unies pour l'Enfance"},{"$f":"INDEX(Organizations[],MATCH(Main3WData[[#This Row],[Acronym]],AcronymList,0),3)","v":"UN"},"Santé","Regulier","Sikasso",{"$f":"VLOOKUP(Main3WData[[#This Row],[Admin Unit Name]],AdminUnits[],2,FALSE)","v":"ML03"},{"$f":"VLOOKUP(Main3WData[[#This Row],[Admin Unit Name]],AdminUnits[],3,FALSE)","v":"Sud"},{"$f":"VLOOKUP(Main3WData[[#This Row],[Admin Unit Name]],AdminUnits[],4,FALSE)","v":3},{"$f":"VLOOKUP(Main3WData[[#This Row],[Sector]],Sectors[],2,FALSE)","v":6}]
[null,"UNICEF",{"$f":"INDEX(Organizations[],MATCH(Main3WData[[#This Row],[Acronym]],AcronymList,0),1)","v":"Fonds des Nations Unies pour l'Enfance"},{"$f":"INDEX(Organizations[],MATCH(Main3WData[[#This Row],[Acronym]],AcronymList,0),3)","v":"UN"},"Santé","Regulier","Tombouctou",{"$f":"VLOOKUP(Main3WData[[#This Row],[Admin Unit Name]],AdminUnits[],2,FALSE)","v":"ML06"},{"$f":"VLOOKUP(Main3WData[[#This Row],[Admin Unit Name]],AdminUnits[],3,FALSE)","v":"Nord"},{"$f":"VLOOKUP(Main3WData[[#This Row],[Admin Unit Name]],AdminUnits[],4,FALSE)","v":6},{"$f":"VLOOKUP(Main3WData[[#This Row],[Sector]],Sectors[],2,FALSE)","v":6}]
[null,"UNHCR",{"$f":"INDEX(Organizations[],MATCH(Main3WData[[#This Row],[Acronym]],AcronymList,0),1)","v":"Haut Commissariat des Nations Unies pour les réfugiés"},{"$f":"INDEX(Organizations[],MATCH(Main3WData[[#This Row],[Acronym]],AcronymList,0),3)","v":"UN"},"Abris et NFI","Regulier","Gao",{"$f":"VLOOKUP(Main3WData[[#This Row],[Admin Unit Name]],AdminUnits[],2,FALSE)","v":"ML07"},{"$f":"VLOOKUP(Main3WData[[#This Row],[Admin Unit Name]],AdminUnits[],3,FALSE)","v":"Nord"},{"$f":"VLOOKUP(Main3WData[[#This Row],[Admin Unit Name]],AdminUnits[],4,FALSE)","v":7},{"$f":"VLOOKUP(Main3WData[[#This Row],[Sector]],Sectors[],2,FALSE)","v":1}]
[null,"UNHCR",{"$f":"INDEX(Organizations[],MATCH(Main3WData[[#This Row],[Acronym]],AcronymList,0),1)","v":"Haut Commissariat des Nations Unies pour les réfugiés"},{"$f":"INDEX(Organizations[],MATCH(Main3WData[[#This Row],[Acronym]],AcronymList,0),3)","v":"UN"},"Abris et NFI","Regulier","Mopti",{"$f":"VLOOKUP(Main3WData[[#This Row],[Admin Unit Name]],AdminUnits[],2,FALSE)","v":"ML05"},{"$f":"VLOOKUP(Main3WData[[#This Row],[Admin Unit Name]],AdminUnits[],3,FALSE)","v":"Sud"},{"$f":"VLOOKUP(Main3WData[[#This Row],[Admin Unit Name]],AdminUnits[],4,FALSE)","v":5},{"$f":"VLOOKUP(Main3WData[[#This Row],[Sector]],Sectors[],2,FALSE)","v":1}]
[null,"UNHCR",{"$f":"INDEX(Organizations[],MATCH(Main3WData[[#This Row],[Acronym]],AcronymList,0),1)","v":"Haut Commissariat des Nations Unies pour les réfugiés"},{"$f":"INDEX(Organizations[],MATCH(Main3WData[[#This Row],[Acronym]],AcronymList,0),3)","v":"UN"},"Abris et NFI","Regulier","Tombouctou",{"$f":"VLOOKUP(Main3WData[[#This Row],[Admin Unit Name]],AdminUnits[],2,FALSE)","v":"ML06"},{"$f":"VLOOKUP(Main3WData[[#This Row],[Admin Unit Name]],AdminUnits[],3,FALSE)","v":"Nord"},{"$f":"VLOOKUP(Main3WData[[#This Row],[Admin Unit Name]],AdminUnits[],4,FALSE)","v":6},{"$f":"VLOOKUP(Main3WData[[#This Row],[Sector]],Sectors[],2,FALSE)","v":1}]
[null,"UNHCR",{"$f":"INDEX(Organizations[],MATCH(Main3WData[[#This Row],[Acronym]],AcronymList,0),1)","v":"Haut Commissariat des Nations Unies pour les réfugiés"},{"$f":"INDEX(Organizations[],MATCH(Main3WData[[#This Row],[Acronym]],AcronymList,0),3)","v":"UN"},"Coordination","Regulier","Bamako",{"$f":"VLOOKUP(Main3WData[[#This Row],[Admin Unit Name]],AdminUnits[],2,FALSE)","v":"ML09"},{"$f":"VLOOKUP(Main3WData[[#This Row],[Admin Unit Name]],AdminUnits[],3,FALSE)","v":"Sud"},{"$f":"VLOOKUP(Main3WData[[#This Row],[Admin Unit Name]],AdminUnits[],4,FALSE)","v":0},{"$f":"VLOOKUP(Main3WData[[#This Row],[Sector]],Sectors[],2,FALSE)","v":2}]
[null,"UNHCR",{"$f":"INDEX(Organizations[],MATCH(Main3WData[[#This Row],[Acronym]],AcronymList,0),1)","v":"Haut Commissariat des Nations Unies pour les réfugiés"},{"$f":"INDEX(Organizations[],MATCH(Main3WData[[#This Row],[Acronym]],AcronymList,0),3)","v":"UN"},"Coordination","Regulier","Gao",{"$f":"VLOOKUP(Main3WData[[#This Row],[Admin Unit Name]],AdminUnits[],2,FALSE)","v":"ML07"},{"$f":"VLOOKUP(Main3WData[[#This Row],[Admin Unit Name]],AdminUnits[],3,FALSE)","v":"Nord"},{"$f":"VLOOKUP(Main3WData[[#This Row],[Admin Unit Name]],AdminUnits[],4,FALSE)","v":7},{"$f":"VLOOKUP(Main3WData[[#This Row],[Sector]],Sectors[],2,FALSE)","v":2}]
[null,"UNHCR",{"$f":"INDEX(Organizations[],MATCH(Main3WData[[#This Row],[Acronym]],AcronymList,0),1)","v":"Haut Commissariat des Nations Unies pour les réfugiés"},{"$f":"INDEX(Organizations[],MATCH(Main3WData[[#This Row],[Acronym]],AcronymList,0),3)","v":"UN"},"Coordination","Regulier","Mopti",{"$f":"VLOOKUP(Main3WData[[#This Row],[Admin Unit Name]],AdminUnits[],2,FALSE)","v":"ML05"},{"$f":"VLOOKUP(Main3WData[[#This Row],[Admin Unit Name]],AdminUnits[],3,FALSE)","v":"Sud"},{"$f":"VLOOKUP(Main3WData[[#This Row],[Admin Unit Name]],AdminUnits[],4,FALSE)","v":5},{"$f":"VLOOKUP(Main3WData[[#This Row],[Sector]],Sectors[],2,FALSE)","v":2}]
[null,"UNHCR",{"$f":"INDEX(Organizations[],MATCH(Main3WData[[#This Row],[Acronym]],AcronymList,0),1)","v":"Haut Commissariat des Nations Unies pour les réfugiés"},{"$f":"INDEX(Organizations[],MATCH(Main3WData[[#This Row],[Acronym]],AcronymList,0),3)","v":"UN"},"Coordination","Regulier","Tombouctou",{"$f":"VLOOKUP(Main3WData[[#This Row],[Admin Unit Name]],AdminUnits[],2,FALSE)","v":"ML06"},{"$f":"VLOOKUP(Main3WData[[#This Row],[Admin Unit Name]],AdminUnits[],3,FALSE)","v":"Nord"},{"$f":"VLOOKUP(Main3WData[[#This Row],[Admin Unit Name]],AdminUnits[],4,FALSE)","v":6},{"$f":"VLOOKUP(Main3WData[[#This Row],[Sector]],Sectors[],2,FALSE)","v":2}]
[null,"UNHCR",{"$f":"INDEX(Organizations[],MATCH(Main3WData[[#This Row],[Acronym]],AcronymList,0),1)","v":"Haut Commissariat des Nations Unies pour les réfugiés"},{"$f":"INDEX(Organizations[],MATCH(Main3WData[[#This Row],[Acronym]],AcronymList,0),3)","v":"UN"},"Protection","Regulier","Gao",{"$f":"VLOOKUP(Main3WData[[#This Row],[Admin Unit Name]],AdminUnits[],2,FALSE)","v":"ML07"},{"$f":"VLOOKUP(Main3WData[[#This Row],[Admin Unit Name]],AdminUnits[],3,FALSE)","v":"Nord"},{"$f":"VLOOKUP(Main3WData[[#This Row],[Admin Unit Name]],AdminUnits[],4,FALSE)","v":7},{"$f":"VLOOKUP(Main3WData[[#This Row],[Sector]],Sectors[],2,FALSE)","v":5}]
[null,"UNHCR",{"$f":"INDEX(Organizations[],MATCH(Main3WData[[#This Row],[Acronym]],AcronymList,0),1)","v":"Haut Commissariat des Nations Unies pour les réfugiés"},{"$f":"INDEX(Organizations[],MATCH(Main3WData[[#This Row],[Acronym]],AcronymList,0),3)","v":"UN"},"Protection","Regulier","Kidal",{"$f":"VLOOKUP(Main3WData[[#This Row],[Admin Unit Name]],AdminUnits[],2,FALSE)","v":"ML08"},{"$f":"VLOOKUP(Main3WData[[#This Row],[Admin Unit Name]],AdminUnits[],3,FALSE)","v":"Nord"},{"$f":"VLOOKUP(Main3WData[[#This Row],[Admin Unit Name]],AdminUnits[],4,FALSE)","v":8},{"$f":"VLOOKUP(Main3WData[[#This Row],[Sector]],Sectors[],2,FALSE)","v":5}]
[null,"UNHCR",{"$f":"INDEX(Organizations[],MATCH(Main3WData[[#This Row],[Acronym]],AcronymList,0),1)","v":"Haut Commissariat des Nations Unies pour les réfugiés"},{"$f":"INDEX(Organizations[],MATCH(Main3WData[[#This Row],[Acronym]],AcronymList,0),3)","v":"UN"},"Protection","Regulier","Mopti",{"$f":"VLOOKUP(Main3WData[[#This Row],[Admin Unit Name]],AdminUnits[],2,FALSE)","v":"ML05"},{"$f":"VLOOKUP(Main3WData[[#This Row],[Admin Unit Name]],AdminUnits[],3,FALSE)","v":"Sud"},{"$f":"VLOOKUP(Main3WData[[#This Row],[Admin Unit Name]],AdminUnits[],4,FALSE)","v":5},{"$f":"VLOOKUP(Main3WData[[#This Row],[Sector]],Sectors[],2,FALSE)","v":5}]
[null,"UNHCR",{"$f":"INDEX(Organizations[],MATCH(Main3WData[[#This Row],[Acronym]],AcronymList,0),1)","v":"Haut Commissariat des Nations Unies pour les réfugiés"},{"$f":"INDEX(Organizations[],MATCH(Main3WData[[#This Row],[Acronym]],AcronymList,0),3)","v":"UN"},"Protection","Regulier","Tombouctou",{"$f":"VLOOKUP(Main3WData[[#This Row],[Admin Unit Name]],AdminUnits[],2,FALSE)","v":"ML06"},{"$f":"VLOOKUP(Main3WData[[#This Row],[Admin Unit Name]],AdminUnits[],3,FALSE)","v":"Nord"},{"$f":"VLOOKUP(Main3WData[[#This Row],[Admin Unit Name]],AdminUnits[],4,FALSE)","v":6},{"$f":"VLOOKUP(Main3WData[[#This Row],[Sector]],Sectors[],2,FALSE)","v":5}]
[null,"UNFPA",{"$f":"INDEX(Organizations[],MATCH(Main3WData[[#This Row],[Acronym]],AcronymList,0),1)","v":"Fonds des Nations Unies pour la Population"},{"$f":"INDEX(Organizations[],MATCH(Main3WData[[#This Row],[Acronym]],AcronymList,0),3)","v":"UN"},"Coordination","Regulier","Bamako",{"$f":"VLOOKUP(Main3WData[[#This Row],[Admin Unit Name]],AdminUnits[],2,FALSE)","v":"ML09"},{"$f":"VLOOKUP(Main3WData[[#This Row],[Admin Unit Name]],AdminUnits[],3,FALSE)","v":"Sud"},{"$f":"VLOOKUP(Main3WData[[#This Row],[Admin Unit Name]],AdminUnits[],4,FALSE)","v":0},{"$f":"VLOOKUP(Main3WData[[#This Row],[Sector]],Sectors[],2,FALSE)","v":2}]
[null,"UNFPA",{"$f":"INDEX(Organizations[],MATCH(Main3WData[[#This Row],[Acronym]],AcronymList,0),1)","v":"Fonds des Nations Unies pour la Population"},{"$f":"INDEX(Organizations[],MATCH(Main3WData[[#This Row],[Acronym]],AcronymList,0),3)","v":"UN"},"Santé","Regulier","Bamako",{"$f":"VLOOKUP(Main3WData[[#This Row],[Admin Unit Name]],AdminUnits[],2,FALSE)","v":"ML09"},{"$f":"VLOOKUP(Main3WData[[#This Row],[Admin Unit Name]],AdminUnits[],3,FALSE)","v":"Sud"},{"$f":"VLOOKUP(Main3WData[[#This Row],[Admin Unit Name]],AdminUnits[],4,FALSE)","v":0},{"$f":"VLOOKUP(Main3WData[[#This Row],[Sector]],Sectors[],2,FALSE)","v":6}]
[null,"UNFPA",{"$f":"INDEX(Organizations[],MATCH(Main3WData[[#This Row],[Acronym]],AcronymList,0),1)","v":"Fonds des Nations Unies pour la Population"},{"$f":"INDEX(Organizations[],MATCH(Main3WData[[#This Row],[Acronym]],AcronymList,0),3)","v":"UN"},"Santé","Regulier","Gao",{"$f":"VLOOKUP(Main3WData[[#This Row],[Admin Unit Name]],AdminUnits[],2,FALSE)","v":"ML07"},{"$f":"VLOOKUP(Main3WData[[#This Row],[Admin Unit Name]],AdminUnits[],3,FALSE)","v":"Nord"},{"$f":"VLOOKUP(Main3WData[[#This Row],[Admin Unit Name]],AdminUnits[],4,FALSE)","v":7},{"$f":"VLOOKUP(Main3WData[[#This Row],[Sector]],Sectors[],2,FALSE)","v":6}]
[null,"UNFPA",{"$f":"INDEX(Organizations[],MATCH(Main3WData[[#This Row],[Acronym]],AcronymList,0),1)","v":"Fonds des Nations Unies pour la Population"},{"$f":"INDEX(Organizations[],MATCH(Main3WData[[#This Row],[Acronym]],AcronymList,0),3)","v":"UN"},"Santé","Regulier","Kidal",{"$f":"VLOOKUP(Main3WData[[#This Row],[Admin Unit Name]],AdminUnits[],2,FALSE)","v":"ML08"},{"$f":"VLOOKUP(Main3WData[[#This Row],[Admin Unit Name]],AdminUnits[],3,FALSE)","v":"Nord"},{"$f":"VLOOKUP(Main3WData[[#This Row],[Admin Unit Name]],AdminUnits[],4,FALSE)","v":8},{"$f":"VLOOKUP(Main3WData[[#This Row],[Sector]],Sectors[],2,FALSE)","v":6}]
[null,"UNFPA",{"$f":"INDEX(Organizations[],MATCH(Main3WData[[#This Row],[Acronym]],AcronymList,0),1)","v":"Fonds des Nations Unies pour la Population"},{"$f":"INDEX(Organizations[],MATCH(Main3WData[[#This Row],[Acronym]],AcronymList,0),3)","v":"UN"},"Santé","Regulier","Segou",{"$f":"VLOOKUP(Main3WData[[#This Row],[Admin Unit Name]],AdminUnits[],2,FALSE)","v":"ML04"},{"$f":"VLOOKUP(Main3WData[[#This Row],[Admin Unit Name]],AdminUnits[],3,FALSE)","v":"Sud"},{"$f":"VLOOKUP(Main3WData[[#This Row],[Admin Unit Name]],AdminUnits[],4,FALSE)","v":4},{"$f":"VLOOKUP(Main3WData[[#This Row],[Sector]],Sectors[],2,FALSE)","v":6}]
[null,"UNFPA",{"$f":"INDEX(Organizations[],MATCH(Main3WData[[#This Row],[Acronym]],AcronymList,0),1)","v":"Fonds des Nations Unies pour la Population"},{"$f":"INDEX(Organizations[],MATCH(Main3WData[[#This Row],[Acronym]],AcronymList,0),3)","v":"UN"},"Santé","Regulier","Tombouctou",{"$f":"VLOOKUP(Main3WData[[#This Row],[Admin Unit Name]],AdminUnits[],2,FALSE)","v":"ML06"},{"$f":"VLOOKUP(Main3WData[[#This Row],[Admin Unit Name]],AdminUnits[],3,FALSE)","v":"Nord"},{"$f":"VLOOKUP(Main3WData[[#This Row],[Admin Unit Name]],AdminUnits[],4,FALSE)","v":6},{"$f":"VLOOKUP(Main3WData[[#This Row],[Sector]],Sectors[],2,FALSE)","v":6}]
[null,"UNESCO",{"$f":"INDEX(Organizations[],MATCH(Main3WData[[#This Row],[Acronym]],AcronymList,0),1)","v":"Organisation des Nations unies pour l'éducation, la science et la culture"},{"$f":"INDEX(Organizations[],MATCH(Main3WData[[#This Row],[Acronym]],AcronymList,0),3)","v":"UN"},"Education","Regulier","Gao",{"$f":"VLOOKUP(Main3WData[[#This Row],[Admin Unit Name]],AdminUnits[],2,FALSE)","v":"ML07"},{"$f":"VLOOKUP(Main3WData[[#This Row],[Admin Unit Name]],AdminUnits[],3,FALSE)","v":"Nord"},{"$f":"VLOOKUP(Main3WData[[#This Row],[Admin Unit Name]],AdminUnits[],4,FALSE)","v":7},{"$f":"VLOOKUP(Main3WData[[#This Row],[Sector]],Sectors[],2,FALSE)","v":3}]
[null,"UNESCO",{"$f":"INDEX(Organizations[],MATCH(Main3WData[[#This Row],[Acronym]],AcronymList,0),1)","v":"Organisation des Nations unies pour l'éducation, la science et la culture"},{"$f":"INDEX(Organizations[],MATCH(Main3WData[[#This Row],[Acronym]],AcronymList,0),3)","v":"UN"},"Education","Regulier","Kidal",{"$f":"VLOOKUP(Main3WData[[#This Row],[Admin Unit Name]],AdminUnits[],2,FALSE)","v":"ML08"},{"$f":"VLOOKUP(Main3WData[[#This Row],[Admin Unit Name]],AdminUnits[],3,FALSE)","v":"Nord"},{"$f":"VLOOKUP(Main3WData[[#This Row],[Admin Unit Name]],AdminUnits[],4,FALSE)","v":8},{"$f":"VLOOKUP(Main3WData[[#This Row],[Sector]],Sectors[],2,FALSE)","v":3}]
[null,"UNESCO",{"$f":"INDEX(Organizations[],MATCH(Main3WData[[#This Row],[Acronym]],AcronymList,0),1)","v":"Organisation des Nations unies pour l'éducation, la science et la culture"},{"$f":"INDEX(Organizations[],MATCH(Main3WData[[#This Row],[Acronym]],AcronymList,0),3)","v":"UN"},"Education","Regulier","Tombouctou",{"$f":"VLOOKUP(Main3WData[[#This Row],[Admin Unit Name]],AdminUnits[],2,FALSE)","v":"ML06"},{"$f":"VLOOKUP(Main3WData[[#This Row],[Admin Unit Name]],AdminUnits[],3,FALSE)","v":"Nord"},{"$f":"VLOOKUP(Main3WData[[#This Row],[Admin Unit Name]],AdminUnits[],4,FALSE)","v":6},{"$f":"VLOOKUP(Main3WData[[#This Row],[Sector]],Sectors[],2,FALSE)","v":3}]
[null,"TONUS",{"$f":"INDEX(Organizations[],MATCH(Main3WData[[#This Row],[Acronym]],AcronymList,0),1)","v":"Le Tonus"},{"$f":"INDEX(Organizations[],MATCH(Main3WData[[#This Row],[Acronym]],AcronymList,0),3)","v":"ONG Nat."},"Sécurité alimentaire","Regulier","Koulikoro",{"$f":"VLOOKUP(Main3WData[[#This Row],[Admin Unit Name]],AdminUnits[],2,FALSE)","v":"ML02"},{"$f":"VLOOKUP(Main3WData[[#This Row],[Admin Unit Name]],AdminUnits[],3,FALSE)","v":"Sud"},{"$f":"VLOOKUP(Main3WData[[#This Row],[Admin Unit Name]],AdminUnits[],4,FALSE)","v":2},{"$f":"VLOOKUP(Main3WData[[#This Row],[Sector]],Sectors[],2,FALSE)","v":7}]
[null,"Tearfund",{"$f":"INDEX(Organizations[],MATCH(Main3WData[[#This Row],[Acronym]],AcronymList,0),1)","v":"Tearfund"},{"$f":"INDEX(Organizations[],MATCH(Main3WData[[#This Row],[Acronym]],AcronymList,0),3)","v":"ONG Int."},"EHA","Regulier","Koulikoro",{"$f":"VLOOKUP(Main3WData[[#This Row],[Admin Unit Name]],AdminUnits[],2,FALSE)","v":"ML02"},{"$f":"VLOOKUP(Main3WData[[#This Row],[Admin Unit Name]],AdminUnits[],3,FALSE)","v":"Sud"},{"$f":"VLOOKUP(Main3WData[[#This Row],[Admin Unit Name]],AdminUnits[],4,FALSE)","v":2},{"$f":"VLOOKUP(Main3WData[[#This Row],[Sector]],Sectors[],2,FALSE)","v":8}]
[null,"Tearfund",{"$f":"INDEX(Organizations[],MATCH(Main3WData[[#This Row],[Acronym]],AcronymList,0),1)","v":"Tearfund"},{"$f":"INDEX(Organizations[],MATCH(Main3WData[[#This Row],[Acronym]],AcronymList,0),3)","v":"ONG Int."},"EHA","Regulier","Mopti",{"$f":"VLOOKUP(Main3WData[[#This Row],[Admin Unit Name]],AdminUnits[],2,FALSE)","v":"ML05"},{"$f":"VLOOKUP(Main3WData[[#This Row],[Admin Unit Name]],AdminUnits[],3,FALSE)","v":"Sud"},{"$f":"VLOOKUP(Main3WData[[#This Row],[Admin Unit Name]],AdminUnits[],4,FALSE)","v":5},{"$f":"VLOOKUP(Main3WData[[#This Row],[Sector]],Sectors[],2,FALSE)","v":8}]
[null,"Tearfund",{"$f":"INDEX(Organizations[],MATCH(Main3WData[[#This Row],[Acronym]],AcronymList,0),1)","v":"Tearfund"},{"$f":"INDEX(Organizations[],MATCH(Main3WData[[#This Row],[Acronym]],AcronymList,0),3)","v":"ONG Int."},"EHA","Regulier","Segou",{"$f":"VLOOKUP(Main3WData[[#This Row],[Admin Unit Name]],AdminUnits[],2,FALSE)","v":"ML04"},{"$f":"VLOOKUP(Main3WData[[#This Row],[Admin Unit Name]],AdminUnits[],3,FALSE)","v":"Sud"},{"$f":"VLOOKUP(Main3WData[[#This Row],[Admin Unit Name]],AdminUnits[],4,FALSE)","v":4},{"$f":"VLOOKUP(Main3WData[[#This Row],[Sector]],Sectors[],2,FALSE)","v":8}]
[null,"Tearfund",{"$f":"INDEX(Organizations[],MATCH(Main3WData[[#This Row],[Acronym]],AcronymList,0),1)","v":"Tearfund"},{"$f":"INDEX(Organizations[],MATCH(Main3WData[[#This Row],[Acronym]],AcronymList,0),3)","v":"ONG Int."},"EHA","Regulier","Tombouctou",{"$f":"VLOOKUP(Main3WData[[#This Row],[Admin Unit Name]],AdminUnits[],2,FALSE)","v":"ML06"},{"$f":"VLOOKUP(Main3WData[[#This Row],[Admin Unit Name]],AdminUnits[],3,FALSE)","v":"Nord"},{"$f":"VLOOKUP(Main3WData[[#This Row],[Admin Unit Name]],AdminUnits[],4,FALSE)","v":6},{"$f":"VLOOKUP(Main3WData[[#This Row],[Sector]],Sectors[],2,FALSE)","v":8}]
[null,"Tearfund",{"$f":"INDEX(Organizations[],MATCH(Main3WData[[#This Row],[Acronym]],AcronymList,0),1)","v":"Tearfund"},{"$f":"INDEX(Organizations[],MATCH(Main3WData[[#This Row],[Acronym]],AcronymList,0),3)","v":"ONG Int."},"Sécurité alimentaire","Regulier","Koulikoro",{"$f":"VLOOKUP(Main3WData[[#This Row],[Admin Unit Name]],AdminUnits[],2,FALSE)","v":"ML02"},{"$f":"VLOOKUP(Main3WData[[#This Row],[Admin Unit Name]],AdminUnits[],3,FALSE)","v":"Sud"},{"$f":"VLOOKUP(Main3WData[[#This Row],[Admin Unit Name]],AdminUnits[],4,FALSE)","v":2},{"$f":"VLOOKUP(Main3WData[[#This Row],[Sector]],Sectors[],2,FALSE)","v":7}]
[null,"Tearfund",{"$f":"INDEX(Organizations[],MATCH(Main3WData[[#This Row],[Acronym]],AcronymList,0),1)","v":"Tearfund"},{"$f":"INDEX(Organizations[],MATCH(Main3WData[[#This Row],[Acronym]],AcronymList,0),3)","v":"ONG Int."},"Sécurité alimentaire","Regulier","Segou",{"$f":"VLOOKUP(Main3WData[[#This Row],[Admin Unit Name]],AdminUnits[],2,FALSE)","v":"ML04"},{"$f":"VLOOKUP(Main3WData[[#This Row],[Admin Unit Name]],AdminUnits[],3,FALSE)","v":"Sud"},{"$f":"VLOOKUP(Main3WData[[#This Row],[Admin Unit Name]],AdminUnits[],4,FALSE)","v":4},{"$f":"VLOOKUP(Main3WData[[#This Row],[Sector]],Sectors[],2,FALSE)","v":7}]
[null,"Tearfund",{"$f":"INDEX(Organizations[],MATCH(Main3WData[[#This Row],[Acronym]],AcronymList,0),1)","v":"Tearfund"},{"$f":"INDEX(Organizations[],MATCH(Main3WData[[#This Row],[Acronym]],AcronymList,0),3)","v":"ONG Int."},"Sécurité alimentaire","Regulier","Tombouctou",{"$f":"VLOOKUP(Main3WData[[#This Row],[Admin Unit Name]],AdminUnits[],2,FALSE)","v":"ML06"},{"$f":"VLOOKUP(Main3WData[[#This Row],[Admin Unit Name]],AdminUnits[],3,FALSE)","v":"Nord"},{"$f":"VLOOKUP(Main3WData[[#This Row],[Admin Unit Name]],AdminUnits[],4,FALSE)","v":6},{"$f":"VLOOKUP(Main3WData[[#This Row],[Sector]],Sectors[],2,FALSE)","v":7}]
[null,"TDH-Lausanne",{"$f":"INDEX(Organizations[],MATCH(Main3WData[[#This Row],[Acronym]],AcronymList,0),1)","v":"Terre des Hommes Lausanne"},{"$f":"INDEX(Organizations[],MATCH(Main3WData[[#This Row],[Acronym]],AcronymList,0),3)","v":"ONG Int."},"EHA","Regulier","Segou",{"$f":"VLOOKUP(Main3WData[[#This Row],[Admin Unit Name]],AdminUnits[],2,FALSE)","v":"ML04"},{"$f":"VLOOKUP(Main3WData[[#This Row],[Admin Unit Name]],AdminUnits[],3,FALSE)","v":"Sud"},{"$f":"VLOOKUP(Main3WData[[#This Row],[Admin Unit Name]],AdminUnits[],4,FALSE)","v":4},{"$f":"VLOOKUP(Main3WData[[#This Row],[Sector]],Sectors[],2,FALSE)","v":8}]
[null,"TDH-Lausanne",{"$f":"INDEX(Organizations[],MATCH(Main3WData[[#This Row],[Acronym]],AcronymList,0),1)","v":"Terre des Hommes Lausanne"},{"$f":"INDEX(Organizations[],MATCH(Main3WData[[#This Row],[Acronym]],AcronymList,0),3)","v":"ONG Int."},"Nutrition","Regulier","Segou",{"$f":"VLOOKUP(Main3WData[[#This Row],[Admin Unit Name]],AdminUnits[],2,FALSE)","v":"ML04"},{"$f":"VLOOKUP(Main3WData[[#This Row],[Admin Unit Name]],AdminUnits[],3,FALSE)","v":"Sud"},{"$f":"VLOOKUP(Main3WData[[#This Row],[Admin Unit Name]],AdminUnits[],4,FALSE)","v":4},{"$f":"VLOOKUP(Main3WData[[#This Row],[Sector]],Sectors[],2,FALSE)","v":4}]
[null,"TdH",{"$f":"INDEX(Organizations[],MATCH(Main3WData[[#This Row],[Acronym]],AcronymList,0),1)","v":"Terre des Hommes"},{"$f":"INDEX(Organizations[],MATCH(Main3WData[[#This Row],[Acronym]],AcronymList,0),3)","v":"ONG Int."},"Protection","Regulier","Bamako",{"$f":"VLOOKUP(Main3WData[[#This Row],[Admin Unit Name]],AdminUnits[],2,FALSE)","v":"ML09"},{"$f":"VLOOKUP(Main3WData[[#This Row],[Admin Unit Name]],AdminUnits[],3,FALSE)","v":"Sud"},{"$f":"VLOOKUP(Main3WData[[#This Row],[Admin Unit Name]],AdminUnits[],4,FALSE)","v":0},{"$f":"VLOOKUP(Main3WData[[#This Row],[Sector]],Sectors[],2,FALSE)","v":5}]
[null,"TdH",{"$f":"INDEX(Organizations[],MATCH(Main3WData[[#This Row],[Acronym]],AcronymList,0),1)","v":"Terre des Hommes"},{"$f":"INDEX(Organizations[],MATCH(Main3WData[[#This Row],[Acronym]],AcronymList,0),3)","v":"ONG Int."},"Protection","Regulier","Mopti",{"$f":"VLOOKUP(Main3WData[[#This Row],[Admin Unit Name]],AdminUnits[],2,FALSE)","v":"ML05"},{"$f":"VLOOKUP(Main3WData[[#This Row],[Admin Unit Name]],AdminUnits[],3,FALSE)","v":"Sud"},{"$f":"VLOOKUP(Main3WData[[#This Row],[Admin Unit Name]],AdminUnits[],4,FALSE)","v":5},{"$f":"VLOOKUP(Main3WData[[#This Row],[Sector]],Sectors[],2,FALSE)","v":5}]
[null,"TASSAGHT",{"$f":"INDEX(Organizations[],MATCH(Main3WData[[#This Row],[Acronym]],AcronymList,0),1)","v":"Tassaght"},{"$f":"INDEX(Organizations[],MATCH(Main3WData[[#This Row],[Acronym]],AcronymList,0),3)","v":"ONG Nat."},"Education","Regulier","Gao",{"$f":"VLOOKUP(Main3WData[[#This Row],[Admin Unit Name]],AdminUnits[],2,FALSE)","v":"ML07"},{"$f":"VLOOKUP(Main3WData[[#This Row],[Admin Unit Name]],AdminUnits[],3,FALSE)","v":"Nord"},{"$f":"VLOOKUP(Main3WData[[#This Row],[Admin Unit Name]],AdminUnits[],4,FALSE)","v":7},{"$f":"VLOOKUP(Main3WData[[#This Row],[Sector]],Sectors[],2,FALSE)","v":3}]
[null,"Tassaght",{"$f":"INDEX(Organizations[],MATCH(Main3WData[[#This Row],[Acronym]],AcronymList,0),1)","v":"Tassaght"},{"$f":"INDEX(Organizations[],MATCH(Main3WData[[#This Row],[Acronym]],AcronymList,0),3)","v":"ONG Nat."},"Sécurité alimentaire","Regulier","Gao",{"$f":"VLOOKUP(Main3WData[[#This Row],[Admin Unit Name]],AdminUnits[],2,FALSE)","v":"ML07"},{"$f":"VLOOKUP(Main3WData[[#This Row],[Admin Unit Name]],AdminUnits[],3,FALSE)","v":"Nord"},{"$f":"VLOOKUP(Main3WData[[#This Row],[Admin Unit Name]],AdminUnits[],4,FALSE)","v":7},{"$f":"VLOOKUP(Main3WData[[#This Row],[Sector]],Sectors[],2,FALSE)","v":7}]
[null,"Tassaght",{"$f":"INDEX(Organizations[],MATCH(Main3WData[[#This Row],[Acronym]],AcronymList,0),1)","v":"Tassaght"},{"$f":"INDEX(Organizations[],MATCH(Main3WData[[#This Row],[Acronym]],AcronymList,0),3)","v":"ONG Nat."},"Sécurité alimentaire","Regulier","Tombouctou",{"$f":"VLOOKUP(Main3WData[[#This Row],[Admin Unit Name]],AdminUnits[],2,FALSE)","v":"ML06"},{"$f":"VLOOKUP(Main3WData[[#This Row],[Admin Unit Name]],AdminUnits[],3,FALSE)","v":"Nord"},{"$f":"VLOOKUP(Main3WData[[#This Row],[Admin Unit Name]],AdminUnits[],4,FALSE)","v":6},{"$f":"VLOOKUP(Main3WData[[#This Row],[Sector]],Sectors[],2,FALSE)","v":7}]
[null,"Stop Sahel",{"$f":"INDEX(Organizations[],MATCH(Main3WData[[#This Row],[Acronym]],AcronymList,0),1)","v":"Stop Sahel "},{"$f":"INDEX(Organizations[],MATCH(Main3WData[[#This Row],[Acronym]],AcronymList,0),3)","v":"ONG Nat."},"Sécurité alimentaire","Regulier","Gao",{"$f":"VLOOKUP(Main3WData[[#This Row],[Admin Unit Name]],AdminUnits[],2,FALSE)","v":"ML07"},{"$f":"VLOOKUP(Main3WData[[#This Row],[Admin Unit Name]],AdminUnits[],3,FALSE)","v":"Nord"},{"$f":"VLOOKUP(Main3WData[[#This Row],[Admin Unit Name]],AdminUnits[],4,FALSE)","v":7},{"$f":"VLOOKUP(Main3WData[[#This Row],[Sector]],Sectors[],2,FALSE)","v":7}]
[null,"Stop Sahel",{"$f":"INDEX(Organizations[],MATCH(Main3WData[[#This Row],[Acronym]],AcronymList,0),1)","v":"Stop Sahel "},{"$f":"INDEX(Organizations[],MATCH(Main3WData[[#This Row],[Acronym]],AcronymList,0),3)","v":"ONG Nat."},"Sécurité alimentaire","Regulier","Tombouctou",{"$f":"VLOOKUP(Main3WData[[#This Row],[Admin Unit Name]],AdminUnits[],2,FALSE)","v":"ML06"},{"$f":"VLOOKUP(Main3WData[[#This Row],[Admin Unit Name]],AdminUnits[],3,FALSE)","v":"Nord"},{"$f":"VLOOKUP(Main3WData[[#This Row],[Admin Unit Name]],AdminUnits[],4,FALSE)","v":6},{"$f":"VLOOKUP(Main3WData[[#This Row],[Sector]],Sectors[],2,FALSE)","v":7}]
[null,"SOS VE",{"$f":"INDEX(Organizations[],MATCH(Main3WData[[#This Row],[Acronym]],AcronymList,0),1)","v":"SOS Village d'Enfant"},{"$f":"INDEX(Organizations[],MATCH(Main3WData[[#This Row],[Acronym]],AcronymList,0),3)","v":"ONG Nat."},"Protection","Regulier","Mopti",{"$f":"VLOOKUP(Main3WData[[#This Row],[Admin Unit Name]],AdminUnits[],2,FALSE)","v":"ML05"},{"$f":"VLOOKUP(Main3WData[[#This Row],[Admin Unit Name]],AdminUnits[],3,FALSE)","v":"Sud"},{"$f":"VLOOKUP(Main3WData[[#This Row],[Admin Unit Name]],AdminUnits[],4,FALSE)","v":5},{"$f":"VLOOKUP(Main3WData[[#This Row],[Sector]],Sectors[],2,FALSE)","v":5}]
[null,"SOS SAHEL",{"$f":"INDEX(Organizations[],MATCH(Main3WData[[#This Row],[Acronym]],AcronymList,0),1)","v":"SOS Sahel"},{"$f":"INDEX(Organizations[],MATCH(Main3WData[[#This Row],[Acronym]],AcronymList,0),3)","v":"ONG Nat."},"Sécurité alimentaire","Regulier","Tombouctou",{"$f":"VLOOKUP(Main3WData[[#This Row],[Admin Unit Name]],AdminUnits[],2,FALSE)","v":"ML06"},{"$f":"VLOOKUP(Main3WData[[#This Row],[Admin Unit Name]],AdminUnits[],3,FALSE)","v":"Nord"},{"$f":"VLOOKUP(Main3WData[[#This Row],[Admin Unit Name]],AdminUnits[],4,FALSE)","v":6},{"$f":"VLOOKUP(Main3WData[[#This Row],[Sector]],Sectors[],2,FALSE)","v":7}]
[null,"SOPOTOI",{"$f":"INDEX(Organizations[],MATCH(Main3WData[[#This Row],[Acronym]],AcronymList,0),1)","v":"SOPOTOI"},{"$f":"INDEX(Organizations[],MATCH(Main3WData[[#This Row],[Acronym]],AcronymList,0),3)","v":"ONG Int."},"Nutrition","Regulier","Koulikoro",{"$f":"VLOOKUP(Main3WData[[#This Row],[Admin Unit Name]],AdminUnits[],2,FALSE)","v":"ML02"},{"$f":"VLOOKUP(Main3WData[[#This Row],[Admin Unit Name]],AdminUnits[],3,FALSE)","v":"Sud"},{"$f":"VLOOKUP(Main3WData[[#This Row],[Admin Unit Name]],AdminUnits[],4,FALSE)","v":2},{"$f":"VLOOKUP(Main3WData[[#This Row],[Sector]],Sectors[],2,FALSE)","v":4}]
[null,"SOPOTOI",{"$f":"INDEX(Organizations[],MATCH(Main3WData[[#This Row],[Acronym]],AcronymList,0),1)","v":"SOPOTOI"},{"$f":"INDEX(Organizations[],MATCH(Main3WData[[#This Row],[Acronym]],AcronymList,0),3)","v":"ONG Int."},"Nutrition","Regulier","Sikasso",{"$f":"VLOOKUP(Main3WData[[#This Row],[Admin Unit Name]],AdminUnits[],2,FALSE)","v":"ML03"},{"$f":"VLOOKUP(Main3WData[[#This Row],[Admin Unit Name]],AdminUnits[],3,FALSE)","v":"Sud"},{"$f":"VLOOKUP(Main3WData[[#This Row],[Admin Unit Name]],AdminUnits[],4,FALSE)","v":3},{"$f":"VLOOKUP(Main3WData[[#This Row],[Sector]],Sectors[],2,FALSE)","v":4}]
[null,"Solthis",{"$f":"INDEX(Organizations[],MATCH(Main3WData[[#This Row],[Acronym]],AcronymList,0),1)","v":"Solidarité Thérapeutique et Initiative contre le Sida"},{"$f":"INDEX(Organizations[],MATCH(Main3WData[[#This Row],[Acronym]],AcronymList,0),3)","v":"ONG Int."},"Santé","Regulier","Mopti",{"$f":"VLOOKUP(Main3WData[[#This Row],[Admin Unit Name]],AdminUnits[],2,FALSE)","v":"ML05"},{"$f":"VLOOKUP(Main3WData[[#This Row],[Admin Unit Name]],AdminUnits[],3,FALSE)","v":"Sud"},{"$f":"VLOOKUP(Main3WData[[#This Row],[Admin Unit Name]],AdminUnits[],4,FALSE)","v":5},{"$f":"VLOOKUP(Main3WData[[#This Row],[Sector]],Sectors[],2,FALSE)","v":6}]
[null,"SOLISA",{"$f":"INDEX(Organizations[],MATCH(Main3WData[[#This Row],[Acronym]],AcronymList,0),1)","v":"SOLIDARITE POUR LE SAHEL"},{"$f":"INDEX(Organizations[],MATCH(Main3WData[[#This Row],[Acronym]],AcronymList,0),3)","v":"ONG Nat."},"EHA","Regulier","Kidal",{"$f":"VLOOKUP(Main3WData[[#This Row],[Admin Unit Name]],AdminUnits[],2,FALSE)","v":"ML08"},{"$f":"VLOOKUP(Main3WData[[#This Row],[Admin Unit Name]],AdminUnits[],3,FALSE)","v":"Nord"},{"$f":"VLOOKUP(Main3WData[[#This Row],[Admin Unit Name]],AdminUnits[],4,FALSE)","v":8},{"$f":"VLOOKUP(Main3WData[[#This Row],[Sector]],Sectors[],2,FALSE)","v":8}]
[null,"SOLIDAGRO",{"$f":"INDEX(Organizations[],MATCH(Main3WData[[#This Row],[Acronym]],AcronymList,0),1)","v":"SOLIDAGRO"},{"$f":"INDEX(Organizations[],MATCH(Main3WData[[#This Row],[Acronym]],AcronymList,0),3)","v":"ONG Int."},"Sécurité alimentaire","Regulier","Mopti",{"$f":"VLOOKUP(Main3WData[[#This Row],[Admin Unit Name]],AdminUnits[],2,FALSE)","v":"ML05"},{"$f":"VLOOKUP(Main3WData[[#This Row],[Admin Unit Name]],AdminUnits[],3,FALSE)","v":"Sud"},{"$f":"VLOOKUP(Main3WData[[#This Row],[Admin Unit Name]],AdminUnits[],4,FALSE)","v":5},{"$f":"VLOOKUP(Main3WData[[#This Row],[Sector]],Sectors[],2,FALSE)","v":7}]
[null,"SOL INT",{"$f":"INDEX(Organizations[],MATCH(Main3WData[[#This Row],[Acronym]],AcronymList,0),1)","v":"Solidarité internationale"},{"$f":"INDEX(Organizations[],MATCH(Main3WData[[#This Row],[Acronym]],AcronymList,0),3)","v":"ONG Int."},"EHA","Regulier","Gao",{"$f":"VLOOKUP(Main3WData[[#This Row],[Admin Unit Name]],AdminUnits[],2,FALSE)","v":"ML07"},{"$f":"VLOOKUP(Main3WData[[#This Row],[Admin Unit Name]],AdminUnits[],3,FALSE)","v":"Nord"},{"$f":"VLOOKUP(Main3WData[[#This Row],[Admin Unit Name]],AdminUnits[],4,FALSE)","v":7},{"$f":"VLOOKUP(Main3WData[[#This Row],[Sector]],Sectors[],2,FALSE)","v":8}]
[null,"SOL INT",{"$f":"INDEX(Organizations[],MATCH(Main3WData[[#This Row],[Acronym]],AcronymList,0),1)","v":"Solidarité internationale"},{"$f":"INDEX(Organizations[],MATCH(Main3WData[[#This Row],[Acronym]],AcronymList,0),3)","v":"ONG Int."},"EHA","Regulier","Kidal",{"$f":"VLOOKUP(Main3WData[[#This Row],[Admin Unit Name]],AdminUnits[],2,FALSE)","v":"ML08"},{"$f":"VLOOKUP(Main3WData[[#This Row],[Admin Unit Name]],AdminUnits[],3,FALSE)","v":"Nord"},{"$f":"VLOOKUP(Main3WData[[#This Row],[Admin Unit Name]],AdminUnits[],4,FALSE)","v":8},{"$f":"VLOOKUP(Main3WData[[#This Row],[Sector]],Sectors[],2,FALSE)","v":8}]
[null,"SOL INT",{"$f":"INDEX(Organizations[],MATCH(Main3WData[[#This Row],[Acronym]],AcronymList,0),1)","v":"Solidarité internationale"},{"$f":"INDEX(Organizations[],MATCH(Main3WData[[#This Row],[Acronym]],AcronymList,0),3)","v":"ONG Int."},"EHA","Regulier","Koulikoro",{"$f":"VLOOKUP(Main3WData[[#This Row],[Admin Unit Name]],AdminUnits[],2,FALSE)","v":"ML02"},{"$f":"VLOOKUP(Main3WData[[#This Row],[Admin Unit Name]],AdminUnits[],3,FALSE)","v":"Sud"},{"$f":"VLOOKUP(Main3WData[[#This Row],[Admin Unit Name]],AdminUnits[],4,FALSE)","v":2},{"$f":"VLOOKUP(Main3WData[[#This Row],[Sector]],Sectors[],2,FALSE)","v":8}]
[null,"SOL INT",{"$f":"INDEX(Organizations[],MATCH(Main3WData[[#This Row],[Acronym]],AcronymList,0),1)","v":"Solidarité internationale"},{"$f":"INDEX(Organizations[],MATCH(Main3WData[[#This Row],[Acronym]],AcronymList,0),3)","v":"ONG Int."},"EHA","Regulier","Mopti",{"$f":"VLOOKUP(Main3WData[[#This Row],[Admin Unit Name]],AdminUnits[],2,FALSE)","v":"ML05"},{"$f":"VLOOKUP(Main3WData[[#This Row],[Admin Unit Name]],AdminUnits[],3,FALSE)","v":"Sud"},{"$f":"VLOOKUP(Main3WData[[#This Row],[Admin Unit Name]],AdminUnits[],4,FALSE)","v":5},{"$f":"VLOOKUP(Main3WData[[#This Row],[Sector]],Sectors[],2,FALSE)","v":8}]
[null,"SOL INT",{"$f":"INDEX(Organizations[],MATCH(Main3WData[[#This Row],[Acronym]],AcronymList,0),1)","v":"Solidarité internationale"},{"$f":"INDEX(Organizations[],MATCH(Main3WData[[#This Row],[Acronym]],AcronymList,0),3)","v":"ONG Int."},"EHA","Regulier","Segou",{"$f":"VLOOKUP(Main3WData[[#This Row],[Admin Unit Name]],AdminUnits[],2,FALSE)","v":"ML04"},{"$f":"VLOOKUP(Main3WData[[#This Row],[Admin Unit Name]],AdminUnits[],3,FALSE)","v":"Sud"},{"$f":"VLOOKUP(Main3WData[[#This Row],[Admin Unit Name]],AdminUnits[],4,FALSE)","v":4},{"$f":"VLOOKUP(Main3WData[[#This Row],[Sector]],Sectors[],2,FALSE)","v":8}]
[null,"SOL INT",{"$f":"INDEX(Organizations[],MATCH(Main3WData[[#This Row],[Acronym]],AcronymList,0),1)","v":"Solidarité internationale"},{"$f":"INDEX(Organizations[],MATCH(Main3WData[[#This Row],[Acronym]],AcronymList,0),3)","v":"ONG Int."},"EHA","Regulier","Tombouctou",{"$f":"VLOOKUP(Main3WData[[#This Row],[Admin Unit Name]],AdminUnits[],2,FALSE)","v":"ML06"},{"$f":"VLOOKUP(Main3WData[[#This Row],[Admin Unit Name]],AdminUnits[],3,FALSE)","v":"Nord"},{"$f":"VLOOKUP(Main3WData[[#This Row],[Admin Unit Name]],AdminUnits[],4,FALSE)","v":6},{"$f":"VLOOKUP(Main3WData[[#This Row],[Sector]],Sectors[],2,FALSE)","v":8}]
[null,"SOL INT",{"$f":"INDEX(Organizations[],MATCH(Main3WData[[#This Row],[Acronym]],AcronymList,0),1)","v":"Solidarité internationale"},{"$f":"INDEX(Organizations[],MATCH(Main3WData[[#This Row],[Acronym]],AcronymList,0),3)","v":"ONG Int."},"Santé","Regulier","Tombouctou",{"$f":"VLOOKUP(Main3WData[[#This Row],[Admin Unit Name]],AdminUnits[],2,FALSE)","v":"ML06"},{"$f":"VLOOKUP(Main3WData[[#This Row],[Admin Unit Name]],AdminUnits[],3,FALSE)","v":"Nord"},{"$f":"VLOOKUP(Main3WData[[#This Row],[Admin Unit Name]],AdminUnits[],4,FALSE)","v":6},{"$f":"VLOOKUP(Main3WData[[#This Row],[Sector]],Sectors[],2,FALSE)","v":6}]
[null,"SMARA",{"$f":"INDEX(Organizations[],MATCH(Main3WData[[#This Row],[Acronym]],AcronymList,0),1)","v":"SMARA"},{"$f":"INDEX(Organizations[],MATCH(Main3WData[[#This Row],[Acronym]],AcronymList,0),3)","v":"ONG Int."},"Santé","Regulier","Tombouctou",{"$f":"VLOOKUP(Main3WData[[#This Row],[Admin Unit Name]],AdminUnits[],2,FALSE)","v":"ML06"},{"$f":"VLOOKUP(Main3WData[[#This Row],[Admin Unit Name]],AdminUnits[],3,FALSE)","v":"Nord"},{"$f":"VLOOKUP(Main3WData[[#This Row],[Admin Unit Name]],AdminUnits[],4,FALSE)","v":6},{"$f":"VLOOKUP(Main3WData[[#This Row],[Sector]],Sectors[],2,FALSE)","v":6}]
[null,"Sini Sanuman",{"$f":"INDEX(Organizations[],MATCH(Main3WData[[#This Row],[Acronym]],AcronymList,0),1)","v":"SINI SANUMAN"},{"$f":"INDEX(Organizations[],MATCH(Main3WData[[#This Row],[Acronym]],AcronymList,0),3)","v":"ONG Nat."},"Protection","Regulier","Bamako",{"$f":"VLOOKUP(Main3WData[[#This Row],[Admin Unit Name]],AdminUnits[],2,FALSE)","v":"ML09"},{"$f":"VLOOKUP(Main3WData[[#This Row],[Admin Unit Name]],AdminUnits[],3,FALSE)","v":"Sud"},{"$f":"VLOOKUP(Main3WData[[#This Row],[Admin Unit Name]],AdminUnits[],4,FALSE)","v":0},{"$f":"VLOOKUP(Main3WData[[#This Row],[Sector]],Sectors[],2,FALSE)","v":5}]
[null,"Sini Sanuman",{"$f":"INDEX(Organizations[],MATCH(Main3WData[[#This Row],[Acronym]],AcronymList,0),1)","v":"SINI SANUMAN"},{"$f":"INDEX(Organizations[],MATCH(Main3WData[[#This Row],[Acronym]],AcronymList,0),3)","v":"ONG Nat."},"Protection","Regulier","Gao",{"$f":"VLOOKUP(Main3WData[[#This Row],[Admin Unit Name]],AdminUnits[],2,FALSE)","v":"ML07"},{"$f":"VLOOKUP(Main3WData[[#This Row],[Admin Unit Name]],AdminUnits[],3,FALSE)","v":"Nord"},{"$f":"VLOOKUP(Main3WData[[#This Row],[Admin Unit Name]],AdminUnits[],4,FALSE)","v":7},{"$f":"VLOOKUP(Main3WData[[#This Row],[Sector]],Sectors[],2,FALSE)","v":5}]
[null,"Secours Islamique",{"$f":"INDEX(Organizations[],MATCH(Main3WData[[#This Row],[Acronym]],AcronymList,0),1)","v":"Secours Islamique"},{"$f":"INDEX(Organizations[],MATCH(Main3WData[[#This Row],[Acronym]],AcronymList,0),3)","v":"ONG Int."},"EHA","Regulier","Kayes",{"$f":"VLOOKUP(Main3WData[[#This Row],[Admin Unit Name]],AdminUnits[],2,FALSE)","v":"ML01"},{"$f":"VLOOKUP(Main3WData[[#This Row],[Admin Unit Name]],AdminUnits[],3,FALSE)","v":"Sud"},{"$f":"VLOOKUP(Main3WData[[#This Row],[Admin Unit Name]],AdminUnits[],4,FALSE)","v":1},{"$f":"VLOOKUP(Main3WData[[#This Row],[Sector]],Sectors[],2,FALSE)","v":8}]
[null,"SEAD",{"$f":"INDEX(Organizations[],MATCH(Main3WData[[#This Row],[Acronym]],AcronymList,0),1)","v":"Sahel Etudes Actions pour le Développement"},{"$f":"INDEX(Organizations[],MATCH(Main3WData[[#This Row],[Acronym]],AcronymList,0),3)","v":"ONG Nat."},"Education","Regulier","Gao",{"$f":"VLOOKUP(Main3WData[[#This Row],[Admin Unit Name]],AdminUnits[],2,FALSE)","v":"ML07"},{"$f":"VLOOKUP(Main3WData[[#This Row],[Admin Unit Name]],AdminUnits[],3,FALSE)","v":"Nord"},{"$f":"VLOOKUP(Main3WData[[#This Row],[Admin Unit Name]],AdminUnits[],4,FALSE)","v":7},{"$f":"VLOOKUP(Main3WData[[#This Row],[Sector]],Sectors[],2,FALSE)","v":3}]
[null,"Save the Children",{"$f":"INDEX(Organizations[],MATCH(Main3WData[[#This Row],[Acronym]],AcronymList,0),1)","v":"Save the Children"},{"$f":"INDEX(Organizations[],MATCH(Main3WData[[#This Row],[Acronym]],AcronymList,0),3)","v":"ONG Int."},"Education","Regulier","Mopti",{"$f":"VLOOKUP(Main3WData[[#This Row],[Admin Unit Name]],AdminUnits[],2,FALSE)","v":"ML05"},{"$f":"VLOOKUP(Main3WData[[#This Row],[Admin Unit Name]],AdminUnits[],3,FALSE)","v":"Sud"},{"$f":"VLOOKUP(Main3WData[[#This Row],[Admin Unit Name]],AdminUnits[],4,FALSE)","v":5},{"$f":"VLOOKUP(Main3WData[[#This Row],[Sector]],Sectors[],2,FALSE)","v":3}]
[null,"Save the Children",{"$f":"INDEX(Organizations[],MATCH(Main3WData[[#This Row],[Acronym]],AcronymList,0),1)","v":"Save the Children"},{"$f":"INDEX(Organizations[],MATCH(Main3WData[[#This Row],[Acronym]],AcronymList,0),3)","v":"ONG Int."},"EHA","Regulier","Sikasso",{"$f":"VLOOKUP(Main3WData[[#This Row],[Admin Unit Name]],AdminUnits[],2,FALSE)","v":"ML03"},{"$f":"VLOOKUP(Main3WData[[#This Row],[Admin Unit Name]],AdminUnits[],3,FALSE)","v":"Sud"},{"$f":"VLOOKUP(Main3WData[[#This Row],[Admin Unit Name]],AdminUnits[],4,FALSE)","v":3},{"$f":"VLOOKUP(Main3WData[[#This Row],[Sector]],Sectors[],2,FALSE)","v":8}]
[null,"Save the Children",{"$f":"INDEX(Organizations[],MATCH(Main3WData[[#This Row],[Acronym]],AcronymList,0),1)","v":"Save the Children"},{"$f":"INDEX(Organizations[],MATCH(Main3WData[[#This Row],[Acronym]],AcronymList,0),3)","v":"ONG Int."},"Nutrition","Regulier","Mopti",{"$f":"VLOOKUP(Main3WData[[#This Row],[Admin Unit Name]],AdminUnits[],2,FALSE)","v":"ML05"},{"$f":"VLOOKUP(Main3WData[[#This Row],[Admin Unit Name]],AdminUnits[],3,FALSE)","v":"Sud"},{"$f":"VLOOKUP(Main3WData[[#This Row],[Admin Unit Name]],AdminUnits[],4,FALSE)","v":5},{"$f":"VLOOKUP(Main3WData[[#This Row],[Sector]],Sectors[],2,FALSE)","v":4}]
[null,"Save the Children",{"$f":"INDEX(Organizations[],MATCH(Main3WData[[#This Row],[Acronym]],AcronymList,0),1)","v":"Save the Children"},{"$f":"INDEX(Organizations[],MATCH(Main3WData[[#This Row],[Acronym]],AcronymList,0),3)","v":"ONG Int."},"Nutrition","Regulier","Sikasso",{"$f":"VLOOKUP(Main3WData[[#This Row],[Admin Unit Name]],AdminUnits[],2,FALSE)","v":"ML03"},{"$f":"VLOOKUP(Main3WData[[#This Row],[Admin Unit Name]],AdminUnits[],3,FALSE)","v":"Sud"},{"$f":"VLOOKUP(Main3WData[[#This Row],[Admin Unit Name]],AdminUnits[],4,FALSE)","v":3},{"$f":"VLOOKUP(Main3WData[[#This Row],[Sector]],Sectors[],2,FALSE)","v":4}]
[null,"Save the Children",{"$f":"INDEX(Organizations[],MATCH(Main3WData[[#This Row],[Acronym]],AcronymList,0),1)","v":"Save the Children"},{"$f":"INDEX(Organizations[],MATCH(Main3WData[[#This Row],[Acronym]],AcronymList,0),3)","v":"ONG Int."},"Nutrition","Regulier","Tombouctou",{"$f":"VLOOKUP(Main3WData[[#This Row],[Admin Unit Name]],AdminUnits[],2,FALSE)","v":"ML06"},{"$f":"VLOOKUP(Main3WData[[#This Row],[Admin Unit Name]],AdminUnits[],3,FALSE)","v":"Nord"},{"$f":"VLOOKUP(Main3WData[[#This Row],[Admin Unit Name]],AdminUnits[],4,FALSE)","v":6},{"$f":"VLOOKUP(Main3WData[[#This Row],[Sector]],Sectors[],2,FALSE)","v":4}]
[null,"Save the Children",{"$f":"INDEX(Organizations[],MATCH(Main3WData[[#This Row],[Acronym]],AcronymList,0),1)","v":"Save the Children"},{"$f":"INDEX(Organizations[],MATCH(Main3WData[[#This Row],[Acronym]],AcronymList,0),3)","v":"ONG Int."},"Protection","Regulier","Gao",{"$f":"VLOOKUP(Main3WData[[#This Row],[Admin Unit Name]],AdminUnits[],2,FALSE)","v":"ML07"},{"$f":"VLOOKUP(Main3WData[[#This Row],[Admin Unit Name]],AdminUnits[],3,FALSE)","v":"Nord"},{"$f":"VLOOKUP(Main3WData[[#This Row],[Admin Unit Name]],AdminUnits[],4,FALSE)","v":7},{"$f":"VLOOKUP(Main3WData[[#This Row],[Sector]],Sectors[],2,FALSE)","v":5}]
[null,"Save the Children",{"$f":"INDEX(Organizations[],MATCH(Main3WData[[#This Row],[Acronym]],AcronymList,0),1)","v":"Save the Children"},{"$f":"INDEX(Organizations[],MATCH(Main3WData[[#This Row],[Acronym]],AcronymList,0),3)","v":"ONG Int."},"Protection","Regulier","Mopti",{"$f":"VLOOKUP(Main3WData[[#This Row],[Admin Unit Name]],AdminUnits[],2,FALSE)","v":"ML05"},{"$f":"VLOOKUP(Main3WData[[#This Row],[Admin Unit Name]],AdminUnits[],3,FALSE)","v":"Sud"},{"$f":"VLOOKUP(Main3WData[[#This Row],[Admin Unit Name]],AdminUnits[],4,FALSE)","v":5},{"$f":"VLOOKUP(Main3WData[[#This Row],[Sector]],Sectors[],2,FALSE)","v":5}]
[null,"Save the Children",{"$f":"INDEX(Organizations[],MATCH(Main3WData[[#This Row],[Acronym]],AcronymList,0),1)","v":"Save the Children"},{"$f":"INDEX(Organizations[],MATCH(Main3WData[[#This Row],[Acronym]],AcronymList,0),3)","v":"ONG Int."},"Santé","Regulier","Tombouctou",{"$f":"VLOOKUP(Main3WData[[#This Row],[Admin Unit Name]],AdminUnits[],2,FALSE)","v":"ML06"},{"$f":"VLOOKUP(Main3WData[[#This Row],[Admin Unit Name]],AdminUnits[],3,FALSE)","v":"Nord"},{"$f":"VLOOKUP(Main3WData[[#This Row],[Admin Unit Name]],AdminUnits[],4,FALSE)","v":6},{"$f":"VLOOKUP(Main3WData[[#This Row],[Sector]],Sectors[],2,FALSE)","v":6}]
[null,"Save the Children",{"$f":"INDEX(Organizations[],MATCH(Main3WData[[#This Row],[Acronym]],AcronymList,0),1)","v":"Save the Children"},{"$f":"INDEX(Organizations[],MATCH(Main3WData[[#This Row],[Acronym]],AcronymList,0),3)","v":"ONG Int."},"Santé","Regulier","Mopti",{"$f":"VLOOKUP(Main3WData[[#This Row],[Admin Unit Name]],AdminUnits[],2,FALSE)","v":"ML05"},{"$f":"VLOOKUP(Main3WData[[#This Row],[Admin Unit Name]],AdminUnits[],3,FALSE)","v":"Sud"},{"$f":"VLOOKUP(Main3WData[[#This Row],[Admin Unit Name]],AdminUnits[],4,FALSE)","v":5},{"$f":"VLOOKUP(Main3WData[[#This Row],[Sector]],Sectors[],2,FALSE)","v":6}]
[null,"Save the Children",{"$f":"INDEX(Organizations[],MATCH(Main3WData[[#This Row],[Acronym]],AcronymList,0),1)","v":"Save the Children"},{"$f":"INDEX(Organizations[],MATCH(Main3WData[[#This Row],[Acronym]],AcronymList,0),3)","v":"ONG Int."},"Sécurité alimentaire","Regulier","Gao",{"$f":"VLOOKUP(Main3WData[[#This Row],[Admin Unit Name]],AdminUnits[],2,FALSE)","v":"ML07"},{"$f":"VLOOKUP(Main3WData[[#This Row],[Admin Unit Name]],AdminUnits[],3,FALSE)","v":"Nord"},{"$f":"VLOOKUP(Main3WData[[#This Row],[Admin Unit Name]],AdminUnits[],4,FALSE)","v":7},{"$f":"VLOOKUP(Main3WData[[#This Row],[Sector]],Sectors[],2,FALSE)","v":7}]
[null,"Save the Children",{"$f":"INDEX(Organizations[],MATCH(Main3WData[[#This Row],[Acronym]],AcronymList,0),1)","v":"Save the Children"},{"$f":"INDEX(Organizations[],MATCH(Main3WData[[#This Row],[Acronym]],AcronymList,0),3)","v":"ONG Int."},"Sécurité alimentaire","Regulier","Tombouctou",{"$f":"VLOOKUP(Main3WData[[#This Row],[Admin Unit Name]],AdminUnits[],2,FALSE)","v":"ML06"},{"$f":"VLOOKUP(Main3WData[[#This Row],[Admin Unit Name]],AdminUnits[],3,FALSE)","v":"Nord"},{"$f":"VLOOKUP(Main3WData[[#This Row],[Admin Unit Name]],AdminUnits[],4,FALSE)","v":6},{"$f":"VLOOKUP(Main3WData[[#This Row],[Sector]],Sectors[],2,FALSE)","v":7}]
[null,"Santé Sud",{"$f":"INDEX(Organizations[],MATCH(Main3WData[[#This Row],[Acronym]],AcronymList,0),1)","v":"Santé Sud"},{"$f":"INDEX(Organizations[],MATCH(Main3WData[[#This Row],[Acronym]],AcronymList,0),3)","v":"ONG Int."},"Santé","Regulier","Tombouctou",{"$f":"VLOOKUP(Main3WData[[#This Row],[Admin Unit Name]],AdminUnits[],2,FALSE)","v":"ML06"},{"$f":"VLOOKUP(Main3WData[[#This Row],[Admin Unit Name]],AdminUnits[],3,FALSE)","v":"Nord"},{"$f":"VLOOKUP(Main3WData[[#This Row],[Admin Unit Name]],AdminUnits[],4,FALSE)","v":6},{"$f":"VLOOKUP(Main3WData[[#This Row],[Sector]],Sectors[],2,FALSE)","v":6}]
[null,"Samusocial Mali",{"$f":"INDEX(Organizations[],MATCH(Main3WData[[#This Row],[Acronym]],AcronymList,0),1)","v":"Samusocial Mali"},{"$f":"INDEX(Organizations[],MATCH(Main3WData[[#This Row],[Acronym]],AcronymList,0),3)","v":"ONG Int."},"Protection","Regulier","Bamako",{"$f":"VLOOKUP(Main3WData[[#This Row],[Admin Unit Name]],AdminUnits[],2,FALSE)","v":"ML09"},{"$f":"VLOOKUP(Main3WData[[#This Row],[Admin Unit Name]],AdminUnits[],3,FALSE)","v":"Sud"},{"$f":"VLOOKUP(Main3WData[[#This Row],[Admin Unit Name]],AdminUnits[],4,FALSE)","v":0},{"$f":"VLOOKUP(Main3WData[[#This Row],[Sector]],Sectors[],2,FALSE)","v":5}]
[null,"Samusocial Mali",{"$f":"INDEX(Organizations[],MATCH(Main3WData[[#This Row],[Acronym]],AcronymList,0),1)","v":"Samusocial Mali"},{"$f":"INDEX(Organizations[],MATCH(Main3WData[[#This Row],[Acronym]],AcronymList,0),3)","v":"ONG Int."},"Protection","Regulier","Segou",{"$f":"VLOOKUP(Main3WData[[#This Row],[Admin Unit Name]],AdminUnits[],2,FALSE)","v":"ML04"},{"$f":"VLOOKUP(Main3WData[[#This Row],[Admin Unit Name]],AdminUnits[],3,FALSE)","v":"Sud"},{"$f":"VLOOKUP(Main3WData[[#This Row],[Admin Unit Name]],AdminUnits[],4,FALSE)","v":4},{"$f":"VLOOKUP(Main3WData[[#This Row],[Sector]],Sectors[],2,FALSE)","v":5}]
[null,"Samusocial Mali",{"$f":"INDEX(Organizations[],MATCH(Main3WData[[#This Row],[Acronym]],AcronymList,0),1)","v":"Samusocial Mali"},{"$f":"INDEX(Organizations[],MATCH(Main3WData[[#This Row],[Acronym]],AcronymList,0),3)","v":"ONG Int."},"Protection","Regulier","Sikasso",{"$f":"VLOOKUP(Main3WData[[#This Row],[Admin Unit Name]],AdminUnits[],2,FALSE)","v":"ML03"},{"$f":"VLOOKUP(Main3WData[[#This Row],[Admin Unit Name]],AdminUnits[],3,FALSE)","v":"Sud"},{"$f":"VLOOKUP(Main3WData[[#This Row],[Admin Unit Name]],AdminUnits[],4,FALSE)","v":3},{"$f":"VLOOKUP(Main3WData[[#This Row],[Sector]],Sectors[],2,FALSE)","v":5}]
[null,"PU-AMI",{"$f":"INDEX(Organizations[],MATCH(Main3WData[[#This Row],[Acronym]],AcronymList,0),1)","v":"Première Urgence-Aide Médicale Internationale"},{"$f":"INDEX(Organizations[],MATCH(Main3WData[[#This Row],[Acronym]],AcronymList,0),3)","v":"ONG Int."},"Nutrition","Regulier","Gao",{"$f":"VLOOKUP(Main3WData[[#This Row],[Admin Unit Name]],AdminUnits[],2,FALSE)","v":"ML07"},{"$f":"VLOOKUP(Main3WData[[#This Row],[Admin Unit Name]],AdminUnits[],3,FALSE)","v":"Nord"},{"$f":"VLOOKUP(Main3WData[[#This Row],[Admin Unit Name]],AdminUnits[],4,FALSE)","v":7},{"$f":"VLOOKUP(Main3WData[[#This Row],[Sector]],Sectors[],2,FALSE)","v":4}]
[null,"PU-AMI",{"$f":"INDEX(Organizations[],MATCH(Main3WData[[#This Row],[Acronym]],AcronymList,0),1)","v":"Première Urgence-Aide Médicale Internationale"},{"$f":"INDEX(Organizations[],MATCH(Main3WData[[#This Row],[Acronym]],AcronymList,0),3)","v":"ONG Int."},"Nutrition","Regulier","Kidal",{"$f":"VLOOKUP(Main3WData[[#This Row],[Admin Unit Name]],AdminUnits[],2,FALSE)","v":"ML08"},{"$f":"VLOOKUP(Main3WData[[#This Row],[Admin Unit Name]],AdminUnits[],3,FALSE)","v":"Nord"},{"$f":"VLOOKUP(Main3WData[[#This Row],[Admin Unit Name]],AdminUnits[],4,FALSE)","v":8},{"$f":"VLOOKUP(Main3WData[[#This Row],[Sector]],Sectors[],2,FALSE)","v":4}]
[null,"PU-AMI",{"$f":"INDEX(Organizations[],MATCH(Main3WData[[#This Row],[Acronym]],AcronymList,0),1)","v":"Première Urgence-Aide Médicale Internationale"},{"$f":"INDEX(Organizations[],MATCH(Main3WData[[#This Row],[Acronym]],AcronymList,0),3)","v":"ONG Int."},"Santé","Regulier","Gao",{"$f":"VLOOKUP(Main3WData[[#This Row],[Admin Unit Name]],AdminUnits[],2,FALSE)","v":"ML07"},{"$f":"VLOOKUP(Main3WData[[#This Row],[Admin Unit Name]],AdminUnits[],3,FALSE)","v":"Nord"},{"$f":"VLOOKUP(Main3WData[[#This Row],[Admin Unit Name]],AdminUnits[],4,FALSE)","v":7},{"$f":"VLOOKUP(Main3WData[[#This Row],[Sector]],Sectors[],2,FALSE)","v":6}]
[null,"PU-AMI",{"$f":"INDEX(Organizations[],MATCH(Main3WData[[#This Row],[Acronym]],AcronymList,0),1)","v":"Première Urgence-Aide Médicale Internationale"},{"$f":"INDEX(Organizations[],MATCH(Main3WData[[#This Row],[Acronym]],AcronymList,0),3)","v":"ONG Int."},"Santé","Regulier","Kidal",{"$f":"VLOOKUP(Main3WData[[#This Row],[Admin Unit Name]],AdminUnits[],2,FALSE)","v":"ML08"},{"$f":"VLOOKUP(Main3WData[[#This Row],[Admin Unit Name]],AdminUnits[],3,FALSE)","v":"Nord"},{"$f":"VLOOKUP(Main3WData[[#This Row],[Admin Unit Name]],AdminUnits[],4,FALSE)","v":8},{"$f":"VLOOKUP(Main3WData[[#This Row],[Sector]],Sectors[],2,FALSE)","v":6}]
[null,"PSI",{"$f":"INDEX(Organizations[],MATCH(Main3WData[[#This Row],[Acronym]],AcronymList,0),1)","v":"Population Services International"},{"$f":"INDEX(Organizations[],MATCH(Main3WData[[#This Row],[Acronym]],AcronymList,0),3)","v":"ONG Int."},"Santé","Regulier","Mopti",{"$f":"VLOOKUP(Main3WData[[#This Row],[Admin Unit Name]],AdminUnits[],2,FALSE)","v":"ML05"},{"$f":"VLOOKUP(Main3WData[[#This Row],[Admin Unit Name]],AdminUnits[],3,FALSE)","v":"Sud"},{"$f":"VLOOKUP(Main3WData[[#This Row],[Admin Unit Name]],AdminUnits[],4,FALSE)","v":5},{"$f":"VLOOKUP(Main3WData[[#This Row],[Sector]],Sectors[],2,FALSE)","v":6}]
[null,"Plan Mali",{"$f":"INDEX(Organizations[],MATCH(Main3WData[[#This Row],[Acronym]],AcronymList,0),1)","v":"Plan Mali"},{"$f":"INDEX(Organizations[],MATCH(Main3WData[[#This Row],[Acronym]],AcronymList,0),3)","v":"ONG Int."},"Education","Regulier","Tombouctou",{"$f":"VLOOKUP(Main3WData[[#This Row],[Admin Unit Name]],AdminUnits[],2,FALSE)","v":"ML06"},{"$f":"VLOOKUP(Main3WData[[#This Row],[Admin Unit Name]],AdminUnits[],3,FALSE)","v":"Nord"},{"$f":"VLOOKUP(Main3WData[[#This Row],[Admin Unit Name]],AdminUnits[],4,FALSE)","v":6},{"$f":"VLOOKUP(Main3WData[[#This Row],[Sector]],Sectors[],2,FALSE)","v":3}]
[null,"PLAN Mali",{"$f":"INDEX(Organizations[],MATCH(Main3WData[[#This Row],[Acronym]],AcronymList,0),1)","v":"Plan Mali"},{"$f":"INDEX(Organizations[],MATCH(Main3WData[[#This Row],[Acronym]],AcronymList,0),3)","v":"ONG Int."},"Protection","Regulier","Tombouctou",{"$f":"VLOOKUP(Main3WData[[#This Row],[Admin Unit Name]],AdminUnits[],2,FALSE)","v":"ML06"},{"$f":"VLOOKUP(Main3WData[[#This Row],[Admin Unit Name]],AdminUnits[],3,FALSE)","v":"Nord"},{"$f":"VLOOKUP(Main3WData[[#This Row],[Admin Unit Name]],AdminUnits[],4,FALSE)","v":6},{"$f":"VLOOKUP(Main3WData[[#This Row],[Sector]],Sectors[],2,FALSE)","v":5}]
[null,"Plan MALI",{"$f":"INDEX(Organizations[],MATCH(Main3WData[[#This Row],[Acronym]],AcronymList,0),1)","v":"Plan Mali"},{"$f":"INDEX(Organizations[],MATCH(Main3WData[[#This Row],[Acronym]],AcronymList,0),3)","v":"ONG Int."},"Sécurité alimentaire","Regulier","Tombouctou",{"$f":"VLOOKUP(Main3WData[[#This Row],[Admin Unit Name]],AdminUnits[],2,FALSE)","v":"ML06"},{"$f":"VLOOKUP(Main3WData[[#This Row],[Admin Unit Name]],AdminUnits[],3,FALSE)","v":"Nord"},{"$f":"VLOOKUP(Main3WData[[#This Row],[Admin Unit Name]],AdminUnits[],4,FALSE)","v":6},{"$f":"VLOOKUP(Main3WData[[#This Row],[Sector]],Sectors[],2,FALSE)","v":7}]
[null,"PAM",{"$f":"INDEX(Organizations[],MATCH(Main3WData[[#This Row],[Acronym]],AcronymList,0),1)","v":"Programme Alimentaire Mondial"},{"$f":"INDEX(Organizations[],MATCH(Main3WData[[#This Row],[Acronym]],AcronymList,0),3)","v":"UN"},"Coordination","Regulier","Bamako",{"$f":"VLOOKUP(Main3WData[[#This Row],[Admin Unit Name]],AdminUnits[],2,FALSE)","v":"ML09"},{"$f":"VLOOKUP(Main3WData[[#This Row],[Admin Unit Name]],AdminUnits[],3,FALSE)","v":"Sud"},{"$f":"VLOOKUP(Main3WData[[#This Row],[Admin Unit Name]],AdminUnits[],4,FALSE)","v":0},{"$f":"VLOOKUP(Main3WData[[#This Row],[Sector]],Sectors[],2,FALSE)","v":2}]
[null,"PAM",{"$f":"INDEX(Organizations[],MATCH(Main3WData[[#This Row],[Acronym]],AcronymList,0),1)","v":"Programme Alimentaire Mondial"},{"$f":"INDEX(Organizations[],MATCH(Main3WData[[#This Row],[Acronym]],AcronymList,0),3)","v":"UN"},"Coordination","Regulier","Gao",{"$f":"VLOOKUP(Main3WData[[#This Row],[Admin Unit Name]],AdminUnits[],2,FALSE)","v":"ML07"},{"$f":"VLOOKUP(Main3WData[[#This Row],[Admin Unit Name]],AdminUnits[],3,FALSE)","v":"Nord"},{"$f":"VLOOKUP(Main3WData[[#This Row],[Admin Unit Name]],AdminUnits[],4,FALSE)","v":7},{"$f":"VLOOKUP(Main3WData[[#This Row],[Sector]],Sectors[],2,FALSE)","v":2}]
[null,"PAM",{"$f":"INDEX(Organizations[],MATCH(Main3WData[[#This Row],[Acronym]],AcronymList,0),1)","v":"Programme Alimentaire Mondial"},{"$f":"INDEX(Organizations[],MATCH(Main3WData[[#This Row],[Acronym]],AcronymList,0),3)","v":"UN"},"Coordination","Regulier","Mopti",{"$f":"VLOOKUP(Main3WData[[#This Row],[Admin Unit Name]],AdminUnits[],2,FALSE)","v":"ML05"},{"$f":"VLOOKUP(Main3WData[[#This Row],[Admin Unit Name]],AdminUnits[],3,FALSE)","v":"Sud"},{"$f":"VLOOKUP(Main3WData[[#This Row],[Admin Unit Name]],AdminUnits[],4,FALSE)","v":5},{"$f":"VLOOKUP(Main3WData[[#This Row],[Sector]],Sectors[],2,FALSE)","v":2}]
[null,"PAM",{"$f":"INDEX(Organizations[],MATCH(Main3WData[[#This Row],[Acronym]],AcronymList,0),1)","v":"Programme Alimentaire Mondial"},{"$f":"INDEX(Organizations[],MATCH(Main3WData[[#This Row],[Acronym]],AcronymList,0),3)","v":"UN"},"Coordination","Regulier","Tombouctou",{"$f":"VLOOKUP(Main3WData[[#This Row],[Admin Unit Name]],AdminUnits[],2,FALSE)","v":"ML06"},{"$f":"VLOOKUP(Main3WData[[#This Row],[Admin Unit Name]],AdminUnits[],3,FALSE)","v":"Nord"},{"$f":"VLOOKUP(Main3WData[[#This Row],[Admin Unit Name]],AdminUnits[],4,FALSE)","v":6},{"$f":"VLOOKUP(Main3WData[[#This Row],[Sector]],Sectors[],2,FALSE)","v":2}]
[null,"PAM",{"$f":"INDEX(Organizations[],MATCH(Main3WData[[#This Row],[Acronym]],AcronymList,0),1)","v":"Programme Alimentaire Mondial"},{"$f":"INDEX(Organizations[],MATCH(Main3WData[[#This Row],[Acronym]],AcronymList,0),3)","v":"UN"},"Education","Regulier","Gao",{"$f":"VLOOKUP(Main3WData[[#This Row],[Admin Unit Name]],AdminUnits[],2,FALSE)","v":"ML07"},{"$f":"VLOOKUP(Main3WData[[#This Row],[Admin Unit Name]],AdminUnits[],3,FALSE)","v":"Nord"},{"$f":"VLOOKUP(Main3WData[[#This Row],[Admin Unit Name]],AdminUnits[],4,FALSE)","v":7},{"$f":"VLOOKUP(Main3WData[[#This Row],[Sector]],Sectors[],2,FALSE)","v":3}]
[null,"PAM",{"$f":"INDEX(Organizations[],MATCH(Main3WData[[#This Row],[Acronym]],AcronymList,0),1)","v":"Programme Alimentaire Mondial"},{"$f":"INDEX(Organizations[],MATCH(Main3WData[[#This Row],[Acronym]],AcronymList,0),3)","v":"UN"},"Education","Regulier","Mopti",{"$f":"VLOOKUP(Main3WData[[#This Row],[Admin Unit Name]],AdminUnits[],2,FALSE)","v":"ML05"},{"$f":"VLOOKUP(Main3WData[[#This Row],[Admin Unit Name]],AdminUnits[],3,FALSE)","v":"Sud"},{"$f":"VLOOKUP(Main3WData[[#This Row],[Admin Unit Name]],AdminUnits[],4,FALSE)","v":5},{"$f":"VLOOKUP(Main3WData[[#This Row],[Sector]],Sectors[],2,FALSE)","v":3}]
[null,"PAM",{"$f":"INDEX(Organizations[],MATCH(Main3WData[[#This Row],[Acronym]],AcronymList,0),1)","v":"Programme Alimentaire Mondial"},{"$f":"INDEX(Organizations[],MATCH(Main3WData[[#This Row],[Acronym]],AcronymList,0),3)","v":"UN"},"Education","Regulier","Tombouctou",{"$f":"VLOOKUP(Main3WData[[#This Row],[Admin Unit Name]],AdminUnits[],2,FALSE)","v":"ML06"},{"$f":"VLOOKUP(Main3WData[[#This Row],[Admin Unit Name]],AdminUnits[],3,FALSE)","v":"Nord"},{"$f":"VLOOKUP(Main3WData[[#This Row],[Admin Unit Name]],AdminUnits[],4,FALSE)","v":6},{"$f":"VLOOKUP(Main3WData[[#This Row],[Sector]],Sectors[],2,FALSE)","v":3}]
[null,"PAM",{"$f":"INDEX(Organizations[],MATCH(Main3WData[[#This Row],[Acronym]],AcronymList,0),1)","v":"Programme Alimentaire Mondial"},{"$f":"INDEX(Organizations[],MATCH(Main3WData[[#This Row],[Acronym]],AcronymList,0),3)","v":"UN"},"Nutrition","Regulier","Mopti",{"$f":"VLOOKUP(Main3WData[[#This Row],[Admin Unit Name]],AdminUnits[],2,FALSE)","v":"ML05"},{"$f":"VLOOKUP(Main3WData[[#This Row],[Admin Unit Name]],AdminUnits[],3,FALSE)","v":"Sud"},{"$f":"VLOOKUP(Main3WData[[#This Row],[Admin Unit Name]],AdminUnits[],4,FALSE)","v":5},{"$f":"VLOOKUP(Main3WData[[#This Row],[Sector]],Sectors[],2,FALSE)","v":4}]
[null,"PAM",{"$f":"INDEX(Organizations[],MATCH(Main3WData[[#This Row],[Acronym]],AcronymList,0),1)","v":"Programme Alimentaire Mondial"},{"$f":"INDEX(Organizations[],MATCH(Main3WData[[#This Row],[Acronym]],AcronymList,0),3)","v":"UN"},"Sécurité alimentaire","Regulier","Gao",{"$f":"VLOOKUP(Main3WData[[#This Row],[Admin Unit Name]],AdminUnits[],2,FALSE)","v":"ML07"},{"$f":"VLOOKUP(Main3WData[[#This Row],[Admin Unit Name]],AdminUnits[],3,FALSE)","v":"Nord"},{"$f":"VLOOKUP(Main3WData[[#This Row],[Admin Unit Name]],AdminUnits[],4,FALSE)","v":7},{"$f":"VLOOKUP(Main3WData[[#This Row],[Sector]],Sectors[],2,FALSE)","v":7}]
[null,"PAM",{"$f":"INDEX(Organizations[],MATCH(Main3WData[[#This Row],[Acronym]],AcronymList,0),1)","v":"Programme Alimentaire Mondial"},{"$f":"INDEX(Organizations[],MATCH(Main3WData[[#This Row],[Acronym]],AcronymList,0),3)","v":"UN"},"Sécurité alimentaire","Regulier","Kidal",{"$f":"VLOOKUP(Main3WData[[#This Row],[Admin Unit Name]],AdminUnits[],2,FALSE)","v":"ML08"},{"$f":"VLOOKUP(Main3WData[[#This Row],[Admin Unit Name]],AdminUnits[],3,FALSE)","v":"Nord"},{"$f":"VLOOKUP(Main3WData[[#This Row],[Admin Unit Name]],AdminUnits[],4,FALSE)","v":8},{"$f":"VLOOKUP(Main3WData[[#This Row],[Sector]],Sectors[],2,FALSE)","v":7}]
[null,"PAM",{"$f":"INDEX(Organizations[],MATCH(Main3WData[[#This Row],[Acronym]],AcronymList,0),1)","v":"Programme Alimentaire Mondial"},{"$f":"INDEX(Organizations[],MATCH(Main3WData[[#This Row],[Acronym]],AcronymList,0),3)","v":"UN"},"Sécurité alimentaire","Regulier","Mopti",{"$f":"VLOOKUP(Main3WData[[#This Row],[Admin Unit Name]],AdminUnits[],2,FALSE)","v":"ML05"},{"$f":"VLOOKUP(Main3WData[[#This Row],[Admin Unit Name]],AdminUnits[],3,FALSE)","v":"Sud"},{"$f":"VLOOKUP(Main3WData[[#This Row],[Admin Unit Name]],AdminUnits[],4,FALSE)","v":5},{"$f":"VLOOKUP(Main3WData[[#This Row],[Sector]],Sectors[],2,FALSE)","v":7}]
[null,"PAM",{"$f":"INDEX(Organizations[],MATCH(Main3WData[[#This Row],[Acronym]],AcronymList,0),1)","v":"Programme Alimentaire Mondial"},{"$f":"INDEX(Organizations[],MATCH(Main3WData[[#This Row],[Acronym]],AcronymList,0),3)","v":"UN"},"Sécurité alimentaire","Regulier","Tombouctou",{"$f":"VLOOKUP(Main3WData[[#This Row],[Admin Unit Name]],AdminUnits[],2,FALSE)","v":"ML06"},{"$f":"VLOOKUP(Main3WData[[#This Row],[Admin Unit Name]],AdminUnits[],3,FALSE)","v":"Nord"},{"$f":"VLOOKUP(Main3WData[[#This Row],[Admin Unit Name]],AdminUnits[],4,FALSE)","v":6},{"$f":"VLOOKUP(Main3WData[[#This Row],[Sector]],Sectors[],2,FALSE)","v":7}]
[null,"OXFAM GB",{"$f":"INDEX(Organizations[],MATCH(Main3WData[[#This Row],[Acronym]],AcronymList,0),1)","v":"OXFAM GB"},{"$f":"INDEX(Organizations[],MATCH(Main3WData[[#This Row],[Acronym]],AcronymList,0),3)","v":"ONG Int."},"EHA","Regulier","Bamako",{"$f":"VLOOKUP(Main3WData[[#This Row],[Admin Unit Name]],AdminUnits[],2,FALSE)","v":"ML09"},{"$f":"VLOOKUP(Main3WData[[#This Row],[Admin Unit Name]],AdminUnits[],3,FALSE)","v":"Sud"},{"$f":"VLOOKUP(Main3WData[[#This Row],[Admin Unit Name]],AdminUnits[],4,FALSE)","v":0},{"$f":"VLOOKUP(Main3WData[[#This Row],[Sector]],Sectors[],2,FALSE)","v":8}]
[null,"OXFAM GB",{"$f":"INDEX(Organizations[],MATCH(Main3WData[[#This Row],[Acronym]],AcronymList,0),1)","v":"OXFAM GB"},{"$f":"INDEX(Organizations[],MATCH(Main3WData[[#This Row],[Acronym]],AcronymList,0),3)","v":"ONG Int."},"EHA","Regulier","Gao",{"$f":"VLOOKUP(Main3WData[[#This Row],[Admin Unit Name]],AdminUnits[],2,FALSE)","v":"ML07"},{"$f":"VLOOKUP(Main3WData[[#This Row],[Admin Unit Name]],AdminUnits[],3,FALSE)","v":"Nord"},{"$f":"VLOOKUP(Main3WData[[#This Row],[Admin Unit Name]],AdminUnits[],4,FALSE)","v":7},{"$f":"VLOOKUP(Main3WData[[#This Row],[Sector]],Sectors[],2,FALSE)","v":8}]
[null,"OXFAM GB",{"$f":"INDEX(Organizations[],MATCH(Main3WData[[#This Row],[Acronym]],AcronymList,0),1)","v":"OXFAM GB"},{"$f":"INDEX(Organizations[],MATCH(Main3WData[[#This Row],[Acronym]],AcronymList,0),3)","v":"ONG Int."},"EHA","Regulier","Koulikoro",{"$f":"VLOOKUP(Main3WData[[#This Row],[Admin Unit Name]],AdminUnits[],2,FALSE)","v":"ML02"},{"$f":"VLOOKUP(Main3WData[[#This Row],[Admin Unit Name]],AdminUnits[],3,FALSE)","v":"Sud"},{"$f":"VLOOKUP(Main3WData[[#This Row],[Admin Unit Name]],AdminUnits[],4,FALSE)","v":2},{"$f":"VLOOKUP(Main3WData[[#This Row],[Sector]],Sectors[],2,FALSE)","v":8}]
[null,"OXFAM GB",{"$f":"INDEX(Organizations[],MATCH(Main3WData[[#This Row],[Acronym]],AcronymList,0),1)","v":"OXFAM GB"},{"$f":"INDEX(Organizations[],MATCH(Main3WData[[#This Row],[Acronym]],AcronymList,0),3)","v":"ONG Int."},"Protection","Regulier","Gao",{"$f":"VLOOKUP(Main3WData[[#This Row],[Admin Unit Name]],AdminUnits[],2,FALSE)","v":"ML07"},{"$f":"VLOOKUP(Main3WData[[#This Row],[Admin Unit Name]],AdminUnits[],3,FALSE)","v":"Nord"},{"$f":"VLOOKUP(Main3WData[[#This Row],[Admin Unit Name]],AdminUnits[],4,FALSE)","v":7},{"$f":"VLOOKUP(Main3WData[[#This Row],[Sector]],Sectors[],2,FALSE)","v":5}]
[null,"OXFAM GB",{"$f":"INDEX(Organizations[],MATCH(Main3WData[[#This Row],[Acronym]],AcronymList,0),1)","v":"OXFAM GB"},{"$f":"INDEX(Organizations[],MATCH(Main3WData[[#This Row],[Acronym]],AcronymList,0),3)","v":"ONG Int."},"Sécurité alimentaire","Regulier","Gao",{"$f":"VLOOKUP(Main3WData[[#This Row],[Admin Unit Name]],AdminUnits[],2,FALSE)","v":"ML07"},{"$f":"VLOOKUP(Main3WData[[#This Row],[Admin Unit Name]],AdminUnits[],3,FALSE)","v":"Nord"},{"$f":"VLOOKUP(Main3WData[[#This Row],[Admin Unit Name]],AdminUnits[],4,FALSE)","v":7},{"$f":"VLOOKUP(Main3WData[[#This Row],[Sector]],Sectors[],2,FALSE)","v":7}]
[null,"ONUFEMME",{"$f":"INDEX(Organizations[],MATCH(Main3WData[[#This Row],[Acronym]],AcronymList,0),1)","v":"ONUFEMME"},{"$f":"INDEX(Organizations[],MATCH(Main3WData[[#This Row],[Acronym]],AcronymList,0),3)","v":"UN"},"Protection","Regulier","Gao",{"$f":"VLOOKUP(Main3WData[[#This Row],[Admin Unit Name]],AdminUnits[],2,FALSE)","v":"ML07"},{"$f":"VLOOKUP(Main3WData[[#This Row],[Admin Unit Name]],AdminUnits[],3,FALSE)","v":"Nord"},{"$f":"VLOOKUP(Main3WData[[#This Row],[Admin Unit Name]],AdminUnits[],4,FALSE)","v":7},{"$f":"VLOOKUP(Main3WData[[#This Row],[Sector]],Sectors[],2,FALSE)","v":5}]
[null,"OMS",{"$f":"INDEX(Organizations[],MATCH(Main3WData[[#This Row],[Acronym]],AcronymList,0),1)","v":"Organisation Mondiale de la Sante"},{"$f":"INDEX(Organizations[],MATCH(Main3WData[[#This Row],[Acronym]],AcronymList,0),3)","v":"UN"},"Coordination","Regulier","Bamako",{"$f":"VLOOKUP(Main3WData[[#This Row],[Admin Unit Name]],AdminUnits[],2,FALSE)","v":"ML09"},{"$f":"VLOOKUP(Main3WData[[#This Row],[Admin Unit Name]],AdminUnits[],3,FALSE)","v":"Sud"},{"$f":"VLOOKUP(Main3WData[[#This Row],[Admin Unit Name]],AdminUnits[],4,FALSE)","v":0},{"$f":"VLOOKUP(Main3WData[[#This Row],[Sector]],Sectors[],2,FALSE)","v":2}]
[null,"OMS",{"$f":"INDEX(Organizations[],MATCH(Main3WData[[#This Row],[Acronym]],AcronymList,0),1)","v":"Organisation Mondiale de la Sante"},{"$f":"INDEX(Organizations[],MATCH(Main3WData[[#This Row],[Acronym]],AcronymList,0),3)","v":"UN"},"Coordination","Regulier","Gao",{"$f":"VLOOKUP(Main3WData[[#This Row],[Admin Unit Name]],AdminUnits[],2,FALSE)","v":"ML07"},{"$f":"VLOOKUP(Main3WData[[#This Row],[Admin Unit Name]],AdminUnits[],3,FALSE)","v":"Nord"},{"$f":"VLOOKUP(Main3WData[[#This Row],[Admin Unit Name]],AdminUnits[],4,FALSE)","v":7},{"$f":"VLOOKUP(Main3WData[[#This Row],[Sector]],Sectors[],2,FALSE)","v":2}]
[null,"OMS",{"$f":"INDEX(Organizations[],MATCH(Main3WData[[#This Row],[Acronym]],AcronymList,0),1)","v":"Organisation Mondiale de la Sante"},{"$f":"INDEX(Organizations[],MATCH(Main3WData[[#This Row],[Acronym]],AcronymList,0),3)","v":"UN"},"Coordination","Regulier","Mopti",{"$f":"VLOOKUP(Main3WData[[#This Row],[Admin Unit Name]],AdminUnits[],2,FALSE)","v":"ML05"},{"$f":"VLOOKUP(Main3WData[[#This Row],[Admin Unit Name]],AdminUnits[],3,FALSE)","v":"Sud"},{"$f":"VLOOKUP(Main3WData[[#This Row],[Admin Unit Name]],AdminUnits[],4,FALSE)","v":5},{"$f":"VLOOKUP(Main3WData[[#This Row],[Sector]],Sectors[],2,FALSE)","v":2}]
[null,"OMS",{"$f":"INDEX(Organizations[],MATCH(Main3WData[[#This Row],[Acronym]],AcronymList,0),1)","v":"Organisation Mondiale de la Sante"},{"$f":"INDEX(Organizations[],MATCH(Main3WData[[#This Row],[Acronym]],AcronymList,0),3)","v":"UN"},"Coordination","Regulier","Tombouctou",{"$f":"VLOOKUP(Main3WData[[#This Row],[Admin Unit Name]],AdminUnits[],2,FALSE)","v":"ML06"},{"$f":"VLOOKUP(Main3WData[[#This Row],[Admin Unit Name]],AdminUnits[],3,FALSE)","v":"Nord"},{"$f":"VLOOKUP(Main3WData[[#This Row],[Admin Unit Name]],AdminUnits[],4,FALSE)","v":6},{"$f":"VLOOKUP(Main3WData[[#This Row],[Sector]],Sectors[],2,FALSE)","v":2}]
[null,"OMS",{"$f":"INDEX(Organizations[],MATCH(Main3WData[[#This Row],[Acronym]],AcronymList,0),1)","v":"Organisation Mondiale de la Sante"},{"$f":"INDEX(Organizations[],MATCH(Main3WData[[#This Row],[Acronym]],AcronymList,0),3)","v":"UN"},"Santé","Regulier","Bamako",{"$f":"VLOOKUP(Main3WData[[#This Row],[Admin Unit Name]],AdminUnits[],2,FALSE)","v":"ML09"},{"$f":"VLOOKUP(Main3WData[[#This Row],[Admin Unit Name]],AdminUnits[],3,FALSE)","v":"Sud"},{"$f":"VLOOKUP(Main3WData[[#This Row],[Admin Unit Name]],AdminUnits[],4,FALSE)","v":0},{"$f":"VLOOKUP(Main3WData[[#This Row],[Sector]],Sectors[],2,FALSE)","v":6}]
[null,"OMS",{"$f":"INDEX(Organizations[],MATCH(Main3WData[[#This Row],[Acronym]],AcronymList,0),1)","v":"Organisation Mondiale de la Sante"},{"$f":"INDEX(Organizations[],MATCH(Main3WData[[#This Row],[Acronym]],AcronymList,0),3)","v":"UN"},"Santé","Regulier","Gao",{"$f":"VLOOKUP(Main3WData[[#This Row],[Admin Unit Name]],AdminUnits[],2,FALSE)","v":"ML07"},{"$f":"VLOOKUP(Main3WData[[#This Row],[Admin Unit Name]],AdminUnits[],3,FALSE)","v":"Nord"},{"$f":"VLOOKUP(Main3WData[[#This Row],[Admin Unit Name]],AdminUnits[],4,FALSE)","v":7},{"$f":"VLOOKUP(Main3WData[[#This Row],[Sector]],Sectors[],2,FALSE)","v":6}]
[null,"OMS",{"$f":"INDEX(Organizations[],MATCH(Main3WData[[#This Row],[Acronym]],AcronymList,0),1)","v":"Organisation Mondiale de la Sante"},{"$f":"INDEX(Organizations[],MATCH(Main3WData[[#This Row],[Acronym]],AcronymList,0),3)","v":"UN"},"Santé","Regulier","Kidal",{"$f":"VLOOKUP(Main3WData[[#This Row],[Admin Unit Name]],AdminUnits[],2,FALSE)","v":"ML08"},{"$f":"VLOOKUP(Main3WData[[#This Row],[Admin Unit Name]],AdminUnits[],3,FALSE)","v":"Nord"},{"$f":"VLOOKUP(Main3WData[[#This Row],[Admin Unit Name]],AdminUnits[],4,FALSE)","v":8},{"$f":"VLOOKUP(Main3WData[[#This Row],[Sector]],Sectors[],2,FALSE)","v":6}]
[null,"OMS",{"$f":"INDEX(Organizations[],MATCH(Main3WData[[#This Row],[Acronym]],AcronymList,0),1)","v":"Organisation Mondiale de la Sante"},{"$f":"INDEX(Organizations[],MATCH(Main3WData[[#This Row],[Acronym]],AcronymList,0),3)","v":"UN"},"Santé","Regulier","Segou",{"$f":"VLOOKUP(Main3WData[[#This Row],[Admin Unit Name]],AdminUnits[],2,FALSE)","v":"ML04"},{"$f":"VLOOKUP(Main3WData[[#This Row],[Admin Unit Name]],AdminUnits[],3,FALSE)","v":"Sud"},{"$f":"VLOOKUP(Main3WData[[#This Row],[Admin Unit Name]],AdminUnits[],4,FALSE)","v":4},{"$f":"VLOOKUP(Main3WData[[#This Row],[Sector]],Sectors[],2,FALSE)","v":6}]
[null,"OMS",{"$f":"INDEX(Organizations[],MATCH(Main3WData[[#This Row],[Acronym]],AcronymList,0),1)","v":"Organisation Mondiale de la Sante"},{"$f":"INDEX(Organizations[],MATCH(Main3WData[[#This Row],[Acronym]],AcronymList,0),3)","v":"UN"},"Santé","Regulier","Tombouctou",{"$f":"VLOOKUP(Main3WData[[#This Row],[Admin Unit Name]],AdminUnits[],2,FALSE)","v":"ML06"},{"$f":"VLOOKUP(Main3WData[[#This Row],[Admin Unit Name]],AdminUnits[],3,FALSE)","v":"Nord"},{"$f":"VLOOKUP(Main3WData[[#This Row],[Admin Unit Name]],AdminUnits[],4,FALSE)","v":6},{"$f":"VLOOKUP(Main3WData[[#This Row],[Sector]],Sectors[],2,FALSE)","v":6}]
[null,"OMAES",{"$f":"INDEX(Organizations[],MATCH(Main3WData[[#This Row],[Acronym]],AcronymList,0),1)","v":"Œuvre Malienne d'Aide à l'Enfance du Sahel"},{"$f":"INDEX(Organizations[],MATCH(Main3WData[[#This Row],[Acronym]],AcronymList,0),3)","v":"ONG Nat."},"Education","Regulier","Mopti",{"$f":"VLOOKUP(Main3WData[[#This Row],[Admin Unit Name]],AdminUnits[],2,FALSE)","v":"ML05"},{"$f":"VLOOKUP(Main3WData[[#This Row],[Admin Unit Name]],AdminUnits[],3,FALSE)","v":"Sud"},{"$f":"VLOOKUP(Main3WData[[#This Row],[Admin Unit Name]],AdminUnits[],4,FALSE)","v":5},{"$f":"VLOOKUP(Main3WData[[#This Row],[Sector]],Sectors[],2,FALSE)","v":3}]
[null,"OMAES",{"$f":"INDEX(Organizations[],MATCH(Main3WData[[#This Row],[Acronym]],AcronymList,0),1)","v":"Œuvre Malienne d'Aide à l'Enfance du Sahel"},{"$f":"INDEX(Organizations[],MATCH(Main3WData[[#This Row],[Acronym]],AcronymList,0),3)","v":"ONG Nat."},"Nutrition","Regulier","Kayes",{"$f":"VLOOKUP(Main3WData[[#This Row],[Admin Unit Name]],AdminUnits[],2,FALSE)","v":"ML01"},{"$f":"VLOOKUP(Main3WData[[#This Row],[Admin Unit Name]],AdminUnits[],3,FALSE)","v":"Sud"},{"$f":"VLOOKUP(Main3WData[[#This Row],[Admin Unit Name]],AdminUnits[],4,FALSE)","v":1},{"$f":"VLOOKUP(Main3WData[[#This Row],[Sector]],Sectors[],2,FALSE)","v":4}]
[null,"OIM",{"$f":"INDEX(Organizations[],MATCH(Main3WData[[#This Row],[Acronym]],AcronymList,0),1)","v":"Organisation Internationale pour les Migrations"},{"$f":"INDEX(Organizations[],MATCH(Main3WData[[#This Row],[Acronym]],AcronymList,0),3)","v":"Org Int."},"Abris et NFI","Regulier","Mopti",{"$f":"VLOOKUP(Main3WData[[#This Row],[Admin Unit Name]],AdminUnits[],2,FALSE)","v":"ML05"},{"$f":"VLOOKUP(Main3WData[[#This Row],[Admin Unit Name]],AdminUnits[],3,FALSE)","v":"Sud"},{"$f":"VLOOKUP(Main3WData[[#This Row],[Admin Unit Name]],AdminUnits[],4,FALSE)","v":5},{"$f":"VLOOKUP(Main3WData[[#This Row],[Sector]],Sectors[],2,FALSE)","v":1}]
[null,"OIM",{"$f":"INDEX(Organizations[],MATCH(Main3WData[[#This Row],[Acronym]],AcronymList,0),1)","v":"Organisation Internationale pour les Migrations"},{"$f":"INDEX(Organizations[],MATCH(Main3WData[[#This Row],[Acronym]],AcronymList,0),3)","v":"Org Int."},"Coordination","Regulier","Bamako",{"$f":"VLOOKUP(Main3WData[[#This Row],[Admin Unit Name]],AdminUnits[],2,FALSE)","v":"ML09"},{"$f":"VLOOKUP(Main3WData[[#This Row],[Admin Unit Name]],AdminUnits[],3,FALSE)","v":"Sud"},{"$f":"VLOOKUP(Main3WData[[#This Row],[Admin Unit Name]],AdminUnits[],4,FALSE)","v":0},{"$f":"VLOOKUP(Main3WData[[#This Row],[Sector]],Sectors[],2,FALSE)","v":2}]
[null,"OIM",{"$f":"INDEX(Organizations[],MATCH(Main3WData[[#This Row],[Acronym]],AcronymList,0),1)","v":"Organisation Internationale pour les Migrations"},{"$f":"INDEX(Organizations[],MATCH(Main3WData[[#This Row],[Acronym]],AcronymList,0),3)","v":"Org Int."},"EHA","Regulier","Mopti",{"$f":"VLOOKUP(Main3WData[[#This Row],[Admin Unit Name]],AdminUnits[],2,FALSE)","v":"ML05"},{"$f":"VLOOKUP(Main3WData[[#This Row],[Admin Unit Name]],AdminUnits[],3,FALSE)","v":"Sud"},{"$f":"VLOOKUP(Main3WData[[#This Row],[Admin Unit Name]],AdminUnits[],4,FALSE)","v":5},{"$f":"VLOOKUP(Main3WData[[#This Row],[Sector]],Sectors[],2,FALSE)","v":8}]
[null,"OIM",{"$f":"INDEX(Organizations[],MATCH(Main3WData[[#This Row],[Acronym]],AcronymList,0),1)","v":"Organisation Internationale pour les Migrations"},{"$f":"INDEX(Organizations[],MATCH(Main3WData[[#This Row],[Acronym]],AcronymList,0),3)","v":"Org Int."},"Protection","Regulier","Bamako",{"$f":"VLOOKUP(Main3WData[[#This Row],[Admin Unit Name]],AdminUnits[],2,FALSE)","v":"ML09"},{"$f":"VLOOKUP(Main3WData[[#This Row],[Admin Unit Name]],AdminUnits[],3,FALSE)","v":"Sud"},{"$f":"VLOOKUP(Main3WData[[#This Row],[Admin Unit Name]],AdminUnits[],4,FALSE)","v":0},{"$f":"VLOOKUP(Main3WData[[#This Row],[Sector]],Sectors[],2,FALSE)","v":5}]
[null,"OIM",{"$f":"INDEX(Organizations[],MATCH(Main3WData[[#This Row],[Acronym]],AcronymList,0),1)","v":"Organisation Internationale pour les Migrations"},{"$f":"INDEX(Organizations[],MATCH(Main3WData[[#This Row],[Acronym]],AcronymList,0),3)","v":"Org Int."},"Protection","Regulier","Gao",{"$f":"VLOOKUP(Main3WData[[#This Row],[Admin Unit Name]],AdminUnits[],2,FALSE)","v":"ML07"},{"$f":"VLOOKUP(Main3WData[[#This Row],[Admin Unit Name]],AdminUnits[],3,FALSE)","v":"Nord"},{"$f":"VLOOKUP(Main3WData[[#This Row],[Admin Unit Name]],AdminUnits[],4,FALSE)","v":7},{"$f":"VLOOKUP(Main3WData[[#This Row],[Sector]],Sectors[],2,FALSE)","v":5}]
[null,"OIM",{"$f":"INDEX(Organizations[],MATCH(Main3WData[[#This Row],[Acronym]],AcronymList,0),1)","v":"Organisation Internationale pour les Migrations"},{"$f":"INDEX(Organizations[],MATCH(Main3WData[[#This Row],[Acronym]],AcronymList,0),3)","v":"Org Int."},"Protection","Regulier","Koulikoro",{"$f":"VLOOKUP(Main3WData[[#This Row],[Admin Unit Name]],AdminUnits[],2,FALSE)","v":"ML02"},{"$f":"VLOOKUP(Main3WData[[#This Row],[Admin Unit Name]],AdminUnits[],3,FALSE)","v":"Sud"},{"$f":"VLOOKUP(Main3WData[[#This Row],[Admin Unit Name]],AdminUnits[],4,FALSE)","v":2},{"$f":"VLOOKUP(Main3WData[[#This Row],[Sector]],Sectors[],2,FALSE)","v":5}]
[null,"OIM",{"$f":"INDEX(Organizations[],MATCH(Main3WData[[#This Row],[Acronym]],AcronymList,0),1)","v":"Organisation Internationale pour les Migrations"},{"$f":"INDEX(Organizations[],MATCH(Main3WData[[#This Row],[Acronym]],AcronymList,0),3)","v":"Org Int."},"Protection","Regulier","Mopti",{"$f":"VLOOKUP(Main3WData[[#This Row],[Admin Unit Name]],AdminUnits[],2,FALSE)","v":"ML05"},{"$f":"VLOOKUP(Main3WData[[#This Row],[Admin Unit Name]],AdminUnits[],3,FALSE)","v":"Sud"},{"$f":"VLOOKUP(Main3WData[[#This Row],[Admin Unit Name]],AdminUnits[],4,FALSE)","v":5},{"$f":"VLOOKUP(Main3WData[[#This Row],[Sector]],Sectors[],2,FALSE)","v":5}]
[null,"OIM",{"$f":"INDEX(Organizations[],MATCH(Main3WData[[#This Row],[Acronym]],AcronymList,0),1)","v":"Organisation Internationale pour les Migrations"},{"$f":"INDEX(Organizations[],MATCH(Main3WData[[#This Row],[Acronym]],AcronymList,0),3)","v":"Org Int."},"Protection","Regulier","Tombouctou",{"$f":"VLOOKUP(Main3WData[[#This Row],[Admin Unit Name]],AdminUnits[],2,FALSE)","v":"ML06"},{"$f":"VLOOKUP(Main3WData[[#This Row],[Admin Unit Name]],AdminUnits[],3,FALSE)","v":"Nord"},{"$f":"VLOOKUP(Main3WData[[#This Row],[Admin Unit Name]],AdminUnits[],4,FALSE)","v":6},{"$f":"VLOOKUP(Main3WData[[#This Row],[Sector]],Sectors[],2,FALSE)","v":5}]
[null,"OIM",{"$f":"INDEX(Organizations[],MATCH(Main3WData[[#This Row],[Acronym]],AcronymList,0),1)","v":"Organisation Internationale pour les Migrations"},{"$f":"INDEX(Organizations[],MATCH(Main3WData[[#This Row],[Acronym]],AcronymList,0),3)","v":"Org Int."},"Santé","Regulier","Gao",{"$f":"VLOOKUP(Main3WData[[#This Row],[Admin Unit Name]],AdminUnits[],2,FALSE)","v":"ML07"},{"$f":"VLOOKUP(Main3WData[[#This Row],[Admin Unit Name]],AdminUnits[],3,FALSE)","v":"Nord"},{"$f":"VLOOKUP(Main3WData[[#This Row],[Admin Unit Name]],AdminUnits[],4,FALSE)","v":7},{"$f":"VLOOKUP(Main3WData[[#This Row],[Sector]],Sectors[],2,FALSE)","v":6}]
[null,"OIM",{"$f":"INDEX(Organizations[],MATCH(Main3WData[[#This Row],[Acronym]],AcronymList,0),1)","v":"Organisation Internationale pour les Migrations"},{"$f":"INDEX(Organizations[],MATCH(Main3WData[[#This Row],[Acronym]],AcronymList,0),3)","v":"Org Int."},"Santé","Regulier","Mopti",{"$f":"VLOOKUP(Main3WData[[#This Row],[Admin Unit Name]],AdminUnits[],2,FALSE)","v":"ML05"},{"$f":"VLOOKUP(Main3WData[[#This Row],[Admin Unit Name]],AdminUnits[],3,FALSE)","v":"Sud"},{"$f":"VLOOKUP(Main3WData[[#This Row],[Admin Unit Name]],AdminUnits[],4,FALSE)","v":5},{"$f":"VLOOKUP(Main3WData[[#This Row],[Sector]],Sectors[],2,FALSE)","v":6}]
[null,"ODI Sahel",{"$f":"INDEX(Organizations[],MATCH(Main3WData[[#This Row],[Acronym]],AcronymList,0),1)","v":"Overseas Development institute-Sahel"},{"$f":"INDEX(Organizations[],MATCH(Main3WData[[#This Row],[Acronym]],AcronymList,0),3)","v":"ONG Nat."},"Sécurité alimentaire","Regulier","Mopti",{"$f":"VLOOKUP(Main3WData[[#This Row],[Admin Unit Name]],AdminUnits[],2,FALSE)","v":"ML05"},{"$f":"VLOOKUP(Main3WData[[#This Row],[Admin Unit Name]],AdminUnits[],3,FALSE)","v":"Sud"},{"$f":"VLOOKUP(Main3WData[[#This Row],[Admin Unit Name]],AdminUnits[],4,FALSE)","v":5},{"$f":"VLOOKUP(Main3WData[[#This Row],[Sector]],Sectors[],2,FALSE)","v":7}]
[null,"OCHA",{"$f":"INDEX(Organizations[],MATCH(Main3WData[[#This Row],[Acronym]],AcronymList,0),1)","v":"Bureau de coordination des affaires humanitaires"},{"$f":"INDEX(Organizations[],MATCH(Main3WData[[#This Row],[Acronym]],AcronymList,0),3)","v":"UN"},"Coordination","Regulier","Bamako",{"$f":"VLOOKUP(Main3WData[[#This Row],[Admin Unit Name]],AdminUnits[],2,FALSE)","v":"ML09"},{"$f":"VLOOKUP(Main3WData[[#This Row],[Admin Unit Name]],AdminUnits[],3,FALSE)","v":"Sud"},{"$f":"VLOOKUP(Main3WData[[#This Row],[Admin Unit Name]],AdminUnits[],4,FALSE)","v":0},{"$f":"VLOOKUP(Main3WData[[#This Row],[Sector]],Sectors[],2,FALSE)","v":2}]
[null,"OCHA",{"$f":"INDEX(Organizations[],MATCH(Main3WData[[#This Row],[Acronym]],AcronymList,0),1)","v":"Bureau de coordination des affaires humanitaires"},{"$f":"INDEX(Organizations[],MATCH(Main3WData[[#This Row],[Acronym]],AcronymList,0),3)","v":"UN"},"Coordination","Regulier","Gao",{"$f":"VLOOKUP(Main3WData[[#This Row],[Admin Unit Name]],AdminUnits[],2,FALSE)","v":"ML07"},{"$f":"VLOOKUP(Main3WData[[#This Row],[Admin Unit Name]],AdminUnits[],3,FALSE)","v":"Nord"},{"$f":"VLOOKUP(Main3WData[[#This Row],[Admin Unit Name]],AdminUnits[],4,FALSE)","v":7},{"$f":"VLOOKUP(Main3WData[[#This Row],[Sector]],Sectors[],2,FALSE)","v":2}]
[null,"OCHA",{"$f":"INDEX(Organizations[],MATCH(Main3WData[[#This Row],[Acronym]],AcronymList,0),1)","v":"Bureau de coordination des affaires humanitaires"},{"$f":"INDEX(Organizations[],MATCH(Main3WData[[#This Row],[Acronym]],AcronymList,0),3)","v":"UN"},"Coordination","Regulier","Mopti",{"$f":"VLOOKUP(Main3WData[[#This Row],[Admin Unit Name]],AdminUnits[],2,FALSE)","v":"ML05"},{"$f":"VLOOKUP(Main3WData[[#This Row],[Admin Unit Name]],AdminUnits[],3,FALSE)","v":"Sud"},{"$f":"VLOOKUP(Main3WData[[#This Row],[Admin Unit Name]],AdminUnits[],4,FALSE)","v":5},{"$f":"VLOOKUP(Main3WData[[#This Row],[Sector]],Sectors[],2,FALSE)","v":2}]
[null,"OCHA",{"$f":"INDEX(Organizations[],MATCH(Main3WData[[#This Row],[Acronym]],AcronymList,0),1)","v":"Bureau de coordination des affaires humanitaires"},{"$f":"INDEX(Organizations[],MATCH(Main3WData[[#This Row],[Acronym]],AcronymList,0),3)","v":"UN"},"Coordination","Regulier","Segou",{"$f":"VLOOKUP(Main3WData[[#This Row],[Admin Unit Name]],AdminUnits[],2,FALSE)","v":"ML04"},{"$f":"VLOOKUP(Main3WData[[#This Row],[Admin Unit Name]],AdminUnits[],3,FALSE)","v":"Sud"},{"$f":"VLOOKUP(Main3WData[[#This Row],[Admin Unit Name]],AdminUnits[],4,FALSE)","v":4},{"$f":"VLOOKUP(Main3WData[[#This Row],[Sector]],Sectors[],2,FALSE)","v":2}]
[null,"OCHA",{"$f":"INDEX(Organizations[],MATCH(Main3WData[[#This Row],[Acronym]],AcronymList,0),1)","v":"Bureau de coordination des affaires humanitaires"},{"$f":"INDEX(Organizations[],MATCH(Main3WData[[#This Row],[Acronym]],AcronymList,0),3)","v":"UN"},"Coordination","Regulier","Tombouctou",{"$f":"VLOOKUP(Main3WData[[#This Row],[Admin Unit Name]],AdminUnits[],2,FALSE)","v":"ML06"},{"$f":"VLOOKUP(Main3WData[[#This Row],[Admin Unit Name]],AdminUnits[],3,FALSE)","v":"Nord"},{"$f":"VLOOKUP(Main3WData[[#This Row],[Admin Unit Name]],AdminUnits[],4,FALSE)","v":6},{"$f":"VLOOKUP(Main3WData[[#This Row],[Sector]],Sectors[],2,FALSE)","v":2}]
[null,"NRC",{"$f":"INDEX(Organizations[],MATCH(Main3WData[[#This Row],[Acronym]],AcronymList,0),1)","v":"Norwegian Refugee Council "},{"$f":"INDEX(Organizations[],MATCH(Main3WData[[#This Row],[Acronym]],AcronymList,0),3)","v":"ONG Int."},"Abris et NFI","Regulier","Gao",{"$f":"VLOOKUP(Main3WData[[#This Row],[Admin Unit Name]],AdminUnits[],2,FALSE)","v":"ML07"},{"$f":"VLOOKUP(Main3WData[[#This Row],[Admin Unit Name]],AdminUnits[],3,FALSE)","v":"Nord"},{"$f":"VLOOKUP(Main3WData[[#This Row],[Admin Unit Name]],AdminUnits[],4,FALSE)","v":7},{"$f":"VLOOKUP(Main3WData[[#This Row],[Sector]],Sectors[],2,FALSE)","v":1}]
[null,"NRC",{"$f":"INDEX(Organizations[],MATCH(Main3WData[[#This Row],[Acronym]],AcronymList,0),1)","v":"Norwegian Refugee Council "},{"$f":"INDEX(Organizations[],MATCH(Main3WData[[#This Row],[Acronym]],AcronymList,0),3)","v":"ONG Int."},"Abris et NFI","Regulier","Tombouctou",{"$f":"VLOOKUP(Main3WData[[#This Row],[Admin Unit Name]],AdminUnits[],2,FALSE)","v":"ML06"},{"$f":"VLOOKUP(Main3WData[[#This Row],[Admin Unit Name]],AdminUnits[],3,FALSE)","v":"Nord"},{"$f":"VLOOKUP(Main3WData[[#This Row],[Admin Unit Name]],AdminUnits[],4,FALSE)","v":6},{"$f":"VLOOKUP(Main3WData[[#This Row],[Sector]],Sectors[],2,FALSE)","v":1}]
[null,"NRC",{"$f":"INDEX(Organizations[],MATCH(Main3WData[[#This Row],[Acronym]],AcronymList,0),1)","v":"Norwegian Refugee Council "},{"$f":"INDEX(Organizations[],MATCH(Main3WData[[#This Row],[Acronym]],AcronymList,0),3)","v":"ONG Int."},"Education","Regulier","Gao",{"$f":"VLOOKUP(Main3WData[[#This Row],[Admin Unit Name]],AdminUnits[],2,FALSE)","v":"ML07"},{"$f":"VLOOKUP(Main3WData[[#This Row],[Admin Unit Name]],AdminUnits[],3,FALSE)","v":"Nord"},{"$f":"VLOOKUP(Main3WData[[#This Row],[Admin Unit Name]],AdminUnits[],4,FALSE)","v":7},{"$f":"VLOOKUP(Main3WData[[#This Row],[Sector]],Sectors[],2,FALSE)","v":3}]
[null,"NRC",{"$f":"INDEX(Organizations[],MATCH(Main3WData[[#This Row],[Acronym]],AcronymList,0),1)","v":"Norwegian Refugee Council "},{"$f":"INDEX(Organizations[],MATCH(Main3WData[[#This Row],[Acronym]],AcronymList,0),3)","v":"ONG Int."},"Education","Regulier","Mopti",{"$f":"VLOOKUP(Main3WData[[#This Row],[Admin Unit Name]],AdminUnits[],2,FALSE)","v":"ML05"},{"$f":"VLOOKUP(Main3WData[[#This Row],[Admin Unit Name]],AdminUnits[],3,FALSE)","v":"Sud"},{"$f":"VLOOKUP(Main3WData[[#This Row],[Admin Unit Name]],AdminUnits[],4,FALSE)","v":5},{"$f":"VLOOKUP(Main3WData[[#This Row],[Sector]],Sectors[],2,FALSE)","v":3}]
[null,"NRC",{"$f":"INDEX(Organizations[],MATCH(Main3WData[[#This Row],[Acronym]],AcronymList,0),1)","v":"Norwegian Refugee Council "},{"$f":"INDEX(Organizations[],MATCH(Main3WData[[#This Row],[Acronym]],AcronymList,0),3)","v":"ONG Int."},"Education","Regulier","Tombouctou",{"$f":"VLOOKUP(Main3WData[[#This Row],[Admin Unit Name]],AdminUnits[],2,FALSE)","v":"ML06"},{"$f":"VLOOKUP(Main3WData[[#This Row],[Admin Unit Name]],AdminUnits[],3,FALSE)","v":"Nord"},{"$f":"VLOOKUP(Main3WData[[#This Row],[Admin Unit Name]],AdminUnits[],4,FALSE)","v":6},{"$f":"VLOOKUP(Main3WData[[#This Row],[Sector]],Sectors[],2,FALSE)","v":3}]
[null,"NRC",{"$f":"INDEX(Organizations[],MATCH(Main3WData[[#This Row],[Acronym]],AcronymList,0),1)","v":"Norwegian Refugee Council "},{"$f":"INDEX(Organizations[],MATCH(Main3WData[[#This Row],[Acronym]],AcronymList,0),3)","v":"ONG Int."},"Protection","Regulier","Gao",{"$f":"VLOOKUP(Main3WData[[#This Row],[Admin Unit Name]],AdminUnits[],2,FALSE)","v":"ML07"},{"$f":"VLOOKUP(Main3WData[[#This Row],[Admin Unit Name]],AdminUnits[],3,FALSE)","v":"Nord"},{"$f":"VLOOKUP(Main3WData[[#This Row],[Admin Unit Name]],AdminUnits[],4,FALSE)","v":7},{"$f":"VLOOKUP(Main3WData[[#This Row],[Sector]],Sectors[],2,FALSE)","v":5}]
[null,"NRC",{"$f":"INDEX(Organizations[],MATCH(Main3WData[[#This Row],[Acronym]],AcronymList,0),1)","v":"Norwegian Refugee Council "},{"$f":"INDEX(Organizations[],MATCH(Main3WData[[#This Row],[Acronym]],AcronymList,0),3)","v":"ONG Int."},"Protection","Regulier","Mopti",{"$f":"VLOOKUP(Main3WData[[#This Row],[Admin Unit Name]],AdminUnits[],2,FALSE)","v":"ML05"},{"$f":"VLOOKUP(Main3WData[[#This Row],[Admin Unit Name]],AdminUnits[],3,FALSE)","v":"Sud"},{"$f":"VLOOKUP(Main3WData[[#This Row],[Admin Unit Name]],AdminUnits[],4,FALSE)","v":5},{"$f":"VLOOKUP(Main3WData[[#This Row],[Sector]],Sectors[],2,FALSE)","v":5}]
[null,"NRC",{"$f":"INDEX(Organizations[],MATCH(Main3WData[[#This Row],[Acronym]],AcronymList,0),1)","v":"Norwegian Refugee Council "},{"$f":"INDEX(Organizations[],MATCH(Main3WData[[#This Row],[Acronym]],AcronymList,0),3)","v":"ONG Int."},"Protection","Regulier","Tombouctou",{"$f":"VLOOKUP(Main3WData[[#This Row],[Admin Unit Name]],AdminUnits[],2,FALSE)","v":"ML06"},{"$f":"VLOOKUP(Main3WData[[#This Row],[Admin Unit Name]],AdminUnits[],3,FALSE)","v":"Nord"},{"$f":"VLOOKUP(Main3WData[[#This Row],[Admin Unit Name]],AdminUnits[],4,FALSE)","v":6},{"$f":"VLOOKUP(Main3WData[[#This Row],[Sector]],Sectors[],2,FALSE)","v":5}]
[null,"NRC",{"$f":"INDEX(Organizations[],MATCH(Main3WData[[#This Row],[Acronym]],AcronymList,0),1)","v":"Norwegian Refugee Council "},{"$f":"INDEX(Organizations[],MATCH(Main3WData[[#This Row],[Acronym]],AcronymList,0),3)","v":"ONG Int."},"Sécurité alimentaire","Regulier","Gao",{"$f":"VLOOKUP(Main3WData[[#This Row],[Admin Unit Name]],AdminUnits[],2,FALSE)","v":"ML07"},{"$f":"VLOOKUP(Main3WData[[#This Row],[Admin Unit Name]],AdminUnits[],3,FALSE)","v":"Nord"},{"$f":"VLOOKUP(Main3WData[[#This Row],[Admin Unit Name]],AdminUnits[],4,FALSE)","v":7},{"$f":"VLOOKUP(Main3WData[[#This Row],[Sector]],Sectors[],2,FALSE)","v":7}]
[null,"NEF Mali",{"$f":"INDEX(Organizations[],MATCH(Main3WData[[#This Row],[Acronym]],AcronymList,0),1)","v":"Near Est foundation "},{"$f":"INDEX(Organizations[],MATCH(Main3WData[[#This Row],[Acronym]],AcronymList,0),3)","v":"Fondation"},"Sécurité alimentaire","Regulier","Mopti",{"$f":"VLOOKUP(Main3WData[[#This Row],[Admin Unit Name]],AdminUnits[],2,FALSE)","v":"ML05"},{"$f":"VLOOKUP(Main3WData[[#This Row],[Admin Unit Name]],AdminUnits[],3,FALSE)","v":"Sud"},{"$f":"VLOOKUP(Main3WData[[#This Row],[Admin Unit Name]],AdminUnits[],4,FALSE)","v":5},{"$f":"VLOOKUP(Main3WData[[#This Row],[Sector]],Sectors[],2,FALSE)","v":7}]
[null,"NCA",{"$f":"INDEX(Organizations[],MATCH(Main3WData[[#This Row],[Acronym]],AcronymList,0),1)","v":"Norwegian Church Aid"},{"$f":"INDEX(Organizations[],MATCH(Main3WData[[#This Row],[Acronym]],AcronymList,0),3)","v":"ONG Int."},"EHA","Regulier","Gao",{"$f":"VLOOKUP(Main3WData[[#This Row],[Admin Unit Name]],AdminUnits[],2,FALSE)","v":"ML07"},{"$f":"VLOOKUP(Main3WData[[#This Row],[Admin Unit Name]],AdminUnits[],3,FALSE)","v":"Nord"},{"$f":"VLOOKUP(Main3WData[[#This Row],[Admin Unit Name]],AdminUnits[],4,FALSE)","v":7},{"$f":"VLOOKUP(Main3WData[[#This Row],[Sector]],Sectors[],2,FALSE)","v":8}]
[null,"NCA",{"$f":"INDEX(Organizations[],MATCH(Main3WData[[#This Row],[Acronym]],AcronymList,0),1)","v":"Norwegian Church Aid"},{"$f":"INDEX(Organizations[],MATCH(Main3WData[[#This Row],[Acronym]],AcronymList,0),3)","v":"ONG Int."},"EHA","Regulier","Kidal",{"$f":"VLOOKUP(Main3WData[[#This Row],[Admin Unit Name]],AdminUnits[],2,FALSE)","v":"ML08"},{"$f":"VLOOKUP(Main3WData[[#This Row],[Admin Unit Name]],AdminUnits[],3,FALSE)","v":"Nord"},{"$f":"VLOOKUP(Main3WData[[#This Row],[Admin Unit Name]],AdminUnits[],4,FALSE)","v":8},{"$f":"VLOOKUP(Main3WData[[#This Row],[Sector]],Sectors[],2,FALSE)","v":8}]
[null,"NCA",{"$f":"INDEX(Organizations[],MATCH(Main3WData[[#This Row],[Acronym]],AcronymList,0),1)","v":"Norwegian Church Aid"},{"$f":"INDEX(Organizations[],MATCH(Main3WData[[#This Row],[Acronym]],AcronymList,0),3)","v":"ONG Int."},"EHA","Regulier","Tombouctou",{"$f":"VLOOKUP(Main3WData[[#This Row],[Admin Unit Name]],AdminUnits[],2,FALSE)","v":"ML06"},{"$f":"VLOOKUP(Main3WData[[#This Row],[Admin Unit Name]],AdminUnits[],3,FALSE)","v":"Nord"},{"$f":"VLOOKUP(Main3WData[[#This Row],[Admin Unit Name]],AdminUnits[],4,FALSE)","v":6},{"$f":"VLOOKUP(Main3WData[[#This Row],[Sector]],Sectors[],2,FALSE)","v":8}]
[null,"NCA",{"$f":"INDEX(Organizations[],MATCH(Main3WData[[#This Row],[Acronym]],AcronymList,0),1)","v":"Norwegian Church Aid"},{"$f":"INDEX(Organizations[],MATCH(Main3WData[[#This Row],[Acronym]],AcronymList,0),3)","v":"ONG Int."},"Protection","Regulier","Gao",{"$f":"VLOOKUP(Main3WData[[#This Row],[Admin Unit Name]],AdminUnits[],2,FALSE)","v":"ML07"},{"$f":"VLOOKUP(Main3WData[[#This Row],[Admin Unit Name]],AdminUnits[],3,FALSE)","v":"Nord"},{"$f":"VLOOKUP(Main3WData[[#This Row],[Admin Unit Name]],AdminUnits[],4,FALSE)","v":7},{"$f":"VLOOKUP(Main3WData[[#This Row],[Sector]],Sectors[],2,FALSE)","v":5}]
[null,"MZC",{"$f":"INDEX(Organizations[],MATCH(Main3WData[[#This Row],[Acronym]],AcronymList,0),1)","v":"Mujeres en Zona de Conflicto "},{"$f":"INDEX(Organizations[],MATCH(Main3WData[[#This Row],[Acronym]],AcronymList,0),3)","v":"ONG Int."},"Sécurité alimentaire","Regulier","Gao",{"$f":"VLOOKUP(Main3WData[[#This Row],[Admin Unit Name]],AdminUnits[],2,FALSE)","v":"ML07"},{"$f":"VLOOKUP(Main3WData[[#This Row],[Admin Unit Name]],AdminUnits[],3,FALSE)","v":"Nord"},{"$f":"VLOOKUP(Main3WData[[#This Row],[Admin Unit Name]],AdminUnits[],4,FALSE)","v":7},{"$f":"VLOOKUP(Main3WData[[#This Row],[Sector]],Sectors[],2,FALSE)","v":7}]
[null,"MSI",{"$f":"INDEX(Organizations[],MATCH(Main3WData[[#This Row],[Acronym]],AcronymList,0),1)","v":"Marie Stopes International"},{"$f":"INDEX(Organizations[],MATCH(Main3WData[[#This Row],[Acronym]],AcronymList,0),3)","v":"ONG Int."},"Santé","Regulier","Mopti",{"$f":"VLOOKUP(Main3WData[[#This Row],[Admin Unit Name]],AdminUnits[],2,FALSE)","v":"ML05"},{"$f":"VLOOKUP(Main3WData[[#This Row],[Admin Unit Name]],AdminUnits[],3,FALSE)","v":"Sud"},{"$f":"VLOOKUP(Main3WData[[#This Row],[Admin Unit Name]],AdminUnits[],4,FALSE)","v":5},{"$f":"VLOOKUP(Main3WData[[#This Row],[Sector]],Sectors[],2,FALSE)","v":6}]
[null,"MSI",{"$f":"INDEX(Organizations[],MATCH(Main3WData[[#This Row],[Acronym]],AcronymList,0),1)","v":"Marie Stopes International"},{"$f":"INDEX(Organizations[],MATCH(Main3WData[[#This Row],[Acronym]],AcronymList,0),3)","v":"ONG Int."},"Santé","Regulier","Tombouctou",{"$f":"VLOOKUP(Main3WData[[#This Row],[Admin Unit Name]],AdminUnits[],2,FALSE)","v":"ML06"},{"$f":"VLOOKUP(Main3WData[[#This Row],[Admin Unit Name]],AdminUnits[],3,FALSE)","v":"Nord"},{"$f":"VLOOKUP(Main3WData[[#This Row],[Admin Unit Name]],AdminUnits[],4,FALSE)","v":6},{"$f":"VLOOKUP(Main3WData[[#This Row],[Sector]],Sectors[],2,FALSE)","v":6}]
[null,"MSF France",{"$f":"INDEX(Organizations[],MATCH(Main3WData[[#This Row],[Acronym]],AcronymList,0),1)","v":"Médecins Sans Frontières France"},{"$f":"INDEX(Organizations[],MATCH(Main3WData[[#This Row],[Acronym]],AcronymList,0),3)","v":"ONG Int."},"Nutrition","Regulier","Sikasso",{"$f":"VLOOKUP(Main3WData[[#This Row],[Admin Unit Name]],AdminUnits[],2,FALSE)","v":"ML03"},{"$f":"VLOOKUP(Main3WData[[#This Row],[Admin Unit Name]],AdminUnits[],3,FALSE)","v":"Sud"},{"$f":"VLOOKUP(Main3WData[[#This Row],[Admin Unit Name]],AdminUnits[],4,FALSE)","v":3},{"$f":"VLOOKUP(Main3WData[[#This Row],[Sector]],Sectors[],2,FALSE)","v":4}]
[null,"MSF France",{"$f":"INDEX(Organizations[],MATCH(Main3WData[[#This Row],[Acronym]],AcronymList,0),1)","v":"Médecins Sans Frontières France"},{"$f":"INDEX(Organizations[],MATCH(Main3WData[[#This Row],[Acronym]],AcronymList,0),3)","v":"ONG Int."},"Nutrition","Regulier","Tombouctou",{"$f":"VLOOKUP(Main3WData[[#This Row],[Admin Unit Name]],AdminUnits[],2,FALSE)","v":"ML06"},{"$f":"VLOOKUP(Main3WData[[#This Row],[Admin Unit Name]],AdminUnits[],3,FALSE)","v":"Nord"},{"$f":"VLOOKUP(Main3WData[[#This Row],[Admin Unit Name]],AdminUnits[],4,FALSE)","v":6},{"$f":"VLOOKUP(Main3WData[[#This Row],[Sector]],Sectors[],2,FALSE)","v":4}]
[null,"MSF",{"$f":"INDEX(Organizations[],MATCH(Main3WData[[#This Row],[Acronym]],AcronymList,0),1)","v":"Médecins Sans Frontières"},{"$f":"INDEX(Organizations[],MATCH(Main3WData[[#This Row],[Acronym]],AcronymList,0),3)","v":"ONG Int."},"Santé","Regulier","Gao",{"$f":"VLOOKUP(Main3WData[[#This Row],[Admin Unit Name]],AdminUnits[],2,FALSE)","v":"ML07"},{"$f":"VLOOKUP(Main3WData[[#This Row],[Admin Unit Name]],AdminUnits[],3,FALSE)","v":"Nord"},{"$f":"VLOOKUP(Main3WData[[#This Row],[Admin Unit Name]],AdminUnits[],4,FALSE)","v":7},{"$f":"VLOOKUP(Main3WData[[#This Row],[Sector]],Sectors[],2,FALSE)","v":6}]
[null,"MPDL",{"$f":"INDEX(Organizations[],MATCH(Main3WData[[#This Row],[Acronym]],AcronymList,0),1)","v":"Mouvement pour la Paix "},{"$f":"INDEX(Organizations[],MATCH(Main3WData[[#This Row],[Acronym]],AcronymList,0),3)","v":"ONG Int."},"Nutrition","Regulier","Sikasso",{"$f":"VLOOKUP(Main3WData[[#This Row],[Admin Unit Name]],AdminUnits[],2,FALSE)","v":"ML03"},{"$f":"VLOOKUP(Main3WData[[#This Row],[Admin Unit Name]],AdminUnits[],3,FALSE)","v":"Sud"},{"$f":"VLOOKUP(Main3WData[[#This Row],[Admin Unit Name]],AdminUnits[],4,FALSE)","v":3},{"$f":"VLOOKUP(Main3WData[[#This Row],[Sector]],Sectors[],2,FALSE)","v":4}]
[null,"Mercy Corps",{"$f":"INDEX(Organizations[],MATCH(Main3WData[[#This Row],[Acronym]],AcronymList,0),1)","v":"Mercy Corps"},{"$f":"INDEX(Organizations[],MATCH(Main3WData[[#This Row],[Acronym]],AcronymList,0),3)","v":"ONG Int."},"Sécurité alimentaire","Regulier","Gao",{"$f":"VLOOKUP(Main3WData[[#This Row],[Admin Unit Name]],AdminUnits[],2,FALSE)","v":"ML07"},{"$f":"VLOOKUP(Main3WData[[#This Row],[Admin Unit Name]],AdminUnits[],3,FALSE)","v":"Nord"},{"$f":"VLOOKUP(Main3WData[[#This Row],[Admin Unit Name]],AdminUnits[],4,FALSE)","v":7},{"$f":"VLOOKUP(Main3WData[[#This Row],[Sector]],Sectors[],2,FALSE)","v":7}]
[null,"MEDICUS MUNDI",{"$f":"INDEX(Organizations[],MATCH(Main3WData[[#This Row],[Acronym]],AcronymList,0),1)","v":"MEDICUS MUNDI"},{"$f":"INDEX(Organizations[],MATCH(Main3WData[[#This Row],[Acronym]],AcronymList,0),3)","v":"ONG Int."},"Nutrition","Regulier","Kayes",{"$f":"VLOOKUP(Main3WData[[#This Row],[Admin Unit Name]],AdminUnits[],2,FALSE)","v":"ML01"},{"$f":"VLOOKUP(Main3WData[[#This Row],[Admin Unit Name]],AdminUnits[],3,FALSE)","v":"Sud"},{"$f":"VLOOKUP(Main3WData[[#This Row],[Admin Unit Name]],AdminUnits[],4,FALSE)","v":1},{"$f":"VLOOKUP(Main3WData[[#This Row],[Sector]],Sectors[],2,FALSE)","v":4}]
[null,"MdM France",{"$f":"INDEX(Organizations[],MATCH(Main3WData[[#This Row],[Acronym]],AcronymList,0),1)","v":"Médecins Du Monde France"},{"$f":"INDEX(Organizations[],MATCH(Main3WData[[#This Row],[Acronym]],AcronymList,0),3)","v":"ONG Int."},"Nutrition","Regulier","Mopti",{"$f":"VLOOKUP(Main3WData[[#This Row],[Admin Unit Name]],AdminUnits[],2,FALSE)","v":"ML05"},{"$f":"VLOOKUP(Main3WData[[#This Row],[Admin Unit Name]],AdminUnits[],3,FALSE)","v":"Sud"},{"$f":"VLOOKUP(Main3WData[[#This Row],[Admin Unit Name]],AdminUnits[],4,FALSE)","v":5},{"$f":"VLOOKUP(Main3WData[[#This Row],[Sector]],Sectors[],2,FALSE)","v":4}]
[null,"MdM France",{"$f":"INDEX(Organizations[],MATCH(Main3WData[[#This Row],[Acronym]],AcronymList,0),1)","v":"Médecins Du Monde France"},{"$f":"INDEX(Organizations[],MATCH(Main3WData[[#This Row],[Acronym]],AcronymList,0),3)","v":"ONG Int."},"Protection","Regulier","Mopti",{"$f":"VLOOKUP(Main3WData[[#This Row],[Admin Unit Name]],AdminUnits[],2,FALSE)","v":"ML05"},{"$f":"VLOOKUP(Main3WData[[#This Row],[Admin Unit Name]],AdminUnits[],3,FALSE)","v":"Sud"},{"$f":"VLOOKUP(Main3WData[[#This Row],[Admin Unit Name]],AdminUnits[],4,FALSE)","v":5},{"$f":"VLOOKUP(Main3WData[[#This Row],[Sector]],Sectors[],2,FALSE)","v":5}]
[null,"MDM France",{"$f":"INDEX(Organizations[],MATCH(Main3WData[[#This Row],[Acronym]],AcronymList,0),1)","v":"Médecins Du Monde France"},{"$f":"INDEX(Organizations[],MATCH(Main3WData[[#This Row],[Acronym]],AcronymList,0),3)","v":"ONG Int."},"Santé","Regulier","Mopti",{"$f":"VLOOKUP(Main3WData[[#This Row],[Admin Unit Name]],AdminUnits[],2,FALSE)","v":"ML05"},{"$f":"VLOOKUP(Main3WData[[#This Row],[Admin Unit Name]],AdminUnits[],3,FALSE)","v":"Sud"},{"$f":"VLOOKUP(Main3WData[[#This Row],[Admin Unit Name]],AdminUnits[],4,FALSE)","v":5},{"$f":"VLOOKUP(Main3WData[[#This Row],[Sector]],Sectors[],2,FALSE)","v":6}]
[null,"MDM Belgique",{"$f":"INDEX(Organizations[],MATCH(Main3WData[[#This Row],[Acronym]],AcronymList,0),1)","v":"Médecins Du Monde Belgique"},{"$f":"INDEX(Organizations[],MATCH(Main3WData[[#This Row],[Acronym]],AcronymList,0),3)","v":"ONG Int."},"Nutrition","Regulier","Gao",{"$f":"VLOOKUP(Main3WData[[#This Row],[Admin Unit Name]],AdminUnits[],2,FALSE)","v":"ML07"},{"$f":"VLOOKUP(Main3WData[[#This Row],[Admin Unit Name]],AdminUnits[],3,FALSE)","v":"Nord"},{"$f":"VLOOKUP(Main3WData[[#This Row],[Admin Unit Name]],AdminUnits[],4,FALSE)","v":7},{"$f":"VLOOKUP(Main3WData[[#This Row],[Sector]],Sectors[],2,FALSE)","v":4}]
[null,"MDM Belgique",{"$f":"INDEX(Organizations[],MATCH(Main3WData[[#This Row],[Acronym]],AcronymList,0),1)","v":"Médecins Du Monde Belgique"},{"$f":"INDEX(Organizations[],MATCH(Main3WData[[#This Row],[Acronym]],AcronymList,0),3)","v":"ONG Int."},"Nutrition","Regulier","Kidal",{"$f":"VLOOKUP(Main3WData[[#This Row],[Admin Unit Name]],AdminUnits[],2,FALSE)","v":"ML08"},{"$f":"VLOOKUP(Main3WData[[#This Row],[Admin Unit Name]],AdminUnits[],3,FALSE)","v":"Nord"},{"$f":"VLOOKUP(Main3WData[[#This Row],[Admin Unit Name]],AdminUnits[],4,FALSE)","v":8},{"$f":"VLOOKUP(Main3WData[[#This Row],[Sector]],Sectors[],2,FALSE)","v":4}]
[null,"MDM Belgique",{"$f":"INDEX(Organizations[],MATCH(Main3WData[[#This Row],[Acronym]],AcronymList,0),1)","v":"Médecins Du Monde Belgique"},{"$f":"INDEX(Organizations[],MATCH(Main3WData[[#This Row],[Acronym]],AcronymList,0),3)","v":"ONG Int."},"Santé","Regulier","Gao",{"$f":"VLOOKUP(Main3WData[[#This Row],[Admin Unit Name]],AdminUnits[],2,FALSE)","v":"ML07"},{"$f":"VLOOKUP(Main3WData[[#This Row],[Admin Unit Name]],AdminUnits[],3,FALSE)","v":"Nord"},{"$f":"VLOOKUP(Main3WData[[#This Row],[Admin Unit Name]],AdminUnits[],4,FALSE)","v":7},{"$f":"VLOOKUP(Main3WData[[#This Row],[Sector]],Sectors[],2,FALSE)","v":6}]
[null,"MAG",{"$f":"INDEX(Organizations[],MATCH(Main3WData[[#This Row],[Acronym]],AcronymList,0),1)","v":"Mines Advisory Group"},{"$f":"INDEX(Organizations[],MATCH(Main3WData[[#This Row],[Acronym]],AcronymList,0),3)","v":"ONG Int."},"Protection","Regulier","Gao",{"$f":"VLOOKUP(Main3WData[[#This Row],[Admin Unit Name]],AdminUnits[],2,FALSE)","v":"ML07"},{"$f":"VLOOKUP(Main3WData[[#This Row],[Admin Unit Name]],AdminUnits[],3,FALSE)","v":"Nord"},{"$f":"VLOOKUP(Main3WData[[#This Row],[Admin Unit Name]],AdminUnits[],4,FALSE)","v":7},{"$f":"VLOOKUP(Main3WData[[#This Row],[Sector]],Sectors[],2,FALSE)","v":5}]
[null,"Lux Dev.",{"$f":"INDEX(Organizations[],MATCH(Main3WData[[#This Row],[Acronym]],AcronymList,0),1)","v":"Lux Developpement"},{"$f":"INDEX(Organizations[],MATCH(Main3WData[[#This Row],[Acronym]],AcronymList,0),3)","v":"ONG Int."},"Education","Regulier","Tombouctou",{"$f":"VLOOKUP(Main3WData[[#This Row],[Admin Unit Name]],AdminUnits[],2,FALSE)","v":"ML06"},{"$f":"VLOOKUP(Main3WData[[#This Row],[Admin Unit Name]],AdminUnits[],3,FALSE)","v":"Nord"},{"$f":"VLOOKUP(Main3WData[[#This Row],[Admin Unit Name]],AdminUnits[],4,FALSE)","v":6},{"$f":"VLOOKUP(Main3WData[[#This Row],[Sector]],Sectors[],2,FALSE)","v":3}]
[null,"Islamic Relief",{"$f":"INDEX(Organizations[],MATCH(Main3WData[[#This Row],[Acronym]],AcronymList,0),1)","v":"Islamic Relief"},{"$f":"INDEX(Organizations[],MATCH(Main3WData[[#This Row],[Acronym]],AcronymList,0),3)","v":"ONG Int."},"EHA","Regulier","Koulikoro",{"$f":"VLOOKUP(Main3WData[[#This Row],[Admin Unit Name]],AdminUnits[],2,FALSE)","v":"ML02"},{"$f":"VLOOKUP(Main3WData[[#This Row],[Admin Unit Name]],AdminUnits[],3,FALSE)","v":"Sud"},{"$f":"VLOOKUP(Main3WData[[#This Row],[Admin Unit Name]],AdminUnits[],4,FALSE)","v":2},{"$f":"VLOOKUP(Main3WData[[#This Row],[Sector]],Sectors[],2,FALSE)","v":8}]
[null,"Islamic Relief",{"$f":"INDEX(Organizations[],MATCH(Main3WData[[#This Row],[Acronym]],AcronymList,0),1)","v":"Islamic Relief"},{"$f":"INDEX(Organizations[],MATCH(Main3WData[[#This Row],[Acronym]],AcronymList,0),3)","v":"ONG Int."},"Sécurité alimentaire","Regulier","Mopti",{"$f":"VLOOKUP(Main3WData[[#This Row],[Admin Unit Name]],AdminUnits[],2,FALSE)","v":"ML05"},{"$f":"VLOOKUP(Main3WData[[#This Row],[Admin Unit Name]],AdminUnits[],3,FALSE)","v":"Sud"},{"$f":"VLOOKUP(Main3WData[[#This Row],[Admin Unit Name]],AdminUnits[],4,FALSE)","v":5},{"$f":"VLOOKUP(Main3WData[[#This Row],[Sector]],Sectors[],2,FALSE)","v":7}]
[null,"Islamic Relief",{"$f":"INDEX(Organizations[],MATCH(Main3WData[[#This Row],[Acronym]],AcronymList,0),1)","v":"Islamic Relief"},{"$f":"INDEX(Organizations[],MATCH(Main3WData[[#This Row],[Acronym]],AcronymList,0),3)","v":"ONG Int."},"Sécurité alimentaire","Regulier","Tombouctou",{"$f":"VLOOKUP(Main3WData[[#This Row],[Admin Unit Name]],AdminUnits[],2,FALSE)","v":"ML06"},{"$f":"VLOOKUP(Main3WData[[#This Row],[Admin Unit Name]],AdminUnits[],3,FALSE)","v":"Nord"},{"$f":"VLOOKUP(Main3WData[[#This Row],[Admin Unit Name]],AdminUnits[],4,FALSE)","v":6},{"$f":"VLOOKUP(Main3WData[[#This Row],[Sector]],Sectors[],2,FALSE)","v":7}]
[null,"IRD",{"$f":"INDEX(Organizations[],MATCH(Main3WData[[#This Row],[Acronym]],AcronymList,0),1)","v":"INTERNATIONAL RELIEF AND DEVELOPMENT"},{"$f":"INDEX(Organizations[],MATCH(Main3WData[[#This Row],[Acronym]],AcronymList,0),3)","v":"ONG Int."},"Santé","Regulier","Bamako",{"$f":"VLOOKUP(Main3WData[[#This Row],[Admin Unit Name]],AdminUnits[],2,FALSE)","v":"ML09"},{"$f":"VLOOKUP(Main3WData[[#This Row],[Admin Unit Name]],AdminUnits[],3,FALSE)","v":"Sud"},{"$f":"VLOOKUP(Main3WData[[#This Row],[Admin Unit Name]],AdminUnits[],4,FALSE)","v":0},{"$f":"VLOOKUP(Main3WData[[#This Row],[Sector]],Sectors[],2,FALSE)","v":6}]
[null,"IRD",{"$f":"INDEX(Organizations[],MATCH(Main3WData[[#This Row],[Acronym]],AcronymList,0),1)","v":"INTERNATIONAL RELIEF AND DEVELOPMENT"},{"$f":"INDEX(Organizations[],MATCH(Main3WData[[#This Row],[Acronym]],AcronymList,0),3)","v":"ONG Int."},"Santé","Regulier","Kayes",{"$f":"VLOOKUP(Main3WData[[#This Row],[Admin Unit Name]],AdminUnits[],2,FALSE)","v":"ML01"},{"$f":"VLOOKUP(Main3WData[[#This Row],[Admin Unit Name]],AdminUnits[],3,FALSE)","v":"Sud"},{"$f":"VLOOKUP(Main3WData[[#This Row],[Admin Unit Name]],AdminUnits[],4,FALSE)","v":1},{"$f":"VLOOKUP(Main3WData[[#This Row],[Sector]],Sectors[],2,FALSE)","v":6}]
[null,"IRD",{"$f":"INDEX(Organizations[],MATCH(Main3WData[[#This Row],[Acronym]],AcronymList,0),1)","v":"INTERNATIONAL RELIEF AND DEVELOPMENT"},{"$f":"INDEX(Organizations[],MATCH(Main3WData[[#This Row],[Acronym]],AcronymList,0),3)","v":"ONG Int."},"Santé","Regulier","Koulikoro",{"$f":"VLOOKUP(Main3WData[[#This Row],[Admin Unit Name]],AdminUnits[],2,FALSE)","v":"ML02"},{"$f":"VLOOKUP(Main3WData[[#This Row],[Admin Unit Name]],AdminUnits[],3,FALSE)","v":"Sud"},{"$f":"VLOOKUP(Main3WData[[#This Row],[Admin Unit Name]],AdminUnits[],4,FALSE)","v":2},{"$f":"VLOOKUP(Main3WData[[#This Row],[Sector]],Sectors[],2,FALSE)","v":6}]
[null,"IRD",{"$f":"INDEX(Organizations[],MATCH(Main3WData[[#This Row],[Acronym]],AcronymList,0),1)","v":"INTERNATIONAL RELIEF AND DEVELOPMENT"},{"$f":"INDEX(Organizations[],MATCH(Main3WData[[#This Row],[Acronym]],AcronymList,0),3)","v":"ONG Int."},"Santé","Regulier","Mopti",{"$f":"VLOOKUP(Main3WData[[#This Row],[Admin Unit Name]],AdminUnits[],2,FALSE)","v":"ML05"},{"$f":"VLOOKUP(Main3WData[[#This Row],[Admin Unit Name]],AdminUnits[],3,FALSE)","v":"Sud"},{"$f":"VLOOKUP(Main3WData[[#This Row],[Admin Unit Name]],AdminUnits[],4,FALSE)","v":5},{"$f":"VLOOKUP(Main3WData[[#This Row],[Sector]],Sectors[],2,FALSE)","v":6}]
[null,"IRD",{"$f":"INDEX(Organizations[],MATCH(Main3WData[[#This Row],[Acronym]],AcronymList,0),1)","v":"INTERNATIONAL RELIEF AND DEVELOPMENT"},{"$f":"INDEX(Organizations[],MATCH(Main3WData[[#This Row],[Acronym]],AcronymList,0),3)","v":"ONG Int."},"Santé","Regulier","Segou",{"$f":"VLOOKUP(Main3WData[[#This Row],[Admin Unit Name]],AdminUnits[],2,FALSE)","v":"ML04"},{"$f":"VLOOKUP(Main3WData[[#This Row],[Admin Unit Name]],AdminUnits[],3,FALSE)","v":"Sud"},{"$f":"VLOOKUP(Main3WData[[#This Row],[Admin Unit Name]],AdminUnits[],4,FALSE)","v":4},{"$f":"VLOOKUP(Main3WData[[#This Row],[Sector]],Sectors[],2,FALSE)","v":6}]
[null,"IRD",{"$f":"INDEX(Organizations[],MATCH(Main3WData[[#This Row],[Acronym]],AcronymList,0),1)","v":"INTERNATIONAL RELIEF AND DEVELOPMENT"},{"$f":"INDEX(Organizations[],MATCH(Main3WData[[#This Row],[Acronym]],AcronymList,0),3)","v":"ONG Int."},"Santé","Regulier","Sikasso",{"$f":"VLOOKUP(Main3WData[[#This Row],[Admin Unit Name]],AdminUnits[],2,FALSE)","v":"ML03"},{"$f":"VLOOKUP(Main3WData[[#This Row],[Admin Unit Name]],AdminUnits[],3,FALSE)","v":"Sud"},{"$f":"VLOOKUP(Main3WData[[#This Row],[Admin Unit Name]],AdminUnits[],4,FALSE)","v":3},{"$f":"VLOOKUP(Main3WData[[#This Row],[Sector]],Sectors[],2,FALSE)","v":6}]
[null,"IRC",{"$f":"INDEX(Organizations[],MATCH(Main3WData[[#This Row],[Acronym]],AcronymList,0),1)","v":"International Rescue Committee"},{"$f":"INDEX(Organizations[],MATCH(Main3WData[[#This Row],[Acronym]],AcronymList,0),3)","v":"ONG Int."},"EHA","Regulier","Gao",{"$f":"VLOOKUP(Main3WData[[#This Row],[Admin Unit Name]],AdminUnits[],2,FALSE)","v":"ML07"},{"$f":"VLOOKUP(Main3WData[[#This Row],[Admin Unit Name]],AdminUnits[],3,FALSE)","v":"Nord"},{"$f":"VLOOKUP(Main3WData[[#This Row],[Admin Unit Name]],AdminUnits[],4,FALSE)","v":7},{"$f":"VLOOKUP(Main3WData[[#This Row],[Sector]],Sectors[],2,FALSE)","v":8}]
[null,"IRC",{"$f":"INDEX(Organizations[],MATCH(Main3WData[[#This Row],[Acronym]],AcronymList,0),1)","v":"International Rescue Committee"},{"$f":"INDEX(Organizations[],MATCH(Main3WData[[#This Row],[Acronym]],AcronymList,0),3)","v":"ONG Int."},"EHA","Regulier","Mopti",{"$f":"VLOOKUP(Main3WData[[#This Row],[Admin Unit Name]],AdminUnits[],2,FALSE)","v":"ML05"},{"$f":"VLOOKUP(Main3WData[[#This Row],[Admin Unit Name]],AdminUnits[],3,FALSE)","v":"Sud"},{"$f":"VLOOKUP(Main3WData[[#This Row],[Admin Unit Name]],AdminUnits[],4,FALSE)","v":5},{"$f":"VLOOKUP(Main3WData[[#This Row],[Sector]],Sectors[],2,FALSE)","v":8}]
[null,"IRC",{"$f":"INDEX(Organizations[],MATCH(Main3WData[[#This Row],[Acronym]],AcronymList,0),1)","v":"International Rescue Committee"},{"$f":"INDEX(Organizations[],MATCH(Main3WData[[#This Row],[Acronym]],AcronymList,0),3)","v":"ONG Int."},"Nutrition","Regulier","Gao",{"$f":"VLOOKUP(Main3WData[[#This Row],[Admin Unit Name]],AdminUnits[],2,FALSE)","v":"ML07"},{"$f":"VLOOKUP(Main3WData[[#This Row],[Admin Unit Name]],AdminUnits[],3,FALSE)","v":"Nord"},{"$f":"VLOOKUP(Main3WData[[#This Row],[Admin Unit Name]],AdminUnits[],4,FALSE)","v":7},{"$f":"VLOOKUP(Main3WData[[#This Row],[Sector]],Sectors[],2,FALSE)","v":4}]
[null,"IRC",{"$f":"INDEX(Organizations[],MATCH(Main3WData[[#This Row],[Acronym]],AcronymList,0),1)","v":"International Rescue Committee"},{"$f":"INDEX(Organizations[],MATCH(Main3WData[[#This Row],[Acronym]],AcronymList,0),3)","v":"ONG Int."},"Nutrition","Regulier","Koulikoro",{"$f":"VLOOKUP(Main3WData[[#This Row],[Admin Unit Name]],AdminUnits[],2,FALSE)","v":"ML02"},{"$f":"VLOOKUP(Main3WData[[#This Row],[Admin Unit Name]],AdminUnits[],3,FALSE)","v":"Sud"},{"$f":"VLOOKUP(Main3WData[[#This Row],[Admin Unit Name]],AdminUnits[],4,FALSE)","v":2},{"$f":"VLOOKUP(Main3WData[[#This Row],[Sector]],Sectors[],2,FALSE)","v":4}]
[null,"IRC",{"$f":"INDEX(Organizations[],MATCH(Main3WData[[#This Row],[Acronym]],AcronymList,0),1)","v":"International Rescue Committee"},{"$f":"INDEX(Organizations[],MATCH(Main3WData[[#This Row],[Acronym]],AcronymList,0),3)","v":"ONG Int."},"Protection","Regulier","Gao",{"$f":"VLOOKUP(Main3WData[[#This Row],[Admin Unit Name]],AdminUnits[],2,FALSE)","v":"ML07"},{"$f":"VLOOKUP(Main3WData[[#This Row],[Admin Unit Name]],AdminUnits[],3,FALSE)","v":"Nord"},{"$f":"VLOOKUP(Main3WData[[#This Row],[Admin Unit Name]],AdminUnits[],4,FALSE)","v":7},{"$f":"VLOOKUP(Main3WData[[#This Row],[Sector]],Sectors[],2,FALSE)","v":5}]
[null,"IRC",{"$f":"INDEX(Organizations[],MATCH(Main3WData[[#This Row],[Acronym]],AcronymList,0),1)","v":"International Rescue Committee"},{"$f":"INDEX(Organizations[],MATCH(Main3WData[[#This Row],[Acronym]],AcronymList,0),3)","v":"ONG Int."},"Protection","Regulier","Kidal",{"$f":"VLOOKUP(Main3WData[[#This Row],[Admin Unit Name]],AdminUnits[],2,FALSE)","v":"ML08"},{"$f":"VLOOKUP(Main3WData[[#This Row],[Admin Unit Name]],AdminUnits[],3,FALSE)","v":"Nord"},{"$f":"VLOOKUP(Main3WData[[#This Row],[Admin Unit Name]],AdminUnits[],4,FALSE)","v":8},{"$f":"VLOOKUP(Main3WData[[#This Row],[Sector]],Sectors[],2,FALSE)","v":5}]
[null,"IRC",{"$f":"INDEX(Organizations[],MATCH(Main3WData[[#This Row],[Acronym]],AcronymList,0),1)","v":"International Rescue Committee"},{"$f":"INDEX(Organizations[],MATCH(Main3WData[[#This Row],[Acronym]],AcronymList,0),3)","v":"ONG Int."},"Protection","Regulier","Mopti",{"$f":"VLOOKUP(Main3WData[[#This Row],[Admin Unit Name]],AdminUnits[],2,FALSE)","v":"ML05"},{"$f":"VLOOKUP(Main3WData[[#This Row],[Admin Unit Name]],AdminUnits[],3,FALSE)","v":"Sud"},{"$f":"VLOOKUP(Main3WData[[#This Row],[Admin Unit Name]],AdminUnits[],4,FALSE)","v":5},{"$f":"VLOOKUP(Main3WData[[#This Row],[Sector]],Sectors[],2,FALSE)","v":5}]
[null,"IRC",{"$f":"INDEX(Organizations[],MATCH(Main3WData[[#This Row],[Acronym]],AcronymList,0),1)","v":"International Rescue Committee"},{"$f":"INDEX(Organizations[],MATCH(Main3WData[[#This Row],[Acronym]],AcronymList,0),3)","v":"ONG Int."},"Santé","Regulier","Gao",{"$f":"VLOOKUP(Main3WData[[#This Row],[Admin Unit Name]],AdminUnits[],2,FALSE)","v":"ML07"},{"$f":"VLOOKUP(Main3WData[[#This Row],[Admin Unit Name]],AdminUnits[],3,FALSE)","v":"Nord"},{"$f":"VLOOKUP(Main3WData[[#This Row],[Admin Unit Name]],AdminUnits[],4,FALSE)","v":7},{"$f":"VLOOKUP(Main3WData[[#This Row],[Sector]],Sectors[],2,FALSE)","v":6}]
[null,"IRC",{"$f":"INDEX(Organizations[],MATCH(Main3WData[[#This Row],[Acronym]],AcronymList,0),1)","v":"International Rescue Committee"},{"$f":"INDEX(Organizations[],MATCH(Main3WData[[#This Row],[Acronym]],AcronymList,0),3)","v":"ONG Int."},"Santé","Regulier","Mopti",{"$f":"VLOOKUP(Main3WData[[#This Row],[Admin Unit Name]],AdminUnits[],2,FALSE)","v":"ML05"},{"$f":"VLOOKUP(Main3WData[[#This Row],[Admin Unit Name]],AdminUnits[],3,FALSE)","v":"Sud"},{"$f":"VLOOKUP(Main3WData[[#This Row],[Admin Unit Name]],AdminUnits[],4,FALSE)","v":5},{"$f":"VLOOKUP(Main3WData[[#This Row],[Sector]],Sectors[],2,FALSE)","v":6}]
[null,"IRC",{"$f":"INDEX(Organizations[],MATCH(Main3WData[[#This Row],[Acronym]],AcronymList,0),1)","v":"International Rescue Committee"},{"$f":"INDEX(Organizations[],MATCH(Main3WData[[#This Row],[Acronym]],AcronymList,0),3)","v":"ONG Int."},"Sécurité alimentaire","Regulier","Gao",{"$f":"VLOOKUP(Main3WData[[#This Row],[Admin Unit Name]],AdminUnits[],2,FALSE)","v":"ML07"},{"$f":"VLOOKUP(Main3WData[[#This Row],[Admin Unit Name]],AdminUnits[],3,FALSE)","v":"Nord"},{"$f":"VLOOKUP(Main3WData[[#This Row],[Admin Unit Name]],AdminUnits[],4,FALSE)","v":7},{"$f":"VLOOKUP(Main3WData[[#This Row],[Sector]],Sectors[],2,FALSE)","v":7}]
[null,"IRC",{"$f":"INDEX(Organizations[],MATCH(Main3WData[[#This Row],[Acronym]],AcronymList,0),1)","v":"International Rescue Committee"},{"$f":"INDEX(Organizations[],MATCH(Main3WData[[#This Row],[Acronym]],AcronymList,0),3)","v":"ONG Int."},"Sécurité alimentaire","Regulier","Koulikoro",{"$f":"VLOOKUP(Main3WData[[#This Row],[Admin Unit Name]],AdminUnits[],2,FALSE)","v":"ML02"},{"$f":"VLOOKUP(Main3WData[[#This Row],[Admin Unit Name]],AdminUnits[],3,FALSE)","v":"Sud"},{"$f":"VLOOKUP(Main3WData[[#This Row],[Admin Unit Name]],AdminUnits[],4,FALSE)","v":2},{"$f":"VLOOKUP(Main3WData[[#This Row],[Sector]],Sectors[],2,FALSE)","v":7}]
[null,"IRC",{"$f":"INDEX(Organizations[],MATCH(Main3WData[[#This Row],[Acronym]],AcronymList,0),1)","v":"International Rescue Committee"},{"$f":"INDEX(Organizations[],MATCH(Main3WData[[#This Row],[Acronym]],AcronymList,0),3)","v":"ONG Int."},"Sécurité alimentaire","Regulier","Mopti",{"$f":"VLOOKUP(Main3WData[[#This Row],[Admin Unit Name]],AdminUnits[],2,FALSE)","v":"ML05"},{"$f":"VLOOKUP(Main3WData[[#This Row],[Admin Unit Name]],AdminUnits[],3,FALSE)","v":"Sud"},{"$f":"VLOOKUP(Main3WData[[#This Row],[Admin Unit Name]],AdminUnits[],4,FALSE)","v":5},{"$f":"VLOOKUP(Main3WData[[#This Row],[Sector]],Sectors[],2,FALSE)","v":7}]
[null,"Intrahealth",{"$f":"INDEX(Organizations[],MATCH(Main3WData[[#This Row],[Acronym]],AcronymList,0),1)","v":"Intrahealth"},{"$f":"INDEX(Organizations[],MATCH(Main3WData[[#This Row],[Acronym]],AcronymList,0),3)","v":"ONG Int."},"Protection","Regulier","Gao",{"$f":"VLOOKUP(Main3WData[[#This Row],[Admin Unit Name]],AdminUnits[],2,FALSE)","v":"ML07"},{"$f":"VLOOKUP(Main3WData[[#This Row],[Admin Unit Name]],AdminUnits[],3,FALSE)","v":"Nord"},{"$f":"VLOOKUP(Main3WData[[#This Row],[Admin Unit Name]],AdminUnits[],4,FALSE)","v":7},{"$f":"VLOOKUP(Main3WData[[#This Row],[Sector]],Sectors[],2,FALSE)","v":5}]
[null,"IMC",{"$f":"INDEX(Organizations[],MATCH(Main3WData[[#This Row],[Acronym]],AcronymList,0),1)","v":"International Medical Corps"},{"$f":"INDEX(Organizations[],MATCH(Main3WData[[#This Row],[Acronym]],AcronymList,0),3)","v":"ONG Int."},"Nutrition","Regulier","Tombouctou",{"$f":"VLOOKUP(Main3WData[[#This Row],[Admin Unit Name]],AdminUnits[],2,FALSE)","v":"ML06"},{"$f":"VLOOKUP(Main3WData[[#This Row],[Admin Unit Name]],AdminUnits[],3,FALSE)","v":"Nord"},{"$f":"VLOOKUP(Main3WData[[#This Row],[Admin Unit Name]],AdminUnits[],4,FALSE)","v":6},{"$f":"VLOOKUP(Main3WData[[#This Row],[Sector]],Sectors[],2,FALSE)","v":4}]
[null,"IMC",{"$f":"INDEX(Organizations[],MATCH(Main3WData[[#This Row],[Acronym]],AcronymList,0),1)","v":"International Medical Corps"},{"$f":"INDEX(Organizations[],MATCH(Main3WData[[#This Row],[Acronym]],AcronymList,0),3)","v":"ONG Int."},"Protection","Regulier","Tombouctou",{"$f":"VLOOKUP(Main3WData[[#This Row],[Admin Unit Name]],AdminUnits[],2,FALSE)","v":"ML06"},{"$f":"VLOOKUP(Main3WData[[#This Row],[Admin Unit Name]],AdminUnits[],3,FALSE)","v":"Nord"},{"$f":"VLOOKUP(Main3WData[[#This Row],[Admin Unit Name]],AdminUnits[],4,FALSE)","v":6},{"$f":"VLOOKUP(Main3WData[[#This Row],[Sector]],Sectors[],2,FALSE)","v":5}]
[null,"IMC",{"$f":"INDEX(Organizations[],MATCH(Main3WData[[#This Row],[Acronym]],AcronymList,0),1)","v":"International Medical Corps"},{"$f":"INDEX(Organizations[],MATCH(Main3WData[[#This Row],[Acronym]],AcronymList,0),3)","v":"ONG Int."},"Santé","Regulier","Bamako",{"$f":"VLOOKUP(Main3WData[[#This Row],[Admin Unit Name]],AdminUnits[],2,FALSE)","v":"ML09"},{"$f":"VLOOKUP(Main3WData[[#This Row],[Admin Unit Name]],AdminUnits[],3,FALSE)","v":"Sud"},{"$f":"VLOOKUP(Main3WData[[#This Row],[Admin Unit Name]],AdminUnits[],4,FALSE)","v":0},{"$f":"VLOOKUP(Main3WData[[#This Row],[Sector]],Sectors[],2,FALSE)","v":6}]
[null,"IMC",{"$f":"INDEX(Organizations[],MATCH(Main3WData[[#This Row],[Acronym]],AcronymList,0),1)","v":"International Medical Corps"},{"$f":"INDEX(Organizations[],MATCH(Main3WData[[#This Row],[Acronym]],AcronymList,0),3)","v":"ONG Int."},"Santé","Regulier","Segou",{"$f":"VLOOKUP(Main3WData[[#This Row],[Admin Unit Name]],AdminUnits[],2,FALSE)","v":"ML04"},{"$f":"VLOOKUP(Main3WData[[#This Row],[Admin Unit Name]],AdminUnits[],3,FALSE)","v":"Sud"},{"$f":"VLOOKUP(Main3WData[[#This Row],[Admin Unit Name]],AdminUnits[],4,FALSE)","v":4},{"$f":"VLOOKUP(Main3WData[[#This Row],[Sector]],Sectors[],2,FALSE)","v":6}]
[null,"IMC",{"$f":"INDEX(Organizations[],MATCH(Main3WData[[#This Row],[Acronym]],AcronymList,0),1)","v":"International Medical Corps"},{"$f":"INDEX(Organizations[],MATCH(Main3WData[[#This Row],[Acronym]],AcronymList,0),3)","v":"ONG Int."},"Santé","Regulier","Sikasso",{"$f":"VLOOKUP(Main3WData[[#This Row],[Admin Unit Name]],AdminUnits[],2,FALSE)","v":"ML03"},{"$f":"VLOOKUP(Main3WData[[#This Row],[Admin Unit Name]],AdminUnits[],3,FALSE)","v":"Sud"},{"$f":"VLOOKUP(Main3WData[[#This Row],[Admin Unit Name]],AdminUnits[],4,FALSE)","v":3},{"$f":"VLOOKUP(Main3WData[[#This Row],[Sector]],Sectors[],2,FALSE)","v":6}]
[null,"IMC",{"$f":"INDEX(Organizations[],MATCH(Main3WData[[#This Row],[Acronym]],AcronymList,0),1)","v":"International Medical Corps"},{"$f":"INDEX(Organizations[],MATCH(Main3WData[[#This Row],[Acronym]],AcronymList,0),3)","v":"ONG Int."},"Santé","Regulier","Tombouctou",{"$f":"VLOOKUP(Main3WData[[#This Row],[Admin Unit Name]],AdminUnits[],2,FALSE)","v":"ML06"},{"$f":"VLOOKUP(Main3WData[[#This Row],[Admin Unit Name]],AdminUnits[],3,FALSE)","v":"Nord"},{"$f":"VLOOKUP(Main3WData[[#This Row],[Admin Unit Name]],AdminUnits[],4,FALSE)","v":6},{"$f":"VLOOKUP(Main3WData[[#This Row],[Sector]],Sectors[],2,FALSE)","v":6}]
[null,"IMADEL",{"$f":"INDEX(Organizations[],MATCH(Main3WData[[#This Row],[Acronym]],AcronymList,0),1)","v":"Initiative Malienne d'Appui au Développement Loca"},{"$f":"INDEX(Organizations[],MATCH(Main3WData[[#This Row],[Acronym]],AcronymList,0),3)","v":"Association"},"EHA","Regulier","Mopti",{"$f":"VLOOKUP(Main3WData[[#This Row],[Admin Unit Name]],AdminUnits[],2,FALSE)","v":"ML05"},{"$f":"VLOOKUP(Main3WData[[#This Row],[Admin Unit Name]],AdminUnits[],3,FALSE)","v":"Sud"},{"$f":"VLOOKUP(Main3WData[[#This Row],[Admin Unit Name]],AdminUnits[],4,FALSE)","v":5},{"$f":"VLOOKUP(Main3WData[[#This Row],[Sector]],Sectors[],2,FALSE)","v":8}]
[null,"IEDA Relief",{"$f":"INDEX(Organizations[],MATCH(Main3WData[[#This Row],[Acronym]],AcronymList,0),1)","v":"International Emergency and Development Aid Relief"},{"$f":"INDEX(Organizations[],MATCH(Main3WData[[#This Row],[Acronym]],AcronymList,0),3)","v":"ONG Int."},"Nutrition","Regulier","Kidal",{"$f":"VLOOKUP(Main3WData[[#This Row],[Admin Unit Name]],AdminUnits[],2,FALSE)","v":"ML08"},{"$f":"VLOOKUP(Main3WData[[#This Row],[Admin Unit Name]],AdminUnits[],3,FALSE)","v":"Nord"},{"$f":"VLOOKUP(Main3WData[[#This Row],[Admin Unit Name]],AdminUnits[],4,FALSE)","v":8},{"$f":"VLOOKUP(Main3WData[[#This Row],[Sector]],Sectors[],2,FALSE)","v":4}]
[null,"IEDA Relief",{"$f":"INDEX(Organizations[],MATCH(Main3WData[[#This Row],[Acronym]],AcronymList,0),1)","v":"International Emergency and Development Aid Relief"},{"$f":"INDEX(Organizations[],MATCH(Main3WData[[#This Row],[Acronym]],AcronymList,0),3)","v":"ONG Int."},"Protection","Regulier","Gao",{"$f":"VLOOKUP(Main3WData[[#This Row],[Admin Unit Name]],AdminUnits[],2,FALSE)","v":"ML07"},{"$f":"VLOOKUP(Main3WData[[#This Row],[Admin Unit Name]],AdminUnits[],3,FALSE)","v":"Nord"},{"$f":"VLOOKUP(Main3WData[[#This Row],[Admin Unit Name]],AdminUnits[],4,FALSE)","v":7},{"$f":"VLOOKUP(Main3WData[[#This Row],[Sector]],Sectors[],2,FALSE)","v":5}]
[null,"IEDA Relief",{"$f":"INDEX(Organizations[],MATCH(Main3WData[[#This Row],[Acronym]],AcronymList,0),1)","v":"International Emergency and Development Aid Relief"},{"$f":"INDEX(Organizations[],MATCH(Main3WData[[#This Row],[Acronym]],AcronymList,0),3)","v":"ONG Int."},"Protection","Regulier","Kidal",{"$f":"VLOOKUP(Main3WData[[#This Row],[Admin Unit Name]],AdminUnits[],2,FALSE)","v":"ML08"},{"$f":"VLOOKUP(Main3WData[[#This Row],[Admin Unit Name]],AdminUnits[],3,FALSE)","v":"Nord"},{"$f":"VLOOKUP(Main3WData[[#This Row],[Admin Unit Name]],AdminUnits[],4,FALSE)","v":8},{"$f":"VLOOKUP(Main3WData[[#This Row],[Sector]],Sectors[],2,FALSE)","v":5}]
[null,"IEDA Relief",{"$f":"INDEX(Organizations[],MATCH(Main3WData[[#This Row],[Acronym]],AcronymList,0),1)","v":"International Emergency and Development Aid Relief"},{"$f":"INDEX(Organizations[],MATCH(Main3WData[[#This Row],[Acronym]],AcronymList,0),3)","v":"ONG Int."},"Protection","Regulier","Tombouctou",{"$f":"VLOOKUP(Main3WData[[#This Row],[Admin Unit Name]],AdminUnits[],2,FALSE)","v":"ML06"},{"$f":"VLOOKUP(Main3WData[[#This Row],[Admin Unit Name]],AdminUnits[],3,FALSE)","v":"Nord"},{"$f":"VLOOKUP(Main3WData[[#This Row],[Admin Unit Name]],AdminUnits[],4,FALSE)","v":6},{"$f":"VLOOKUP(Main3WData[[#This Row],[Sector]],Sectors[],2,FALSE)","v":5}]
[null,"IEDA Relief",{"$f":"INDEX(Organizations[],MATCH(Main3WData[[#This Row],[Acronym]],AcronymList,0),1)","v":"International Emergency and Development Aid Relief"},{"$f":"INDEX(Organizations[],MATCH(Main3WData[[#This Row],[Acronym]],AcronymList,0),3)","v":"ONG Int."},"Sécurité alimentaire","Regulier","Gao",{"$f":"VLOOKUP(Main3WData[[#This Row],[Admin Unit Name]],AdminUnits[],2,FALSE)","v":"ML07"},{"$f":"VLOOKUP(Main3WData[[#This Row],[Admin Unit Name]],AdminUnits[],3,FALSE)","v":"Nord"},{"$f":"VLOOKUP(Main3WData[[#This Row],[Admin Unit Name]],AdminUnits[],4,FALSE)","v":7},{"$f":"VLOOKUP(Main3WData[[#This Row],[Sector]],Sectors[],2,FALSE)","v":7}]
[null,"IEDA Relief",{"$f":"INDEX(Organizations[],MATCH(Main3WData[[#This Row],[Acronym]],AcronymList,0),1)","v":"International Emergency and Development Aid Relief"},{"$f":"INDEX(Organizations[],MATCH(Main3WData[[#This Row],[Acronym]],AcronymList,0),3)","v":"ONG Int."},"Sécurité alimentaire","Regulier","Kidal",{"$f":"VLOOKUP(Main3WData[[#This Row],[Admin Unit Name]],AdminUnits[],2,FALSE)","v":"ML08"},{"$f":"VLOOKUP(Main3WData[[#This Row],[Admin Unit Name]],AdminUnits[],3,FALSE)","v":"Nord"},{"$f":"VLOOKUP(Main3WData[[#This Row],[Admin Unit Name]],AdminUnits[],4,FALSE)","v":8},{"$f":"VLOOKUP(Main3WData[[#This Row],[Sector]],Sectors[],2,FALSE)","v":7}]
[null,"IEDA Relief",{"$f":"INDEX(Organizations[],MATCH(Main3WData[[#This Row],[Acronym]],AcronymList,0),1)","v":"International Emergency and Development Aid Relief"},{"$f":"INDEX(Organizations[],MATCH(Main3WData[[#This Row],[Acronym]],AcronymList,0),3)","v":"ONG Int."},"Sécurité alimentaire","Regulier","Segou",{"$f":"VLOOKUP(Main3WData[[#This Row],[Admin Unit Name]],AdminUnits[],2,FALSE)","v":"ML04"},{"$f":"VLOOKUP(Main3WData[[#This Row],[Admin Unit Name]],AdminUnits[],3,FALSE)","v":"Sud"},{"$f":"VLOOKUP(Main3WData[[#This Row],[Admin Unit Name]],AdminUnits[],4,FALSE)","v":4},{"$f":"VLOOKUP(Main3WData[[#This Row],[Sector]],Sectors[],2,FALSE)","v":7}]
[null,"IEDA Relief",{"$f":"INDEX(Organizations[],MATCH(Main3WData[[#This Row],[Acronym]],AcronymList,0),1)","v":"International Emergency and Development Aid Relief"},{"$f":"INDEX(Organizations[],MATCH(Main3WData[[#This Row],[Acronym]],AcronymList,0),3)","v":"ONG Int."},"Sécurité alimentaire","Regulier","Tombouctou",{"$f":"VLOOKUP(Main3WData[[#This Row],[Admin Unit Name]],AdminUnits[],2,FALSE)","v":"ML06"},{"$f":"VLOOKUP(Main3WData[[#This Row],[Admin Unit Name]],AdminUnits[],3,FALSE)","v":"Nord"},{"$f":"VLOOKUP(Main3WData[[#This Row],[Admin Unit Name]],AdminUnits[],4,FALSE)","v":6},{"$f":"VLOOKUP(Main3WData[[#This Row],[Sector]],Sectors[],2,FALSE)","v":7}]
[null,"IAMANEH Mali",{"$f":"INDEX(Organizations[],MATCH(Main3WData[[#This Row],[Acronym]],AcronymList,0),1)","v":"IAMANEH Mali"},{"$f":"INDEX(Organizations[],MATCH(Main3WData[[#This Row],[Acronym]],AcronymList,0),3)","v":"ONG Nat."},"Santé","Regulier","Mopti",{"$f":"VLOOKUP(Main3WData[[#This Row],[Admin Unit Name]],AdminUnits[],2,FALSE)","v":"ML05"},{"$f":"VLOOKUP(Main3WData[[#This Row],[Admin Unit Name]],AdminUnits[],3,FALSE)","v":"Sud"},{"$f":"VLOOKUP(Main3WData[[#This Row],[Admin Unit Name]],AdminUnits[],4,FALSE)","v":5},{"$f":"VLOOKUP(Main3WData[[#This Row],[Sector]],Sectors[],2,FALSE)","v":6}]
[null,"HSI",{"$f":"INDEX(Organizations[],MATCH(Main3WData[[#This Row],[Acronym]],AcronymList,0),1)","v":"HELVETAS Swiss Interoperation"},{"$f":"INDEX(Organizations[],MATCH(Main3WData[[#This Row],[Acronym]],AcronymList,0),3)","v":"ONG Int."},"Sécurité alimentaire","Regulier","Mopti",{"$f":"VLOOKUP(Main3WData[[#This Row],[Admin Unit Name]],AdminUnits[],2,FALSE)","v":"ML05"},{"$f":"VLOOKUP(Main3WData[[#This Row],[Admin Unit Name]],AdminUnits[],3,FALSE)","v":"Sud"},{"$f":"VLOOKUP(Main3WData[[#This Row],[Admin Unit Name]],AdminUnits[],4,FALSE)","v":5},{"$f":"VLOOKUP(Main3WData[[#This Row],[Sector]],Sectors[],2,FALSE)","v":7}]
[null,"HKI",{"$f":"INDEX(Organizations[],MATCH(Main3WData[[#This Row],[Acronym]],AcronymList,0),1)","v":"Helen Keller International"},{"$f":"INDEX(Organizations[],MATCH(Main3WData[[#This Row],[Acronym]],AcronymList,0),3)","v":"ONG Int."},"Nutrition","Regulier","Mopti",{"$f":"VLOOKUP(Main3WData[[#This Row],[Admin Unit Name]],AdminUnits[],2,FALSE)","v":"ML05"},{"$f":"VLOOKUP(Main3WData[[#This Row],[Admin Unit Name]],AdminUnits[],3,FALSE)","v":"Sud"},{"$f":"VLOOKUP(Main3WData[[#This Row],[Admin Unit Name]],AdminUnits[],4,FALSE)","v":5},{"$f":"VLOOKUP(Main3WData[[#This Row],[Sector]],Sectors[],2,FALSE)","v":4}]
[null,"HKI",{"$f":"INDEX(Organizations[],MATCH(Main3WData[[#This Row],[Acronym]],AcronymList,0),1)","v":"Helen Keller International"},{"$f":"INDEX(Organizations[],MATCH(Main3WData[[#This Row],[Acronym]],AcronymList,0),3)","v":"ONG Int."},"Nutrition","Regulier","Segou",{"$f":"VLOOKUP(Main3WData[[#This Row],[Admin Unit Name]],AdminUnits[],2,FALSE)","v":"ML04"},{"$f":"VLOOKUP(Main3WData[[#This Row],[Admin Unit Name]],AdminUnits[],3,FALSE)","v":"Sud"},{"$f":"VLOOKUP(Main3WData[[#This Row],[Admin Unit Name]],AdminUnits[],4,FALSE)","v":4},{"$f":"VLOOKUP(Main3WData[[#This Row],[Sector]],Sectors[],2,FALSE)","v":4}]
[null,"HI",{"$f":"INDEX(Organizations[],MATCH(Main3WData[[#This Row],[Acronym]],AcronymList,0),1)","v":"Handicap International"},{"$f":"INDEX(Organizations[],MATCH(Main3WData[[#This Row],[Acronym]],AcronymList,0),3)","v":"ONG Int."},"Protection","Regulier","Gao",{"$f":"VLOOKUP(Main3WData[[#This Row],[Admin Unit Name]],AdminUnits[],2,FALSE)","v":"ML07"},{"$f":"VLOOKUP(Main3WData[[#This Row],[Admin Unit Name]],AdminUnits[],3,FALSE)","v":"Nord"},{"$f":"VLOOKUP(Main3WData[[#This Row],[Admin Unit Name]],AdminUnits[],4,FALSE)","v":7},{"$f":"VLOOKUP(Main3WData[[#This Row],[Sector]],Sectors[],2,FALSE)","v":5}]
[null,"HI",{"$f":"INDEX(Organizations[],MATCH(Main3WData[[#This Row],[Acronym]],AcronymList,0),1)","v":"Handicap International"},{"$f":"INDEX(Organizations[],MATCH(Main3WData[[#This Row],[Acronym]],AcronymList,0),3)","v":"ONG Int."},"Protection","Regulier","Mopti",{"$f":"VLOOKUP(Main3WData[[#This Row],[Admin Unit Name]],AdminUnits[],2,FALSE)","v":"ML05"},{"$f":"VLOOKUP(Main3WData[[#This Row],[Admin Unit Name]],AdminUnits[],3,FALSE)","v":"Sud"},{"$f":"VLOOKUP(Main3WData[[#This Row],[Admin Unit Name]],AdminUnits[],4,FALSE)","v":5},{"$f":"VLOOKUP(Main3WData[[#This Row],[Sector]],Sectors[],2,FALSE)","v":5}]
[null,"HI",{"$f":"INDEX(Organizations[],MATCH(Main3WData[[#This Row],[Acronym]],AcronymList,0),1)","v":"Handicap International"},{"$f":"INDEX(Organizations[],MATCH(Main3WData[[#This Row],[Acronym]],AcronymList,0),3)","v":"ONG Int."},"Protection","Regulier","Tombouctou",{"$f":"VLOOKUP(Main3WData[[#This Row],[Admin Unit Name]],AdminUnits[],2,FALSE)","v":"ML06"},{"$f":"VLOOKUP(Main3WData[[#This Row],[Admin Unit Name]],AdminUnits[],3,FALSE)","v":"Nord"},{"$f":"VLOOKUP(Main3WData[[#This Row],[Admin Unit Name]],AdminUnits[],4,FALSE)","v":6},{"$f":"VLOOKUP(Main3WData[[#This Row],[Sector]],Sectors[],2,FALSE)","v":5}]
[null,"HI",{"$f":"INDEX(Organizations[],MATCH(Main3WData[[#This Row],[Acronym]],AcronymList,0),1)","v":"Handicap International"},{"$f":"INDEX(Organizations[],MATCH(Main3WData[[#This Row],[Acronym]],AcronymList,0),3)","v":"ONG Int."},"Santé","Regulier","Mopti",{"$f":"VLOOKUP(Main3WData[[#This Row],[Admin Unit Name]],AdminUnits[],2,FALSE)","v":"ML05"},{"$f":"VLOOKUP(Main3WData[[#This Row],[Admin Unit Name]],AdminUnits[],3,FALSE)","v":"Sud"},{"$f":"VLOOKUP(Main3WData[[#This Row],[Admin Unit Name]],AdminUnits[],4,FALSE)","v":5},{"$f":"VLOOKUP(Main3WData[[#This Row],[Sector]],Sectors[],2,FALSE)","v":6}]
[null,"HI",{"$f":"INDEX(Organizations[],MATCH(Main3WData[[#This Row],[Acronym]],AcronymList,0),1)","v":"Handicap International"},{"$f":"INDEX(Organizations[],MATCH(Main3WData[[#This Row],[Acronym]],AcronymList,0),3)","v":"ONG Int."},"Santé","Regulier","Tombouctou",{"$f":"VLOOKUP(Main3WData[[#This Row],[Admin Unit Name]],AdminUnits[],2,FALSE)","v":"ML06"},{"$f":"VLOOKUP(Main3WData[[#This Row],[Admin Unit Name]],AdminUnits[],3,FALSE)","v":"Nord"},{"$f":"VLOOKUP(Main3WData[[#This Row],[Admin Unit Name]],AdminUnits[],4,FALSE)","v":6},{"$f":"VLOOKUP(Main3WData[[#This Row],[Sector]],Sectors[],2,FALSE)","v":6}]
[null,"HI",{"$f":"INDEX(Organizations[],MATCH(Main3WData[[#This Row],[Acronym]],AcronymList,0),1)","v":"Handicap International"},{"$f":"INDEX(Organizations[],MATCH(Main3WData[[#This Row],[Acronym]],AcronymList,0),3)","v":"ONG Int."},"Sécurité alimentaire","Regulier","Tombouctou",{"$f":"VLOOKUP(Main3WData[[#This Row],[Admin Unit Name]],AdminUnits[],2,FALSE)","v":"ML06"},{"$f":"VLOOKUP(Main3WData[[#This Row],[Admin Unit Name]],AdminUnits[],3,FALSE)","v":"Nord"},{"$f":"VLOOKUP(Main3WData[[#This Row],[Admin Unit Name]],AdminUnits[],4,FALSE)","v":6},{"$f":"VLOOKUP(Main3WData[[#This Row],[Sector]],Sectors[],2,FALSE)","v":7}]
[null,"HELP",{"$f":"INDEX(Organizations[],MATCH(Main3WData[[#This Row],[Acronym]],AcronymList,0),1)","v":"HELP ASSISTANCE ALLEMANDE"},{"$f":"INDEX(Organizations[],MATCH(Main3WData[[#This Row],[Acronym]],AcronymList,0),3)","v":"ONG Int."},"EHA","Regulier","Koulikoro",{"$f":"VLOOKUP(Main3WData[[#This Row],[Admin Unit Name]],AdminUnits[],2,FALSE)","v":"ML02"},{"$f":"VLOOKUP(Main3WData[[#This Row],[Admin Unit Name]],AdminUnits[],3,FALSE)","v":"Sud"},{"$f":"VLOOKUP(Main3WData[[#This Row],[Admin Unit Name]],AdminUnits[],4,FALSE)","v":2},{"$f":"VLOOKUP(Main3WData[[#This Row],[Sector]],Sectors[],2,FALSE)","v":8}]
[null,"GREFFA",{"$f":"INDEX(Organizations[],MATCH(Main3WData[[#This Row],[Acronym]],AcronymList,0),1)","v":"GREFFA"},{"$f":"INDEX(Organizations[],MATCH(Main3WData[[#This Row],[Acronym]],AcronymList,0),3)","v":"ONG Nat."},"Protection","Regulier","Gao",{"$f":"VLOOKUP(Main3WData[[#This Row],[Admin Unit Name]],AdminUnits[],2,FALSE)","v":"ML07"},{"$f":"VLOOKUP(Main3WData[[#This Row],[Admin Unit Name]],AdminUnits[],3,FALSE)","v":"Nord"},{"$f":"VLOOKUP(Main3WData[[#This Row],[Admin Unit Name]],AdminUnits[],4,FALSE)","v":7},{"$f":"VLOOKUP(Main3WData[[#This Row],[Sector]],Sectors[],2,FALSE)","v":5}]
[null,"GRADEM",{"$f":"INDEX(Organizations[],MATCH(Main3WData[[#This Row],[Acronym]],AcronymList,0),1)","v":"GRADEM"},{"$f":"INDEX(Organizations[],MATCH(Main3WData[[#This Row],[Acronym]],AcronymList,0),3)","v":"ONG Nat."},"Protection","Regulier","Koulikoro",{"$f":"VLOOKUP(Main3WData[[#This Row],[Admin Unit Name]],AdminUnits[],2,FALSE)","v":"ML02"},{"$f":"VLOOKUP(Main3WData[[#This Row],[Admin Unit Name]],AdminUnits[],3,FALSE)","v":"Sud"},{"$f":"VLOOKUP(Main3WData[[#This Row],[Admin Unit Name]],AdminUnits[],4,FALSE)","v":2},{"$f":"VLOOKUP(Main3WData[[#This Row],[Sector]],Sectors[],2,FALSE)","v":5}]
[null,"GRADEM",{"$f":"INDEX(Organizations[],MATCH(Main3WData[[#This Row],[Acronym]],AcronymList,0),1)","v":"GRADEM"},{"$f":"INDEX(Organizations[],MATCH(Main3WData[[#This Row],[Acronym]],AcronymList,0),3)","v":"ONG Nat."},"Protection","Regulier","Segou",{"$f":"VLOOKUP(Main3WData[[#This Row],[Admin Unit Name]],AdminUnits[],2,FALSE)","v":"ML04"},{"$f":"VLOOKUP(Main3WData[[#This Row],[Admin Unit Name]],AdminUnits[],3,FALSE)","v":"Sud"},{"$f":"VLOOKUP(Main3WData[[#This Row],[Admin Unit Name]],AdminUnits[],4,FALSE)","v":4},{"$f":"VLOOKUP(Main3WData[[#This Row],[Sector]],Sectors[],2,FALSE)","v":5}]
[null,"Gouvernorat",{"$f":"INDEX(Organizations[],MATCH(Main3WData[[#This Row],[Acronym]],AcronymList,0),1)","v":"Gouvernorat"},{"$f":"INDEX(Organizations[],MATCH(Main3WData[[#This Row],[Acronym]],AcronymList,0),3)","v":"Gouvernement"},"Coordination","Regulier","Gao",{"$f":"VLOOKUP(Main3WData[[#This Row],[Admin Unit Name]],AdminUnits[],2,FALSE)","v":"ML07"},{"$f":"VLOOKUP(Main3WData[[#This Row],[Admin Unit Name]],AdminUnits[],3,FALSE)","v":"Nord"},{"$f":"VLOOKUP(Main3WData[[#This Row],[Admin Unit Name]],AdminUnits[],4,FALSE)","v":7},{"$f":"VLOOKUP(Main3WData[[#This Row],[Sector]],Sectors[],2,FALSE)","v":2}]
[null,"GARI",{"$f":"INDEX(Organizations[],MATCH(Main3WData[[#This Row],[Acronym]],AcronymList,0),1)","v":"GARI"},{"$f":"INDEX(Organizations[],MATCH(Main3WData[[#This Row],[Acronym]],AcronymList,0),3)","v":"ONG Nat."},"Education","Regulier","Gao",{"$f":"VLOOKUP(Main3WData[[#This Row],[Admin Unit Name]],AdminUnits[],2,FALSE)","v":"ML07"},{"$f":"VLOOKUP(Main3WData[[#This Row],[Admin Unit Name]],AdminUnits[],3,FALSE)","v":"Nord"},{"$f":"VLOOKUP(Main3WData[[#This Row],[Admin Unit Name]],AdminUnits[],4,FALSE)","v":7},{"$f":"VLOOKUP(Main3WData[[#This Row],[Sector]],Sectors[],2,FALSE)","v":3}]
[null,"GARDL",{"$f":"INDEX(Organizations[],MATCH(Main3WData[[#This Row],[Acronym]],AcronymList,0),1)","v":"Groupe Action et Recherche pou\nr le Développement Local "},{"$f":"INDEX(Organizations[],MATCH(Main3WData[[#This Row],[Acronym]],AcronymList,0),3)","v":"ONG Nat."},"Protection","Regulier","Kidal",{"$f":"VLOOKUP(Main3WData[[#This Row],[Admin Unit Name]],AdminUnits[],2,FALSE)","v":"ML08"},{"$f":"VLOOKUP(Main3WData[[#This Row],[Admin Unit Name]],AdminUnits[],3,FALSE)","v":"Nord"},{"$f":"VLOOKUP(Main3WData[[#This Row],[Admin Unit Name]],AdminUnits[],4,FALSE)","v":8},{"$f":"VLOOKUP(Main3WData[[#This Row],[Sector]],Sectors[],2,FALSE)","v":5}]
[null,"GAAS Mali",{"$f":"INDEX(Organizations[],MATCH(Main3WData[[#This Row],[Acronym]],AcronymList,0),1)","v":"GROUPE D'ANIMATION ACTION AU SAHEL MALI"},{"$f":"INDEX(Organizations[],MATCH(Main3WData[[#This Row],[Acronym]],AcronymList,0),3)","v":"ONG Nat."},"Sécurité alimentaire","Regulier","Mopti",{"$f":"VLOOKUP(Main3WData[[#This Row],[Admin Unit Name]],AdminUnits[],2,FALSE)","v":"ML05"},{"$f":"VLOOKUP(Main3WData[[#This Row],[Admin Unit Name]],AdminUnits[],3,FALSE)","v":"Sud"},{"$f":"VLOOKUP(Main3WData[[#This Row],[Admin Unit Name]],AdminUnits[],4,FALSE)","v":5},{"$f":"VLOOKUP(Main3WData[[#This Row],[Sector]],Sectors[],2,FALSE)","v":7}]
[null,"FLAG International",{"$f":"INDEX(Organizations[],MATCH(Main3WData[[#This Row],[Acronym]],AcronymList,0),1)","v":"FLAG International"},{"$f":"INDEX(Organizations[],MATCH(Main3WData[[#This Row],[Acronym]],AcronymList,0),3)","v":"ONG Int."},"Sécurité alimentaire","Regulier","Gao",{"$f":"VLOOKUP(Main3WData[[#This Row],[Admin Unit Name]],AdminUnits[],2,FALSE)","v":"ML07"},{"$f":"VLOOKUP(Main3WData[[#This Row],[Admin Unit Name]],AdminUnits[],3,FALSE)","v":"Nord"},{"$f":"VLOOKUP(Main3WData[[#This Row],[Admin Unit Name]],AdminUnits[],4,FALSE)","v":7},{"$f":"VLOOKUP(Main3WData[[#This Row],[Sector]],Sectors[],2,FALSE)","v":7}]
[null,"FLAG International",{"$f":"INDEX(Organizations[],MATCH(Main3WData[[#This Row],[Acronym]],AcronymList,0),1)","v":"FLAG International"},{"$f":"INDEX(Organizations[],MATCH(Main3WData[[#This Row],[Acronym]],AcronymList,0),3)","v":"ONG Int."},"Sécurité alimentaire","Regulier","Tombouctou",{"$f":"VLOOKUP(Main3WData[[#This Row],[Admin Unit Name]],AdminUnits[],2,FALSE)","v":"ML06"},{"$f":"VLOOKUP(Main3WData[[#This Row],[Admin Unit Name]],AdminUnits[],3,FALSE)","v":"Nord"},{"$f":"VLOOKUP(Main3WData[[#This Row],[Admin Unit Name]],AdminUnits[],4,FALSE)","v":6},{"$f":"VLOOKUP(Main3WData[[#This Row],[Sector]],Sectors[],2,FALSE)","v":7}]
[null,"FCI-MALI",{"$f":"INDEX(Organizations[],MATCH(Main3WData[[#This Row],[Acronym]],AcronymList,0),1)","v":"Family Care International"},{"$f":"INDEX(Organizations[],MATCH(Main3WData[[#This Row],[Acronym]],AcronymList,0),3)","v":"ONG Int."},"Protection","Regulier","Mopti",{"$f":"VLOOKUP(Main3WData[[#This Row],[Admin Unit Name]],AdminUnits[],2,FALSE)","v":"ML05"},{"$f":"VLOOKUP(Main3WData[[#This Row],[Admin Unit Name]],AdminUnits[],3,FALSE)","v":"Sud"},{"$f":"VLOOKUP(Main3WData[[#This Row],[Admin Unit Name]],AdminUnits[],4,FALSE)","v":5},{"$f":"VLOOKUP(Main3WData[[#This Row],[Sector]],Sectors[],2,FALSE)","v":5}]
[null,"FAO",{"$f":"INDEX(Organizations[],MATCH(Main3WData[[#This Row],[Acronym]],AcronymList,0),1)","v":"United Nations Food and Agriculture Organization"},{"$f":"INDEX(Organizations[],MATCH(Main3WData[[#This Row],[Acronym]],AcronymList,0),3)","v":"UN"},"Coordination","Regulier","Bamako",{"$f":"VLOOKUP(Main3WData[[#This Row],[Admin Unit Name]],AdminUnits[],2,FALSE)","v":"ML09"},{"$f":"VLOOKUP(Main3WData[[#This Row],[Admin Unit Name]],AdminUnits[],3,FALSE)","v":"Sud"},{"$f":"VLOOKUP(Main3WData[[#This Row],[Admin Unit Name]],AdminUnits[],4,FALSE)","v":0},{"$f":"VLOOKUP(Main3WData[[#This Row],[Sector]],Sectors[],2,FALSE)","v":2}]
[null,"FAO",{"$f":"INDEX(Organizations[],MATCH(Main3WData[[#This Row],[Acronym]],AcronymList,0),1)","v":"United Nations Food and Agriculture Organization"},{"$f":"INDEX(Organizations[],MATCH(Main3WData[[#This Row],[Acronym]],AcronymList,0),3)","v":"UN"},"Coordination","Regulier","Mopti",{"$f":"VLOOKUP(Main3WData[[#This Row],[Admin Unit Name]],AdminUnits[],2,FALSE)","v":"ML05"},{"$f":"VLOOKUP(Main3WData[[#This Row],[Admin Unit Name]],AdminUnits[],3,FALSE)","v":"Sud"},{"$f":"VLOOKUP(Main3WData[[#This Row],[Admin Unit Name]],AdminUnits[],4,FALSE)","v":5},{"$f":"VLOOKUP(Main3WData[[#This Row],[Sector]],Sectors[],2,FALSE)","v":2}]
[null,"FAO",{"$f":"INDEX(Organizations[],MATCH(Main3WData[[#This Row],[Acronym]],AcronymList,0),1)","v":"United Nations Food and Agriculture Organization"},{"$f":"INDEX(Organizations[],MATCH(Main3WData[[#This Row],[Acronym]],AcronymList,0),3)","v":"UN"},"Coordination","Regulier","Tombouctou",{"$f":"VLOOKUP(Main3WData[[#This Row],[Admin Unit Name]],AdminUnits[],2,FALSE)","v":"ML06"},{"$f":"VLOOKUP(Main3WData[[#This Row],[Admin Unit Name]],AdminUnits[],3,FALSE)","v":"Nord"},{"$f":"VLOOKUP(Main3WData[[#This Row],[Admin Unit Name]],AdminUnits[],4,FALSE)","v":6},{"$f":"VLOOKUP(Main3WData[[#This Row],[Sector]],Sectors[],2,FALSE)","v":2}]
[null,"FAO",{"$f":"INDEX(Organizations[],MATCH(Main3WData[[#This Row],[Acronym]],AcronymList,0),1)","v":"United Nations Food and Agriculture Organization"},{"$f":"INDEX(Organizations[],MATCH(Main3WData[[#This Row],[Acronym]],AcronymList,0),3)","v":"UN"},"Sécurité alimentaire","Regulier","Gao",{"$f":"VLOOKUP(Main3WData[[#This Row],[Admin Unit Name]],AdminUnits[],2,FALSE)","v":"ML07"},{"$f":"VLOOKUP(Main3WData[[#This Row],[Admin Unit Name]],AdminUnits[],3,FALSE)","v":"Nord"},{"$f":"VLOOKUP(Main3WData[[#This Row],[Admin Unit Name]],AdminUnits[],4,FALSE)","v":7},{"$f":"VLOOKUP(Main3WData[[#This Row],[Sector]],Sectors[],2,FALSE)","v":7}]
[null,"FAO",{"$f":"INDEX(Organizations[],MATCH(Main3WData[[#This Row],[Acronym]],AcronymList,0),1)","v":"United Nations Food and Agriculture Organization"},{"$f":"INDEX(Organizations[],MATCH(Main3WData[[#This Row],[Acronym]],AcronymList,0),3)","v":"UN"},"Sécurité alimentaire","Regulier","Mopti",{"$f":"VLOOKUP(Main3WData[[#This Row],[Admin Unit Name]],AdminUnits[],2,FALSE)","v":"ML05"},{"$f":"VLOOKUP(Main3WData[[#This Row],[Admin Unit Name]],AdminUnits[],3,FALSE)","v":"Sud"},{"$f":"VLOOKUP(Main3WData[[#This Row],[Admin Unit Name]],AdminUnits[],4,FALSE)","v":5},{"$f":"VLOOKUP(Main3WData[[#This Row],[Sector]],Sectors[],2,FALSE)","v":7}]
[null,"FAO",{"$f":"INDEX(Organizations[],MATCH(Main3WData[[#This Row],[Acronym]],AcronymList,0),1)","v":"United Nations Food and Agriculture Organization"},{"$f":"INDEX(Organizations[],MATCH(Main3WData[[#This Row],[Acronym]],AcronymList,0),3)","v":"UN"},"Sécurité alimentaire","Regulier","Tombouctou",{"$f":"VLOOKUP(Main3WData[[#This Row],[Admin Unit Name]],AdminUnits[],2,FALSE)","v":"ML06"},{"$f":"VLOOKUP(Main3WData[[#This Row],[Admin Unit Name]],AdminUnits[],3,FALSE)","v":"Nord"},{"$f":"VLOOKUP(Main3WData[[#This Row],[Admin Unit Name]],AdminUnits[],4,FALSE)","v":6},{"$f":"VLOOKUP(Main3WData[[#This Row],[Sector]],Sectors[],2,FALSE)","v":7}]
[null,"FAABA",{"$f":"INDEX(Organizations[],MATCH(Main3WData[[#This Row],[Acronym]],AcronymList,0),1)","v":"FAABA"},{"$f":"INDEX(Organizations[],MATCH(Main3WData[[#This Row],[Acronym]],AcronymList,0),3)","v":"ONG Nat."},"Education","Regulier","Gao",{"$f":"VLOOKUP(Main3WData[[#This Row],[Admin Unit Name]],AdminUnits[],2,FALSE)","v":"ML07"},{"$f":"VLOOKUP(Main3WData[[#This Row],[Admin Unit Name]],AdminUnits[],3,FALSE)","v":"Nord"},{"$f":"VLOOKUP(Main3WData[[#This Row],[Admin Unit Name]],AdminUnits[],4,FALSE)","v":7},{"$f":"VLOOKUP(Main3WData[[#This Row],[Sector]],Sectors[],2,FALSE)","v":3}]
[null,"Eveil ",{"$f":"INDEX(Organizations[],MATCH(Main3WData[[#This Row],[Acronym]],AcronymList,0),1)","v":"Eveil "},{"$f":"INDEX(Organizations[],MATCH(Main3WData[[#This Row],[Acronym]],AcronymList,0),3)","v":"ONG Nat."},"Education","Regulier","Mopti",{"$f":"VLOOKUP(Main3WData[[#This Row],[Admin Unit Name]],AdminUnits[],2,FALSE)","v":"ML05"},{"$f":"VLOOKUP(Main3WData[[#This Row],[Admin Unit Name]],AdminUnits[],3,FALSE)","v":"Sud"},{"$f":"VLOOKUP(Main3WData[[#This Row],[Admin Unit Name]],AdminUnits[],4,FALSE)","v":5},{"$f":"VLOOKUP(Main3WData[[#This Row],[Sector]],Sectors[],2,FALSE)","v":3}]
[null,"ENDA Mali",{"$f":"INDEX(Organizations[],MATCH(Main3WData[[#This Row],[Acronym]],AcronymList,0),1)","v":"ENDA MALI"},{"$f":"INDEX(Organizations[],MATCH(Main3WData[[#This Row],[Acronym]],AcronymList,0),3)","v":"ONG Int."},"Protection","Regulier","Bamako",{"$f":"VLOOKUP(Main3WData[[#This Row],[Admin Unit Name]],AdminUnits[],2,FALSE)","v":"ML09"},{"$f":"VLOOKUP(Main3WData[[#This Row],[Admin Unit Name]],AdminUnits[],3,FALSE)","v":"Sud"},{"$f":"VLOOKUP(Main3WData[[#This Row],[Admin Unit Name]],AdminUnits[],4,FALSE)","v":0},{"$f":"VLOOKUP(Main3WData[[#This Row],[Sector]],Sectors[],2,FALSE)","v":5}]
[null,"ENDA Mali",{"$f":"INDEX(Organizations[],MATCH(Main3WData[[#This Row],[Acronym]],AcronymList,0),1)","v":"ENDA MALI"},{"$f":"INDEX(Organizations[],MATCH(Main3WData[[#This Row],[Acronym]],AcronymList,0),3)","v":"ONG Int."},"Protection","Regulier","Gao",{"$f":"VLOOKUP(Main3WData[[#This Row],[Admin Unit Name]],AdminUnits[],2,FALSE)","v":"ML07"},{"$f":"VLOOKUP(Main3WData[[#This Row],[Admin Unit Name]],AdminUnits[],3,FALSE)","v":"Nord"},{"$f":"VLOOKUP(Main3WData[[#This Row],[Admin Unit Name]],AdminUnits[],4,FALSE)","v":7},{"$f":"VLOOKUP(Main3WData[[#This Row],[Sector]],Sectors[],2,FALSE)","v":5}]
[null,"ENDA Mali",{"$f":"INDEX(Organizations[],MATCH(Main3WData[[#This Row],[Acronym]],AcronymList,0),1)","v":"ENDA MALI"},{"$f":"INDEX(Organizations[],MATCH(Main3WData[[#This Row],[Acronym]],AcronymList,0),3)","v":"ONG Int."},"Protection","Regulier","Kayes",{"$f":"VLOOKUP(Main3WData[[#This Row],[Admin Unit Name]],AdminUnits[],2,FALSE)","v":"ML01"},{"$f":"VLOOKUP(Main3WData[[#This Row],[Admin Unit Name]],AdminUnits[],3,FALSE)","v":"Sud"},{"$f":"VLOOKUP(Main3WData[[#This Row],[Admin Unit Name]],AdminUnits[],4,FALSE)","v":1},{"$f":"VLOOKUP(Main3WData[[#This Row],[Sector]],Sectors[],2,FALSE)","v":5}]
[null,"ENDA Mali",{"$f":"INDEX(Organizations[],MATCH(Main3WData[[#This Row],[Acronym]],AcronymList,0),1)","v":"ENDA MALI"},{"$f":"INDEX(Organizations[],MATCH(Main3WData[[#This Row],[Acronym]],AcronymList,0),3)","v":"ONG Int."},"Protection","Regulier","Koulikoro",{"$f":"VLOOKUP(Main3WData[[#This Row],[Admin Unit Name]],AdminUnits[],2,FALSE)","v":"ML02"},{"$f":"VLOOKUP(Main3WData[[#This Row],[Admin Unit Name]],AdminUnits[],3,FALSE)","v":"Sud"},{"$f":"VLOOKUP(Main3WData[[#This Row],[Admin Unit Name]],AdminUnits[],4,FALSE)","v":2},{"$f":"VLOOKUP(Main3WData[[#This Row],[Sector]],Sectors[],2,FALSE)","v":5}]
[null,"ENDA Mali",{"$f":"INDEX(Organizations[],MATCH(Main3WData[[#This Row],[Acronym]],AcronymList,0),1)","v":"ENDA MALI"},{"$f":"INDEX(Organizations[],MATCH(Main3WData[[#This Row],[Acronym]],AcronymList,0),3)","v":"ONG Int."},"Protection","Regulier","Mopti",{"$f":"VLOOKUP(Main3WData[[#This Row],[Admin Unit Name]],AdminUnits[],2,FALSE)","v":"ML05"},{"$f":"VLOOKUP(Main3WData[[#This Row],[Admin Unit Name]],AdminUnits[],3,FALSE)","v":"Sud"},{"$f":"VLOOKUP(Main3WData[[#This Row],[Admin Unit Name]],AdminUnits[],4,FALSE)","v":5},{"$f":"VLOOKUP(Main3WData[[#This Row],[Sector]],Sectors[],2,FALSE)","v":5}]
[null,"ENDA Mali",{"$f":"INDEX(Organizations[],MATCH(Main3WData[[#This Row],[Acronym]],AcronymList,0),1)","v":"ENDA MALI"},{"$f":"INDEX(Organizations[],MATCH(Main3WData[[#This Row],[Acronym]],AcronymList,0),3)","v":"ONG Int."},"Protection","Regulier","Segou",{"$f":"VLOOKUP(Main3WData[[#This Row],[Admin Unit Name]],AdminUnits[],2,FALSE)","v":"ML04"},{"$f":"VLOOKUP(Main3WData[[#This Row],[Admin Unit Name]],AdminUnits[],3,FALSE)","v":"Sud"},{"$f":"VLOOKUP(Main3WData[[#This Row],[Admin Unit Name]],AdminUnits[],4,FALSE)","v":4},{"$f":"VLOOKUP(Main3WData[[#This Row],[Sector]],Sectors[],2,FALSE)","v":5}]
[null,"ENDA Mali",{"$f":"INDEX(Organizations[],MATCH(Main3WData[[#This Row],[Acronym]],AcronymList,0),1)","v":"ENDA MALI"},{"$f":"INDEX(Organizations[],MATCH(Main3WData[[#This Row],[Acronym]],AcronymList,0),3)","v":"ONG Int."},"Protection","Regulier","Sikasso",{"$f":"VLOOKUP(Main3WData[[#This Row],[Admin Unit Name]],AdminUnits[],2,FALSE)","v":"ML03"},{"$f":"VLOOKUP(Main3WData[[#This Row],[Admin Unit Name]],AdminUnits[],3,FALSE)","v":"Sud"},{"$f":"VLOOKUP(Main3WData[[#This Row],[Admin Unit Name]],AdminUnits[],4,FALSE)","v":3},{"$f":"VLOOKUP(Main3WData[[#This Row],[Sector]],Sectors[],2,FALSE)","v":5}]
[null,"ENDA Mali",{"$f":"INDEX(Organizations[],MATCH(Main3WData[[#This Row],[Acronym]],AcronymList,0),1)","v":"ENDA MALI"},{"$f":"INDEX(Organizations[],MATCH(Main3WData[[#This Row],[Acronym]],AcronymList,0),3)","v":"ONG Int."},"Protection","Regulier","Tombouctou",{"$f":"VLOOKUP(Main3WData[[#This Row],[Admin Unit Name]],AdminUnits[],2,FALSE)","v":"ML06"},{"$f":"VLOOKUP(Main3WData[[#This Row],[Admin Unit Name]],AdminUnits[],3,FALSE)","v":"Nord"},{"$f":"VLOOKUP(Main3WData[[#This Row],[Admin Unit Name]],AdminUnits[],4,FALSE)","v":6},{"$f":"VLOOKUP(Main3WData[[#This Row],[Sector]],Sectors[],2,FALSE)","v":5}]
[null,"ENDA Mali",{"$f":"INDEX(Organizations[],MATCH(Main3WData[[#This Row],[Acronym]],AcronymList,0),1)","v":"ENDA MALI"},{"$f":"INDEX(Organizations[],MATCH(Main3WData[[#This Row],[Acronym]],AcronymList,0),3)","v":"ONG Int."},"Sécurité alimentaire","Regulier","Kayes",{"$f":"VLOOKUP(Main3WData[[#This Row],[Admin Unit Name]],AdminUnits[],2,FALSE)","v":"ML01"},{"$f":"VLOOKUP(Main3WData[[#This Row],[Admin Unit Name]],AdminUnits[],3,FALSE)","v":"Sud"},{"$f":"VLOOKUP(Main3WData[[#This Row],[Admin Unit Name]],AdminUnits[],4,FALSE)","v":1},{"$f":"VLOOKUP(Main3WData[[#This Row],[Sector]],Sectors[],2,FALSE)","v":7}]
[null,"ENDA Mali",{"$f":"INDEX(Organizations[],MATCH(Main3WData[[#This Row],[Acronym]],AcronymList,0),1)","v":"ENDA MALI"},{"$f":"INDEX(Organizations[],MATCH(Main3WData[[#This Row],[Acronym]],AcronymList,0),3)","v":"ONG Int."},"Sécurité alimentaire","Regulier","Mopti",{"$f":"VLOOKUP(Main3WData[[#This Row],[Admin Unit Name]],AdminUnits[],2,FALSE)","v":"ML05"},{"$f":"VLOOKUP(Main3WData[[#This Row],[Admin Unit Name]],AdminUnits[],3,FALSE)","v":"Sud"},{"$f":"VLOOKUP(Main3WData[[#This Row],[Admin Unit Name]],AdminUnits[],4,FALSE)","v":5},{"$f":"VLOOKUP(Main3WData[[#This Row],[Sector]],Sectors[],2,FALSE)","v":7}]
[null,"ENDA Mali",{"$f":"INDEX(Organizations[],MATCH(Main3WData[[#This Row],[Acronym]],AcronymList,0),1)","v":"ENDA MALI"},{"$f":"INDEX(Organizations[],MATCH(Main3WData[[#This Row],[Acronym]],AcronymList,0),3)","v":"ONG Int."},"Sécurité alimentaire","Regulier","Segou",{"$f":"VLOOKUP(Main3WData[[#This Row],[Admin Unit Name]],AdminUnits[],2,FALSE)","v":"ML04"},{"$f":"VLOOKUP(Main3WData[[#This Row],[Admin Unit Name]],AdminUnits[],3,FALSE)","v":"Sud"},{"$f":"VLOOKUP(Main3WData[[#This Row],[Admin Unit Name]],AdminUnits[],4,FALSE)","v":4},{"$f":"VLOOKUP(Main3WData[[#This Row],[Sector]],Sectors[],2,FALSE)","v":7}]
[null,"DWHH",{"$f":"INDEX(Organizations[],MATCH(Main3WData[[#This Row],[Acronym]],AcronymList,0),1)","v":"Deutsche Welthungerhilfe"},{"$f":"INDEX(Organizations[],MATCH(Main3WData[[#This Row],[Acronym]],AcronymList,0),3)","v":"ONG Int."},"Nutrition","Regulier","Tombouctou",{"$f":"VLOOKUP(Main3WData[[#This Row],[Admin Unit Name]],AdminUnits[],2,FALSE)","v":"ML06"},{"$f":"VLOOKUP(Main3WData[[#This Row],[Admin Unit Name]],AdminUnits[],3,FALSE)","v":"Nord"},{"$f":"VLOOKUP(Main3WData[[#This Row],[Admin Unit Name]],AdminUnits[],4,FALSE)","v":6},{"$f":"VLOOKUP(Main3WData[[#This Row],[Sector]],Sectors[],2,FALSE)","v":4}]
[null,"DWHH",{"$f":"INDEX(Organizations[],MATCH(Main3WData[[#This Row],[Acronym]],AcronymList,0),1)","v":"Deutsche Welthungerhilfe"},{"$f":"INDEX(Organizations[],MATCH(Main3WData[[#This Row],[Acronym]],AcronymList,0),3)","v":"ONG Int."},"Sécurité alimentaire","Regulier","Tombouctou",{"$f":"VLOOKUP(Main3WData[[#This Row],[Admin Unit Name]],AdminUnits[],2,FALSE)","v":"ML06"},{"$f":"VLOOKUP(Main3WData[[#This Row],[Admin Unit Name]],AdminUnits[],3,FALSE)","v":"Nord"},{"$f":"VLOOKUP(Main3WData[[#This Row],[Admin Unit Name]],AdminUnits[],4,FALSE)","v":6},{"$f":"VLOOKUP(Main3WData[[#This Row],[Sector]],Sectors[],2,FALSE)","v":7}]
[null,"DRS",{"$f":"INDEX(Organizations[],MATCH(Main3WData[[#This Row],[Acronym]],AcronymList,0),1)","v":"Direction Régionale de la Santé"},{"$f":"INDEX(Organizations[],MATCH(Main3WData[[#This Row],[Acronym]],AcronymList,0),3)","v":"Gouvernement"},"Coordination","Regulier","Gao",{"$f":"VLOOKUP(Main3WData[[#This Row],[Admin Unit Name]],AdminUnits[],2,FALSE)","v":"ML07"},{"$f":"VLOOKUP(Main3WData[[#This Row],[Admin Unit Name]],AdminUnits[],3,FALSE)","v":"Nord"},{"$f":"VLOOKUP(Main3WData[[#This Row],[Admin Unit Name]],AdminUnits[],4,FALSE)","v":7},{"$f":"VLOOKUP(Main3WData[[#This Row],[Sector]],Sectors[],2,FALSE)","v":2}]
[null,"DRS",{"$f":"INDEX(Organizations[],MATCH(Main3WData[[#This Row],[Acronym]],AcronymList,0),1)","v":"Direction Régionale de la Santé"},{"$f":"INDEX(Organizations[],MATCH(Main3WData[[#This Row],[Acronym]],AcronymList,0),3)","v":"Gouvernement"},"Coordination","Regulier","Mopti",{"$f":"VLOOKUP(Main3WData[[#This Row],[Admin Unit Name]],AdminUnits[],2,FALSE)","v":"ML05"},{"$f":"VLOOKUP(Main3WData[[#This Row],[Admin Unit Name]],AdminUnits[],3,FALSE)","v":"Sud"},{"$f":"VLOOKUP(Main3WData[[#This Row],[Admin Unit Name]],AdminUnits[],4,FALSE)","v":5},{"$f":"VLOOKUP(Main3WData[[#This Row],[Sector]],Sectors[],2,FALSE)","v":2}]
[null,"DRS",{"$f":"INDEX(Organizations[],MATCH(Main3WData[[#This Row],[Acronym]],AcronymList,0),1)","v":"Direction Régionale de la Santé"},{"$f":"INDEX(Organizations[],MATCH(Main3WData[[#This Row],[Acronym]],AcronymList,0),3)","v":"Gouvernement"},"Coordination","Regulier","Tombouctou",{"$f":"VLOOKUP(Main3WData[[#This Row],[Admin Unit Name]],AdminUnits[],2,FALSE)","v":"ML06"},{"$f":"VLOOKUP(Main3WData[[#This Row],[Admin Unit Name]],AdminUnits[],3,FALSE)","v":"Nord"},{"$f":"VLOOKUP(Main3WData[[#This Row],[Admin Unit Name]],AdminUnits[],4,FALSE)","v":6},{"$f":"VLOOKUP(Main3WData[[#This Row],[Sector]],Sectors[],2,FALSE)","v":2}]
[null,"DRH",{"$f":"INDEX(Organizations[],MATCH(Main3WData[[#This Row],[Acronym]],AcronymList,0),1)","v":"Direction Régionale de l'Hydraulique"},{"$f":"INDEX(Organizations[],MATCH(Main3WData[[#This Row],[Acronym]],AcronymList,0),3)","v":"Gouvernement"},"Coordination","Regulier","Gao",{"$f":"VLOOKUP(Main3WData[[#This Row],[Admin Unit Name]],AdminUnits[],2,FALSE)","v":"ML07"},{"$f":"VLOOKUP(Main3WData[[#This Row],[Admin Unit Name]],AdminUnits[],3,FALSE)","v":"Nord"},{"$f":"VLOOKUP(Main3WData[[#This Row],[Admin Unit Name]],AdminUnits[],4,FALSE)","v":7},{"$f":"VLOOKUP(Main3WData[[#This Row],[Sector]],Sectors[],2,FALSE)","v":2}]
[null,"DRH",{"$f":"INDEX(Organizations[],MATCH(Main3WData[[#This Row],[Acronym]],AcronymList,0),1)","v":"Direction Régionale de l'Hydraulique"},{"$f":"INDEX(Organizations[],MATCH(Main3WData[[#This Row],[Acronym]],AcronymList,0),3)","v":"Gouvernement"},"Coordination","Regulier","Tombouctou",{"$f":"VLOOKUP(Main3WData[[#This Row],[Admin Unit Name]],AdminUnits[],2,FALSE)","v":"ML06"},{"$f":"VLOOKUP(Main3WData[[#This Row],[Admin Unit Name]],AdminUnits[],3,FALSE)","v":"Nord"},{"$f":"VLOOKUP(Main3WData[[#This Row],[Admin Unit Name]],AdminUnits[],4,FALSE)","v":6},{"$f":"VLOOKUP(Main3WData[[#This Row],[Sector]],Sectors[],2,FALSE)","v":2}]
[null,"DRDSES",{"$f":"INDEX(Organizations[],MATCH(Main3WData[[#This Row],[Acronym]],AcronymList,0),1)","v":"DRDSES"},{"$f":"INDEX(Organizations[],MATCH(Main3WData[[#This Row],[Acronym]],AcronymList,0),3)","v":"Gouvernement"},"Coordination","Regulier","Tombouctou",{"$f":"VLOOKUP(Main3WData[[#This Row],[Admin Unit Name]],AdminUnits[],2,FALSE)","v":"ML06"},{"$f":"VLOOKUP(Main3WData[[#This Row],[Admin Unit Name]],AdminUnits[],3,FALSE)","v":"Nord"},{"$f":"VLOOKUP(Main3WData[[#This Row],[Admin Unit Name]],AdminUnits[],4,FALSE)","v":6},{"$f":"VLOOKUP(Main3WData[[#This Row],[Sector]],Sectors[],2,FALSE)","v":2}]
[null,"DRDS",{"$f":"INDEX(Organizations[],MATCH(Main3WData[[#This Row],[Acronym]],AcronymList,0),1)","v":"Direction Régionale du Développement Social"},{"$f":"INDEX(Organizations[],MATCH(Main3WData[[#This Row],[Acronym]],AcronymList,0),3)","v":"Gouvernement"},"Coordination","Regulier","Mopti",{"$f":"VLOOKUP(Main3WData[[#This Row],[Admin Unit Name]],AdminUnits[],2,FALSE)","v":"ML05"},{"$f":"VLOOKUP(Main3WData[[#This Row],[Admin Unit Name]],AdminUnits[],3,FALSE)","v":"Sud"},{"$f":"VLOOKUP(Main3WData[[#This Row],[Admin Unit Name]],AdminUnits[],4,FALSE)","v":5},{"$f":"VLOOKUP(Main3WData[[#This Row],[Sector]],Sectors[],2,FALSE)","v":2}]
[null,"DRDS",{"$f":"INDEX(Organizations[],MATCH(Main3WData[[#This Row],[Acronym]],AcronymList,0),1)","v":"Direction Régionale du Développement Social"},{"$f":"INDEX(Organizations[],MATCH(Main3WData[[#This Row],[Acronym]],AcronymList,0),3)","v":"Gouvernement"},"Coordination","Regulier","Segou",{"$f":"VLOOKUP(Main3WData[[#This Row],[Admin Unit Name]],AdminUnits[],2,FALSE)","v":"ML04"},{"$f":"VLOOKUP(Main3WData[[#This Row],[Admin Unit Name]],AdminUnits[],3,FALSE)","v":"Sud"},{"$f":"VLOOKUP(Main3WData[[#This Row],[Admin Unit Name]],AdminUnits[],4,FALSE)","v":4},{"$f":"VLOOKUP(Main3WData[[#This Row],[Sector]],Sectors[],2,FALSE)","v":2}]
[null,"DRC",{"$f":"INDEX(Organizations[],MATCH(Main3WData[[#This Row],[Acronym]],AcronymList,0),1)","v":"Danish Refugee Council"},{"$f":"INDEX(Organizations[],MATCH(Main3WData[[#This Row],[Acronym]],AcronymList,0),3)","v":"ONG Int."},"Protection","Regulier","Gao",{"$f":"VLOOKUP(Main3WData[[#This Row],[Admin Unit Name]],AdminUnits[],2,FALSE)","v":"ML07"},{"$f":"VLOOKUP(Main3WData[[#This Row],[Admin Unit Name]],AdminUnits[],3,FALSE)","v":"Nord"},{"$f":"VLOOKUP(Main3WData[[#This Row],[Admin Unit Name]],AdminUnits[],4,FALSE)","v":7},{"$f":"VLOOKUP(Main3WData[[#This Row],[Sector]],Sectors[],2,FALSE)","v":5}]
[null,"DRC",{"$f":"INDEX(Organizations[],MATCH(Main3WData[[#This Row],[Acronym]],AcronymList,0),1)","v":"Danish Refugee Council"},{"$f":"INDEX(Organizations[],MATCH(Main3WData[[#This Row],[Acronym]],AcronymList,0),3)","v":"ONG Int."},"Protection","Regulier","Mopti",{"$f":"VLOOKUP(Main3WData[[#This Row],[Admin Unit Name]],AdminUnits[],2,FALSE)","v":"ML05"},{"$f":"VLOOKUP(Main3WData[[#This Row],[Admin Unit Name]],AdminUnits[],3,FALSE)","v":"Sud"},{"$f":"VLOOKUP(Main3WData[[#This Row],[Admin Unit Name]],AdminUnits[],4,FALSE)","v":5},{"$f":"VLOOKUP(Main3WData[[#This Row],[Sector]],Sectors[],2,FALSE)","v":5}]
[null,"DRC",{"$f":"INDEX(Organizations[],MATCH(Main3WData[[#This Row],[Acronym]],AcronymList,0),1)","v":"Danish Refugee Council"},{"$f":"INDEX(Organizations[],MATCH(Main3WData[[#This Row],[Acronym]],AcronymList,0),3)","v":"ONG Int."},"Protection","Regulier","Tombouctou",{"$f":"VLOOKUP(Main3WData[[#This Row],[Admin Unit Name]],AdminUnits[],2,FALSE)","v":"ML06"},{"$f":"VLOOKUP(Main3WData[[#This Row],[Admin Unit Name]],AdminUnits[],3,FALSE)","v":"Nord"},{"$f":"VLOOKUP(Main3WData[[#This Row],[Admin Unit Name]],AdminUnits[],4,FALSE)","v":6},{"$f":"VLOOKUP(Main3WData[[#This Row],[Sector]],Sectors[],2,FALSE)","v":5}]
[null,"DRC",{"$f":"INDEX(Organizations[],MATCH(Main3WData[[#This Row],[Acronym]],AcronymList,0),1)","v":"Danish Refugee Council"},{"$f":"INDEX(Organizations[],MATCH(Main3WData[[#This Row],[Acronym]],AcronymList,0),3)","v":"ONG Int."},"Sécurité alimentaire","Regulier","Tombouctou",{"$f":"VLOOKUP(Main3WData[[#This Row],[Admin Unit Name]],AdminUnits[],2,FALSE)","v":"ML06"},{"$f":"VLOOKUP(Main3WData[[#This Row],[Admin Unit Name]],AdminUnits[],3,FALSE)","v":"Nord"},{"$f":"VLOOKUP(Main3WData[[#This Row],[Admin Unit Name]],AdminUnits[],4,FALSE)","v":6},{"$f":"VLOOKUP(Main3WData[[#This Row],[Sector]],Sectors[],2,FALSE)","v":7}]
[null,"DRA",{"$f":"INDEX(Organizations[],MATCH(Main3WData[[#This Row],[Acronym]],AcronymList,0),1)","v":"Direction Régionale de l'agriculture"},{"$f":"INDEX(Organizations[],MATCH(Main3WData[[#This Row],[Acronym]],AcronymList,0),3)","v":"Gouvernement"},"Sécurité alimentaire","Regulier","Mopti",{"$f":"VLOOKUP(Main3WData[[#This Row],[Admin Unit Name]],AdminUnits[],2,FALSE)","v":"ML05"},{"$f":"VLOOKUP(Main3WData[[#This Row],[Admin Unit Name]],AdminUnits[],3,FALSE)","v":"Sud"},{"$f":"VLOOKUP(Main3WData[[#This Row],[Admin Unit Name]],AdminUnits[],4,FALSE)","v":5},{"$f":"VLOOKUP(Main3WData[[#This Row],[Sector]],Sectors[],2,FALSE)","v":7}]
[null,"DRA",{"$f":"INDEX(Organizations[],MATCH(Main3WData[[#This Row],[Acronym]],AcronymList,0),1)","v":"Direction Régionale de l'agriculture"},{"$f":"INDEX(Organizations[],MATCH(Main3WData[[#This Row],[Acronym]],AcronymList,0),3)","v":"Gouvernement"},"Sécurité alimentaire","Regulier","Sikasso",{"$f":"VLOOKUP(Main3WData[[#This Row],[Admin Unit Name]],AdminUnits[],2,FALSE)","v":"ML03"},{"$f":"VLOOKUP(Main3WData[[#This Row],[Admin Unit Name]],AdminUnits[],3,FALSE)","v":"Sud"},{"$f":"VLOOKUP(Main3WData[[#This Row],[Admin Unit Name]],AdminUnits[],4,FALSE)","v":3},{"$f":"VLOOKUP(Main3WData[[#This Row],[Sector]],Sectors[],2,FALSE)","v":7}]
[null,"Delta Survie",{"$f":"INDEX(Organizations[],MATCH(Main3WData[[#This Row],[Acronym]],AcronymList,0),1)","v":"Delta Survie"},{"$f":"INDEX(Organizations[],MATCH(Main3WData[[#This Row],[Acronym]],AcronymList,0),3)","v":"ONG Nat."},"Education","Regulier","Mopti",{"$f":"VLOOKUP(Main3WData[[#This Row],[Admin Unit Name]],AdminUnits[],2,FALSE)","v":"ML05"},{"$f":"VLOOKUP(Main3WData[[#This Row],[Admin Unit Name]],AdminUnits[],3,FALSE)","v":"Sud"},{"$f":"VLOOKUP(Main3WData[[#This Row],[Admin Unit Name]],AdminUnits[],4,FALSE)","v":5},{"$f":"VLOOKUP(Main3WData[[#This Row],[Sector]],Sectors[],2,FALSE)","v":3}]
[null,"Delta Survie",{"$f":"INDEX(Organizations[],MATCH(Main3WData[[#This Row],[Acronym]],AcronymList,0),1)","v":"Delta Survie"},{"$f":"INDEX(Organizations[],MATCH(Main3WData[[#This Row],[Acronym]],AcronymList,0),3)","v":"ONG Nat."},"Santé","Regulier","Mopti",{"$f":"VLOOKUP(Main3WData[[#This Row],[Admin Unit Name]],AdminUnits[],2,FALSE)","v":"ML05"},{"$f":"VLOOKUP(Main3WData[[#This Row],[Admin Unit Name]],AdminUnits[],3,FALSE)","v":"Sud"},{"$f":"VLOOKUP(Main3WData[[#This Row],[Admin Unit Name]],AdminUnits[],4,FALSE)","v":5},{"$f":"VLOOKUP(Main3WData[[#This Row],[Sector]],Sectors[],2,FALSE)","v":6}]
[null,"DDRK",{"$f":"INDEX(Organizations[],MATCH(Main3WData[[#This Row],[Acronym]],AcronymList,0),1)","v":"Developpement Durable dans la Region de Kidal"},{"$f":"INDEX(Organizations[],MATCH(Main3WData[[#This Row],[Acronym]],AcronymList,0),3)","v":"Association"},"Santé","Regulier","Kidal",{"$f":"VLOOKUP(Main3WData[[#This Row],[Admin Unit Name]],AdminUnits[],2,FALSE)","v":"ML08"},{"$f":"VLOOKUP(Main3WData[[#This Row],[Admin Unit Name]],AdminUnits[],3,FALSE)","v":"Nord"},{"$f":"VLOOKUP(Main3WData[[#This Row],[Admin Unit Name]],AdminUnits[],4,FALSE)","v":8},{"$f":"VLOOKUP(Main3WData[[#This Row],[Sector]],Sectors[],2,FALSE)","v":6}]
[null,"DCA Mine Action/UNMAS",{"$f":"INDEX(Organizations[],MATCH(Main3WData[[#This Row],[Acronym]],AcronymList,0),1)","v":"DCA Mine Action "},{"$f":"INDEX(Organizations[],MATCH(Main3WData[[#This Row],[Acronym]],AcronymList,0),3)","v":"ONG Int."},"Protection","Regulier","Mopti",{"$f":"VLOOKUP(Main3WData[[#This Row],[Admin Unit Name]],AdminUnits[],2,FALSE)","v":"ML05"},{"$f":"VLOOKUP(Main3WData[[#This Row],[Admin Unit Name]],AdminUnits[],3,FALSE)","v":"Sud"},{"$f":"VLOOKUP(Main3WData[[#This Row],[Admin Unit Name]],AdminUnits[],4,FALSE)","v":5},{"$f":"VLOOKUP(Main3WData[[#This Row],[Sector]],Sectors[],2,FALSE)","v":5}]
[null,"CSPEEDA",{"$f":"INDEX(Organizations[],MATCH(Main3WData[[#This Row],[Acronym]],AcronymList,0),1)","v":"CSPEEDA"},{"$f":"INDEX(Organizations[],MATCH(Main3WData[[#This Row],[Acronym]],AcronymList,0),3)","v":"ONG Nat."},"Sécurité alimentaire","Regulier","Koulikoro",{"$f":"VLOOKUP(Main3WData[[#This Row],[Admin Unit Name]],AdminUnits[],2,FALSE)","v":"ML02"},{"$f":"VLOOKUP(Main3WData[[#This Row],[Admin Unit Name]],AdminUnits[],3,FALSE)","v":"Sud"},{"$f":"VLOOKUP(Main3WData[[#This Row],[Admin Unit Name]],AdminUnits[],4,FALSE)","v":2},{"$f":"VLOOKUP(Main3WData[[#This Row],[Sector]],Sectors[],2,FALSE)","v":7}]
[null,"CSPEEDA",{"$f":"INDEX(Organizations[],MATCH(Main3WData[[#This Row],[Acronym]],AcronymList,0),1)","v":"CSPEEDA"},{"$f":"INDEX(Organizations[],MATCH(Main3WData[[#This Row],[Acronym]],AcronymList,0),3)","v":"ONG Nat."},"Sécurité alimentaire","Regulier","Tombouctou",{"$f":"VLOOKUP(Main3WData[[#This Row],[Admin Unit Name]],AdminUnits[],2,FALSE)","v":"ML06"},{"$f":"VLOOKUP(Main3WData[[#This Row],[Admin Unit Name]],AdminUnits[],3,FALSE)","v":"Nord"},{"$f":"VLOOKUP(Main3WData[[#This Row],[Admin Unit Name]],AdminUnits[],4,FALSE)","v":6},{"$f":"VLOOKUP(Main3WData[[#This Row],[Sector]],Sectors[],2,FALSE)","v":7}]
[null,"CRS",{"$f":"INDEX(Organizations[],MATCH(Main3WData[[#This Row],[Acronym]],AcronymList,0),1)","v":"Catholic Relief Services"},{"$f":"INDEX(Organizations[],MATCH(Main3WData[[#This Row],[Acronym]],AcronymList,0),3)","v":"ONG Int."},"Protection","Regulier","Gao",{"$f":"VLOOKUP(Main3WData[[#This Row],[Admin Unit Name]],AdminUnits[],2,FALSE)","v":"ML07"},{"$f":"VLOOKUP(Main3WData[[#This Row],[Admin Unit Name]],AdminUnits[],3,FALSE)","v":"Nord"},{"$f":"VLOOKUP(Main3WData[[#This Row],[Admin Unit Name]],AdminUnits[],4,FALSE)","v":7},{"$f":"VLOOKUP(Main3WData[[#This Row],[Sector]],Sectors[],2,FALSE)","v":5}]
[null,"CRS",{"$f":"INDEX(Organizations[],MATCH(Main3WData[[#This Row],[Acronym]],AcronymList,0),1)","v":"Catholic Relief Services"},{"$f":"INDEX(Organizations[],MATCH(Main3WData[[#This Row],[Acronym]],AcronymList,0),3)","v":"ONG Int."},"Santé","Regulier","Mopti",{"$f":"VLOOKUP(Main3WData[[#This Row],[Admin Unit Name]],AdminUnits[],2,FALSE)","v":"ML05"},{"$f":"VLOOKUP(Main3WData[[#This Row],[Admin Unit Name]],AdminUnits[],3,FALSE)","v":"Sud"},{"$f":"VLOOKUP(Main3WData[[#This Row],[Admin Unit Name]],AdminUnits[],4,FALSE)","v":5},{"$f":"VLOOKUP(Main3WData[[#This Row],[Sector]],Sectors[],2,FALSE)","v":6}]
[null,"CRS",{"$f":"INDEX(Organizations[],MATCH(Main3WData[[#This Row],[Acronym]],AcronymList,0),1)","v":"Catholic Relief Services"},{"$f":"INDEX(Organizations[],MATCH(Main3WData[[#This Row],[Acronym]],AcronymList,0),3)","v":"ONG Int."},"Sécurité alimentaire","Regulier","Mopti",{"$f":"VLOOKUP(Main3WData[[#This Row],[Admin Unit Name]],AdminUnits[],2,FALSE)","v":"ML05"},{"$f":"VLOOKUP(Main3WData[[#This Row],[Admin Unit Name]],AdminUnits[],3,FALSE)","v":"Sud"},{"$f":"VLOOKUP(Main3WData[[#This Row],[Admin Unit Name]],AdminUnits[],4,FALSE)","v":5},{"$f":"VLOOKUP(Main3WData[[#This Row],[Sector]],Sectors[],2,FALSE)","v":7}]
[null,"CRS",{"$f":"INDEX(Organizations[],MATCH(Main3WData[[#This Row],[Acronym]],AcronymList,0),1)","v":"Catholic Relief Services"},{"$f":"INDEX(Organizations[],MATCH(Main3WData[[#This Row],[Acronym]],AcronymList,0),3)","v":"ONG Int."},"Sécurité alimentaire","Regulier","Sikasso",{"$f":"VLOOKUP(Main3WData[[#This Row],[Admin Unit Name]],AdminUnits[],2,FALSE)","v":"ML03"},{"$f":"VLOOKUP(Main3WData[[#This Row],[Admin Unit Name]],AdminUnits[],3,FALSE)","v":"Sud"},{"$f":"VLOOKUP(Main3WData[[#This Row],[Admin Unit Name]],AdminUnits[],4,FALSE)","v":3},{"$f":"VLOOKUP(Main3WData[[#This Row],[Sector]],Sectors[],2,FALSE)","v":7}]
[null,"CRS",{"$f":"INDEX(Organizations[],MATCH(Main3WData[[#This Row],[Acronym]],AcronymList,0),1)","v":"Catholic Relief Services"},{"$f":"INDEX(Organizations[],MATCH(Main3WData[[#This Row],[Acronym]],AcronymList,0),3)","v":"ONG Int."},"Sécurité alimentaire","Regulier","Tombouctou",{"$f":"VLOOKUP(Main3WData[[#This Row],[Admin Unit Name]],AdminUnits[],2,FALSE)","v":"ML06"},{"$f":"VLOOKUP(Main3WData[[#This Row],[Admin Unit Name]],AdminUnits[],3,FALSE)","v":"Nord"},{"$f":"VLOOKUP(Main3WData[[#This Row],[Admin Unit Name]],AdminUnits[],4,FALSE)","v":6},{"$f":"VLOOKUP(Main3WData[[#This Row],[Sector]],Sectors[],2,FALSE)","v":7}]
[null,"CR-Mali",{"$f":"INDEX(Organizations[],MATCH(Main3WData[[#This Row],[Acronym]],AcronymList,0),1)","v":"Croix-Rouge Mali"},{"$f":"INDEX(Organizations[],MATCH(Main3WData[[#This Row],[Acronym]],AcronymList,0),3)","v":"Mouv. Croix-rouge"},"Education","Regulier","Tombouctou",{"$f":"VLOOKUP(Main3WData[[#This Row],[Admin Unit Name]],AdminUnits[],2,FALSE)","v":"ML06"},{"$f":"VLOOKUP(Main3WData[[#This Row],[Admin Unit Name]],AdminUnits[],3,FALSE)","v":"Nord"},{"$f":"VLOOKUP(Main3WData[[#This Row],[Admin Unit Name]],AdminUnits[],4,FALSE)","v":6},{"$f":"VLOOKUP(Main3WData[[#This Row],[Sector]],Sectors[],2,FALSE)","v":3}]
[null,"CR-Mali",{"$f":"INDEX(Organizations[],MATCH(Main3WData[[#This Row],[Acronym]],AcronymList,0),1)","v":"Croix-Rouge Mali"},{"$f":"INDEX(Organizations[],MATCH(Main3WData[[#This Row],[Acronym]],AcronymList,0),3)","v":"Mouv. Croix-rouge"},"Santé","Regulier","Mopti",{"$f":"VLOOKUP(Main3WData[[#This Row],[Admin Unit Name]],AdminUnits[],2,FALSE)","v":"ML05"},{"$f":"VLOOKUP(Main3WData[[#This Row],[Admin Unit Name]],AdminUnits[],3,FALSE)","v":"Sud"},{"$f":"VLOOKUP(Main3WData[[#This Row],[Admin Unit Name]],AdminUnits[],4,FALSE)","v":5},{"$f":"VLOOKUP(Main3WData[[#This Row],[Sector]],Sectors[],2,FALSE)","v":6}]
[null,"CR-Mali",{"$f":"INDEX(Organizations[],MATCH(Main3WData[[#This Row],[Acronym]],AcronymList,0),1)","v":"Croix-Rouge Mali"},{"$f":"INDEX(Organizations[],MATCH(Main3WData[[#This Row],[Acronym]],AcronymList,0),3)","v":"Mouv. Croix-rouge"},"Sécurité alimentaire","Regulier","Mopti",{"$f":"VLOOKUP(Main3WData[[#This Row],[Admin Unit Name]],AdminUnits[],2,FALSE)","v":"ML05"},{"$f":"VLOOKUP(Main3WData[[#This Row],[Admin Unit Name]],AdminUnits[],3,FALSE)","v":"Sud"},{"$f":"VLOOKUP(Main3WData[[#This Row],[Admin Unit Name]],AdminUnits[],4,FALSE)","v":5},{"$f":"VLOOKUP(Main3WData[[#This Row],[Sector]],Sectors[],2,FALSE)","v":7}]
[null,"CR-Luxembourg",{"$f":"INDEX(Organizations[],MATCH(Main3WData[[#This Row],[Acronym]],AcronymList,0),1)","v":"Croix Rouge Luxembourg"},{"$f":"INDEX(Organizations[],MATCH(Main3WData[[#This Row],[Acronym]],AcronymList,0),3)","v":"Mouv. Croix-rouge"},"Abris et NFI","Regulier","Tombouctou",{"$f":"VLOOKUP(Main3WData[[#This Row],[Admin Unit Name]],AdminUnits[],2,FALSE)","v":"ML06"},{"$f":"VLOOKUP(Main3WData[[#This Row],[Admin Unit Name]],AdminUnits[],3,FALSE)","v":"Nord"},{"$f":"VLOOKUP(Main3WData[[#This Row],[Admin Unit Name]],AdminUnits[],4,FALSE)","v":6},{"$f":"VLOOKUP(Main3WData[[#This Row],[Sector]],Sectors[],2,FALSE)","v":1}]
[null,"CR-Luxembourg",{"$f":"INDEX(Organizations[],MATCH(Main3WData[[#This Row],[Acronym]],AcronymList,0),1)","v":"Croix Rouge Luxembourg"},{"$f":"INDEX(Organizations[],MATCH(Main3WData[[#This Row],[Acronym]],AcronymList,0),3)","v":"Mouv. Croix-rouge"},"Education","Regulier","Tombouctou",{"$f":"VLOOKUP(Main3WData[[#This Row],[Admin Unit Name]],AdminUnits[],2,FALSE)","v":"ML06"},{"$f":"VLOOKUP(Main3WData[[#This Row],[Admin Unit Name]],AdminUnits[],3,FALSE)","v":"Nord"},{"$f":"VLOOKUP(Main3WData[[#This Row],[Admin Unit Name]],AdminUnits[],4,FALSE)","v":6},{"$f":"VLOOKUP(Main3WData[[#This Row],[Sector]],Sectors[],2,FALSE)","v":3}]
[null,"CR-France",{"$f":"INDEX(Organizations[],MATCH(Main3WData[[#This Row],[Acronym]],AcronymList,0),1)","v":"Croix Rouge France"},{"$f":"INDEX(Organizations[],MATCH(Main3WData[[#This Row],[Acronym]],AcronymList,0),3)","v":"Mouv. Croix-rouge"},"EHA","Regulier","Gao",{"$f":"VLOOKUP(Main3WData[[#This Row],[Admin Unit Name]],AdminUnits[],2,FALSE)","v":"ML07"},{"$f":"VLOOKUP(Main3WData[[#This Row],[Admin Unit Name]],AdminUnits[],3,FALSE)","v":"Nord"},{"$f":"VLOOKUP(Main3WData[[#This Row],[Admin Unit Name]],AdminUnits[],4,FALSE)","v":7},{"$f":"VLOOKUP(Main3WData[[#This Row],[Sector]],Sectors[],2,FALSE)","v":8}]
[null,"CR-France",{"$f":"INDEX(Organizations[],MATCH(Main3WData[[#This Row],[Acronym]],AcronymList,0),1)","v":"Croix Rouge France"},{"$f":"INDEX(Organizations[],MATCH(Main3WData[[#This Row],[Acronym]],AcronymList,0),3)","v":"Mouv. Croix-rouge"},"EHA","Regulier","Kayes",{"$f":"VLOOKUP(Main3WData[[#This Row],[Admin Unit Name]],AdminUnits[],2,FALSE)","v":"ML01"},{"$f":"VLOOKUP(Main3WData[[#This Row],[Admin Unit Name]],AdminUnits[],3,FALSE)","v":"Sud"},{"$f":"VLOOKUP(Main3WData[[#This Row],[Admin Unit Name]],AdminUnits[],4,FALSE)","v":1},{"$f":"VLOOKUP(Main3WData[[#This Row],[Sector]],Sectors[],2,FALSE)","v":8}]
[null,"CR-France",{"$f":"INDEX(Organizations[],MATCH(Main3WData[[#This Row],[Acronym]],AcronymList,0),1)","v":"Croix Rouge France"},{"$f":"INDEX(Organizations[],MATCH(Main3WData[[#This Row],[Acronym]],AcronymList,0),3)","v":"Mouv. Croix-rouge"},"Nutrition","Regulier","Bamako",{"$f":"VLOOKUP(Main3WData[[#This Row],[Admin Unit Name]],AdminUnits[],2,FALSE)","v":"ML09"},{"$f":"VLOOKUP(Main3WData[[#This Row],[Admin Unit Name]],AdminUnits[],3,FALSE)","v":"Sud"},{"$f":"VLOOKUP(Main3WData[[#This Row],[Admin Unit Name]],AdminUnits[],4,FALSE)","v":0},{"$f":"VLOOKUP(Main3WData[[#This Row],[Sector]],Sectors[],2,FALSE)","v":4}]
[null,"CR-France",{"$f":"INDEX(Organizations[],MATCH(Main3WData[[#This Row],[Acronym]],AcronymList,0),1)","v":"Croix Rouge France"},{"$f":"INDEX(Organizations[],MATCH(Main3WData[[#This Row],[Acronym]],AcronymList,0),3)","v":"Mouv. Croix-rouge"},"Nutrition","Regulier","Kayes",{"$f":"VLOOKUP(Main3WData[[#This Row],[Admin Unit Name]],AdminUnits[],2,FALSE)","v":"ML01"},{"$f":"VLOOKUP(Main3WData[[#This Row],[Admin Unit Name]],AdminUnits[],3,FALSE)","v":"Sud"},{"$f":"VLOOKUP(Main3WData[[#This Row],[Admin Unit Name]],AdminUnits[],4,FALSE)","v":1},{"$f":"VLOOKUP(Main3WData[[#This Row],[Sector]],Sectors[],2,FALSE)","v":4}]
[null,"CR-France",{"$f":"INDEX(Organizations[],MATCH(Main3WData[[#This Row],[Acronym]],AcronymList,0),1)","v":"Croix Rouge France"},{"$f":"INDEX(Organizations[],MATCH(Main3WData[[#This Row],[Acronym]],AcronymList,0),3)","v":"Mouv. Croix-rouge"},"Nutrition","Regulier","Kidal",{"$f":"VLOOKUP(Main3WData[[#This Row],[Admin Unit Name]],AdminUnits[],2,FALSE)","v":"ML08"},{"$f":"VLOOKUP(Main3WData[[#This Row],[Admin Unit Name]],AdminUnits[],3,FALSE)","v":"Nord"},{"$f":"VLOOKUP(Main3WData[[#This Row],[Admin Unit Name]],AdminUnits[],4,FALSE)","v":8},{"$f":"VLOOKUP(Main3WData[[#This Row],[Sector]],Sectors[],2,FALSE)","v":4}]
[null,"CR-France",{"$f":"INDEX(Organizations[],MATCH(Main3WData[[#This Row],[Acronym]],AcronymList,0),1)","v":"Croix Rouge France"},{"$f":"INDEX(Organizations[],MATCH(Main3WData[[#This Row],[Acronym]],AcronymList,0),3)","v":"Mouv. Croix-rouge"},"Nutrition","Regulier","Tombouctou",{"$f":"VLOOKUP(Main3WData[[#This Row],[Admin Unit Name]],AdminUnits[],2,FALSE)","v":"ML06"},{"$f":"VLOOKUP(Main3WData[[#This Row],[Admin Unit Name]],AdminUnits[],3,FALSE)","v":"Nord"},{"$f":"VLOOKUP(Main3WData[[#This Row],[Admin Unit Name]],AdminUnits[],4,FALSE)","v":6},{"$f":"VLOOKUP(Main3WData[[#This Row],[Sector]],Sectors[],2,FALSE)","v":4}]
[null,"CR-Espagne",{"$f":"INDEX(Organizations[],MATCH(Main3WData[[#This Row],[Acronym]],AcronymList,0),1)","v":"Croix Rouge Espagne"},{"$f":"INDEX(Organizations[],MATCH(Main3WData[[#This Row],[Acronym]],AcronymList,0),3)","v":"Mouv. Croix-rouge"},"Nutrition","Regulier","Tombouctou",{"$f":"VLOOKUP(Main3WData[[#This Row],[Admin Unit Name]],AdminUnits[],2,FALSE)","v":"ML06"},{"$f":"VLOOKUP(Main3WData[[#This Row],[Admin Unit Name]],AdminUnits[],3,FALSE)","v":"Nord"},{"$f":"VLOOKUP(Main3WData[[#This Row],[Admin Unit Name]],AdminUnits[],4,FALSE)","v":6},{"$f":"VLOOKUP(Main3WData[[#This Row],[Sector]],Sectors[],2,FALSE)","v":4}]
[null,"CR-Belgique",{"$f":"INDEX(Organizations[],MATCH(Main3WData[[#This Row],[Acronym]],AcronymList,0),1)","v":"Croix Rouge Belgique"},{"$f":"INDEX(Organizations[],MATCH(Main3WData[[#This Row],[Acronym]],AcronymList,0),3)","v":"Mouv. Croix-rouge"},"Nutrition","Regulier","Kayes",{"$f":"VLOOKUP(Main3WData[[#This Row],[Admin Unit Name]],AdminUnits[],2,FALSE)","v":"ML01"},{"$f":"VLOOKUP(Main3WData[[#This Row],[Admin Unit Name]],AdminUnits[],3,FALSE)","v":"Sud"},{"$f":"VLOOKUP(Main3WData[[#This Row],[Admin Unit Name]],AdminUnits[],4,FALSE)","v":1},{"$f":"VLOOKUP(Main3WData[[#This Row],[Sector]],Sectors[],2,FALSE)","v":4}]
[null,"CR-Belgique",{"$f":"INDEX(Organizations[],MATCH(Main3WData[[#This Row],[Acronym]],AcronymList,0),1)","v":"Croix Rouge Belgique"},{"$f":"INDEX(Organizations[],MATCH(Main3WData[[#This Row],[Acronym]],AcronymList,0),3)","v":"Mouv. Croix-rouge"},"Nutrition","Regulier","Koulikoro",{"$f":"VLOOKUP(Main3WData[[#This Row],[Admin Unit Name]],AdminUnits[],2,FALSE)","v":"ML02"},{"$f":"VLOOKUP(Main3WData[[#This Row],[Admin Unit Name]],AdminUnits[],3,FALSE)","v":"Sud"},{"$f":"VLOOKUP(Main3WData[[#This Row],[Admin Unit Name]],AdminUnits[],4,FALSE)","v":2},{"$f":"VLOOKUP(Main3WData[[#This Row],[Sector]],Sectors[],2,FALSE)","v":4}]
[null,"CR-Belgique",{"$f":"INDEX(Organizations[],MATCH(Main3WData[[#This Row],[Acronym]],AcronymList,0),1)","v":"Croix Rouge Belgique"},{"$f":"INDEX(Organizations[],MATCH(Main3WData[[#This Row],[Acronym]],AcronymList,0),3)","v":"Mouv. Croix-rouge"},"Nutrition","Regulier","Segou",{"$f":"VLOOKUP(Main3WData[[#This Row],[Admin Unit Name]],AdminUnits[],2,FALSE)","v":"ML04"},{"$f":"VLOOKUP(Main3WData[[#This Row],[Admin Unit Name]],AdminUnits[],3,FALSE)","v":"Sud"},{"$f":"VLOOKUP(Main3WData[[#This Row],[Admin Unit Name]],AdminUnits[],4,FALSE)","v":4},{"$f":"VLOOKUP(Main3WData[[#This Row],[Sector]],Sectors[],2,FALSE)","v":4}]
[null,"CRADE",{"$f":"INDEX(Organizations[],MATCH(Main3WData[[#This Row],[Acronym]],AcronymList,0),1)","v":"Cabinet de Recherche Action pour le Développement Endogène"},{"$f":"INDEX(Organizations[],MATCH(Main3WData[[#This Row],[Acronym]],AcronymList,0),3)","v":"ONG Nat."},"Protection","Regulier","Gao",{"$f":"VLOOKUP(Main3WData[[#This Row],[Admin Unit Name]],AdminUnits[],2,FALSE)","v":"ML07"},{"$f":"VLOOKUP(Main3WData[[#This Row],[Admin Unit Name]],AdminUnits[],3,FALSE)","v":"Nord"},{"$f":"VLOOKUP(Main3WData[[#This Row],[Admin Unit Name]],AdminUnits[],4,FALSE)","v":7},{"$f":"VLOOKUP(Main3WData[[#This Row],[Sector]],Sectors[],2,FALSE)","v":5}]
[null,"COOPI",{"$f":"INDEX(Organizations[],MATCH(Main3WData[[#This Row],[Acronym]],AcronymList,0),1)","v":"COOPI"},{"$f":"INDEX(Organizations[],MATCH(Main3WData[[#This Row],[Acronym]],AcronymList,0),3)","v":"ONG Int."},"Nutrition","Regulier","Segou",{"$f":"VLOOKUP(Main3WData[[#This Row],[Admin Unit Name]],AdminUnits[],2,FALSE)","v":"ML04"},{"$f":"VLOOKUP(Main3WData[[#This Row],[Admin Unit Name]],AdminUnits[],3,FALSE)","v":"Sud"},{"$f":"VLOOKUP(Main3WData[[#This Row],[Admin Unit Name]],AdminUnits[],4,FALSE)","v":4},{"$f":"VLOOKUP(Main3WData[[#This Row],[Sector]],Sectors[],2,FALSE)","v":4}]
[null,"COOPI",{"$f":"INDEX(Organizations[],MATCH(Main3WData[[#This Row],[Acronym]],AcronymList,0),1)","v":"COOPI"},{"$f":"INDEX(Organizations[],MATCH(Main3WData[[#This Row],[Acronym]],AcronymList,0),3)","v":"ONG Int."},"Nutrition","Regulier","Mopti",{"$f":"VLOOKUP(Main3WData[[#This Row],[Admin Unit Name]],AdminUnits[],2,FALSE)","v":"ML05"},{"$f":"VLOOKUP(Main3WData[[#This Row],[Admin Unit Name]],AdminUnits[],3,FALSE)","v":"Sud"},{"$f":"VLOOKUP(Main3WData[[#This Row],[Admin Unit Name]],AdminUnits[],4,FALSE)","v":5},{"$f":"VLOOKUP(Main3WData[[#This Row],[Sector]],Sectors[],2,FALSE)","v":4}]
[null,"Consortium FCI CAEB",{"$f":"INDEX(Organizations[],MATCH(Main3WData[[#This Row],[Acronym]],AcronymList,0),1)","v":"Consortium FCI CAEB"},{"$f":"INDEX(Organizations[],MATCH(Main3WData[[#This Row],[Acronym]],AcronymList,0),3)","v":"ONG Nat."},"Santé","Regulier","Mopti",{"$f":"VLOOKUP(Main3WData[[#This Row],[Admin Unit Name]],AdminUnits[],2,FALSE)","v":"ML05"},{"$f":"VLOOKUP(Main3WData[[#This Row],[Admin Unit Name]],AdminUnits[],3,FALSE)","v":"Sud"},{"$f":"VLOOKUP(Main3WData[[#This Row],[Admin Unit Name]],AdminUnits[],4,FALSE)","v":5},{"$f":"VLOOKUP(Main3WData[[#This Row],[Sector]],Sectors[],2,FALSE)","v":6}]
[null,"CONSORTIUM ARDIL - CAID",{"$f":"INDEX(Organizations[],MATCH(Main3WData[[#This Row],[Acronym]],AcronymList,0),1)","v":"CONSORTIUM ARDIL - CAID"},{"$f":"INDEX(Organizations[],MATCH(Main3WData[[#This Row],[Acronym]],AcronymList,0),3)","v":"ONG Int."},"Protection","Regulier","Tombouctou",{"$f":"VLOOKUP(Main3WData[[#This Row],[Admin Unit Name]],AdminUnits[],2,FALSE)","v":"ML06"},{"$f":"VLOOKUP(Main3WData[[#This Row],[Admin Unit Name]],AdminUnits[],3,FALSE)","v":"Nord"},{"$f":"VLOOKUP(Main3WData[[#This Row],[Admin Unit Name]],AdminUnits[],4,FALSE)","v":6},{"$f":"VLOOKUP(Main3WData[[#This Row],[Sector]],Sectors[],2,FALSE)","v":5}]
[null,"Commissariat à la sécurité alimentaire/SAP",{"$f":"INDEX(Organizations[],MATCH(Main3WData[[#This Row],[Acronym]],AcronymList,0),1)","v":"Système d’alerte Précoce "},{"$f":"INDEX(Organizations[],MATCH(Main3WData[[#This Row],[Acronym]],AcronymList,0),3)","v":"Gouvernement"},"Coordination","Regulier","Gao",{"$f":"VLOOKUP(Main3WData[[#This Row],[Admin Unit Name]],AdminUnits[],2,FALSE)","v":"ML07"},{"$f":"VLOOKUP(Main3WData[[#This Row],[Admin Unit Name]],AdminUnits[],3,FALSE)","v":"Nord"},{"$f":"VLOOKUP(Main3WData[[#This Row],[Admin Unit Name]],AdminUnits[],4,FALSE)","v":7},{"$f":"VLOOKUP(Main3WData[[#This Row],[Sector]],Sectors[],2,FALSE)","v":2}]
[null,"Caritas",{"$f":"INDEX(Organizations[],MATCH(Main3WData[[#This Row],[Acronym]],AcronymList,0),1)","v":"CARITAS Mali"},{"$f":"INDEX(Organizations[],MATCH(Main3WData[[#This Row],[Acronym]],AcronymList,0),3)","v":"ONG Int."},"Nutrition","Regulier","Mopti",{"$f":"VLOOKUP(Main3WData[[#This Row],[Admin Unit Name]],AdminUnits[],2,FALSE)","v":"ML05"},{"$f":"VLOOKUP(Main3WData[[#This Row],[Admin Unit Name]],AdminUnits[],3,FALSE)","v":"Sud"},{"$f":"VLOOKUP(Main3WData[[#This Row],[Admin Unit Name]],AdminUnits[],4,FALSE)","v":5},{"$f":"VLOOKUP(Main3WData[[#This Row],[Sector]],Sectors[],2,FALSE)","v":4}]
[null,"Caritas",{"$f":"INDEX(Organizations[],MATCH(Main3WData[[#This Row],[Acronym]],AcronymList,0),1)","v":"CARITAS Mali"},{"$f":"INDEX(Organizations[],MATCH(Main3WData[[#This Row],[Acronym]],AcronymList,0),3)","v":"ONG Int."},"Sécurité alimentaire","Regulier","Mopti",{"$f":"VLOOKUP(Main3WData[[#This Row],[Admin Unit Name]],AdminUnits[],2,FALSE)","v":"ML05"},{"$f":"VLOOKUP(Main3WData[[#This Row],[Admin Unit Name]],AdminUnits[],3,FALSE)","v":"Sud"},{"$f":"VLOOKUP(Main3WData[[#This Row],[Admin Unit Name]],AdminUnits[],4,FALSE)","v":5},{"$f":"VLOOKUP(Main3WData[[#This Row],[Sector]],Sectors[],2,FALSE)","v":7}]
[null,"CARE Mali",{"$f":"INDEX(Organizations[],MATCH(Main3WData[[#This Row],[Acronym]],AcronymList,0),1)","v":"CARE Interntional Mali"},{"$f":"INDEX(Organizations[],MATCH(Main3WData[[#This Row],[Acronym]],AcronymList,0),3)","v":"ONG Int."},"EHA","Regulier","Mopti",{"$f":"VLOOKUP(Main3WData[[#This Row],[Admin Unit Name]],AdminUnits[],2,FALSE)","v":"ML05"},{"$f":"VLOOKUP(Main3WData[[#This Row],[Admin Unit Name]],AdminUnits[],3,FALSE)","v":"Sud"},{"$f":"VLOOKUP(Main3WData[[#This Row],[Admin Unit Name]],AdminUnits[],4,FALSE)","v":5},{"$f":"VLOOKUP(Main3WData[[#This Row],[Sector]],Sectors[],2,FALSE)","v":8}]
[null,"CARE Mali",{"$f":"INDEX(Organizations[],MATCH(Main3WData[[#This Row],[Acronym]],AcronymList,0),1)","v":"CARE Interntional Mali"},{"$f":"INDEX(Organizations[],MATCH(Main3WData[[#This Row],[Acronym]],AcronymList,0),3)","v":"ONG Int."},"EHA","Regulier","Segou",{"$f":"VLOOKUP(Main3WData[[#This Row],[Admin Unit Name]],AdminUnits[],2,FALSE)","v":"ML04"},{"$f":"VLOOKUP(Main3WData[[#This Row],[Admin Unit Name]],AdminUnits[],3,FALSE)","v":"Sud"},{"$f":"VLOOKUP(Main3WData[[#This Row],[Admin Unit Name]],AdminUnits[],4,FALSE)","v":4},{"$f":"VLOOKUP(Main3WData[[#This Row],[Sector]],Sectors[],2,FALSE)","v":8}]
[null,"CARE Mali",{"$f":"INDEX(Organizations[],MATCH(Main3WData[[#This Row],[Acronym]],AcronymList,0),1)","v":"CARE Interntional Mali"},{"$f":"INDEX(Organizations[],MATCH(Main3WData[[#This Row],[Acronym]],AcronymList,0),3)","v":"ONG Int."},"Nutrition","Regulier","Mopti",{"$f":"VLOOKUP(Main3WData[[#This Row],[Admin Unit Name]],AdminUnits[],2,FALSE)","v":"ML05"},{"$f":"VLOOKUP(Main3WData[[#This Row],[Admin Unit Name]],AdminUnits[],3,FALSE)","v":"Sud"},{"$f":"VLOOKUP(Main3WData[[#This Row],[Admin Unit Name]],AdminUnits[],4,FALSE)","v":5},{"$f":"VLOOKUP(Main3WData[[#This Row],[Sector]],Sectors[],2,FALSE)","v":4}]
[null,"CARE Mali",{"$f":"INDEX(Organizations[],MATCH(Main3WData[[#This Row],[Acronym]],AcronymList,0),1)","v":"CARE Interntional Mali"},{"$f":"INDEX(Organizations[],MATCH(Main3WData[[#This Row],[Acronym]],AcronymList,0),3)","v":"ONG Int."},"Protection","Regulier","Tombouctou",{"$f":"VLOOKUP(Main3WData[[#This Row],[Admin Unit Name]],AdminUnits[],2,FALSE)","v":"ML06"},{"$f":"VLOOKUP(Main3WData[[#This Row],[Admin Unit Name]],AdminUnits[],3,FALSE)","v":"Nord"},{"$f":"VLOOKUP(Main3WData[[#This Row],[Admin Unit Name]],AdminUnits[],4,FALSE)","v":6},{"$f":"VLOOKUP(Main3WData[[#This Row],[Sector]],Sectors[],2,FALSE)","v":5}]
[null,"CARE Mali",{"$f":"INDEX(Organizations[],MATCH(Main3WData[[#This Row],[Acronym]],AcronymList,0),1)","v":"CARE Interntional Mali"},{"$f":"INDEX(Organizations[],MATCH(Main3WData[[#This Row],[Acronym]],AcronymList,0),3)","v":"ONG Int."},"Santé","Regulier","Mopti",{"$f":"VLOOKUP(Main3WData[[#This Row],[Admin Unit Name]],AdminUnits[],2,FALSE)","v":"ML05"},{"$f":"VLOOKUP(Main3WData[[#This Row],[Admin Unit Name]],AdminUnits[],3,FALSE)","v":"Sud"},{"$f":"VLOOKUP(Main3WData[[#This Row],[Admin Unit Name]],AdminUnits[],4,FALSE)","v":5},{"$f":"VLOOKUP(Main3WData[[#This Row],[Sector]],Sectors[],2,FALSE)","v":6}]
[null,"CARE Mali",{"$f":"INDEX(Organizations[],MATCH(Main3WData[[#This Row],[Acronym]],AcronymList,0),1)","v":"CARE Interntional Mali"},{"$f":"INDEX(Organizations[],MATCH(Main3WData[[#This Row],[Acronym]],AcronymList,0),3)","v":"ONG Int."},"Santé","Regulier","Segou",{"$f":"VLOOKUP(Main3WData[[#This Row],[Admin Unit Name]],AdminUnits[],2,FALSE)","v":"ML04"},{"$f":"VLOOKUP(Main3WData[[#This Row],[Admin Unit Name]],AdminUnits[],3,FALSE)","v":"Sud"},{"$f":"VLOOKUP(Main3WData[[#This Row],[Admin Unit Name]],AdminUnits[],4,FALSE)","v":4},{"$f":"VLOOKUP(Main3WData[[#This Row],[Sector]],Sectors[],2,FALSE)","v":6}]
[null,"CARE MALI",{"$f":"INDEX(Organizations[],MATCH(Main3WData[[#This Row],[Acronym]],AcronymList,0),1)","v":"CARE Interntional Mali"},{"$f":"INDEX(Organizations[],MATCH(Main3WData[[#This Row],[Acronym]],AcronymList,0),3)","v":"ONG Int."},"Sécurité alimentaire","Regulier","Tombouctou",{"$f":"VLOOKUP(Main3WData[[#This Row],[Admin Unit Name]],AdminUnits[],2,FALSE)","v":"ML06"},{"$f":"VLOOKUP(Main3WData[[#This Row],[Admin Unit Name]],AdminUnits[],3,FALSE)","v":"Nord"},{"$f":"VLOOKUP(Main3WData[[#This Row],[Admin Unit Name]],AdminUnits[],4,FALSE)","v":6},{"$f":"VLOOKUP(Main3WData[[#This Row],[Sector]],Sectors[],2,FALSE)","v":7}]
[null,"CAP",{"$f":"INDEX(Organizations[],MATCH(Main3WData[[#This Row],[Acronym]],AcronymList,0),1)","v":"Centre d'Animation Pédagogique"},{"$f":"INDEX(Organizations[],MATCH(Main3WData[[#This Row],[Acronym]],AcronymList,0),3)","v":"Gouvernement"},"Education","Regulier","Gao",{"$f":"VLOOKUP(Main3WData[[#This Row],[Admin Unit Name]],AdminUnits[],2,FALSE)","v":"ML07"},{"$f":"VLOOKUP(Main3WData[[#This Row],[Admin Unit Name]],AdminUnits[],3,FALSE)","v":"Nord"},{"$f":"VLOOKUP(Main3WData[[#This Row],[Admin Unit Name]],AdminUnits[],4,FALSE)","v":7},{"$f":"VLOOKUP(Main3WData[[#This Row],[Sector]],Sectors[],2,FALSE)","v":3}]
[null,"CAID-Mali",{"$f":"INDEX(Organizations[],MATCH(Main3WData[[#This Row],[Acronym]],AcronymList,0),1)","v":"Cellule d'Appui aux Initiatives de Développement"},{"$f":"INDEX(Organizations[],MATCH(Main3WData[[#This Row],[Acronym]],AcronymList,0),3)","v":"ONG Nat."},"Education","Regulier","Tombouctou",{"$f":"VLOOKUP(Main3WData[[#This Row],[Admin Unit Name]],AdminUnits[],2,FALSE)","v":"ML06"},{"$f":"VLOOKUP(Main3WData[[#This Row],[Admin Unit Name]],AdminUnits[],3,FALSE)","v":"Nord"},{"$f":"VLOOKUP(Main3WData[[#This Row],[Admin Unit Name]],AdminUnits[],4,FALSE)","v":6},{"$f":"VLOOKUP(Main3WData[[#This Row],[Sector]],Sectors[],2,FALSE)","v":3}]
[null,"CAES",{"$f":"INDEX(Organizations[],MATCH(Main3WData[[#This Row],[Acronym]],AcronymList,0),1)","v":"CAES"},{"$f":"INDEX(Organizations[],MATCH(Main3WData[[#This Row],[Acronym]],AcronymList,0),3)","v":"ONG Nat."},"Sécurité alimentaire","Regulier","Gao",{"$f":"VLOOKUP(Main3WData[[#This Row],[Admin Unit Name]],AdminUnits[],2,FALSE)","v":"ML07"},{"$f":"VLOOKUP(Main3WData[[#This Row],[Admin Unit Name]],AdminUnits[],3,FALSE)","v":"Nord"},{"$f":"VLOOKUP(Main3WData[[#This Row],[Admin Unit Name]],AdminUnits[],4,FALSE)","v":7},{"$f":"VLOOKUP(Main3WData[[#This Row],[Sector]],Sectors[],2,FALSE)","v":7}]
[null,"C2C",{"$f":"INDEX(Organizations[],MATCH(Main3WData[[#This Row],[Acronym]],AcronymList,0),1)","v":"Caravan to Class"},{"$f":"INDEX(Organizations[],MATCH(Main3WData[[#This Row],[Acronym]],AcronymList,0),3)","v":"ONG Int."},"Education","Regulier","Tombouctou",{"$f":"VLOOKUP(Main3WData[[#This Row],[Admin Unit Name]],AdminUnits[],2,FALSE)","v":"ML06"},{"$f":"VLOOKUP(Main3WData[[#This Row],[Admin Unit Name]],AdminUnits[],3,FALSE)","v":"Nord"},{"$f":"VLOOKUP(Main3WData[[#This Row],[Admin Unit Name]],AdminUnits[],4,FALSE)","v":6},{"$f":"VLOOKUP(Main3WData[[#This Row],[Sector]],Sectors[],2,FALSE)","v":3}]
[null,"BOUCTOU ACTIONS",{"$f":"INDEX(Organizations[],MATCH(Main3WData[[#This Row],[Acronym]],AcronymList,0),1)","v":"BOUCTOU ACTIONS"},{"$f":"INDEX(Organizations[],MATCH(Main3WData[[#This Row],[Acronym]],AcronymList,0),3)","v":"ONG Nat."},"Education","Regulier","Tombouctou",{"$f":"VLOOKUP(Main3WData[[#This Row],[Admin Unit Name]],AdminUnits[],2,FALSE)","v":"ML06"},{"$f":"VLOOKUP(Main3WData[[#This Row],[Admin Unit Name]],AdminUnits[],3,FALSE)","v":"Nord"},{"$f":"VLOOKUP(Main3WData[[#This Row],[Admin Unit Name]],AdminUnits[],4,FALSE)","v":6},{"$f":"VLOOKUP(Main3WData[[#This Row],[Sector]],Sectors[],2,FALSE)","v":3}]
[null,"BØRNEfonden",{"$f":"INDEX(Organizations[],MATCH(Main3WData[[#This Row],[Acronym]],AcronymList,0),1)","v":"BØRNEfonden"},{"$f":"INDEX(Organizations[],MATCH(Main3WData[[#This Row],[Acronym]],AcronymList,0),3)","v":"ONG Int."},"Nutrition","Regulier","Koulikoro",{"$f":"VLOOKUP(Main3WData[[#This Row],[Admin Unit Name]],AdminUnits[],2,FALSE)","v":"ML02"},{"$f":"VLOOKUP(Main3WData[[#This Row],[Admin Unit Name]],AdminUnits[],3,FALSE)","v":"Sud"},{"$f":"VLOOKUP(Main3WData[[#This Row],[Admin Unit Name]],AdminUnits[],4,FALSE)","v":2},{"$f":"VLOOKUP(Main3WData[[#This Row],[Sector]],Sectors[],2,FALSE)","v":4}]
[null,"BØRNEfonden",{"$f":"INDEX(Organizations[],MATCH(Main3WData[[#This Row],[Acronym]],AcronymList,0),1)","v":"BØRNEfonden"},{"$f":"INDEX(Organizations[],MATCH(Main3WData[[#This Row],[Acronym]],AcronymList,0),3)","v":"ONG Int."},"Nutrition","Regulier","Sikasso",{"$f":"VLOOKUP(Main3WData[[#This Row],[Admin Unit Name]],AdminUnits[],2,FALSE)","v":"ML03"},{"$f":"VLOOKUP(Main3WData[[#This Row],[Admin Unit Name]],AdminUnits[],3,FALSE)","v":"Sud"},{"$f":"VLOOKUP(Main3WData[[#This Row],[Admin Unit Name]],AdminUnits[],4,FALSE)","v":3},{"$f":"VLOOKUP(Main3WData[[#This Row],[Sector]],Sectors[],2,FALSE)","v":4}]
[null,"BNCE",{"$f":"INDEX(Organizations[],MATCH(Main3WData[[#This Row],[Acronym]],AcronymList,0),1)","v":"Bureau National Catholique pour l'Enfance"},{"$f":"INDEX(Organizations[],MATCH(Main3WData[[#This Row],[Acronym]],AcronymList,0),3)","v":"ONG Nat."},"Protection","Regulier","Bamako",{"$f":"VLOOKUP(Main3WData[[#This Row],[Admin Unit Name]],AdminUnits[],2,FALSE)","v":"ML09"},{"$f":"VLOOKUP(Main3WData[[#This Row],[Admin Unit Name]],AdminUnits[],3,FALSE)","v":"Sud"},{"$f":"VLOOKUP(Main3WData[[#This Row],[Admin Unit Name]],AdminUnits[],4,FALSE)","v":0},{"$f":"VLOOKUP(Main3WData[[#This Row],[Sector]],Sectors[],2,FALSE)","v":5}]
[null,"BNCE",{"$f":"INDEX(Organizations[],MATCH(Main3WData[[#This Row],[Acronym]],AcronymList,0),1)","v":"Bureau National Catholique pour l'Enfance"},{"$f":"INDEX(Organizations[],MATCH(Main3WData[[#This Row],[Acronym]],AcronymList,0),3)","v":"ONG Nat."},"Protection","Regulier","Mopti",{"$f":"VLOOKUP(Main3WData[[#This Row],[Admin Unit Name]],AdminUnits[],2,FALSE)","v":"ML05"},{"$f":"VLOOKUP(Main3WData[[#This Row],[Admin Unit Name]],AdminUnits[],3,FALSE)","v":"Sud"},{"$f":"VLOOKUP(Main3WData[[#This Row],[Admin Unit Name]],AdminUnits[],4,FALSE)","v":5},{"$f":"VLOOKUP(Main3WData[[#This Row],[Sector]],Sectors[],2,FALSE)","v":5}]
[null,"BNCE",{"$f":"INDEX(Organizations[],MATCH(Main3WData[[#This Row],[Acronym]],AcronymList,0),1)","v":"Bureau National Catholique pour l'Enfance"},{"$f":"INDEX(Organizations[],MATCH(Main3WData[[#This Row],[Acronym]],AcronymList,0),3)","v":"ONG Nat."},"Protection","Regulier","Segou",{"$f":"VLOOKUP(Main3WData[[#This Row],[Admin Unit Name]],AdminUnits[],2,FALSE)","v":"ML04"},{"$f":"VLOOKUP(Main3WData[[#This Row],[Admin Unit Name]],AdminUnits[],3,FALSE)","v":"Sud"},{"$f":"VLOOKUP(Main3WData[[#This Row],[Admin Unit Name]],AdminUnits[],4,FALSE)","v":4},{"$f":"VLOOKUP(Main3WData[[#This Row],[Sector]],Sectors[],2,FALSE)","v":5}]
[null,"BNCE",{"$f":"INDEX(Organizations[],MATCH(Main3WData[[#This Row],[Acronym]],AcronymList,0),1)","v":"Bureau National Catholique pour l'Enfance"},{"$f":"INDEX(Organizations[],MATCH(Main3WData[[#This Row],[Acronym]],AcronymList,0),3)","v":"ONG Nat."},"Protection","Regulier","Sikasso",{"$f":"VLOOKUP(Main3WData[[#This Row],[Admin Unit Name]],AdminUnits[],2,FALSE)","v":"ML03"},{"$f":"VLOOKUP(Main3WData[[#This Row],[Admin Unit Name]],AdminUnits[],3,FALSE)","v":"Sud"},{"$f":"VLOOKUP(Main3WData[[#This Row],[Admin Unit Name]],AdminUnits[],4,FALSE)","v":3},{"$f":"VLOOKUP(Main3WData[[#This Row],[Sector]],Sectors[],2,FALSE)","v":5}]
[null,"AVSF",{"$f":"INDEX(Organizations[],MATCH(Main3WData[[#This Row],[Acronym]],AcronymList,0),1)","v":"Agronomes et Vétérinaires Sans Frontières"},{"$f":"INDEX(Organizations[],MATCH(Main3WData[[#This Row],[Acronym]],AcronymList,0),3)","v":"ONG Int."},"EHA","Regulier","Gao",{"$f":"VLOOKUP(Main3WData[[#This Row],[Admin Unit Name]],AdminUnits[],2,FALSE)","v":"ML07"},{"$f":"VLOOKUP(Main3WData[[#This Row],[Admin Unit Name]],AdminUnits[],3,FALSE)","v":"Nord"},{"$f":"VLOOKUP(Main3WData[[#This Row],[Admin Unit Name]],AdminUnits[],4,FALSE)","v":7},{"$f":"VLOOKUP(Main3WData[[#This Row],[Sector]],Sectors[],2,FALSE)","v":8}]
[null,"AVSF",{"$f":"INDEX(Organizations[],MATCH(Main3WData[[#This Row],[Acronym]],AcronymList,0),1)","v":"Agronomes et Vétérinaires Sans Frontières"},{"$f":"INDEX(Organizations[],MATCH(Main3WData[[#This Row],[Acronym]],AcronymList,0),3)","v":"ONG Int."},"EHA","Regulier","Mopti",{"$f":"VLOOKUP(Main3WData[[#This Row],[Admin Unit Name]],AdminUnits[],2,FALSE)","v":"ML05"},{"$f":"VLOOKUP(Main3WData[[#This Row],[Admin Unit Name]],AdminUnits[],3,FALSE)","v":"Sud"},{"$f":"VLOOKUP(Main3WData[[#This Row],[Admin Unit Name]],AdminUnits[],4,FALSE)","v":5},{"$f":"VLOOKUP(Main3WData[[#This Row],[Sector]],Sectors[],2,FALSE)","v":8}]
[null,"AVSF",{"$f":"INDEX(Organizations[],MATCH(Main3WData[[#This Row],[Acronym]],AcronymList,0),1)","v":"Agronomes et Vétérinaires Sans Frontières"},{"$f":"INDEX(Organizations[],MATCH(Main3WData[[#This Row],[Acronym]],AcronymList,0),3)","v":"ONG Int."},"EHA","Regulier","Tombouctou",{"$f":"VLOOKUP(Main3WData[[#This Row],[Admin Unit Name]],AdminUnits[],2,FALSE)","v":"ML06"},{"$f":"VLOOKUP(Main3WData[[#This Row],[Admin Unit Name]],AdminUnits[],3,FALSE)","v":"Nord"},{"$f":"VLOOKUP(Main3WData[[#This Row],[Admin Unit Name]],AdminUnits[],4,FALSE)","v":6},{"$f":"VLOOKUP(Main3WData[[#This Row],[Sector]],Sectors[],2,FALSE)","v":8}]
[null,"AVSF",{"$f":"INDEX(Organizations[],MATCH(Main3WData[[#This Row],[Acronym]],AcronymList,0),1)","v":"Agronomes et Vétérinaires Sans Frontières"},{"$f":"INDEX(Organizations[],MATCH(Main3WData[[#This Row],[Acronym]],AcronymList,0),3)","v":"ONG Int."},"Nutrition","Regulier","Gao",{"$f":"VLOOKUP(Main3WData[[#This Row],[Admin Unit Name]],AdminUnits[],2,FALSE)","v":"ML07"},{"$f":"VLOOKUP(Main3WData[[#This Row],[Admin Unit Name]],AdminUnits[],3,FALSE)","v":"Nord"},{"$f":"VLOOKUP(Main3WData[[#This Row],[Admin Unit Name]],AdminUnits[],4,FALSE)","v":7},{"$f":"VLOOKUP(Main3WData[[#This Row],[Sector]],Sectors[],2,FALSE)","v":4}]
[null,"AVSF",{"$f":"INDEX(Organizations[],MATCH(Main3WData[[#This Row],[Acronym]],AcronymList,0),1)","v":"Agronomes et Vétérinaires Sans Frontières"},{"$f":"INDEX(Organizations[],MATCH(Main3WData[[#This Row],[Acronym]],AcronymList,0),3)","v":"ONG Int."},"Nutrition","Regulier","Tombouctou",{"$f":"VLOOKUP(Main3WData[[#This Row],[Admin Unit Name]],AdminUnits[],2,FALSE)","v":"ML06"},{"$f":"VLOOKUP(Main3WData[[#This Row],[Admin Unit Name]],AdminUnits[],3,FALSE)","v":"Nord"},{"$f":"VLOOKUP(Main3WData[[#This Row],[Admin Unit Name]],AdminUnits[],4,FALSE)","v":6},{"$f":"VLOOKUP(Main3WData[[#This Row],[Sector]],Sectors[],2,FALSE)","v":4}]
[null,"AVSF",{"$f":"INDEX(Organizations[],MATCH(Main3WData[[#This Row],[Acronym]],AcronymList,0),1)","v":"Agronomes et Vétérinaires Sans Frontières"},{"$f":"INDEX(Organizations[],MATCH(Main3WData[[#This Row],[Acronym]],AcronymList,0),3)","v":"ONG Int."},"Sécurité alimentaire","Regulier","Gao",{"$f":"VLOOKUP(Main3WData[[#This Row],[Admin Unit Name]],AdminUnits[],2,FALSE)","v":"ML07"},{"$f":"VLOOKUP(Main3WData[[#This Row],[Admin Unit Name]],AdminUnits[],3,FALSE)","v":"Nord"},{"$f":"VLOOKUP(Main3WData[[#This Row],[Admin Unit Name]],AdminUnits[],4,FALSE)","v":7},{"$f":"VLOOKUP(Main3WData[[#This Row],[Sector]],Sectors[],2,FALSE)","v":7}]
[null,"AVSF",{"$f":"INDEX(Organizations[],MATCH(Main3WData[[#This Row],[Acronym]],AcronymList,0),1)","v":"Agronomes et Vétérinaires Sans Frontières"},{"$f":"INDEX(Organizations[],MATCH(Main3WData[[#This Row],[Acronym]],AcronymList,0),3)","v":"ONG Int."},"Sécurité alimentaire","Regulier","Tombouctou",{"$f":"VLOOKUP(Main3WData[[#This Row],[Admin Unit Name]],AdminUnits[],2,FALSE)","v":"ML06"},{"$f":"VLOOKUP(Main3WData[[#This Row],[Admin Unit Name]],AdminUnits[],3,FALSE)","v":"Nord"},{"$f":"VLOOKUP(Main3WData[[#This Row],[Admin Unit Name]],AdminUnits[],4,FALSE)","v":6},{"$f":"VLOOKUP(Main3WData[[#This Row],[Sector]],Sectors[],2,FALSE)","v":7}]
[null,"ASG",{"$f":"INDEX(Organizations[],MATCH(Main3WData[[#This Row],[Acronym]],AcronymList,0),1)","v":"Association Subaahi Gumo"},{"$f":"INDEX(Organizations[],MATCH(Main3WData[[#This Row],[Acronym]],AcronymList,0),3)","v":"ONG Nat."},"Sécurité alimentaire","Regulier","Tombouctou",{"$f":"VLOOKUP(Main3WData[[#This Row],[Admin Unit Name]],AdminUnits[],2,FALSE)","v":"ML06"},{"$f":"VLOOKUP(Main3WData[[#This Row],[Admin Unit Name]],AdminUnits[],3,FALSE)","v":"Nord"},{"$f":"VLOOKUP(Main3WData[[#This Row],[Admin Unit Name]],AdminUnits[],4,FALSE)","v":6},{"$f":"VLOOKUP(Main3WData[[#This Row],[Sector]],Sectors[],2,FALSE)","v":7}]
[null,"ASDAP",{"$f":"INDEX(Organizations[],MATCH(Main3WData[[#This Row],[Acronym]],AcronymList,0),1)","v":"Association pour le Soutien du Développement des Activités de Population"},{"$f":"INDEX(Organizations[],MATCH(Main3WData[[#This Row],[Acronym]],AcronymList,0),3)","v":"ONG Nat."},"Nutrition","Regulier","Mopti",{"$f":"VLOOKUP(Main3WData[[#This Row],[Admin Unit Name]],AdminUnits[],2,FALSE)","v":"ML05"},{"$f":"VLOOKUP(Main3WData[[#This Row],[Admin Unit Name]],AdminUnits[],3,FALSE)","v":"Sud"},{"$f":"VLOOKUP(Main3WData[[#This Row],[Admin Unit Name]],AdminUnits[],4,FALSE)","v":5},{"$f":"VLOOKUP(Main3WData[[#This Row],[Sector]],Sectors[],2,FALSE)","v":4}]
[null,"ASDAP",{"$f":"INDEX(Organizations[],MATCH(Main3WData[[#This Row],[Acronym]],AcronymList,0),1)","v":"Association pour le Soutien du Développement des Activités de Population"},{"$f":"INDEX(Organizations[],MATCH(Main3WData[[#This Row],[Acronym]],AcronymList,0),3)","v":"ONG Nat."},"Nutrition","Regulier","Sikasso",{"$f":"VLOOKUP(Main3WData[[#This Row],[Admin Unit Name]],AdminUnits[],2,FALSE)","v":"ML03"},{"$f":"VLOOKUP(Main3WData[[#This Row],[Admin Unit Name]],AdminUnits[],3,FALSE)","v":"Sud"},{"$f":"VLOOKUP(Main3WData[[#This Row],[Admin Unit Name]],AdminUnits[],4,FALSE)","v":3},{"$f":"VLOOKUP(Main3WData[[#This Row],[Sector]],Sectors[],2,FALSE)","v":4}]
[null,"ARDIL",{"$f":"INDEX(Organizations[],MATCH(Main3WData[[#This Row],[Acronym]],AcronymList,0),1)","v":"ARDIL"},{"$f":"INDEX(Organizations[],MATCH(Main3WData[[#This Row],[Acronym]],AcronymList,0),3)","v":"ONG Nat."},"Sécurité alimentaire","Regulier","Tombouctou",{"$f":"VLOOKUP(Main3WData[[#This Row],[Admin Unit Name]],AdminUnits[],2,FALSE)","v":"ML06"},{"$f":"VLOOKUP(Main3WData[[#This Row],[Admin Unit Name]],AdminUnits[],3,FALSE)","v":"Nord"},{"$f":"VLOOKUP(Main3WData[[#This Row],[Admin Unit Name]],AdminUnits[],4,FALSE)","v":6},{"$f":"VLOOKUP(Main3WData[[#This Row],[Sector]],Sectors[],2,FALSE)","v":7}]
[null,"ArcheNova",{"$f":"INDEX(Organizations[],MATCH(Main3WData[[#This Row],[Acronym]],AcronymList,0),1)","v":"ArcheNova"},{"$f":"INDEX(Organizations[],MATCH(Main3WData[[#This Row],[Acronym]],AcronymList,0),3)","v":"ONG Int."},"EHA","Regulier","Tombouctou",{"$f":"VLOOKUP(Main3WData[[#This Row],[Admin Unit Name]],AdminUnits[],2,FALSE)","v":"ML06"},{"$f":"VLOOKUP(Main3WData[[#This Row],[Admin Unit Name]],AdminUnits[],3,FALSE)","v":"Nord"},{"$f":"VLOOKUP(Main3WData[[#This Row],[Admin Unit Name]],AdminUnits[],4,FALSE)","v":6},{"$f":"VLOOKUP(Main3WData[[#This Row],[Sector]],Sectors[],2,FALSE)","v":8}]
[null,"APSM",{"$f":"INDEX(Organizations[],MATCH(Main3WData[[#This Row],[Acronym]],AcronymList,0),1)","v":"APSM"},{"$f":"INDEX(Organizations[],MATCH(Main3WData[[#This Row],[Acronym]],AcronymList,0),3)","v":"ONG Nat."},"Sécurité alimentaire","Regulier","Koulikoro",{"$f":"VLOOKUP(Main3WData[[#This Row],[Admin Unit Name]],AdminUnits[],2,FALSE)","v":"ML02"},{"$f":"VLOOKUP(Main3WData[[#This Row],[Admin Unit Name]],AdminUnits[],3,FALSE)","v":"Sud"},{"$f":"VLOOKUP(Main3WData[[#This Row],[Admin Unit Name]],AdminUnits[],4,FALSE)","v":2},{"$f":"VLOOKUP(Main3WData[[#This Row],[Sector]],Sectors[],2,FALSE)","v":7}]
[null,"APSM",{"$f":"INDEX(Organizations[],MATCH(Main3WData[[#This Row],[Acronym]],AcronymList,0),1)","v":"APSM"},{"$f":"INDEX(Organizations[],MATCH(Main3WData[[#This Row],[Acronym]],AcronymList,0),3)","v":"ONG Nat."},"Sécurité alimentaire","Regulier","Segou",{"$f":"VLOOKUP(Main3WData[[#This Row],[Admin Unit Name]],AdminUnits[],2,FALSE)","v":"ML04"},{"$f":"VLOOKUP(Main3WData[[#This Row],[Admin Unit Name]],AdminUnits[],3,FALSE)","v":"Sud"},{"$f":"VLOOKUP(Main3WData[[#This Row],[Admin Unit Name]],AdminUnits[],4,FALSE)","v":4},{"$f":"VLOOKUP(Main3WData[[#This Row],[Sector]],Sectors[],2,FALSE)","v":7}]
[null,"APSM",{"$f":"INDEX(Organizations[],MATCH(Main3WData[[#This Row],[Acronym]],AcronymList,0),1)","v":"APSM"},{"$f":"INDEX(Organizations[],MATCH(Main3WData[[#This Row],[Acronym]],AcronymList,0),3)","v":"ONG Nat."},"Sécurité alimentaire","Regulier","Tombouctou",{"$f":"VLOOKUP(Main3WData[[#This Row],[Admin Unit Name]],AdminUnits[],2,FALSE)","v":"ML06"},{"$f":"VLOOKUP(Main3WData[[#This Row],[Admin Unit Name]],AdminUnits[],3,FALSE)","v":"Nord"},{"$f":"VLOOKUP(Main3WData[[#This Row],[Admin Unit Name]],AdminUnits[],4,FALSE)","v":6},{"$f":"VLOOKUP(Main3WData[[#This Row],[Sector]],Sectors[],2,FALSE)","v":7}]
[null,"APROMORS",{"$f":"INDEX(Organizations[],MATCH(Main3WData[[#This Row],[Acronym]],AcronymList,0),1)","v":"Association malienne pour la promotion et la survie au Sahel"},{"$f":"INDEX(Organizations[],MATCH(Main3WData[[#This Row],[Acronym]],AcronymList,0),3)","v":"ONG Nat."},"Education","Regulier","Tombouctou",{"$f":"VLOOKUP(Main3WData[[#This Row],[Admin Unit Name]],AdminUnits[],2,FALSE)","v":"ML06"},{"$f":"VLOOKUP(Main3WData[[#This Row],[Admin Unit Name]],AdminUnits[],3,FALSE)","v":"Nord"},{"$f":"VLOOKUP(Main3WData[[#This Row],[Admin Unit Name]],AdminUnits[],4,FALSE)","v":6},{"$f":"VLOOKUP(Main3WData[[#This Row],[Sector]],Sectors[],2,FALSE)","v":3}]
[null,"APROMORS",{"$f":"INDEX(Organizations[],MATCH(Main3WData[[#This Row],[Acronym]],AcronymList,0),1)","v":"Association malienne pour la promotion et la survie au Sahel"},{"$f":"INDEX(Organizations[],MATCH(Main3WData[[#This Row],[Acronym]],AcronymList,0),3)","v":"ONG Nat."},"Sécurité alimentaire","Regulier","Gao",{"$f":"VLOOKUP(Main3WData[[#This Row],[Admin Unit Name]],AdminUnits[],2,FALSE)","v":"ML07"},{"$f":"VLOOKUP(Main3WData[[#This Row],[Admin Unit Name]],AdminUnits[],3,FALSE)","v":"Nord"},{"$f":"VLOOKUP(Main3WData[[#This Row],[Admin Unit Name]],AdminUnits[],4,FALSE)","v":7},{"$f":"VLOOKUP(Main3WData[[#This Row],[Sector]],Sectors[],2,FALSE)","v":7}]
[null,"APROMORS",{"$f":"INDEX(Organizations[],MATCH(Main3WData[[#This Row],[Acronym]],AcronymList,0),1)","v":"Association malienne pour la promotion et la survie au Sahel"},{"$f":"INDEX(Organizations[],MATCH(Main3WData[[#This Row],[Acronym]],AcronymList,0),3)","v":"ONG Nat."},"Sécurité alimentaire","Regulier","Tombouctou",{"$f":"VLOOKUP(Main3WData[[#This Row],[Admin Unit Name]],AdminUnits[],2,FALSE)","v":"ML06"},{"$f":"VLOOKUP(Main3WData[[#This Row],[Admin Unit Name]],AdminUnits[],3,FALSE)","v":"Nord"},{"$f":"VLOOKUP(Main3WData[[#This Row],[Admin Unit Name]],AdminUnits[],4,FALSE)","v":6},{"$f":"VLOOKUP(Main3WData[[#This Row],[Sector]],Sectors[],2,FALSE)","v":7}]
[null,"APADL",{"$f":"INDEX(Organizations[],MATCH(Main3WData[[#This Row],[Acronym]],AcronymList,0),1)","v":"Association pour la promotion et l'appui au développement local "},{"$f":"INDEX(Organizations[],MATCH(Main3WData[[#This Row],[Acronym]],AcronymList,0),3)","v":"ONG Nat."},"Education","Regulier","Tombouctou",{"$f":"VLOOKUP(Main3WData[[#This Row],[Admin Unit Name]],AdminUnits[],2,FALSE)","v":"ML06"},{"$f":"VLOOKUP(Main3WData[[#This Row],[Admin Unit Name]],AdminUnits[],3,FALSE)","v":"Nord"},{"$f":"VLOOKUP(Main3WData[[#This Row],[Admin Unit Name]],AdminUnits[],4,FALSE)","v":6},{"$f":"VLOOKUP(Main3WData[[#This Row],[Sector]],Sectors[],2,FALSE)","v":3}]
[null,"AMSS",{"$f":"INDEX(Organizations[],MATCH(Main3WData[[#This Row],[Acronym]],AcronymList,0),1)","v":"Association Malienne pour la Survie au Sahel"},{"$f":"INDEX(Organizations[],MATCH(Main3WData[[#This Row],[Acronym]],AcronymList,0),3)","v":"ONG Nat."},"Education","Regulier","Tombouctou",{"$f":"VLOOKUP(Main3WData[[#This Row],[Admin Unit Name]],AdminUnits[],2,FALSE)","v":"ML06"},{"$f":"VLOOKUP(Main3WData[[#This Row],[Admin Unit Name]],AdminUnits[],3,FALSE)","v":"Nord"},{"$f":"VLOOKUP(Main3WData[[#This Row],[Admin Unit Name]],AdminUnits[],4,FALSE)","v":6},{"$f":"VLOOKUP(Main3WData[[#This Row],[Sector]],Sectors[],2,FALSE)","v":3}]
[null,"AMSS",{"$f":"INDEX(Organizations[],MATCH(Main3WData[[#This Row],[Acronym]],AcronymList,0),1)","v":"Association Malienne pour la Survie au Sahel"},{"$f":"INDEX(Organizations[],MATCH(Main3WData[[#This Row],[Acronym]],AcronymList,0),3)","v":"ONG Nat."},"Sécurité alimentaire","Regulier","Tombouctou",{"$f":"VLOOKUP(Main3WData[[#This Row],[Admin Unit Name]],AdminUnits[],2,FALSE)","v":"ML06"},{"$f":"VLOOKUP(Main3WData[[#This Row],[Admin Unit Name]],AdminUnits[],3,FALSE)","v":"Nord"},{"$f":"VLOOKUP(Main3WData[[#This Row],[Admin Unit Name]],AdminUnits[],4,FALSE)","v":6},{"$f":"VLOOKUP(Main3WData[[#This Row],[Sector]],Sectors[],2,FALSE)","v":7}]
[null,"AMPRODE Sahel",{"$f":"INDEX(Organizations[],MATCH(Main3WData[[#This Row],[Acronym]],AcronymList,0),1)","v":"AMPRODE Sahel"},{"$f":"INDEX(Organizations[],MATCH(Main3WData[[#This Row],[Acronym]],AcronymList,0),3)","v":"ONG Nat."},"Protection","Regulier","Gao",{"$f":"VLOOKUP(Main3WData[[#This Row],[Admin Unit Name]],AdminUnits[],2,FALSE)","v":"ML07"},{"$f":"VLOOKUP(Main3WData[[#This Row],[Admin Unit Name]],AdminUnits[],3,FALSE)","v":"Nord"},{"$f":"VLOOKUP(Main3WData[[#This Row],[Admin Unit Name]],AdminUnits[],4,FALSE)","v":7},{"$f":"VLOOKUP(Main3WData[[#This Row],[Sector]],Sectors[],2,FALSE)","v":5}]
[null,"AMCP",{"$f":"INDEX(Organizations[],MATCH(Main3WData[[#This Row],[Acronym]],AcronymList,0),1)","v":"ALLIANCE MEDICALE CONTRE LE PALUDISME"},{"$f":"INDEX(Organizations[],MATCH(Main3WData[[#This Row],[Acronym]],AcronymList,0),3)","v":"ONG Int."},"EHA","Regulier","Koulikoro",{"$f":"VLOOKUP(Main3WData[[#This Row],[Admin Unit Name]],AdminUnits[],2,FALSE)","v":"ML02"},{"$f":"VLOOKUP(Main3WData[[#This Row],[Admin Unit Name]],AdminUnits[],3,FALSE)","v":"Sud"},{"$f":"VLOOKUP(Main3WData[[#This Row],[Admin Unit Name]],AdminUnits[],4,FALSE)","v":2},{"$f":"VLOOKUP(Main3WData[[#This Row],[Sector]],Sectors[],2,FALSE)","v":8}]
[null,"ALIMA/AMCP",{"$f":"INDEX(Organizations[],MATCH(Main3WData[[#This Row],[Acronym]],AcronymList,0),1)","v":"Alliance Internationale for Medical Action"},{"$f":"INDEX(Organizations[],MATCH(Main3WData[[#This Row],[Acronym]],AcronymList,0),3)","v":"ONG Int."},"Nutrition","Regulier","Koulikoro",{"$f":"VLOOKUP(Main3WData[[#This Row],[Admin Unit Name]],AdminUnits[],2,FALSE)","v":"ML02"},{"$f":"VLOOKUP(Main3WData[[#This Row],[Admin Unit Name]],AdminUnits[],3,FALSE)","v":"Sud"},{"$f":"VLOOKUP(Main3WData[[#This Row],[Admin Unit Name]],AdminUnits[],4,FALSE)","v":2},{"$f":"VLOOKUP(Main3WData[[#This Row],[Sector]],Sectors[],2,FALSE)","v":4}]
[null,"ALIMA/AMCP",{"$f":"INDEX(Organizations[],MATCH(Main3WData[[#This Row],[Acronym]],AcronymList,0),1)","v":"Alliance Internationale for Medical Action"},{"$f":"INDEX(Organizations[],MATCH(Main3WData[[#This Row],[Acronym]],AcronymList,0),3)","v":"ONG Int."},"Nutrition","Regulier","Tombouctou",{"$f":"VLOOKUP(Main3WData[[#This Row],[Admin Unit Name]],AdminUnits[],2,FALSE)","v":"ML06"},{"$f":"VLOOKUP(Main3WData[[#This Row],[Admin Unit Name]],AdminUnits[],3,FALSE)","v":"Nord"},{"$f":"VLOOKUP(Main3WData[[#This Row],[Admin Unit Name]],AdminUnits[],4,FALSE)","v":6},{"$f":"VLOOKUP(Main3WData[[#This Row],[Sector]],Sectors[],2,FALSE)","v":4}]
[null,"AKF",{"$f":"INDEX(Organizations[],MATCH(Main3WData[[#This Row],[Acronym]],AcronymList,0),1)","v":"Aga Khan Foundation"},{"$f":"INDEX(Organizations[],MATCH(Main3WData[[#This Row],[Acronym]],AcronymList,0),3)","v":"Fondation"},"Santé","Regulier","Mopti",{"$f":"VLOOKUP(Main3WData[[#This Row],[Admin Unit Name]],AdminUnits[],2,FALSE)","v":"ML05"},{"$f":"VLOOKUP(Main3WData[[#This Row],[Admin Unit Name]],AdminUnits[],3,FALSE)","v":"Sud"},{"$f":"VLOOKUP(Main3WData[[#This Row],[Admin Unit Name]],AdminUnits[],4,FALSE)","v":5},{"$f":"VLOOKUP(Main3WData[[#This Row],[Sector]],Sectors[],2,FALSE)","v":6}]
[null,"AJDM",{"$f":"INDEX(Organizations[],MATCH(Main3WData[[#This Row],[Acronym]],AcronymList,0),1)","v":"AJDM"},{"$f":"INDEX(Organizations[],MATCH(Main3WData[[#This Row],[Acronym]],AcronymList,0),3)","v":"Association"},"Protection","Regulier","Bamako",{"$f":"VLOOKUP(Main3WData[[#This Row],[Admin Unit Name]],AdminUnits[],2,FALSE)","v":"ML09"},{"$f":"VLOOKUP(Main3WData[[#This Row],[Admin Unit Name]],AdminUnits[],3,FALSE)","v":"Sud"},{"$f":"VLOOKUP(Main3WData[[#This Row],[Admin Unit Name]],AdminUnits[],4,FALSE)","v":0},{"$f":"VLOOKUP(Main3WData[[#This Row],[Sector]],Sectors[],2,FALSE)","v":5}]
[null,"AJDM",{"$f":"INDEX(Organizations[],MATCH(Main3WData[[#This Row],[Acronym]],AcronymList,0),1)","v":"AJDM"},{"$f":"INDEX(Organizations[],MATCH(Main3WData[[#This Row],[Acronym]],AcronymList,0),3)","v":"Association"},"Protection","Regulier","Segou",{"$f":"VLOOKUP(Main3WData[[#This Row],[Admin Unit Name]],AdminUnits[],2,FALSE)","v":"ML04"},{"$f":"VLOOKUP(Main3WData[[#This Row],[Admin Unit Name]],AdminUnits[],3,FALSE)","v":"Sud"},{"$f":"VLOOKUP(Main3WData[[#This Row],[Admin Unit Name]],AdminUnits[],4,FALSE)","v":4},{"$f":"VLOOKUP(Main3WData[[#This Row],[Sector]],Sectors[],2,FALSE)","v":5}]
[null,"AFRICARE",{"$f":"INDEX(Organizations[],MATCH(Main3WData[[#This Row],[Acronym]],AcronymList,0),1)","v":"AFRICARE"},{"$f":"INDEX(Organizations[],MATCH(Main3WData[[#This Row],[Acronym]],AcronymList,0),3)","v":"ONG Int."},"Sécurité alimentaire","Regulier","Tombouctou",{"$f":"VLOOKUP(Main3WData[[#This Row],[Admin Unit Name]],AdminUnits[],2,FALSE)","v":"ML06"},{"$f":"VLOOKUP(Main3WData[[#This Row],[Admin Unit Name]],AdminUnits[],3,FALSE)","v":"Nord"},{"$f":"VLOOKUP(Main3WData[[#This Row],[Admin Unit Name]],AdminUnits[],4,FALSE)","v":6},{"$f":"VLOOKUP(Main3WData[[#This Row],[Sector]],Sectors[],2,FALSE)","v":7}]
[null,"AFAR",{"$f":"INDEX(Organizations[],MATCH(Main3WData[[#This Row],[Acronym]],AcronymList,0),1)","v":"AFAR"},{"$f":"INDEX(Organizations[],MATCH(Main3WData[[#This Row],[Acronym]],AcronymList,0),3)","v":"ONG Nat."},"Sécurité alimentaire","Regulier","Gao",{"$f":"VLOOKUP(Main3WData[[#This Row],[Admin Unit Name]],AdminUnits[],2,FALSE)","v":"ML07"},{"$f":"VLOOKUP(Main3WData[[#This Row],[Admin Unit Name]],AdminUnits[],3,FALSE)","v":"Nord"},{"$f":"VLOOKUP(Main3WData[[#This Row],[Admin Unit Name]],AdminUnits[],4,FALSE)","v":7},{"$f":"VLOOKUP(Main3WData[[#This Row],[Sector]],Sectors[],2,FALSE)","v":7}]
[null,"AFAR",{"$f":"INDEX(Organizations[],MATCH(Main3WData[[#This Row],[Acronym]],AcronymList,0),1)","v":"AFAR"},{"$f":"INDEX(Organizations[],MATCH(Main3WData[[#This Row],[Acronym]],AcronymList,0),3)","v":"ONG Nat."},"Sécurité alimentaire","Regulier","Mopti",{"$f":"VLOOKUP(Main3WData[[#This Row],[Admin Unit Name]],AdminUnits[],2,FALSE)","v":"ML05"},{"$f":"VLOOKUP(Main3WData[[#This Row],[Admin Unit Name]],AdminUnits[],3,FALSE)","v":"Sud"},{"$f":"VLOOKUP(Main3WData[[#This Row],[Admin Unit Name]],AdminUnits[],4,FALSE)","v":5},{"$f":"VLOOKUP(Main3WData[[#This Row],[Sector]],Sectors[],2,FALSE)","v":7}]
[null,"AFAR",{"$f":"INDEX(Organizations[],MATCH(Main3WData[[#This Row],[Acronym]],AcronymList,0),1)","v":"AFAR"},{"$f":"INDEX(Organizations[],MATCH(Main3WData[[#This Row],[Acronym]],AcronymList,0),3)","v":"ONG Nat."},"Sécurité alimentaire","Regulier","Tombouctou",{"$f":"VLOOKUP(Main3WData[[#This Row],[Admin Unit Name]],AdminUnits[],2,FALSE)","v":"ML06"},{"$f":"VLOOKUP(Main3WData[[#This Row],[Admin Unit Name]],AdminUnits[],3,FALSE)","v":"Nord"},{"$f":"VLOOKUP(Main3WData[[#This Row],[Admin Unit Name]],AdminUnits[],4,FALSE)","v":6},{"$f":"VLOOKUP(Main3WData[[#This Row],[Sector]],Sectors[],2,FALSE)","v":7}]
[null,"ADM",{"$f":"INDEX(Organizations[],MATCH(Main3WData[[#This Row],[Acronym]],AcronymList,0),1)","v":"Appui au développement au Mali"},{"$f":"INDEX(Organizations[],MATCH(Main3WData[[#This Row],[Acronym]],AcronymList,0),3)","v":"ONG Nat."},"Education","Regulier","Gao",{"$f":"VLOOKUP(Main3WData[[#This Row],[Admin Unit Name]],AdminUnits[],2,FALSE)","v":"ML07"},{"$f":"VLOOKUP(Main3WData[[#This Row],[Admin Unit Name]],AdminUnits[],3,FALSE)","v":"Nord"},{"$f":"VLOOKUP(Main3WData[[#This Row],[Admin Unit Name]],AdminUnits[],4,FALSE)","v":7},{"$f":"VLOOKUP(Main3WData[[#This Row],[Sector]],Sectors[],2,FALSE)","v":3}]
[null,"ADIZOSS",{"$f":"INDEX(Organizations[],MATCH(Main3WData[[#This Row],[Acronym]],AcronymList,0),1)","v":"Association pour le développement intégré en zone sahélo saharienne"},{"$f":"INDEX(Organizations[],MATCH(Main3WData[[#This Row],[Acronym]],AcronymList,0),3)","v":"ONG Nat."},"Education","Regulier","Gao",{"$f":"VLOOKUP(Main3WData[[#This Row],[Admin Unit Name]],AdminUnits[],2,FALSE)","v":"ML07"},{"$f":"VLOOKUP(Main3WData[[#This Row],[Admin Unit Name]],AdminUnits[],3,FALSE)","v":"Nord"},{"$f":"VLOOKUP(Main3WData[[#This Row],[Admin Unit Name]],AdminUnits[],4,FALSE)","v":7},{"$f":"VLOOKUP(Main3WData[[#This Row],[Sector]],Sectors[],2,FALSE)","v":3}]
[null,"ADG",{"$f":"INDEX(Organizations[],MATCH(Main3WData[[#This Row],[Acronym]],AcronymList,0),1)","v":"ADG"},{"$f":"INDEX(Organizations[],MATCH(Main3WData[[#This Row],[Acronym]],AcronymList,0),3)","v":"ONG Nat."},"Sécurité alimentaire","Regulier","Kidal",{"$f":"VLOOKUP(Main3WData[[#This Row],[Admin Unit Name]],AdminUnits[],2,FALSE)","v":"ML08"},{"$f":"VLOOKUP(Main3WData[[#This Row],[Admin Unit Name]],AdminUnits[],3,FALSE)","v":"Nord"},{"$f":"VLOOKUP(Main3WData[[#This Row],[Admin Unit Name]],AdminUnits[],4,FALSE)","v":8},{"$f":"VLOOKUP(Main3WData[[#This Row],[Sector]],Sectors[],2,FALSE)","v":7}]
[null,"ADAZ",{"$f":"INDEX(Organizations[],MATCH(Main3WData[[#This Row],[Acronym]],AcronymList,0),1)","v":"Association pour le Développement en Zone Aride"},{"$f":"INDEX(Organizations[],MATCH(Main3WData[[#This Row],[Acronym]],AcronymList,0),3)","v":"ONG Nat."},"Education","Regulier","Tombouctou",{"$f":"VLOOKUP(Main3WData[[#This Row],[Admin Unit Name]],AdminUnits[],2,FALSE)","v":"ML06"},{"$f":"VLOOKUP(Main3WData[[#This Row],[Admin Unit Name]],AdminUnits[],3,FALSE)","v":"Nord"},{"$f":"VLOOKUP(Main3WData[[#This Row],[Admin Unit Name]],AdminUnits[],4,FALSE)","v":6},{"$f":"VLOOKUP(Main3WData[[#This Row],[Sector]],Sectors[],2,FALSE)","v":3}]
[null,"ADAZ",{"$f":"INDEX(Organizations[],MATCH(Main3WData[[#This Row],[Acronym]],AcronymList,0),1)","v":"Association pour le Développement en Zone Aride"},{"$f":"INDEX(Organizations[],MATCH(Main3WData[[#This Row],[Acronym]],AcronymList,0),3)","v":"ONG Nat."},"Sécurité alimentaire","Regulier","Tombouctou",{"$f":"VLOOKUP(Main3WData[[#This Row],[Admin Unit Name]],AdminUnits[],2,FALSE)","v":"ML06"},{"$f":"VLOOKUP(Main3WData[[#This Row],[Admin Unit Name]],AdminUnits[],3,FALSE)","v":"Nord"},{"$f":"VLOOKUP(Main3WData[[#This Row],[Admin Unit Name]],AdminUnits[],4,FALSE)","v":6},{"$f":"VLOOKUP(Main3WData[[#This Row],[Sector]],Sectors[],2,FALSE)","v":7}]
[null,"Action Mopti",{"$f":"INDEX(Organizations[],MATCH(Main3WData[[#This Row],[Acronym]],AcronymList,0),1)","v":"Action Mopti"},{"$f":"INDEX(Organizations[],MATCH(Main3WData[[#This Row],[Acronym]],AcronymList,0),3)","v":"ONG Nat."},"Santé","Regulier","Mopti",{"$f":"VLOOKUP(Main3WData[[#This Row],[Admin Unit Name]],AdminUnits[],2,FALSE)","v":"ML05"},{"$f":"VLOOKUP(Main3WData[[#This Row],[Admin Unit Name]],AdminUnits[],3,FALSE)","v":"Sud"},{"$f":"VLOOKUP(Main3WData[[#This Row],[Admin Unit Name]],AdminUnits[],4,FALSE)","v":5},{"$f":"VLOOKUP(Main3WData[[#This Row],[Sector]],Sectors[],2,FALSE)","v":6}]
[null,"ACTED",{"$f":"INDEX(Organizations[],MATCH(Main3WData[[#This Row],[Acronym]],AcronymList,0),1)","v":"Agence d'aide à la coopération technique et au développement"},{"$f":"INDEX(Organizations[],MATCH(Main3WData[[#This Row],[Acronym]],AcronymList,0),3)","v":"ONG Int."},"Abris et NFI","Regulier","Gao",{"$f":"VLOOKUP(Main3WData[[#This Row],[Admin Unit Name]],AdminUnits[],2,FALSE)","v":"ML07"},{"$f":"VLOOKUP(Main3WData[[#This Row],[Admin Unit Name]],AdminUnits[],3,FALSE)","v":"Nord"},{"$f":"VLOOKUP(Main3WData[[#This Row],[Admin Unit Name]],AdminUnits[],4,FALSE)","v":7},{"$f":"VLOOKUP(Main3WData[[#This Row],[Sector]],Sectors[],2,FALSE)","v":1}]
[null,"ACTED",{"$f":"INDEX(Organizations[],MATCH(Main3WData[[#This Row],[Acronym]],AcronymList,0),1)","v":"Agence d'aide à la coopération technique et au développement"},{"$f":"INDEX(Organizations[],MATCH(Main3WData[[#This Row],[Acronym]],AcronymList,0),3)","v":"ONG Int."},"Abris et NFI","Regulier","Mopti",{"$f":"VLOOKUP(Main3WData[[#This Row],[Admin Unit Name]],AdminUnits[],2,FALSE)","v":"ML05"},{"$f":"VLOOKUP(Main3WData[[#This Row],[Admin Unit Name]],AdminUnits[],3,FALSE)","v":"Sud"},{"$f":"VLOOKUP(Main3WData[[#This Row],[Admin Unit Name]],AdminUnits[],4,FALSE)","v":5},{"$f":"VLOOKUP(Main3WData[[#This Row],[Sector]],Sectors[],2,FALSE)","v":1}]
[null,"ACTED",{"$f":"INDEX(Organizations[],MATCH(Main3WData[[#This Row],[Acronym]],AcronymList,0),1)","v":"Agence d'aide à la coopération technique et au développement"},{"$f":"INDEX(Organizations[],MATCH(Main3WData[[#This Row],[Acronym]],AcronymList,0),3)","v":"ONG Int."},"Education","Regulier","Gao",{"$f":"VLOOKUP(Main3WData[[#This Row],[Admin Unit Name]],AdminUnits[],2,FALSE)","v":"ML07"},{"$f":"VLOOKUP(Main3WData[[#This Row],[Admin Unit Name]],AdminUnits[],3,FALSE)","v":"Nord"},{"$f":"VLOOKUP(Main3WData[[#This Row],[Admin Unit Name]],AdminUnits[],4,FALSE)","v":7},{"$f":"VLOOKUP(Main3WData[[#This Row],[Sector]],Sectors[],2,FALSE)","v":3}]
[null,"ACTED",{"$f":"INDEX(Organizations[],MATCH(Main3WData[[#This Row],[Acronym]],AcronymList,0),1)","v":"Agence d'aide à la coopération technique et au développement"},{"$f":"INDEX(Organizations[],MATCH(Main3WData[[#This Row],[Acronym]],AcronymList,0),3)","v":"ONG Int."},"EHA","Regulier","Bamako",{"$f":"VLOOKUP(Main3WData[[#This Row],[Admin Unit Name]],AdminUnits[],2,FALSE)","v":"ML09"},{"$f":"VLOOKUP(Main3WData[[#This Row],[Admin Unit Name]],AdminUnits[],3,FALSE)","v":"Sud"},{"$f":"VLOOKUP(Main3WData[[#This Row],[Admin Unit Name]],AdminUnits[],4,FALSE)","v":0},{"$f":"VLOOKUP(Main3WData[[#This Row],[Sector]],Sectors[],2,FALSE)","v":8}]
[null,"ACTED",{"$f":"INDEX(Organizations[],MATCH(Main3WData[[#This Row],[Acronym]],AcronymList,0),1)","v":"Agence d'aide à la coopération technique et au développement"},{"$f":"INDEX(Organizations[],MATCH(Main3WData[[#This Row],[Acronym]],AcronymList,0),3)","v":"ONG Int."},"Nutrition","Regulier","Bamako",{"$f":"VLOOKUP(Main3WData[[#This Row],[Admin Unit Name]],AdminUnits[],2,FALSE)","v":"ML09"},{"$f":"VLOOKUP(Main3WData[[#This Row],[Admin Unit Name]],AdminUnits[],3,FALSE)","v":"Sud"},{"$f":"VLOOKUP(Main3WData[[#This Row],[Admin Unit Name]],AdminUnits[],4,FALSE)","v":0},{"$f":"VLOOKUP(Main3WData[[#This Row],[Sector]],Sectors[],2,FALSE)","v":4}]
[null,"ACTED",{"$f":"INDEX(Organizations[],MATCH(Main3WData[[#This Row],[Acronym]],AcronymList,0),1)","v":"Agence d'aide à la coopération technique et au développement"},{"$f":"INDEX(Organizations[],MATCH(Main3WData[[#This Row],[Acronym]],AcronymList,0),3)","v":"ONG Int."},"Nutrition","Regulier","Mopti",{"$f":"VLOOKUP(Main3WData[[#This Row],[Admin Unit Name]],AdminUnits[],2,FALSE)","v":"ML05"},{"$f":"VLOOKUP(Main3WData[[#This Row],[Admin Unit Name]],AdminUnits[],3,FALSE)","v":"Sud"},{"$f":"VLOOKUP(Main3WData[[#This Row],[Admin Unit Name]],AdminUnits[],4,FALSE)","v":5},{"$f":"VLOOKUP(Main3WData[[#This Row],[Sector]],Sectors[],2,FALSE)","v":4}]
[null,"ACTED",{"$f":"INDEX(Organizations[],MATCH(Main3WData[[#This Row],[Acronym]],AcronymList,0),1)","v":"Agence d'aide à la coopération technique et au développement"},{"$f":"INDEX(Organizations[],MATCH(Main3WData[[#This Row],[Acronym]],AcronymList,0),3)","v":"ONG Int."},"Protection","Regulier","Bamako",{"$f":"VLOOKUP(Main3WData[[#This Row],[Admin Unit Name]],AdminUnits[],2,FALSE)","v":"ML09"},{"$f":"VLOOKUP(Main3WData[[#This Row],[Admin Unit Name]],AdminUnits[],3,FALSE)","v":"Sud"},{"$f":"VLOOKUP(Main3WData[[#This Row],[Admin Unit Name]],AdminUnits[],4,FALSE)","v":0},{"$f":"VLOOKUP(Main3WData[[#This Row],[Sector]],Sectors[],2,FALSE)","v":5}]
[null,"ACTED",{"$f":"INDEX(Organizations[],MATCH(Main3WData[[#This Row],[Acronym]],AcronymList,0),1)","v":"Agence d'aide à la coopération technique et au développement"},{"$f":"INDEX(Organizations[],MATCH(Main3WData[[#This Row],[Acronym]],AcronymList,0),3)","v":"ONG Int."},"Protection","Regulier","Gao",{"$f":"VLOOKUP(Main3WData[[#This Row],[Admin Unit Name]],AdminUnits[],2,FALSE)","v":"ML07"},{"$f":"VLOOKUP(Main3WData[[#This Row],[Admin Unit Name]],AdminUnits[],3,FALSE)","v":"Nord"},{"$f":"VLOOKUP(Main3WData[[#This Row],[Admin Unit Name]],AdminUnits[],4,FALSE)","v":7},{"$f":"VLOOKUP(Main3WData[[#This Row],[Sector]],Sectors[],2,FALSE)","v":5}]
[null,"ACTED",{"$f":"INDEX(Organizations[],MATCH(Main3WData[[#This Row],[Acronym]],AcronymList,0),1)","v":"Agence d'aide à la coopération technique et au développement"},{"$f":"INDEX(Organizations[],MATCH(Main3WData[[#This Row],[Acronym]],AcronymList,0),3)","v":"ONG Int."},"Protection","Regulier","Sikasso",{"$f":"VLOOKUP(Main3WData[[#This Row],[Admin Unit Name]],AdminUnits[],2,FALSE)","v":"ML03"},{"$f":"VLOOKUP(Main3WData[[#This Row],[Admin Unit Name]],AdminUnits[],3,FALSE)","v":"Sud"},{"$f":"VLOOKUP(Main3WData[[#This Row],[Admin Unit Name]],AdminUnits[],4,FALSE)","v":3},{"$f":"VLOOKUP(Main3WData[[#This Row],[Sector]],Sectors[],2,FALSE)","v":5}]
[null,"ACTED",{"$f":"INDEX(Organizations[],MATCH(Main3WData[[#This Row],[Acronym]],AcronymList,0),1)","v":"Agence d'aide à la coopération technique et au développement"},{"$f":"INDEX(Organizations[],MATCH(Main3WData[[#This Row],[Acronym]],AcronymList,0),3)","v":"ONG Int."},"Santé","Regulier","Gao",{"$f":"VLOOKUP(Main3WData[[#This Row],[Admin Unit Name]],AdminUnits[],2,FALSE)","v":"ML07"},{"$f":"VLOOKUP(Main3WData[[#This Row],[Admin Unit Name]],AdminUnits[],3,FALSE)","v":"Nord"},{"$f":"VLOOKUP(Main3WData[[#This Row],[Admin Unit Name]],AdminUnits[],4,FALSE)","v":7},{"$f":"VLOOKUP(Main3WData[[#This Row],[Sector]],Sectors[],2,FALSE)","v":6}]
[null,"ACTED",{"$f":"INDEX(Organizations[],MATCH(Main3WData[[#This Row],[Acronym]],AcronymList,0),1)","v":"Agence d'aide à la coopération technique et au développement"},{"$f":"INDEX(Organizations[],MATCH(Main3WData[[#This Row],[Acronym]],AcronymList,0),3)","v":"ONG Int."},"Sécurité alimentaire","Regulier","Bamako",{"$f":"VLOOKUP(Main3WData[[#This Row],[Admin Unit Name]],AdminUnits[],2,FALSE)","v":"ML09"},{"$f":"VLOOKUP(Main3WData[[#This Row],[Admin Unit Name]],AdminUnits[],3,FALSE)","v":"Sud"},{"$f":"VLOOKUP(Main3WData[[#This Row],[Admin Unit Name]],AdminUnits[],4,FALSE)","v":0},{"$f":"VLOOKUP(Main3WData[[#This Row],[Sector]],Sectors[],2,FALSE)","v":7}]
[null,"ACTED",{"$f":"INDEX(Organizations[],MATCH(Main3WData[[#This Row],[Acronym]],AcronymList,0),1)","v":"Agence d'aide à la coopération technique et au développement"},{"$f":"INDEX(Organizations[],MATCH(Main3WData[[#This Row],[Acronym]],AcronymList,0),3)","v":"ONG Int."},"Sécurité alimentaire","Regulier","Gao",{"$f":"VLOOKUP(Main3WData[[#This Row],[Admin Unit Name]],AdminUnits[],2,FALSE)","v":"ML07"},{"$f":"VLOOKUP(Main3WData[[#This Row],[Admin Unit Name]],AdminUnits[],3,FALSE)","v":"Nord"},{"$f":"VLOOKUP(Main3WData[[#This Row],[Admin Unit Name]],AdminUnits[],4,FALSE)","v":7},{"$f":"VLOOKUP(Main3WData[[#This Row],[Sector]],Sectors[],2,FALSE)","v":7}]
[null,"ACF – Espagne",{"$f":"INDEX(Organizations[],MATCH(Main3WData[[#This Row],[Acronym]],AcronymList,0),1)","v":"Action contre la faim Espagne"},{"$f":"INDEX(Organizations[],MATCH(Main3WData[[#This Row],[Acronym]],AcronymList,0),3)","v":"ONG Int."},"EHA","Regulier","Bamako",{"$f":"VLOOKUP(Main3WData[[#This Row],[Admin Unit Name]],AdminUnits[],2,FALSE)","v":"ML09"},{"$f":"VLOOKUP(Main3WData[[#This Row],[Admin Unit Name]],AdminUnits[],3,FALSE)","v":"Sud"},{"$f":"VLOOKUP(Main3WData[[#This Row],[Admin Unit Name]],AdminUnits[],4,FALSE)","v":0},{"$f":"VLOOKUP(Main3WData[[#This Row],[Sector]],Sectors[],2,FALSE)","v":8}]
[null,"ACF – Espagne",{"$f":"INDEX(Organizations[],MATCH(Main3WData[[#This Row],[Acronym]],AcronymList,0),1)","v":"Action contre la faim Espagne"},{"$f":"INDEX(Organizations[],MATCH(Main3WData[[#This Row],[Acronym]],AcronymList,0),3)","v":"ONG Int."},"EHA","Regulier","Gao",{"$f":"VLOOKUP(Main3WData[[#This Row],[Admin Unit Name]],AdminUnits[],2,FALSE)","v":"ML07"},{"$f":"VLOOKUP(Main3WData[[#This Row],[Admin Unit Name]],AdminUnits[],3,FALSE)","v":"Nord"},{"$f":"VLOOKUP(Main3WData[[#This Row],[Admin Unit Name]],AdminUnits[],4,FALSE)","v":7},{"$f":"VLOOKUP(Main3WData[[#This Row],[Sector]],Sectors[],2,FALSE)","v":8}]
[null,"ACF – Espagne",{"$f":"INDEX(Organizations[],MATCH(Main3WData[[#This Row],[Acronym]],AcronymList,0),1)","v":"Action contre la faim Espagne"},{"$f":"INDEX(Organizations[],MATCH(Main3WData[[#This Row],[Acronym]],AcronymList,0),3)","v":"ONG Int."},"EHA","Regulier","Kayes",{"$f":"VLOOKUP(Main3WData[[#This Row],[Admin Unit Name]],AdminUnits[],2,FALSE)","v":"ML01"},{"$f":"VLOOKUP(Main3WData[[#This Row],[Admin Unit Name]],AdminUnits[],3,FALSE)","v":"Sud"},{"$f":"VLOOKUP(Main3WData[[#This Row],[Admin Unit Name]],AdminUnits[],4,FALSE)","v":1},{"$f":"VLOOKUP(Main3WData[[#This Row],[Sector]],Sectors[],2,FALSE)","v":8}]
[null,"ACF – Espagne",{"$f":"INDEX(Organizations[],MATCH(Main3WData[[#This Row],[Acronym]],AcronymList,0),1)","v":"Action contre la faim Espagne"},{"$f":"INDEX(Organizations[],MATCH(Main3WData[[#This Row],[Acronym]],AcronymList,0),3)","v":"ONG Int."},"EHA","Regulier","Koulikoro",{"$f":"VLOOKUP(Main3WData[[#This Row],[Admin Unit Name]],AdminUnits[],2,FALSE)","v":"ML02"},{"$f":"VLOOKUP(Main3WData[[#This Row],[Admin Unit Name]],AdminUnits[],3,FALSE)","v":"Sud"},{"$f":"VLOOKUP(Main3WData[[#This Row],[Admin Unit Name]],AdminUnits[],4,FALSE)","v":2},{"$f":"VLOOKUP(Main3WData[[#This Row],[Sector]],Sectors[],2,FALSE)","v":8}]
[null,"ACF – Espagne",{"$f":"INDEX(Organizations[],MATCH(Main3WData[[#This Row],[Acronym]],AcronymList,0),1)","v":"Action contre la faim Espagne"},{"$f":"INDEX(Organizations[],MATCH(Main3WData[[#This Row],[Acronym]],AcronymList,0),3)","v":"ONG Int."},"EHA","Regulier","Tombouctou",{"$f":"VLOOKUP(Main3WData[[#This Row],[Admin Unit Name]],AdminUnits[],2,FALSE)","v":"ML06"},{"$f":"VLOOKUP(Main3WData[[#This Row],[Admin Unit Name]],AdminUnits[],3,FALSE)","v":"Nord"},{"$f":"VLOOKUP(Main3WData[[#This Row],[Admin Unit Name]],AdminUnits[],4,FALSE)","v":6},{"$f":"VLOOKUP(Main3WData[[#This Row],[Sector]],Sectors[],2,FALSE)","v":8}]
[null,"ACF – Espagne",{"$f":"INDEX(Organizations[],MATCH(Main3WData[[#This Row],[Acronym]],AcronymList,0),1)","v":"Action contre la faim Espagne"},{"$f":"INDEX(Organizations[],MATCH(Main3WData[[#This Row],[Acronym]],AcronymList,0),3)","v":"ONG Int."},"Nutrition","Regulier","Bamako",{"$f":"VLOOKUP(Main3WData[[#This Row],[Admin Unit Name]],AdminUnits[],2,FALSE)","v":"ML09"},{"$f":"VLOOKUP(Main3WData[[#This Row],[Admin Unit Name]],AdminUnits[],3,FALSE)","v":"Sud"},{"$f":"VLOOKUP(Main3WData[[#This Row],[Admin Unit Name]],AdminUnits[],4,FALSE)","v":0},{"$f":"VLOOKUP(Main3WData[[#This Row],[Sector]],Sectors[],2,FALSE)","v":4}]
[null,"ACF – Espagne",{"$f":"INDEX(Organizations[],MATCH(Main3WData[[#This Row],[Acronym]],AcronymList,0),1)","v":"Action contre la faim Espagne"},{"$f":"INDEX(Organizations[],MATCH(Main3WData[[#This Row],[Acronym]],AcronymList,0),3)","v":"ONG Int."},"Nutrition","Regulier","Gao",{"$f":"VLOOKUP(Main3WData[[#This Row],[Admin Unit Name]],AdminUnits[],2,FALSE)","v":"ML07"},{"$f":"VLOOKUP(Main3WData[[#This Row],[Admin Unit Name]],AdminUnits[],3,FALSE)","v":"Nord"},{"$f":"VLOOKUP(Main3WData[[#This Row],[Admin Unit Name]],AdminUnits[],4,FALSE)","v":7},{"$f":"VLOOKUP(Main3WData[[#This Row],[Sector]],Sectors[],2,FALSE)","v":4}]
[null,"ACF – Espagne",{"$f":"INDEX(Organizations[],MATCH(Main3WData[[#This Row],[Acronym]],AcronymList,0),1)","v":"Action contre la faim Espagne"},{"$f":"INDEX(Organizations[],MATCH(Main3WData[[#This Row],[Acronym]],AcronymList,0),3)","v":"ONG Int."},"Nutrition","Regulier","Kayes",{"$f":"VLOOKUP(Main3WData[[#This Row],[Admin Unit Name]],AdminUnits[],2,FALSE)","v":"ML01"},{"$f":"VLOOKUP(Main3WData[[#This Row],[Admin Unit Name]],AdminUnits[],3,FALSE)","v":"Sud"},{"$f":"VLOOKUP(Main3WData[[#This Row],[Admin Unit Name]],AdminUnits[],4,FALSE)","v":1},{"$f":"VLOOKUP(Main3WData[[#This Row],[Sector]],Sectors[],2,FALSE)","v":4}]
[null,"ACF – Espagne",{"$f":"INDEX(Organizations[],MATCH(Main3WData[[#This Row],[Acronym]],AcronymList,0),1)","v":"Action contre la faim Espagne"},{"$f":"INDEX(Organizations[],MATCH(Main3WData[[#This Row],[Acronym]],AcronymList,0),3)","v":"ONG Int."},"Nutrition","Regulier","Koulikoro",{"$f":"VLOOKUP(Main3WData[[#This Row],[Admin Unit Name]],AdminUnits[],2,FALSE)","v":"ML02"},{"$f":"VLOOKUP(Main3WData[[#This Row],[Admin Unit Name]],AdminUnits[],3,FALSE)","v":"Sud"},{"$f":"VLOOKUP(Main3WData[[#This Row],[Admin Unit Name]],AdminUnits[],4,FALSE)","v":2},{"$f":"VLOOKUP(Main3WData[[#This Row],[Sector]],Sectors[],2,FALSE)","v":4}]
[null,"ACF – Espagne",{"$f":"INDEX(Organizations[],MATCH(Main3WData[[#This Row],[Acronym]],AcronymList,0),1)","v":"Action contre la faim Espagne"},{"$f":"INDEX(Organizations[],MATCH(Main3WData[[#This Row],[Acronym]],AcronymList,0),3)","v":"ONG Int."},"Nutrition","Regulier","Tombouctou",{"$f":"VLOOKUP(Main3WData[[#This Row],[Admin Unit Name]],AdminUnits[],2,FALSE)","v":"ML06"},{"$f":"VLOOKUP(Main3WData[[#This Row],[Admin Unit Name]],AdminUnits[],3,FALSE)","v":"Nord"},{"$f":"VLOOKUP(Main3WData[[#This Row],[Admin Unit Name]],AdminUnits[],4,FALSE)","v":6},{"$f":"VLOOKUP(Main3WData[[#This Row],[Sector]],Sectors[],2,FALSE)","v":4}]
[null,"ACF – Espagne",{"$f":"INDEX(Organizations[],MATCH(Main3WData[[#This Row],[Acronym]],AcronymList,0),1)","v":"Action contre la faim Espagne"},{"$f":"INDEX(Organizations[],MATCH(Main3WData[[#This Row],[Acronym]],AcronymList,0),3)","v":"ONG Int."},"Sécurité alimentaire","Regulier","Gao",{"$f":"VLOOKUP(Main3WData[[#This Row],[Admin Unit Name]],AdminUnits[],2,FALSE)","v":"ML07"},{"$f":"VLOOKUP(Main3WData[[#This Row],[Admin Unit Name]],AdminUnits[],3,FALSE)","v":"Nord"},{"$f":"VLOOKUP(Main3WData[[#This Row],[Admin Unit Name]],AdminUnits[],4,FALSE)","v":7},{"$f":"VLOOKUP(Main3WData[[#This Row],[Sector]],Sectors[],2,FALSE)","v":7}]
[null,"ACADEMIE",{"$f":"INDEX(Organizations[],MATCH(Main3WData[[#This Row],[Acronym]],AcronymList,0),1)","v":"ACADEMIE D'ENSEIGNEMENT"},{"$f":"INDEX(Organizations[],MATCH(Main3WData[[#This Row],[Acronym]],AcronymList,0),3)","v":"Gouvernement"},"Coordination","Regulier","Gao",{"$f":"VLOOKUP(Main3WData[[#This Row],[Admin Unit Name]],AdminUnits[],2,FALSE)","v":"ML07"},{"$f":"VLOOKUP(Main3WData[[#This Row],[Admin Unit Name]],AdminUnits[],3,FALSE)","v":"Nord"},{"$f":"VLOOKUP(Main3WData[[#This Row],[Admin Unit Name]],AdminUnits[],4,FALSE)","v":7},{"$f":"VLOOKUP(Main3WData[[#This Row],[Sector]],Sectors[],2,FALSE)","v":2}]
[null,"ACADEMIE",{"$f":"INDEX(Organizations[],MATCH(Main3WData[[#This Row],[Acronym]],AcronymList,0),1)","v":"ACADEMIE D'ENSEIGNEMENT"},{"$f":"INDEX(Organizations[],MATCH(Main3WData[[#This Row],[Acronym]],AcronymList,0),3)","v":"Gouvernement"},"Coordination","Regulier","Tombouctou",{"$f":"VLOOKUP(Main3WData[[#This Row],[Admin Unit Name]],AdminUnits[],2,FALSE)","v":"ML06"},{"$f":"VLOOKUP(Main3WData[[#This Row],[Admin Unit Name]],AdminUnits[],3,FALSE)","v":"Nord"},{"$f":"VLOOKUP(Main3WData[[#This Row],[Admin Unit Name]],AdminUnits[],4,FALSE)","v":6},{"$f":"VLOOKUP(Main3WData[[#This Row],[Sector]],Sectors[],2,FALSE)","v":2}]
[null,"AAG-Gao",{"$f":"INDEX(Organizations[],MATCH(Main3WData[[#This Row],[Acronym]],AcronymList,0),1)","v":"AAG-Gao"},{"$f":"INDEX(Organizations[],MATCH(Main3WData[[#This Row],[Acronym]],AcronymList,0),3)","v":"ONG Nat."},"Nutrition","Regulier","Gao",{"$f":"VLOOKUP(Main3WData[[#This Row],[Admin Unit Name]],AdminUnits[],2,FALSE)","v":"ML07"},{"$f":"VLOOKUP(Main3WData[[#This Row],[Admin Unit Name]],AdminUnits[],3,FALSE)","v":"Nord"},{"$f":"VLOOKUP(Main3WData[[#This Row],[Admin Unit Name]],AdminUnits[],4,FALSE)","v":7},{"$f":"VLOOKUP(Main3WData[[#This Row],[Sector]],Sectors[],2,FALSE)","v":4}]

{"sheet":"Organisations","index":7,"n_rows":286,"n_cols":3,"rows_kept":286,"cut":false,"hidden":false,"merged":[]}
["Name","Acronym","Type"]
["AAG-Gao","AAG-Gao","ONG Nat."]
["ACADEMIE D'ENSEIGNEMENT","ACADEMIE","Gouvernement"]
["ACAS","ACAS","ONG Nat."]
["ACIF","ACIF","ONG Nat."]
["Action contre la faim","ACF","ONG Int."]
["Action contre la faim Espagne","ACF – Espagne","ONG Int."]
["Action Mopti","Action Mopti","ONG Nat."]
["ACTIONS DE PROMOTION HUMAINE","APH","ONG Nat."]
["ADENORD","ADENORD","ONG Nat."]
["ADESAH","ADESAH","ONG Nat."]
["ADG","ADG","ONG Nat."]
["ADICO","ADICO","ONG Nat."]
["ADR","ADR","ONG Nat."]
["ADRA Mali","ADRA Mali","ONG Int."]
["AED","AED","ONG Nat."]
["AFAR","AFAR","ONG Nat."]
["AFEM","AFEM","ONG Nat."]
["AFRICARE","AFRICARE","ONG Int."]
["Aga Khan Foundation","AKF","Fondation"]
["Agence d'aide à la coopération technique et au développement","ACTED","ONG Int."]
["Agence Française pour le Développement","AFD","Bailleurs"]
["Agro-Action allemande","AAA","ONG Int."]
["Agronomes et Vétérinaires Sans Frontières","AVSF","ONG Int."]
["Aide Action International","AAI","ONG Int."]
["Aide au Développement de la Médecine Traditionnelle","Aidemet","ONG Nat."]
["AJDM","AJDM","Association"]
["Alliance Internationale for Medical Action","ALIMA","ONG Int."]
["Alliance Internationale for Medical Action","ALIMA/AMCP","ONG Int."]
["ALLIANCE MEDICALE CONTRE LE PALUDISME","AMCP","ONG Int."]
["ALMUD","ALMUD","ONG Nat."]
["ALPHALOG","ALPHALOG","ONG Nat."]
["AMASSA","AMASSA","ONG Nat."]
["AMPRODE Sahel","AMPRODE Sahel","ONG Nat."]
["AMSOPT","AMSOPT","ONG Nat."]
["APDF","APDF","ONG Nat."]
["Appui au développement au Mali","ADM","ONG Nat."]
["APSM","APSM","ONG Nat."]
["ARAW","ARAW","ONG Nat."]
["ArcheNova","ArcheNova","ONG Int."]
["ArcheNova/Nord et Developpement","ArcheNova/NordDev","ONG Int."]
["ARDIL","ARDIL","ONG Nat."]
["Association Subaahi Gumo","ASG","ONG Nat."]
["ASSAFE","ASSAFE","ONG Nat."]
["Assoc TEMEDT","Assoc TEMEDT","ONG Nat."]
["Association des Anciens Volontaires des Nations Unies","AAVNU","ONG Nat."]
["Association des Femmes et Adolescents Solidaires","AFASO","Association"]
["Association des Juristes du Mali","AJM","Association"]
["Association des Organisations Professionelles Paysannes","AOPP","ONG Nat."]
["Association des Organisations Professionnelles Paysannes","AOPP","Association"]
["Association Humanitaire Gao","AHG","Association"]
["Association Interprofessionnelle du Bétail et de la Viande de la Régions de Mopti","FOFBEV","ONG Nat."]
["Association Malienne d'Assistance Technique Villageoise","Amatevi","Association"]
["Association Malienne pour la Promotion du Sahel","AMAPROS","ONG Nat."]
["Association malienne pour la promotion et la survie au Sahel","APROMORS","ONG Nat."]
["Association Malienne pour la Survie au Sahel","AMSS","ONG Nat."]
["Association pour la Formation, la Recherche et le Développement","AFORD","ONG Nat."]
["Association pour la promotion et l'appui au développement local ","APADL","ONG Nat."]
["Association pour le Développement en Zone Aride","ADAZ","ONG Nat."]
["Association pour le développement intégré en zone sahélo saharienne","ADIZOSS","ONG Nat."]
["Association pour le Soutien du Développement des Activités de Population","ASDAP","ONG Nat."]
["Association Sahélienne d’Appui au Développement Décentralisé","ASSADDEC","ONG Nat."]
["Avenir Enfance Sahel","AVES","ONG Nat."]
["Avocat Sans Frontiere","Avocat Sans Frontiere","ONG Int."]
["AWECO","AWECO","ONG Int."]
["AZHAR","AZHAR","ONG Nat."]
["BØRNEfonden","BØRNEfonden","ONG Int."]
["BOUCTOU ACTIONS","BOUCTOU ACTIONS","ONG Nat."]
["Bureau d’Ingénierie et de Recherche Appliquée au Développement ","BIRAD","ONG Nat."]
["Bureau de coordination des affaires humanitaires","OCHA","UN"]
["Bureau international de travail","BIT","Org Int."]
["Bureau National Catholique pour l'Enfance","BNCE","ONG Nat."]
["Cabinet de Recherche Action pour le Développement Endogène","CRADE","ONG Nat."]
["Cabinet d'Etudes pour l'Expertise et la Formation","CEEF","ONG Nat."]
["CAES","CAES","ONG Nat."]
["Caravan to Class","C2C","ONG Int."]
["CARE Interntional Mali","CARE Mali","ONG Int."]
["CARITAS Mali","Caritas","ONG Int."]
["Caritas Mopti","Caritas Mopti","ONG Int."]
["Caritas San","Caritas San","ONG Int."]
["Caritas Segou","Caritas Segou","ONG Int."]
["Catholic Relief Services","CRS","ONG Int."]
["Cellule d'Appui aux Initiatives de Développement","CAID-MALI","ONG Nat."]
["Centre d'Animation Pédagogique","CAP","Gouvernement"]
["Centre Djoliba","Centre Djoliba","ONG Nat."]
["Centre étude coopération internationale","CECI","Org Int."]
["CERF/JAPON ","CERF/JAPON","ONG Int."]
["Christian-Aid","Christian-Aid","ONG Int."]
["CNLTE","CNLTE","ONG Nat."]
["Comite international de la croix rouge","CICR","ONG Int."]
["Comités de Protection de l'Enfant","Comités de Protection de l'Enfant","ONG Nat."]
["Comunità Impegno Servizio Volontariato","CISV","ONG Nat."]
["Conseil National de Concertation et de Coopération des Ruraux","CNCR","Gouvernement"]
["CONSORTIUM ARDIL - CAID","CONSORTIUM ARDIL - CAID","ONG Int."]
["Consortium FCI CAEB","Consortium FCI CAEB","ONG Nat."]
["Cooperacción","Cooperacció","ONG Int."]
["Coopération Mali-Luxembourg","Coopération Mali-Luxembourg","ONG Int."]
["COOPI","COOPI","ONG Int."]
["COREN","COREN","Association"]
["CRF/CRM","CRF/CRM","ONG Int."]
["Cri de Cœur","Cri de Cœur","ONG Nat."]
["Croix Rouge Belgique","CR-Belgique","Mouv. Croix-rouge"]
["Croix Rouge Danemark","CR-Danemark","Mouv. Croix-rouge"]
["Croix Rouge Espagne","CR-Espagne","Mouv. Croix-rouge"]
["Croix Rouge France","CR-France","Mouv. Croix-rouge"]
["Croix Rouge Luxembourg","CR-Luxembourg","Mouv. Croix-rouge"]
["Croix Rouge Suisse","CR-Suisse","Mouv. Croix-rouge"]
["Croix-Rouge Mali","CR-Mali","Mouv. Croix-rouge"]
["CRT","CRT","ONG Nat."]
["CSPEEDA","CSPEEDA","ONG Nat."]
["DanChurchAid","DanChurchAid","ONG Int."]
["DANIDA","DANIDA","ONG Int."]
["Danish Refugee Council","DRC","ONG Int."]
["DCA Mine Action ","DCA Mine Action/UNMAS","ONG Int."]
["Delta Survie","Delta Survie","ONG Nat."]
["Department of Foreign Affairs, Trade and Development","DFATD","ONG Int."]
["Deutsche Welthungerhilfe","DWHH","ONG Int."]
["Developpement Durable dans la Region de Kidal","DDRK","Association"]
["Direction Générale de la Protection Civile","DGPC","Gouvernement"]
["Direction nationale de la sante","DNS","Gouvernement"]
["Direction Nationale du Développement Social","DNDS","Gouvernement"]
["Direction Régionale de la Promotion de la Femme, de l’Enfant et de la Famille","DRPFEF","Gouvernement"]
["Direction Régionale de la Santé","DRS","Gouvernement"]
["Direction Régionale de l'agriculture","DRA","Gouvernement"]
["Direction Régionale de l'Hydraulique","DRH","Gouvernement"]
["Direction Régionale du Développement Social","DRDS","Gouvernement"]
["DRDSES","DRDSES","Gouvernement"]
["DVV International","DVVI","ONG Int."]
["Eau Vive","Eau Vive","ONG Int."]
["ECHO","ECHO","Bailleurs"]
["EFFAD","EFFAD","ONG Nat."]
["ENDA MALI","ENDA MALI","ONG Int."]
["ENDA TIERS MONDE","ENDA TIERS MONDE","ONG Int."]
["Ensemble pour une Solidarité Thérapeutique Hospitalière En Réseau","ESTHER","Association"]
["Eveil ","Eveil ","ONG Nat."]
["FAABA","FAABA","ONG Nat."]
["Family Care International","FCI-Mali","ONG Int."]
["Faranfasi-So","Faranfasi-So","ONG Nat."]
["Fédération des Unions de Sociétés Coopératives ","FUSC","Association"]
["Federation Internationale de la Croix-Rouge","IFRC","Mouv. Croix-rouge"]
["Fédération Nationale de la Filière Bétail et Viande","FEBEVIM","Association"]
["Fédération nationale des Artisans du Mali","FNAM","Association"]
["Fédération Nationale des Femmes Rurales du Mali","FENAFER","Association"]
["FLAG International","FLAG International","ONG Int."]
["Fondation Intervida","Fondation Intervida","Fondation"]
["Fondation Novartis","Fondation Novartis","Fondation"]
["Fonds des Nations Unies pour la Population","UNFPA","UN"]
["Fonds des Nations Unies pour l'Enfance","UNICEF","UN"]
["Fonds international de développement agricole","FIDA","UN"]
["GADEV","GADEV","ONG Nat."]
["GARI","GARI","ONG Nat."]
["G-FORCE/AMASSA","G-FORCE/AMASSA","ONG Nat."]
["Gouvernorat","Gouvernorat","Gouvernement"]
["GRADECOM","GRADECOM","ONG Int."]
["GRADEM","GRADEM","ONG Nat."]
["GRAIP","GRAIP","ONG Nat."]
["GRAT","GRAT","ONG Nat."]
["GREFFA","GREFFA","ONG Nat."]
["Groupe Action et Recherche pou\nr le Développement Local ","GARDL","ONG Nat."]
["GROUPE D'ANIMATION ACTION AU SAHEL MALI","GAAS Mali","ONG Nat."]
["Groupe de Recherche et de Réalisation en Développement Rural ","GRDR","ONG Int."]
["GUAMINA","GUAMINA","ONG Nat."]
["Handicap International","HI","ONG Int."]
["Haut Commissariat des Nations Unies pour les réfugiés","UNHCR","UN"]
["Haut-Commissariat aux droits de l'homme","OHCHR ","UN"]
["Helen Keller International","HKI","ONG Int."]
["HELP ASSISTANCE ALLEMANDE","HELP","ONG Int."]
["HELVETAS Swiss Interoperation","HSI","ONG Int."]
["IAMANEH Mali","IAMANEH Mali","ONG Nat."]
["ICCO","ICCO","ONG Int."]
["Initiative Malienne d'Appui au Développement Loca","IMADEL","Association"]
["Initiatives-Conseils-Développement","ICD","Association"]
["International Emergency and Development Aid Relief","IEDA Relief","ONG Int."]
["International Medical Corps","IMC","ONG Int."]
["INTERNATIONAL RELIEF AND DEVELOPMENT","IRD","ONG Int."]
["International Rescue Committee","IRC","ONG Int."]
["Intersos","Intersos","ONG Int."]
["Intervida","Intervida","ONG Int."]
["Intrahealth","Intrahealth","ONG Int."]
["Islamic Relief","Islamic Relief","ONG Int."]
["JEKATAANIEN","JEKATAANIEN","ONG Nat."]
["JEM","JEM","Association"]
["Jigi","Jigi","ONG Nat."]
["Le DAMIER","DAMIER","ONG Nat."]
["Le Tonus","Tonus","ONG Nat."]
["Lutheran World Relief","LWR","ONG Int."]
["Lux Developpement","Lux Dev.","ONG Int."]
["LVIA","LVIA","ONG Int."]
["Malifolk Center MFC ","MFC","ONG Nat."]
["Marie Stopes International","MSI","ONG Int."]
["Médecins Du Monde Belgique","MDM Belgique","ONG Int."]
["Médecins Du Monde Espagne","MDM Espagne","ONG Int."]
["Médecins Du Monde France","MDM France","ONG Int."]
["Médecins Sans Frontières","MSF","ONG Int."]
["MEDICUS MUNDI","MEDICUS MUNDI","ONG Int."]
["Mercy Corps","Mercy Corps","ONG Int."]
["MERLIN","MERLIN","ONG Int."]
["Mines Advisory Group","MAG","ONG Int."]
["Mines Advisory Group","Mines Advisory Group","ONG Int."]
["Ministère de la santé","Ministère de la santé","Gouvernement"]
["Ministère de l'Action Humanitaire","MAH","Gouvernement"]
["Ministère de l'Education Nationale","Ministère de l'Education","Gouvernement"]
["MINUSMA","MINUSMA","UN"]
["MINUSMA Division Droits de l’Homme / OHCHR ","OHCHR","UN"]
["Molibemo","Molibemo","ONG Nat."]
["Mouvement pour la Paix ","MPDL","ONG Int."]
["Mujeres en Zona de Conflicto ","MZC","ONG Int."]
["Near Est foundation ","NEF Mali","Fondation"]
["Nord et Developpement","NordDev","ONG Nat."]
["Norwegian Church Aid","NCA","ONG Int."]
["Norwegian Refugee Council ","NRC","ONG Int."]
["Nouveaux Horizons","Nouveaux Horizons","ONG Nat."]
["Œuvre Malienne d'Aide à l'Enfance du Sahel","OMAES","ONG Nat."]
["OFDA","OFDA","Bailleurs"]
["OGES","OGES","ONG Nat."]
["ONG TAOUSSA","ONG TAOUSSA","ONG Nat."]
["ONUFEMME","ONUFEMME","UN"]
["ONUSIDA","ONUSIDA","UN"]
["Organisation des Nations unies pour l'éducation, la science et la culture","UNESCO","UN"]
["Organisation Internationale pour les Migrations","OIM","Org Int."]
["Organisation Mondiale de la Sante","OMS","UN"]
["Organisation Néerlandaise de Développement - Mali","SNV","ONG Int."]
["Overseas Development institute-Sahel","ODI SAHEL","ONG Nat."]
["OXFAM GB","OXFAM GB","ONG Int."]
["Plan Mali","Plan Mali","ONG Int."]
["PLANETE URGENCE","Planete urgence","ONG Int."]
["PLATEFORME REGIONALE DE RIZICULTEURS - MOPTI","PR-Riziculteurs-Mopti","ONG Nat."]
["PNUD","PNUD","UN"]
["Population Services International","PSI","ONG Int."]
["Première Urgence-Aide Médicale Internationale","PU-AMI","ONG Int."]
["Programme Alimentaire Mondial","PAM","UN"]
["PROTOS","PROTOS","ONG Nat."]
["Reach Italia","Reach Italia","ONG Int."]
["Right to Play","Right to Play","ONG Int."]
["Rights and Resources Initiative","RRI","Association"]
["Sahel Consult","Sahel Consult","ONG Nat."]
["Sahel Etudes Actions pour le Développement","SEAD","ONG Nat."]
["Samu Social Mali ","Samu Social Mali ","ONG Nat."]
["Samusocial Mali","Samusocial Mali","ONG Int."]
["Santé Développement","SADEVE","ONG Nat."]
["Santé Diabète","Santé Diabète","ONG Nat."]
["Santé Sud","Santé Sud","ONG Int."]
["Save the Children","Save the Children","ONG Int."]
["Save the Children Danmark","Save the Children Danmark","ONG Int."]
["Save the Children-Finland","Save the Children-Finland","ONG Int."]
["Secours Islamique","Secours Islamique","ONG Int."]
["SIA","SIA","ONG Int."]
["SIDA","SIDA","ONG Int."]
["SIDA-HUM","SIDA-HUM","ONG Nat."]
["SINI SANUMAN","SINI SANUMAN","ONG Nat."]
["SMARA","SMARA","ONG Int."]
["SOLIDAGRO","SOLIDAGRO","ONG Int."]
["Solidarité internationale","SOL INT","ONG Int."]
["SOLIDARITE POUR LE SAHEL","SOLISA","ONG Nat."]
["Solidarité Thérapeutique et Initiative contre le Sida","SOLTHIS","ONG Int."]
["SOPOTOI","SOPOTOI","ONG Int."]
["SOS ATTITUDE","SOS ATTITUDE","ONG Int."]
["SOS France","SOS France","ONG Int."]
["SOS Sahel","SOS Sahel","ONG Nat."]
["SOS Village d'Enfant","SOS VE","ONG Nat."]
["Stop Sahel ","Stop Sahel","ONG Nat."]
["Système d’alerte Précoce ","Commissariat à la sécurité alimentaire/SAP","Gouvernement"]
["Tagne","Tagne","ONG Nat."]
["Tassaght","Tassaght","ONG Nat."]
["TBC","TBC","ONG Nat."]
["Tearfund","Tearfund","ONG Int."]
["Terre des Hommes","TDH","ONG Int."]
["Terre des Hommes Lausanne","TDH-Lausanne","ONG Int."]
["The Development Initiative","TDI","ONG Int."]
["TOUCHE ADAC","ADAC","ONG Nat."]
["Union Jaabalè Badumo Tumo","Union Jaabalè Badumo Tumo","Association"]
["UNION POUR UN AVENIR ÉCOLOGIQUE. ET SOLIDAIRE","UAVES","ONG Nat."]
["Union Sociétés Coopératives Eleveurs Tamani ","USCET","Association"]
["Union Yèrènyèton ","Union Yèrènyèton","Association"]
["United Nations Food and Agriculture Organization","FAO","UN"]
["UNMAS","UNMAS","UN"]
["Vétérinaire sans Frontière Mali","VSF","Org Int."]
["Village du Millénaire","Village du Millénaire","ONG Nat."]
["Volonté des jeunes","Volonté des jeunes","ONG Int."]
["WaterAid Mali","WaterAid","UN"]
["Women in Law and Development in Africa","WILDAF","ONG Nat."]
["World Education","WorldEd","ONG Int."]
["World Vision","World Vision","ONG Int."]
["Woyo Kondeye","Woyo Kondeye","ONG Nat."]
["YA-G-TU","YA-G-TU","ONG Nat."]
["Médecins Sans Frontières France","MSF France","ONG Int."]

{"sheet":"Vocabulary","index":8,"n_rows":18,"n_cols":24,"rows_kept":18,"cut":false,"hidden":true,"merged":[[4,4,4,7],[7,16,7,19],[9,16,10,19]]}
[null,"Sector","Column1",null,"Activity Type","ID","TitleBarText","Dashboard Text",null,"Organiztion Type",null,"AdminName","Pcode","Autre","Ir",null,"R","G","B","Color",null,"Number of Dashboard Maps",null,"Is Setup Complete"]
[null,"Abris et NFI",1,null,"Regulier",3,"Présence Programmes","Organisations intervenant dans l'humanitaire au Mali",null,"Bailleurs",null,"Bamako","ML09","Sud",0,null,255,255,255,"sample color",null,{"$f":"COUNT(Sectors[]) + 1","v":9},null,true]
[null,"Coordination",2,null,"Urgence",2,"Réponse à l'urgence","Organisations ayant répondu avec des programmes d'urgence",null,"Autres",null,"Kayes","ML01","Sud",{"$f":"+O2+1","v":1},null,199,214,238,"sample color"]
[null,"Education",3,null,"Tous les programmes",1,{"$f":"\"\"","v":""},"Organisations basées au Mali",null,"Fondation",null,"Koulikoro","ML02","Sud",{"$f":"+O3+1","v":2},null,149,182,223,"sample color"]
[null,"Nutrition",4,null,"DO NOT ADD MORE ROWS TO THIS TABLE",null,null,null,null,"Gouvernement",null,"Sikasso","ML03","Sud",3,null,101,154,210,"sample color"]
[null,"Protection",5,null,null,null,null,null,null,"Mouv. Croix-rouge",null,"Segou","ML04","Sud",4,null,2,108,182,"sample color"]
[null,"Santé",6,null,null,null,null,null,null,"ONG Int.",null,"Mopti","ML05","Sud",5,null,0,52,105,"sample color"]
[null,"Sécurité alimentaire",7,null,null,null,null,null,null,"ONG Nat.",null,"Tombouctou","ML06","Nord",6,null,"DO NOT ADD MORE ROWS TO THIS TABLE"]
[null,"EHA",8,null,null,null,null,null,null,"Org Int.",null,"Gao","ML07","Nord",7]
[null,null,null,null,null,null,null,null,null,"UN",null,"Kidal","ML08","Nord",8,null,"Color Ramp for Master Map"]
[null,null,null,null,null,null,null,null,null,"Association"]
[null,null,null,null,null,null,null,null,null,"GIE",null,null,null,null,null,null,"R","G","B","Color"]
[null,null,null,null,null,null,null,null,null,null,null,null,null,null,null,null,255,255,255,"sample color"]
[null,null,null,null,null,null,null,null,null,null,null,null,null,null,null,null,254,226,202,"sample color"]
[null,null,null,null,null,null,null,null,null,null,null,null,null,null,null,null,252,200,159,"sample color"]
[null,"Limit of 12 Sectors",null,null,null,null,null,null,null,null,null,null,null,null,null,null,250,174,119,"sample color"]
[null,null,null,null,null,null,null,null,null,null,null,null,null,null,null,null,247,149,82,"sample color"]
[null,null,null,null,null,null,null,null,null,null,null,null,null,null,null,null,241,90,34,"sample color"]

{"sheet":"Gears","index":9,"n_rows":70,"n_cols":33,"rows_kept":70,"cut":false,"hidden":false,"merged":[]}
[]
[]
[null,null,null,null,null,null,null,null,null,null,null,null,null,null,null,"Color Classification"]
["Unique Orgs by Admin Unit and Sector",null,null,null,null,null,null,null,null,null,null,"Unique Orgs by Admin Unit and Activity Type",null,null,null,"All Sectors",null,"Abris et NFI",null,1,null,"Coordination",null,2,null,"Education",null,3,null,"Nutrition",null,4]
["AdminName","Pcode","Abris et NFI","Coordination","Education","Nutrition","Protection","Santé","Sécurité alimentaire","EHA",null,"Regulier","Urgence","Tous les programmes",null,"Current Activity Type","Bins","Rank","Bins","Rank","Bins","Rank","Bins","Rank","Bins","Rank","Bins","Rank","Bins","Rank","Bins","Rank","Bins"]
["Bamako","MLI09",{"$f":"IF(Activity<>\"Tous les programmes\",COUNTIFS(Data!$E:$E,C$5,Data!$G:$G,$A6,Data!$F:$F,Activity),COUNTIFS(Data!$E:$E,C$5,Data!$G:$G,$A6))","v":0},{"$f":"IF(Activity<>\"Tous les programmes\",COUNTIFS(Data!$E:$E,D$5,Data!$G:$G,$A6,Data!$F:$F,Activity),COUNTIFS(Data!$E:$E,D$5,Data!$G:$G,$A6))","v":8},{"$f":"IF(Activity<>\"Tous les programmes\",COUNTIFS(Data!$E:$E,E$5,Data!$G:$G,$A6,Data!$F:$F,Activity),COUNTIFS(Data!$E:$E,E$5,Data!$G:$G,$A6))","v":0},{"$f":"IF(Activity<>\"Tous les programmes\",COUNTIFS(Data!$E:$E,F$5,Data!$G:$G,$A6,Data!$F:$F,Activity),COUNTIFS(Data!$E:$E,F$5,Data!$G:$G,$A6))","v":3},{"$f":"IF(Activity<>\"Tous les programmes\",COUNTIFS(Data!$E:$E,G$5,Data!$G:$G,$A6,Data!$F:$F,Activity),COUNTIFS(Data!$E:$E,G$5,Data!$G:$G,$A6))","v":11},{"$f":"IF(Activity<>\"Tous les programmes\",COUNTIFS(Data!$E:$E,H$5,Data!$G:$G,$A6,Data!$F:$F,Activity),COUNTIFS(Data!$E:$E,H$5,Data!$G:$G,$A6))","v":5},{"$f":"IF(Activity<>\"Tous les programmes\",COUNTIFS(Data!$E:$E,I$5,Data!$G:$G,$A6,Data!$F:$F,Activity),COUNTIFS(Data!$E:$E,I$5,Data!$G:$G,$A6))","v":1},{"$f":"IF(Activity<>\"Tous les programmes\",COUNTIFS(Data!$E:$E,J$5,Data!$G:$G,$A6,Data!$F:$F,Activity),COUNTIFS(Data!$E:$E,J$5,Data!$G:$G,$A6))","v":3},null,{"$f":"SUM(IF(FREQUENCY(IF((LEN(Data_Acro)>0)*(Data_Act=\"Regulier\")*(Data_Pcd=B6),MATCH(Data_Acro,Data_Acro,0),\"\"),IF((LEN(Data_Acro)>0)*(Data_Act=\"Regulier\")*(Data_Pcd=B6),MATCH(Data_Acro,Data_Acro,0),\"\"))>0,1))","v":0},{"$f":"SUM(IF(FREQUENCY(IF((LEN(Data_Acro)>0)*(Data_Act=\"Urgence\")*(Data_Pcd=B6),MATCH(Data_Acro,Data_Acro,0),\"\"),IF((LEN(Data_Acro)>0)*(Data_Act=\"Urgence\")*(Data_Pcd=B6),MATCH(Data_Acro,Data_Acro,0),\"\"))>0,1))","v":0},{"$f":"SUM(IF(FREQUENCY(IF((LEN(Data_Acro)>0)*(Data_Pcd=B6),MATCH(Data_Acro,Data_Acro,0),\"\"),IF((LEN(Data_Acro)>0)*(Data_Pcd=B6),MATCH(Data_Acro,Data_Acro,0),\"\"))>0,1))","v":0},null,{"$f":"IF(L6=0,1,IFERROR(MATCH(L6,$Q$6:$Q$10,1)+1,1))","v":1},{"$f":"MIN(IF(OrgByAdmin_Reg>0,OrgByAdmin_Reg))","v":0},{"$f":"IF(INDEX(SectorCount0,1)=0,1,MATCH(INDEX(SectorCount0,1),SectorCountBins0,1)+1)","v":1},{"$f":"MIN(IF(SectorCount0>0,SectorCount0))","v":3},{"$f":"IF(INDEX(SectorCount1,1)=0,1,MATCH(INDEX(SectorCount1,1),SectorCountBins1,1)+1)","v":3},{"$f":"MIN(IF(SectorCount1>0,SectorCount1))","v":2},{"$f":"IF(INDEX(SectorCount2,1)=0,1,MATCH(INDEX(SectorCount2,1),SectorCountBins2,1)+1)","v":1},{"$f":"MIN(IF(SectorCount2>0,SectorCount2))","v":1},{"$f":"IF(INDEX(SectorCount3,1)=0,1,MATCH(INDEX(SectorCount3,1),SectorCountBins3,1)+1)","v":2},{"$f":"MIN(IF(SectorCount3>0,SectorCount3))","v":3},{"$f":"IF(INDEX(SectorCount4,1)=0,1,MATCH(INDEX(SectorCount4,1),SectorCountBins4,1)+1)","v":3},{"$f":"MIN(IF(SectorCount4>0,SectorCount4))","v":1},{"$f":"IF(INDEX(SectorCount5,1)=0,1,MATCH(INDEX(SectorCount5,1),SectorCountBins5,1)+1)","v":2},{"$f":"MIN(IF(SectorCount5>0,SectorCount5))","v":2},{"$f":"IF(INDEX(SectorCount6,1)=0,1,MATCH(INDEX(SectorCount6,1),SectorCountBins6,1)+1)","v":2},{"$f":"MIN(IF(SectorCount6>0,SectorCount6))","v":1},{"$f":"IF(INDEX(SectorCount7,1)=0,1,MATCH(INDEX(SectorCount7,1),SectorCountBins7,1)+1)","v":2},{"$f":"MIN(IF(SectorCount7>0,SectorCount7))","v":1}]
["Kayes","MLI01",{"$f":"IF(Activity<>\"Tous les programmes\",COUNTIFS(Data!$E:$E,C$5,Data!$G:$G,$A7,Data!$F:$F,Activity),COUNTIFS(Data!$E:$E,C$5,Data!$G:$G,$A7))","v":0},{"$f":"IF(Activity<>\"Tous les programmes\",COUNTIFS(Data!$E:$E,D$5,Data!$G:$G,$A7,Data!$F:$F,Activity),COUNTIFS(Data!$E:$E,D$5,Data!$G:$G,$A7))","v":0},{"$f":"IF(Activity<>\"Tous les programmes\",COUNTIFS(Data!$E:$E,E$5,Data!$G:$G,$A7,Data!$F:$F,Activity),COUNTIFS(Data!$E:$E,E$5,Data!$G:$G,$A7))","v":0},{"$f":"IF(Activity<>\"Tous les programmes\",COUNTIFS(Data!$E:$E,F$5,Data!$G:$G,$A7,Data!$F:$F,Activity),COUNTIFS(Data!$E:$E,F$5,Data!$G:$G,$A7))","v":5},{"$f":"IF(Activity<>\"Tous les programmes\",COUNTIFS(Data!$E:$E,G$5,Data!$G:$G,$A7,Data!$F:$F,Activity),COUNTIFS(Data!$E:$E,G$5,Data!$G:$G,$A7))","v":1},{"$f":"IF(Activity<>\"Tous les programmes\",COUNTIFS(Data!$E:$E,H$5,Data!$G:$G,$A7,Data!$F:$F,Activity),COUNTIFS(Data!$E:$E,H$5,Data!$G:$G,$A7))","v":2},{"$f":"IF(Activity<>\"Tous les programmes\",COUNTIFS(Data!$E:$E,I$5,Data!$G:$G,$A7,Data!$F:$F,Activity),COUNTIFS(Data!$E:$E,I$5,Data!$G:$G,$A7))","v":1},{"$f":"IF(Activity<>\"Tous les programmes\",COUNTIFS(Data!$E:$E,J$5,Data!$G:$G,$A7,Data!$F:$F,Activity),COUNTIFS(Data!$E:$E,J$5,Data!$G:$G,$A7))","v":3},null,{"$f":"SUM(IF(FREQUENCY(IF((LEN(Data_Acro)>0)*(Data_Act=\"Regulier\")*(Data_Pcd=B7),MATCH(Data_Acro,Data_Acro,0),\"\"),IF((LEN(Data_Acro)>0)*(Data_Act=\"Regulier\")*(Data_Pcd=B7),MATCH(Data_Acro,Data_Acro,0),\"\"))>0,1))","v":0},{"$f":"SUM(IF(FREQUENCY(IF((LEN(Data_Acro)>0)*(Data_Act=\"Urgence\")*(Data_Pcd=B7),MATCH(Data_Acro,Data_Acro,0),\"\"),IF((LEN(Data_Acro)>0)*(Data_Act=\"Urgence\")*(Data_Pcd=B7),MATCH(Data_Acro,Data_Acro,0),\"\"))>0,1))","v":0},{"$f":"SUM(IF(FREQUENCY(IF((LEN(Data_Acro)>0)*(Data_Pcd=B7),MATCH(Data_Acro,Data_Acro,0),\"\"),IF((LEN(Data_Acro)>0)*(Data_Pcd=B7),MATCH(Data_Acro,Data_Acro,0),\"\"))>0,1))","v":0},null,1,{"$f":"$Q$6+(0/4)","v":0},{"$f":"IF(INDEX(SectorCount0,2)=0,1,MATCH(INDEX(SectorCount0,2),SectorCountBins0,1)+1)","v":1},{"$f":"ROUND($S$6+($S$10-$S$6)/4, 0)","v":9},{"$f":"IF(INDEX(SectorCount1,2)=0,1,MATCH(INDEX(SectorCount1,2),SectorCountBins1,1)+1)","v":1},{"$f":"ROUND($U$6+($U$10-$U$6)/4, 0)","v":8},{"$f":"IF(INDEX(SectorCount2,2)=0,1,MATCH(INDEX(SectorCount2,2),SectorCountBins2,1)+1)","v":1},{"$f":"ROUND($W$6+($W$10-$W$6)/4, 0)","v":7},{"$f":"IF(INDEX(SectorCount3,2)=0,1,MATCH(INDEX(SectorCount3,2),SectorCountBins3,1)+1)","v":2},{"$f":"ROUND($Y$6+($Y$10-$Y$6)/4, 0)","v":9},{"$f":"IF(INDEX(SectorCount4,2)=0,1,MATCH(INDEX(SectorCount4,2),SectorCountBins4,1)+1)","v":2},{"$f":"ROUND($AA$6+($AA$10-$AA$6)/4, 0)","v":7},{"$f":"IF(INDEX(SectorCount5,2)=0,1,MATCH(INDEX(SectorCount5,2),SectorCountBins5,1)+1)","v":2},{"$f":"ROUND($AC$6+($AC$10-$AC$6)/4, 0)","v":8},{"$f":"IF(INDEX(SectorCount6,2)=0,1,MATCH(INDEX(SectorCount6,2),SectorCountBins6,1)+1)","v":2},{"$f":"ROUND($AE$6+($AE$10-$AE$6)/4, 0)","v":7},{"$f":"IF(INDEX(SectorCount7,2)=0,1,MATCH(INDEX(SectorCount7,2),SectorCountBins7,1)+1)","v":2},{"$f":"ROUND($AG$6+($AG$10-$AG$6)/4, 0)","v":7}]
["Koulikoro","MLI02",{"$f":"IF(Activity<>\"Tous les programmes\",COUNTIFS(Data!$E:$E,C$5,Data!$G:$G,$A8,Data!$F:$F,Activity),COUNTIFS(Data!$E:$E,C$5,Data!$G:$G,$A8))","v":0},{"$f":"IF(Activity<>\"Tous les programmes\",COUNTIFS(Data!$E:$E,D$5,Data!$G:$G,$A8,Data!$F:$F,Activity),COUNTIFS(Data!$E:$E,D$5,Data!$G:$G,$A8))","v":0},{"$f":"IF(Activity<>\"Tous les programmes\",COUNTIFS(Data!$E:$E,E$5,Data!$G:$G,$A8,Data!$F:$F,Activity),COUNTIFS(Data!$E:$E,E$5,Data!$G:$G,$A8))","v":0},{"$f":"IF(Activity<>\"Tous les programmes\",COUNTIFS(Data!$E:$E,F$5,Data!$G:$G,$A8,Data!$F:$F,Activity),COUNTIFS(Data!$E:$E,F$5,Data!$G:$G,$A8))","v":7},{"$f":"IF(Activity<>\"Tous les programmes\",COUNTIFS(Data!$E:$E,G$5,Data!$G:$G,$A8,Data!$F:$F,Activity),COUNTIFS(Data!$E:$E,G$5,Data!$G:$G,$A8))","v":4},{"$f":"IF(Activity<>\"Tous les programmes\",COUNTIFS(Data!$E:$E,H$5,Data!$G:$G,$A8,Data!$F:$F,Activity),COUNTIFS(Data!$E:$E,H$5,Data!$G:$G,$A8))","v":2},{"$f":"IF(Activity<>\"Tous les programmes\",COUNTIFS(Data!$E:$E,I$5,Data!$G:$G,$A8,Data!$F:$F,Activity),COUNTIFS(Data!$E:$E,I$5,Data!$G:$G,$A8))","v":5},{"$f":"IF(Activity<>\"Tous les programmes\",COUNTIFS(Data!$E:$E,J$5,Data!$G:$G,$A8,Data!$F:$F,Activity),COUNTIFS(Data!$E:$E,J$5,Data!$G:$G,$A8))","v":7},null,{"$f":"SUM(IF(FREQUENCY(IF((LEN(Data_Acro)>0)*(Data_Act=\"Regulier\")*(Data_Pcd=B8),MATCH(Data_Acro,Data_Acro,0),\"\"),IF((LEN(Data_Acro)>0)*(Data_Act=\"Regulier\")*(Data_Pcd=B8),MATCH(Data_Acro,Data_Acro,0),\"\"))>0,1))","v":0},{"$f":"SUM(IF(FREQUENCY(IF((LEN(Data_Acro)>0)*(Data_Act=\"Urgence\")*(Data_Pcd=B8),MATCH(Data_Acro,Data_Acro,0),\"\"),IF((LEN(Data_Acro)>0)*(Data_Act=\"Urgence\")*(Data_Pcd=B8),MATCH(Data_Acro,Data_Acro,0),\"\"))>0,1))","v":0},{"$f":"SUM(IF(FREQUENCY(IF((LEN(Data_Acro)>0)*(Data_Pcd=B8),MATCH(Data_Acro,Data_Acro,0),\"\"),IF((LEN(Data_Acro)>0)*(Data_Pcd=B8),MATCH(Data_Acro,Data_Acro,0),\"\"))>0,1))","v":0},null,1,{"$f":"$Q$7+(0/4)","v":0},{"$f":"IF(INDEX(SectorCount0,3)=0,1,MATCH(INDEX(SectorCount0,3),SectorCountBins0,1)+1)","v":1},{"$f":"ROUND($S$7+($S$10-$S$6)/4, 0)","v":15},{"$f":"IF(INDEX(SectorCount1,3)=0,1,MATCH(INDEX(SectorCount1,3),SectorCountBins1,1)+1)","v":1},{"$f":"ROUND($U$7+($U$10-$U$6)/4, 0)","v":14},{"$f":"IF(INDEX(SectorCount2,3)=0,1,MATCH(INDEX(SectorCount2,3),SectorCountBins2,1)+1)","v":1},{"$f":"ROUND($W$7+($W$10-$W$6)/4, 0)","v":13},{"$f":"IF(INDEX(SectorCount3,3)=0,1,MATCH(INDEX(SectorCount3,3),SectorCountBins3,1)+1)","v":2},{"$f":"ROUND($Y$7+($Y$10-$Y$6)/4, 0)","v":15},{"$f":"IF(INDEX(SectorCount4,3)=0,1,MATCH(INDEX(SectorCount4,3),SectorCountBins4,1)+1)","v":2},{"$f":"ROUND($AA$7+($AA$10-$AA$6)/4, 0)","v":13},{"$f":"IF(INDEX(SectorCount5,3)=0,1,MATCH(INDEX(SectorCount5,3),SectorCountBins5,1)+1)","v":2},{"$f":"ROUND($AC$7+($AC$10-$AC$6)/4, 0)","v":14},{"$f":"IF(INDEX(SectorCount6,3)=0,1,MATCH(INDEX(SectorCount6,3),SectorCountBins6,1)+1)","v":2},{"$f":"ROUND($AE$7+($AE$10-$AE$6)/4, 0)","v":13},{"$f":"IF(INDEX(SectorCount7,3)=0,1,MATCH(INDEX(SectorCount7,3),SectorCountBins7,1)+1)","v":3},{"$f":"ROUND($AG$7+($AG$10-$AG$6)/4, 0)","v":13}]
["Sikasso","MLI03",{"$f":"IF(Activity<>\"Tous les programmes\",COUNTIFS(Data!$E:$E,C$5,Data!$G:$G,$A9,Data!$F:$F,Activity),COUNTIFS(Data!$E:$E,C$5,Data!$G:$G,$A9))","v":0},{"$f":"IF(Activity<>\"Tous les programmes\",COUNTIFS(Data!$E:$E,D$5,Data!$G:$G,$A9,Data!$F:$F,Activity),COUNTIFS(Data!$E:$E,D$5,Data!$G:$G,$A9))","v":0},{"$f":"IF(Activity<>\"Tous les programmes\",COUNTIFS(Data!$E:$E,E$5,Data!$G:$G,$A9,Data!$F:$F,Activity),COUNTIFS(Data!$E:$E,E$5,Data!$G:$G,$A9))","v":0},{"$f":"IF(Activity<>\"Tous les programmes\",COUNTIFS(Data!$E:$E,F$5,Data!$G:$G,$A9,Data!$F:$F,Activity),COUNTIFS(Data!$E:$E,F$5,Data!$G:$G,$A9))","v":7},{"$f":"IF(Activity<>\"Tous les programmes\",COUNTIFS(Data!$E:$E,G$5,Data!$G:$G,$A9,Data!$F:$F,Activity),COUNTIFS(Data!$E:$E,G$5,Data!$G:$G,$A9))","v":4},{"$f":"IF(Activity<>\"Tous les programmes\",COUNTIFS(Data!$E:$E,H$5,Data!$G:$G,$A9,Data!$F:$F,Activity),COUNTIFS(Data!$E:$E,H$5,Data!$G:$G,$A9))","v":3},{"$f":"IF(Activity<>\"Tous les programmes\",COUNTIFS(Data!$E:$E,I$5,Data!$G:$G,$A9,Data!$F:$F,Activity),COUNTIFS(Data!$E:$E,I$5,Data!$G:$G,$A9))","v":2},{"$f":"IF(Activity<>\"Tous les programmes\",COUNTIFS(Data!$E:$E,J$5,Data!$G:$G,$A9,Data!$F:$F,Activity),COUNTIFS(Data!$E:$E,J$5,Data!$G:$G,$A9))","v":1},null,{"$f":"SUM(IF(FREQUENCY(IF((LEN(Data_Acro)>0)*(Data_Act=\"Regulier\")*(Data_Pcd=B9),MATCH(Data_Acro,Data_Acro,0),\"\"),IF((LEN(Data_Acro)>0)*(Data_Act=\"Regulier\")*(Data_Pcd=B9),MATCH(Data_Acro,Data_Acro,0),\"\"))>0,1))","v":0},{"$f":"SUM(IF(FREQUENCY(IF((LEN(Data_Acro)>0)*(Data_Act=\"Urgence\")*(Data_Pcd=B9),MATCH(Data_Acro,Data_Acro,0),\"\"),IF((LEN(Data_Acro)>0)*(Data_Act=\"Urgence\")*(Data_Pcd=B9),MATCH(Data_Acro,Data_Acro,0),\"\"))>0,1))","v":0},{"$f":"SUM(IF(FREQUENCY(IF((LEN(Data_Acro)>0)*(Data_Pcd=B9),MATCH(Data_Acro,Data_Acro,0),\"\"),IF((LEN(Data_Acro)>0)*(Data_Pcd=B9),MATCH(Data_Acro,Data_Acro,0),\"\"))>0,1))","v":0},null,1,{"$f":"$Q$8+(0/4)","v":0},{"$f":"IF(INDEX(SectorCount0,4)=0,1,MATCH(INDEX(SectorCount0,4),SectorCountBins0,1)+1)","v":1},{"$f":"ROUND($S$8+($S$10-$S$6)/4, 0)","v":21},{"$f":"IF(INDEX(SectorCount1,4)=0,1,MATCH(INDEX(SectorCount1,4),SectorCountBins1,1)+1)","v":1},{"$f":"ROUND($U$8+($U$10-$U$6)/4, 0)","v":20},{"$f":"IF(INDEX(SectorCount2,4)=0,1,MATCH(INDEX(SectorCount2,4),SectorCountBins2,1)+1)","v":1},{"$f":"ROUND($W$8+($W$10-$W$6)/4, 0)","v":19},{"$f":"IF(INDEX(SectorCount3,4)=0,1,MATCH(INDEX(SectorCount3,4),SectorCountBins3,1)+1)","v":2},{"$f":"ROUND($Y$8+($Y$10-$Y$6)/4, 0)","v":21},{"$f":"IF(INDEX(SectorCount4,4)=0,1,MATCH(INDEX(SectorCount4,4),SectorCountBins4,1)+1)","v":2},{"$f":"ROUND($AA$8+($AA$10-$AA$6)/4, 0)","v":19},{"$f":"IF(INDEX(SectorCount5,4)=0,1,MATCH(INDEX(SectorCount5,4),SectorCountBins5,1)+1)","v":2},{"$f":"ROUND($AC$8+($AC$10-$AC$6)/4, 0)","v":20},{"$f":"IF(INDEX(SectorCount6,4)=0,1,MATCH(INDEX(SectorCount6,4),SectorCountBins6,1)+1)","v":2},{"$f":"ROUND($AE$8+($AE$10-$AE$6)/4, 0)","v":19},{"$f":"IF(INDEX(SectorCount7,4)=0,1,MATCH(INDEX(SectorCount7,4),SectorCountBins7,1)+1)","v":2},{"$f":"ROUND($AG$8+($AG$10-$AG$6)/4, 0)","v":19}]
["Segou","MLI04",{"$f":"IF(Activity<>\"Tous les programmes\",COUNTIFS(Data!$E:$E,C$5,Data!$G:$G,$A10,Data!$F:$F,Activity),COUNTIFS(Data!$E:$E,C$5,Data!$G:$G,$A10))","v":0},{"$f":"IF(Activity<>\"Tous les programmes\",COUNTIFS(Data!$E:$E,D$5,Data!$G:$G,$A10,Data!$F:$F,Activity),COUNTIFS(Data!$E:$E,D$5,Data!$G:$G,$A10))","v":2},{"$f":"IF(Activity<>\"Tous les programmes\",COUNTIFS(Data!$E:$E,E$5,Data!$G:$G,$A10,Data!$F:$F,Activity),COUNTIFS(Data!$E:$E,E$5,Data!$G:$G,$A10))","v":0},{"$f":"IF(Activity<>\"Tous les programmes\",COUNTIFS(Data!$E:$E,F$5,Data!$G:$G,$A10,Data!$F:$F,Activity),COUNTIFS(Data!$E:$E,F$5,Data!$G:$G,$A10))","v":5},{"$f":"IF(Activity<>\"Tous les programmes\",COUNTIFS(Data!$E:$E,G$5,Data!$G:$G,$A10,Data!$F:$F,Activity),COUNTIFS(Data!$E:$E,G$5,Data!$G:$G,$A10))","v":5},{"$f":"IF(Activity<>\"Tous les programmes\",COUNTIFS(Data!$E:$E,H$5,Data!$G:$G,$A10,Data!$F:$F,Activity),COUNTIFS(Data!$E:$E,H$5,Data!$G:$G,$A10))","v":6},{"$f":"IF(Activity<>\"Tous les programmes\",COUNTIFS(Data!$E:$E,I$5,Data!$G:$G,$A10,Data!$F:$F,Activity),COUNTIFS(Data!$E:$E,I$5,Data!$G:$G,$A10))","v":4},{"$f":"IF(Activity<>\"Tous les programmes\",COUNTIFS(Data!$E:$E,J$5,Data!$G:$G,$A10,Data!$F:$F,Activity),COUNTIFS(Data!$E:$E,J$5,Data!$G:$G,$A10))","v":5},null,{"$f":"SUM(IF(FREQUENCY(IF((LEN(Data_Acro)>0)*(Data_Act=\"Regulier\")*(Data_Pcd=B10),MATCH(Data_Acro,Data_Acro,0),\"\"),IF((LEN(Data_Acro)>0)*(Data_Act=\"Regulier\")*(Data_Pcd=B10),MATCH(Data_Acro,Data_Acro,0),\"\"))>0,1))","v":0},{"$f":"SUM(IF(FREQUENCY(IF((LEN(Data_Acro)>0)*(Data_Act=\"Urgence\")*(Data_Pcd=B10),MATCH(Data_Acro,Data_Acro,0),\"\"),IF((LEN(Data_Acro)>0)*(Data_Act=\"Urgence\")*(Data_Pcd=B10),MATCH(Data_Acro,Data_Acro,0),\"\"))>0,1))","v":0},{"$f":"SUM(IF(FREQUENCY(IF((LEN(Data_Acro)>0)*(Data_Pcd=B10),MATCH(Data_Acro,Data_Acro,0),\"\"),IF((LEN(Data_Acro)>0)*(Data_Pcd=B10),MATCH(Data_Acro,Data_Acro,0),\"\"))>0,1))","v":0},null,1,{"$f":"MAX(OrgByAdmin_Reg)","v":0},{"$f":"IF(INDEX(SectorCount0,5)=0,1,MATCH(INDEX(SectorCount0,5),SectorCountBins0,1)+1)","v":1},{"$f":"MAX(SectorCount0,SectorCount1,SectorCount2,SectorCount3,SectorCount4,SectorCount5,SectorCount6,SectorCount7)","v":26},{"$f":"IF(INDEX(SectorCount1,5)=0,1,MATCH(INDEX(SectorCount1,5),SectorCountBins1,1)+1)","v":2},{"$f":"MAX(SectorCount0,SectorCount1,SectorCount2,SectorCount3,SectorCount4,SectorCount5,SectorCount6,SectorCount7)","v":26},{"$f":"IF(INDEX(SectorCount2,5)=0,1,MATCH(INDEX(SectorCount2,5),SectorCountBins2,1)+1)","v":1},{"$f":"MAX(SectorCount0,SectorCount1,SectorCount2,SectorCount3,SectorCount4,SectorCount5,SectorCount6,SectorCount7)","v":26},{"$f":"IF(INDEX(SectorCount3,5)=0,1,MATCH(INDEX(SectorCount3,5),SectorCountBins3,1)+1)","v":2},{"$f":"MAX(SectorCount0,SectorCount1,SectorCount2,SectorCount3,SectorCount4,SectorCount5,SectorCount6,SectorCount7)","v":26},{"$f":"IF(INDEX(SectorCount4,5)=0,1,MATCH(INDEX(SectorCount4,5),SectorCountBins4,1)+1)","v":2},{"$f":"MAX(SectorCount0,SectorCount1,SectorCount2,SectorCount3,SectorCount4,SectorCount5,SectorCount6,SectorCount7)","v":26},{"$f":"IF(INDEX(SectorCount5,5)=0,1,MATCH(INDEX(SectorCount5,5),SectorCountBins5,1)+1)","v":2},{"$f":"MAX(SectorCount0,SectorCount1,SectorCount2,SectorCount3,SectorCount4,SectorCount5,SectorCount6,SectorCount7)","v":26},{"$f":"IF(INDEX(SectorCount6,5)=0,1,MATCH(INDEX(SectorCount6,5),SectorCountBins6,1)+1)","v":2},{"$f":"MAX(SectorCount0,SectorCount1,SectorCount2,SectorCount3,SectorCount4,SectorCount5,SectorCount6,SectorCount7)","v":26},{"$f":"IF(INDEX(SectorCount7,5)=0,1,MATCH(INDEX(SectorCount7,5),SectorCountBins7,1)+1)","v":2},{"$f":"MAX(SectorCount0,SectorCount1,SectorCount2,SectorCount3,SectorCount4,SectorCount5,SectorCount6,SectorCount7)","v":26}]
["Mopti","MLI05",{"$f":"IF(Activity<>\"Tous les programmes\",COUNTIFS(Data!$E:$E,C$5,Data!$G:$G,$A11,Data!$F:$F,Activity),COUNTIFS(Data!$E:$E,C$5,Data!$G:$G,$A11))","v":3},{"$f":"IF(Activity<>\"Tous les programmes\",COUNTIFS(Data!$E:$E,D$5,Data!$G:$G,$A11,Data!$F:$F,Activity),COUNTIFS(Data!$E:$E,D$5,Data!$G:$G,$A11))","v":8},{"$f":"IF(Activity<>\"Tous les programmes\",COUNTIFS(Data!$E:$E,E$5,Data!$G:$G,$A11,Data!$F:$F,Activity),COUNTIFS(Data!$E:$E,E$5,Data!$G:$G,$A11))","v":7},{"$f":"IF(Activity<>\"Tous les programmes\",COUNTIFS(Data!$E:$E,F$5,Data!$G:$G,$A11,Data!$F:$F,Activity),COUNTIFS(Data!$E:$E,F$5,Data!$G:$G,$A11))","v":12},{"$f":"IF(Activity<>\"Tous les programmes\",COUNTIFS(Data!$E:$E,G$5,Data!$G:$G,$A11,Data!$F:$F,Activity),COUNTIFS(Data!$E:$E,G$5,Data!$G:$G,$A11))","v":15},{"$f":"IF(Activity<>\"Tous les programmes\",COUNTIFS(Data!$E:$E,H$5,Data!$G:$G,$A11,Data!$F:$F,Activity),COUNTIFS(Data!$E:$E,H$5,Data!$G:$G,$A11))","v":19},{"$f":"IF(Activity<>\"Tous les programmes\",COUNTIFS(Data!$E:$E,I$5,Data!$G:$G,$A11,Data!$F:$F,Activity),COUNTIFS(Data!$E:$E,I$5,Data!$G:$G,$A11))","v":16},{"$f":"IF(Activity<>\"Tous les programmes\",COUNTIFS(Data!$E:$E,J$5,Data!$G:$G,$A11,Data!$F:$F,Activity),COUNTIFS(Data!$E:$E,J$5,Data!$G:$G,$A11))","v":8},null,{"$f":"SUM(IF(FREQUENCY(IF((LEN(Data_Acro)>0)*(Data_Act=\"Regulier\")*(Data_Pcd=B11),MATCH(Data_Acro,Data_Acro,0),\"\"),IF((LEN(Data_Acro)>0)*(Data_Act=\"Regulier\")*(Data_Pcd=B11),MATCH(Data_Acro,Data_Acro,0),\"\"))>0,1))","v":0},{"$f":"SUM(IF(FREQUENCY(IF((LEN(Data_Acro)>0)*(Data_Act=\"Urgence\")*(Data_Pcd=B11),MATCH(Data_Acro,Data_Acro,0),\"\"),IF((LEN(Data_Acro)>0)*(Data_Act=\"Urgence\")*(Data_Pcd=B11),MATCH(Data_Acro,Data_Acro,0),\"\"))>0,1))","v":0},{"$f":"SUM(IF(FREQUENCY(IF((LEN(Data_Acro)>0)*(Data_Pcd=B11),MATCH(Data_Acro,Data_Acro,0),\"\"),IF((LEN(Data_Acro)>0)*(Data_Pcd=B11),MATCH(Data_Acro,Data_Acro,0),\"\"))>0,1))","v":0},null,1,null,{"$f":"IF(INDEX(SectorCount0,6)=0,1,MATCH(INDEX(SectorCount0,6),SectorCountBins0,1)+1)","v":2},null,{"$f":"IF(INDEX(SectorCount1,6)=0,1,MATCH(INDEX(SectorCount1,6),SectorCountBins1,1)+1)","v":3},null,{"$f":"IF(INDEX(SectorCount2,6)=0,1,MATCH(INDEX(SectorCount2,6),SectorCountBins2,1)+1)","v":3},null,{"$f":"IF(INDEX(SectorCount3,6)=0,1,MATCH(INDEX(SectorCount3,6),SectorCountBins3,1)+1)","v":3},null,{"$f":"IF(INDEX(SectorCount4,6)=0,1,MATCH(INDEX(SectorCount4,6),SectorCountBins4,1)+1)","v":4},null,{"$f":"IF(INDEX(SectorCount5,6)=0,1,MATCH(INDEX(SectorCount5,6),SectorCountBins5,1)+1)","v":4},null,{"$f":"IF(INDEX(SectorCount6,6)=0,1,MATCH(INDEX(SectorCount6,6),SectorCountBins6,1)+1)","v":4},null,{"$f":"IF(INDEX(SectorCount7,6)=0,1,MATCH(INDEX(SectorCount7,6),SectorCountBins7,1)+1)","v":3}]
["Tombouctou","MLI06",{"$f":"IF(Activity<>\"Tous les programmes\",COUNTIFS(Data!$E:$E,C$5,Data!$G:$G,$A12,Data!$F:$F,Activity),COUNTIFS(Data!$E:$E,C$5,Data!$G:$G,$A12))","v":3},{"$f":"IF(Activity<>\"Tous les programmes\",COUNTIFS(Data!$E:$E,D$5,Data!$G:$G,$A12,Data!$F:$F,Activity),COUNTIFS(Data!$E:$E,D$5,Data!$G:$G,$A12))","v":9},{"$f":"IF(Activity<>\"Tous les programmes\",COUNTIFS(Data!$E:$E,E$5,Data!$G:$G,$A12,Data!$F:$F,Activity),COUNTIFS(Data!$E:$E,E$5,Data!$G:$G,$A12))","v":17},{"$f":"IF(Activity<>\"Tous les programmes\",COUNTIFS(Data!$E:$E,F$5,Data!$G:$G,$A12,Data!$F:$F,Activity),COUNTIFS(Data!$E:$E,F$5,Data!$G:$G,$A12))","v":9},{"$f":"IF(Activity<>\"Tous les programmes\",COUNTIFS(Data!$E:$E,G$5,Data!$G:$G,$A12,Data!$F:$F,Activity),COUNTIFS(Data!$E:$E,G$5,Data!$G:$G,$A12))","v":12},{"$f":"IF(Activity<>\"Tous les programmes\",COUNTIFS(Data!$E:$E,H$5,Data!$G:$G,$A12,Data!$F:$F,Activity),COUNTIFS(Data!$E:$E,H$5,Data!$G:$G,$A12))","v":10},{"$f":"IF(Activity<>\"Tous les programmes\",COUNTIFS(Data!$E:$E,I$5,Data!$G:$G,$A12,Data!$F:$F,Activity),COUNTIFS(Data!$E:$E,I$5,Data!$G:$G,$A12))","v":26},{"$f":"IF(Activity<>\"Tous les programmes\",COUNTIFS(Data!$E:$E,J$5,Data!$G:$G,$A12,Data!$F:$F,Activity),COUNTIFS(Data!$E:$E,J$5,Data!$G:$G,$A12))","v":7},null,{"$f":"SUM(IF(FREQUENCY(IF((LEN(Data_Acro)>0)*(Data_Act=\"Regulier\")*(Data_Pcd=B12),MATCH(Data_Acro,Data_Acro,0),\"\"),IF((LEN(Data_Acro)>0)*(Data_Act=\"Regulier\")*(Data_Pcd=B12),MATCH(Data_Acro,Data_Acro,0),\"\"))>0,1))","v":0},{"$f":"SUM(IF(FREQUENCY(IF((LEN(Data_Acro)>0)*(Data_Act=\"Urgence\")*(Data_Pcd=B12),MATCH(Data_Acro,Data_Acro,0),\"\"),IF((LEN(Data_Acro)>0)*(Data_Act=\"Urgence\")*(Data_Pcd=B12),MATCH(Data_Acro,Data_Acro,0),\"\"))>0,1))","v":0},{"$f":"SUM(IF(FREQUENCY(IF((LEN(Data_Acro)>0)*(Data_Pcd=B12),MATCH(Data_Acro,Data_Acro,0),\"\"),IF((LEN(Data_Acro)>0)*(Data_Pcd=B12),MATCH(Data_Acro,Data_Acro,0),\"\"))>0,1))","v":0},null,1,null,{"$f":"IF(INDEX(SectorCount0,7)=0,1,MATCH(INDEX(SectorCount0,7),SectorCountBins0,1)+1)","v":2},null,{"$f":"IF(INDEX(SectorCount1,7)=0,1,MATCH(INDEX(SectorCount1,7),SectorCountBins1,1)+1)","v":3},null,{"$f":"IF(INDEX(SectorCount2,7)=0,1,MATCH(INDEX(SectorCount2,7),SectorCountBins2,1)+1)","v":4},null,{"$f":"IF(INDEX(SectorCount3,7)=0,1,MATCH(INDEX(SectorCount3,7),SectorCountBins3,1)+1)","v":3},null,{"$f":"IF(INDEX(SectorCount4,7)=0,1,MATCH(INDEX(SectorCount4,7),SectorCountBins4,1)+1)","v":3},null,{"$f":"IF(INDEX(SectorCount5,7)=0,1,MATCH(INDEX(SectorCount5,7),SectorCountBins5,1)+1)","v":3},null,{"$f":"IF(INDEX(SectorCount6,7)=0,1,MATCH(INDEX(SectorCount6,7),SectorCountBins6,1)+1)","v":6},null,{"$f":"IF(INDEX(SectorCount7,7)=0,1,MATCH(INDEX(SectorCount7,7),SectorCountBins7,1)+1)","v":3}]
["Gao","MLI07",{"$f":"IF(Activity<>\"Tous les programmes\",COUNTIFS(Data!$E:$E,C$5,Data!$G:$G,$A13,Data!$F:$F,Activity),COUNTIFS(Data!$E:$E,C$5,Data!$G:$G,$A13))","v":3},{"$f":"IF(Activity<>\"Tous les programmes\",COUNTIFS(Data!$E:$E,D$5,Data!$G:$G,$A13,Data!$F:$F,Activity),COUNTIFS(Data!$E:$E,D$5,Data!$G:$G,$A13))","v":10},{"$f":"IF(Activity<>\"Tous les programmes\",COUNTIFS(Data!$E:$E,E$5,Data!$G:$G,$A13,Data!$F:$F,Activity),COUNTIFS(Data!$E:$E,E$5,Data!$G:$G,$A13))","v":13},{"$f":"IF(Activity<>\"Tous les programmes\",COUNTIFS(Data!$E:$E,F$5,Data!$G:$G,$A13,Data!$F:$F,Activity),COUNTIFS(Data!$E:$E,F$5,Data!$G:$G,$A13))","v":6},{"$f":"IF(Activity<>\"Tous les programmes\",COUNTIFS(Data!$E:$E,G$5,Data!$G:$G,$A13,Data!$F:$F,Activity),COUNTIFS(Data!$E:$E,G$5,Data!$G:$G,$A13))","v":22},{"$f":"IF(Activity<>\"Tous les programmes\",COUNTIFS(Data!$E:$E,H$5,Data!$G:$G,$A13,Data!$F:$F,Activity),COUNTIFS(Data!$E:$E,H$5,Data!$G:$G,$A13))","v":9},{"$f":"IF(Activity<>\"Tous les programmes\",COUNTIFS(Data!$E:$E,I$5,Data!$G:$G,$A13,Data!$F:$F,Activity),COUNTIFS(Data!$E:$E,I$5,Data!$G:$G,$A13))","v":18},{"$f":"IF(Activity<>\"Tous les programmes\",COUNTIFS(Data!$E:$E,J$5,Data!$G:$G,$A13,Data!$F:$F,Activity),COUNTIFS(Data!$E:$E,J$5,Data!$G:$G,$A13))","v":8},null,{"$f":"SUM(IF(FREQUENCY(IF((LEN(Data_Acro)>0)*(Data_Act=\"Regulier\")*(Data_Pcd=B13),MATCH(Data_Acro,Data_Acro,0),\"\"),IF((LEN(Data_Acro)>0)*(Data_Act=\"Regulier\")*(Data_Pcd=B13),MATCH(Data_Acro,Data_Acro,0),\"\"))>0,1))","v":0},{"$f":"SUM(IF(FREQUENCY(IF((LEN(Data_Acro)>0)*(Data_Act=\"Urgence\")*(Data_Pcd=B13),MATCH(Data_Acro,Data_Acro,0),\"\"),IF((LEN(Data_Acro)>0)*(Data_Act=\"Urgence\")*(Data_Pcd=B13),MATCH(Data_Acro,Data_Acro,0),\"\"))>0,1))","v":0},{"$f":"SUM(IF(FREQUENCY(IF((LEN(Data_Acro)>0)*(Data_Pcd=B13),MATCH(Data_Acro,Data_Acro,0),\"\"),IF((LEN(Data_Acro)>0)*(Data_Pcd=B13),MATCH(Data_Acro,Data_Acro,0),\"\"))>0,1))","v":0},null,1,null,{"$f":"IF(INDEX(SectorCount0,8)=0,1,MATCH(INDEX(SectorCount0,8),SectorCountBins0,1)+1)","v":2},null,{"$f":"IF(INDEX(SectorCount1,8)=0,1,MATCH(INDEX(SectorCount1,8),SectorCountBins1,1)+1)","v":3},null,{"$f":"IF(INDEX(SectorCount2,8)=0,1,MATCH(INDEX(SectorCount2,8),SectorCountBins2,1)+1)","v":4},null,{"$f":"IF(INDEX(SectorCount3,8)=0,1,MATCH(INDEX(SectorCount3,8),SectorCountBins3,1)+1)","v":2},null,{"$f":"IF(INDEX(SectorCount4,8)=0,1,MATCH(INDEX(SectorCount4,8),SectorCountBins4,1)+1)","v":5},null,{"$f":"IF(INDEX(SectorCount5,8)=0,1,MATCH(INDEX(SectorCount5,8),SectorCountBins5,1)+1)","v":3},null,{"$f":"IF(INDEX(SectorCount6,8)=0,1,MATCH(INDEX(SectorCount6,8),SectorCountBins6,1)+1)","v":4},null,{"$f":"IF(INDEX(SectorCount7,8)=0,1,MATCH(INDEX(SectorCount7,8),SectorCountBins7,1)+1)","v":3}]
["Kidal","MLI08",{"$f":"IF(Activity<>\"Tous les programmes\",COUNTIFS(Data!$E:$E,C$5,Data!$G:$G,$A14,Data!$F:$F,Activity),COUNTIFS(Data!$E:$E,C$5,Data!$G:$G,$A14))","v":0},{"$f":"IF(Activity<>\"Tous les programmes\",COUNTIFS(Data!$E:$E,D$5,Data!$G:$G,$A14,Data!$F:$F,Activity),COUNTIFS(Data!$E:$E,D$5,Data!$G:$G,$A14))","v":0},{"$f":"IF(Activity<>\"Tous les programmes\",COUNTIFS(Data!$E:$E,E$5,Data!$G:$G,$A14,Data!$F:$F,Activity),COUNTIFS(Data!$E:$E,E$5,Data!$G:$G,$A14))","v":1},{"$f":"IF(Activity<>\"Tous les programmes\",COUNTIFS(Data!$E:$E,F$5,Data!$G:$G,$A14,Data!$F:$F,Activity),COUNTIFS(Data!$E:$E,F$5,Data!$G:$G,$A14))","v":4},{"$f":"IF(Activity<>\"Tous les programmes\",COUNTIFS(Data!$E:$E,G$5,Data!$G:$G,$A14,Data!$F:$F,Activity),COUNTIFS(Data!$E:$E,G$5,Data!$G:$G,$A14))","v":4},{"$f":"IF(Activity<>\"Tous les programmes\",COUNTIFS(Data!$E:$E,H$5,Data!$G:$G,$A14,Data!$F:$F,Activity),COUNTIFS(Data!$E:$E,H$5,Data!$G:$G,$A14))","v":5},{"$f":"IF(Activity<>\"Tous les programmes\",COUNTIFS(Data!$E:$E,I$5,Data!$G:$G,$A14,Data!$F:$F,Activity),COUNTIFS(Data!$E:$E,I$5,Data!$G:$G,$A14))","v":3},{"$f":"IF(Activity<>\"Tous les programmes\",COUNTIFS(Data!$E:$E,J$5,Data!$G:$G,$A14,Data!$F:$F,Activity),COUNTIFS(Data!$E:$E,J$5,Data!$G:$G,$A14))","v":4},null,{"$f":"SUM(IF(FREQUENCY(IF((LEN(Data_Acro)>0)*(Data_Act=\"Regulier\")*(Data_Pcd=B14),MATCH(Data_Acro,Data_Acro,0),\"\"),IF((LEN(Data_Acro)>0)*(Data_Act=\"Regulier\")*(Data_Pcd=B14),MATCH(Data_Acro,Data_Acro,0),\"\"))>0,1))","v":0},{"$f":"SUM(IF(FREQUENCY(IF((LEN(Data_Acro)>0)*(Data_Act=\"Urgence\")*(Data_Pcd=B14),MATCH(Data_Acro,Data_Acro,0),\"\"),IF((LEN(Data_Acro)>0)*(Data_Act=\"Urgence\")*(Data_Pcd=B14),MATCH(Data_Acro,Data_Acro,0),\"\"))>0,1))","v":0},{"$f":"SUM(IF(FREQUENCY(IF((LEN(Data_Acro)>0)*(Data_Pcd=B14),MATCH(Data_Acro,Data_Acro,0),\"\"),IF((LEN(Data_Acro)>0)*(Data_Pcd=B14),MATCH(Data_Acro,Data_Acro,0),\"\"))>0,1))","v":0},null,1,null,{"$f":"IF(INDEX(SectorCount0,9)=0,1,MATCH(INDEX(SectorCount0,9),SectorCountBins0,1)+1)","v":1},null,{"$f":"IF(INDEX(SectorCount1,9)=0,1,MATCH(INDEX(SectorCount1,9),SectorCountBins1,1)+1)","v":1},null,{"$f":"IF(INDEX(SectorCount2,9)=0,1,MATCH(INDEX(SectorCount2,9),SectorCountBins2,1)+1)","v":2},null,{"$f":"IF(INDEX(SectorCount3,9)=0,1,MATCH(INDEX(SectorCount3,9),SectorCountBins3,1)+1)","v":2},null,{"$f":"IF(INDEX(SectorCount4,9)=0,1,MATCH(INDEX(SectorCount4,9),SectorCountBins4,1)+1)","v":2},null,{"$f":"IF(INDEX(SectorCount5,9)=0,1,MATCH(INDEX(SectorCount5,9),SectorCountBins5,1)+1)","v":2},null,{"$f":"IF(INDEX(SectorCount6,9)=0,1,MATCH(INDEX(SectorCount6,9),SectorCountBins6,1)+1)","v":2},null,{"$f":"IF(INDEX(SectorCount7,9)=0,1,MATCH(INDEX(SectorCount7,9),SectorCountBins7,1)+1)","v":2}]
[]
[]
["Unique Orgs by Org Type and Activity Type"]
["Organiztion Type","Regulier","Urgence","Tous les programmes"]
["ONG Int.",{"$f":"SUM(IF(FREQUENCY(IF((LEN(Data_Acro)>0)*(Data_Act=\"Regulier\")*(Data_OrgTyp=A19),MATCH(Data_Acro,Data_Acro,0),\"\"), IF((LEN(Data_Acro)>0)*(Data_Act=\"Regulier\")*(Data_OrgTyp=A19),MATCH(Data_Acro,Data_Acro,0),\"\"))>0,1))","v":61},{"$f":"SUM(IF(FREQUENCY(IF((LEN(Data_Acro)>0)*(Data_Act=\"Urgence\")*(Data_OrgTyp=A19),MATCH(Data_Acro,Data_Acro,0),\"\"), IF((LEN(Data_Acro)>0)*(Data_Act=\"Urgence\")*(Data_OrgTyp=A19),MATCH(Data_Acro,Data_Acro,0),\"\"))>0,1))","v":0},{"$f":"SUM(IF(FREQUENCY(IF((LEN(Data_Acro)>0)*(Data_OrgTyp=A19),MATCH(Data_Acro,Data_Acro,0),\"\"),IF((LEN(Data_Acro)>0)*(Data_OrgTyp=A19),MATCH(Data_Acro,Data_Acro,0),\"\"))>0,1))","v":61}]
["ONG Nat.",{"$f":"SUM(IF(FREQUENCY(IF((LEN(Data_Acro)>0)*(Data_Act=\"Regulier\")*(Data_OrgTyp=A20),MATCH(Data_Acro,Data_Acro,0),\"\"), IF((LEN(Data_Acro)>0)*(Data_Act=\"Regulier\")*(Data_OrgTyp=A20),MATCH(Data_Acro,Data_Acro,0),\"\"))>0,1))","v":44},{"$f":"SUM(IF(FREQUENCY(IF((LEN(Data_Acro)>0)*(Data_Act=\"Urgence\")*(Data_OrgTyp=A20),MATCH(Data_Acro,Data_Acro,0),\"\"), IF((LEN(Data_Acro)>0)*(Data_Act=\"Urgence\")*(Data_OrgTyp=A20),MATCH(Data_Acro,Data_Acro,0),\"\"))>0,1))","v":0},{"$f":"SUM(IF(FREQUENCY(IF((LEN(Data_Acro)>0)*(Data_OrgTyp=A20),MATCH(Data_Acro,Data_Acro,0),\"\"),IF((LEN(Data_Acro)>0)*(Data_OrgTyp=A20),MATCH(Data_Acro,Data_Acro,0),\"\"))>0,1))","v":44}]
["UN",{"$f":"SUM(IF(FREQUENCY(IF((LEN(Data_Acro)>0)*(Data_Act=\"Regulier\")*(Data_OrgTyp=A21),MATCH(Data_Acro,Data_Acro,0),\"\"), IF((LEN(Data_Acro)>0)*(Data_Act=\"Regulier\")*(Data_OrgTyp=A21),MATCH(Data_Acro,Data_Acro,0),\"\"))>0,1))","v":10},{"$f":"SUM(IF(FREQUENCY(IF((LEN(Data_Acro)>0)*(Data_Act=\"Urgence\")*(Data_OrgTyp=A21),MATCH(Data_Acro,Data_Acro,0),\"\"), IF((LEN(Data_Acro)>0)*(Data_Act=\"Urgence\")*(Data_OrgTyp=A21),MATCH(Data_Acro,Data_Acro,0),\"\"))>0,1))","v":0},{"$f":"SUM(IF(FREQUENCY(IF((LEN(Data_Acro)>0)*(Data_OrgTyp=A21),MATCH(Data_Acro,Data_Acro,0),\"\"),IF((LEN(Data_Acro)>0)*(Data_OrgTyp=A21),MATCH(Data_Acro,Data_Acro,0),\"\"))>0,1))","v":10}]
["Gouvernement",{"$f":"SUM(IF(FREQUENCY(IF((LEN(Data_Acro)>0)*(Data_Act=\"Regulier\")*(Data_OrgTyp=A22),MATCH(Data_Acro,Data_Acro,0),\"\"), IF((LEN(Data_Acro)>0)*(Data_Act=\"Regulier\")*(Data_OrgTyp=A22),MATCH(Data_Acro,Data_Acro,0),\"\"))>0,1))","v":9},{"$f":"SUM(IF(FREQUENCY(IF((LEN(Data_Acro)>0)*(Data_Act=\"Urgence\")*(Data_OrgTyp=A22),MATCH(Data_Acro,Data_Acro,0),\"\"), IF((LEN(Data_Acro)>0)*(Data_Act=\"Urgence\")*(Data_OrgTyp=A22),MATCH(Data_Acro,Data_Acro,0),\"\"))>0,1))","v":0},{"$f":"SUM(IF(FREQUENCY(IF((LEN(Data_Acro)>0)*(Data_OrgTyp=A22),MATCH(Data_Acro,Data_Acro,0),\"\"),IF((LEN(Data_Acro)>0)*(Data_OrgTyp=A22),MATCH(Data_Acro,Data_Acro,0),\"\"))>0,1))","v":9}]
["Mouv. Croix-rouge",{"$f":"SUM(IF(FREQUENCY(IF((LEN(Data_Acro)>0)*(Data_Act=\"Regulier\")*(Data_OrgTyp=A23),MATCH(Data_Acro,Data_Acro,0),\"\"), IF((LEN(Data_Acro)>0)*(Data_Act=\"Regulier\")*(Data_OrgTyp=A23),MATCH(Data_Acro,Data_Acro,0),\"\"))>0,1))","v":5},{"$f":"SUM(IF(FREQUENCY(IF((LEN(Data_Acro)>0)*(Data_Act=\"Urgence\")*(Data_OrgTyp=A23),MATCH(Data_Acro,Data_Acro,0),\"\"), IF((LEN(Data_Acro)>0)*(Data_Act=\"Urgence\")*(Data_OrgTyp=A23),MATCH(Data_Acro,Data_Acro,0),\"\"))>0,1))","v":0},{"$f":"SUM(IF(FREQUENCY(IF((LEN(Data_Acro)>0)*(Data_OrgTyp=A23),MATCH(Data_Acro,Data_Acro,0),\"\"),IF((LEN(Data_Acro)>0)*(Data_OrgTyp=A23),MATCH(Data_Acro,Data_Acro,0),\"\"))>0,1))","v":5}]
["Association",{"$f":"SUM(IF(FREQUENCY(IF((LEN(Data_Acro)>0)*(Data_Act=\"Regulier\")*(Data_OrgTyp=A24),MATCH(Data_Acro,Data_Acro,0),\"\"), IF((LEN(Data_Acro)>0)*(Data_Act=\"Regulier\")*(Data_OrgTyp=A24),MATCH(Data_Acro,Data_Acro,0),\"\"))>0,1))","v":3},{"$f":"SUM(IF(FREQUENCY(IF((LEN(Data_Acro)>0)*(Data_Act=\"Urgence\")*(Data_OrgTyp=A24),MATCH(Data_Acro,Data_Acro,0),\"\"), IF((LEN(Data_Acro)>0)*(Data_Act=\"Urgence\")*(Data_OrgTyp=A24),MATCH(Data_Acro,Data_Acro,0),\"\"))>0,1))","v":0},{"$f":"SUM(IF(FREQUENCY(IF((LEN(Data_Acro)>0)*(Data_OrgTyp=A24),MATCH(Data_Acro,Data_Acro,0),\"\"),IF((LEN(Data_Acro)>0)*(Data_OrgTyp=A24),MATCH(Data_Acro,Data_Acro,0),\"\"))>0,1))","v":3}]
["Fondation",{"$f":"SUM(IF(FREQUENCY(IF((LEN(Data_Acro)>0)*(Data_Act=\"Regulier\")*(Data_OrgTyp=A25),MATCH(Data_Acro,Data_Acro,0),\"\"), IF((LEN(Data_Acro)>0)*(Data_Act=\"Regulier\")*(Data_OrgTyp=A25),MATCH(Data_Acro,Data_Acro,0),\"\"))>0,1))","v":2},{"$f":"SUM(IF(FREQUENCY(IF((LEN(Data_Acro)>0)*(Data_Act=\"Urgence\")*(Data_OrgTyp=A25),MATCH(Data_Acro,Data_Acro,0),\"\"), IF((LEN(Data_Acro)>0)*(Data_Act=\"Urgence\")*(Data_OrgTyp=A25),MATCH(Data_Acro,Data_Acro,0),\"\"))>0,1))","v":0},{"$f":"SUM(IF(FREQUENCY(IF((LEN(Data_Acro)>0)*(Data_OrgTyp=A25),MATCH(Data_Acro,Data_Acro,0),\"\"),IF((LEN(Data_Acro)>0)*(Data_OrgTyp=A25),MATCH(Data_Acro,Data_Acro,0),\"\"))>0,1))","v":2}]
["Org Int.",{"$f":"SUM(IF(FREQUENCY(IF((LEN(Data_Acro)>0)*(Data_Act=\"Regulier\")*(Data_OrgTyp=A26),MATCH(Data_Acro,Data_Acro,0),\"\"), IF((LEN(Data_Acro)>0)*(Data_Act=\"Regulier\")*(Data_OrgTyp=A26),MATCH(Data_Acro,Data_Acro,0),\"\"))>0,1))","v":1},{"$f":"SUM(IF(FREQUENCY(IF((LEN(Data_Acro)>0)*(Data_Act=\"Urgence\")*(Data_OrgTyp=A26),MATCH(Data_Acro,Data_Acro,0),\"\"), IF((LEN(Data_Acro)>0)*(Data_Act=\"Urgence\")*(Data_OrgTyp=A26),MATCH(Data_Acro,Data_Acro,0),\"\"))>0,1))","v":0},{"$f":"SUM(IF(FREQUENCY(IF((LEN(Data_Acro)>0)*(Data_OrgTyp=A26),MATCH(Data_Acro,Data_Acro,0),\"\"),IF((LEN(Data_Acro)>0)*(Data_OrgTyp=A26),MATCH(Data_Acro,Data_Acro,0),\"\"))>0,1))","v":1}]
["Bailleurs",{"$f":"SUM(IF(FREQUENCY(IF((LEN(Data_Acro)>0)*(Data_Act=\"Regulier\")*(Data_OrgTyp=A27),MATCH(Data_Acro,Data_Acro,0),\"\"), IF((LEN(Data_Acro)>0)*(Data_Act=\"Regulier\")*(Data_OrgTyp=A27),MATCH(Data_Acro,Data_Acro,0),\"\"))>0,1))","v":0},{"$f":"SUM(IF(FREQUENCY(IF((LEN(Data_Acro)>0)*(Data_Act=\"Urgence\")*(Data_OrgTyp=A27),MATCH(Data_Acro,Data_Acro,0),\"\"), IF((LEN(Data_Acro)>0)*(Data_Act=\"Urgence\")*(Data_OrgTyp=A27),MATCH(Data_Acro,Data_Acro,0),\"\"))>0,1))","v":0},{"$f":"SUM(IF(FREQUENCY(IF((LEN(Data_Acro)>0)*(Data_OrgTyp=A27),MATCH(Data_Acro,Data_Acro,0),\"\"),IF((LEN(Data_Acro)>0)*(Data_OrgTyp=A27),MATCH(Data_Acro,Data_Acro,0),\"\"))>0,1))","v":0}]
["Autres",{"$f":"SUM(IF(FREQUENCY(IF((LEN(Data_Acro)>0)*(Data_Act=\"Regulier\")*(Data_OrgTyp=A28),MATCH(Data_Acro,Data_Acro,0),\"\"), IF((LEN(Data_Acro)>0)*(Data_Act=\"Regulier\")*(Data_OrgTyp=A28),MATCH(Data_Acro,Data_Acro,0),\"\"))>0,1))","v":0},{"$f":"SUM(IF(FREQUENCY(IF((LEN(Data_Acro)>0)*(Data_Act=\"Urgence\")*(Data_OrgTyp=A28),MATCH(Data_Acro,Data_Acro,0),\"\"), IF((LEN(Data_Acro)>0)*(Data_Act=\"Urgence\")*(Data_OrgTyp=A28),MATCH(Data_Acro,Data_Acro,0),\"\"))>0,1))","v":0},{"$f":"SUM(IF(FREQUENCY(IF((LEN(Data_Acro)>0)*(Data_OrgTyp=A28),MATCH(Data_Acro,Data_Acro,0),\"\"),IF((LEN(Data_Acro)>0)*(Data_OrgTyp=A28),MATCH(Data_Acro,Data_Acro,0),\"\"))>0,1))","v":0}]
["GIE",{"$f":"SUM(IF(FREQUENCY(IF((LEN(Data_Acro)>0)*(Data_Act=\"Regulier\")*(Data_OrgTyp=A29),MATCH(Data_Acro,Data_Acro,0),\"\"), IF((LEN(Data_Acro)>0)*(Data_Act=\"Regulier\")*(Data_OrgTyp=A29),MATCH(Data_Acro,Data_Acro,0),\"\"))>0,1))","v":0},{"$f":"SUM(IF(FREQUENCY(IF((LEN(Data_Acro)>0)*(Data_Act=\"Urgence\")*(Data_OrgTyp=A29),MATCH(Data_Acro,Data_Acro,0),\"\"), IF((LEN(Data_Acro)>0)*(Data_Act=\"Urgence\")*(Data_OrgTyp=A29),MATCH(Data_Acro,Data_Acro,0),\"\"))>0,1))","v":0},{"$f":"SUM(IF(FREQUENCY(IF((LEN(Data_Acro)>0)*(Data_OrgTyp=A29),MATCH(Data_Acro,Data_Acro,0),\"\"),IF((LEN(Data_Acro)>0)*(Data_OrgTyp=A29),MATCH(Data_Acro,Data_Acro,0),\"\"))>0,1))","v":0}]
[]
[]
["Unique Orgs by Sector and Activity Type"]
["Sector","Regulier","Urgence","Tous les programmes"]
["Sécurité alimentaire",{"$f":"SUM(IF(FREQUENCY(IF((LEN(Data_Acro)>0)*(Data_Act=\"Regulier\")*(Data_Sect=A34),MATCH(Data_Acro,Data_Acro,0),\"\"), IF((LEN(Data_Acro)>0)*(Data_Act=\"Regulier\")*(Data_Sect=A34),MATCH(Data_Acro,Data_Acro,0),\"\"))>0,1))","v":46},{"$f":"SUM(IF(FREQUENCY(IF((LEN(Data_Acro)>0)*(Data_Act=\"Urgence\")*(Data_Sect=A34),MATCH(Data_Acro,Data_Acro,0),\"\"), IF((LEN(Data_Acro)>0)*(Data_Act=\"Urgence\")*(Data_Sect=A34),MATCH(Data_Acro,Data_Acro,0),\"\"))>0,1))","v":0},{"$f":"SUM(IF(FREQUENCY(IF((LEN(Data_Acro)>0)*(Data_Sect=A34),MATCH(Data_Acro,Data_Acro,0),\"\"),IF((LEN(Data_Acro)>0)*(Data_Sect=A34),MATCH(Data_Acro,Data_Acro,0),\"\"))>0,1))","v":46}]
["Protection",{"$f":"SUM(IF(FREQUENCY(IF((LEN(Data_Acro)>0)*(Data_Act=\"Regulier\")*(Data_Sect=A35),MATCH(Data_Acro,Data_Acro,0),\"\"), IF((LEN(Data_Acro)>0)*(Data_Act=\"Regulier\")*(Data_Sect=A35),MATCH(Data_Acro,Data_Acro,0),\"\"))>0,1))","v":38},{"$f":"SUM(IF(FREQUENCY(IF((LEN(Data_Acro)>0)*(Data_Act=\"Urgence\")*(Data_Sect=A35),MATCH(Data_Acro,Data_Acro,0),\"\"), IF((LEN(Data_Acro)>0)*(Data_Act=\"Urgence\")*(Data_Sect=A35),MATCH(Data_Acro,Data_Acro,0),\"\"))>0,1))","v":0},{"$f":"SUM(IF(FREQUENCY(IF((LEN(Data_Acro)>0)*(Data_Sect=A35),MATCH(Data_Acro,Data_Acro,0),\"\"),IF((LEN(Data_Acro)>0)*(Data_Sect=A35),MATCH(Data_Acro,Data_Acro,0),\"\"))>0,1))","v":38}]
["Nutrition",{"$f":"SUM(IF(FREQUENCY(IF((LEN(Data_Acro)>0)*(Data_Act=\"Regulier\")*(Data_Sect=A36),MATCH(Data_Acro,Data_Acro,0),\"\"), IF((LEN(Data_Acro)>0)*(Data_Act=\"Regulier\")*(Data_Sect=A36),MATCH(Data_Acro,Data_Acro,0),\"\"))>0,1))","v":32},{"$f":"SUM(IF(FREQUENCY(IF((LEN(Data_Acro)>0)*(Data_Act=\"Urgence\")*(Data_Sect=A36),MATCH(Data_Acro,Data_Acro,0),\"\"), IF((LEN(Data_Acro)>0)*(Data_Act=\"Urgence\")*(Data_Sect=A36),MATCH(Data_Acro,Data_Acro,0),\"\"))>0,1))","v":0},{"$f":"SUM(IF(FREQUENCY(IF((LEN(Data_Acro)>0)*(Data_Sect=A36),MATCH(Data_Acro,Data_Acro,0),\"\"),IF((LEN(Data_Acro)>0)*(Data_Sect=A36),MATCH(Data_Acro,Data_Acro,0),\"\"))>0,1))","v":32}]
["Santé",{"$f":"SUM(IF(FREQUENCY(IF((LEN(Data_Acro)>0)*(Data_Act=\"Regulier\")*(Data_Sect=A37),MATCH(Data_Acro,Data_Acro,0),\"\"), IF((LEN(Data_Acro)>0)*(Data_Act=\"Regulier\")*(Data_Sect=A37),MATCH(Data_Acro,Data_Acro,0),\"\"))>0,1))","v":30},{"$f":"SUM(IF(FREQUENCY(IF((LEN(Data_Acro)>0)*(Data_Act=\"Urgence\")*(Data_Sect=A37),MATCH(Data_Acro,Data_Acro,0),\"\"), IF((LEN(Data_Acro)>0)*(Data_Act=\"Urgence\")*(Data_Sect=A37),MATCH(Data_Acro,Data_Acro,0),\"\"))>0,1))","v":0},{"$f":"SUM(IF(FREQUENCY(IF((LEN(Data_Acro)>0)*(Data_Sect=A37),MATCH(Data_Acro,Data_Acro,0),\"\"),IF((LEN(Data_Acro)>0)*(Data_Sect=A37),MATCH(Data_Acro,Data_Acro,0),\"\"))>0,1))","v":30}]
["Education",{"$f":"SUM(IF(FREQUENCY(IF((LEN(Data_Acro)>0)*(Data_Act=\"Regulier\")*(Data_Sect=A38),MATCH(Data_Acro,Data_Acro,0),\"\"), IF((LEN(Data_Acro)>0)*(Data_Act=\"Regulier\")*(Data_Sect=A38),MATCH(Data_Acro,Data_Acro,0),\"\"))>0,1))","v":29},{"$f":"SUM(IF(FREQUENCY(IF((LEN(Data_Acro)>0)*(Data_Act=\"Urgence\")*(Data_Sect=A38),MATCH(Data_Acro,Data_Acro,0),\"\"), IF((LEN(Data_Acro)>0)*(Data_Act=\"Urgence\")*(Data_Sect=A38),MATCH(Data_Acro,Data_Acro,0),\"\"))>0,1))","v":0},{"$f":"SUM(IF(FREQUENCY(IF((LEN(Data_Acro)>0)*(Data_Sect=A38),MATCH(Data_Acro,Data_Acro,0),\"\"),IF((LEN(Data_Acro)>0)*(Data_Sect=A38),MATCH(Data_Acro,Data_Acro,0),\"\"))>0,1))","v":29}]
["EHA",{"$f":"SUM(IF(FREQUENCY(IF((LEN(Data_Acro)>0)*(Data_Act=\"Regulier\")*(Data_Sect=A39),MATCH(Data_Acro,Data_Acro,0),\"\"), IF((LEN(Data_Acro)>0)*(Data_Act=\"Regulier\")*(Data_Sect=A39),MATCH(Data_Acro,Data_Acro,0),\"\"))>0,1))","v":21},{"$f":"SUM(IF(FREQUENCY(IF((LEN(Data_Acro)>0)*(Data_Act=\"Urgence\")*(Data_Sect=A39),MATCH(Data_Acro,Data_Acro,0),\"\"), IF((LEN(Data_Acro)>0)*(Data_Act=\"Urgence\")*(Data_Sect=A39),MATCH(Data_Acro,Data_Acro,0),\"\"))>0,1))","v":0},{"$f":"SUM(IF(FREQUENCY(IF((LEN(Data_Acro)>0)*(Data_Sect=A39),MATCH(Data_Acro,Data_Acro,0),\"\"),IF((LEN(Data_Acro)>0)*(Data_Sect=A39),MATCH(Data_Acro,Data_Acro,0),\"\"))>0,1))","v":21}]
["Coordination",{"$f":"SUM(IF(FREQUENCY(IF((LEN(Data_Acro)>0)*(Data_Act=\"Regulier\")*(Data_Sect=A40),MATCH(Data_Acro,Data_Acro,0),\"\"), IF((LEN(Data_Acro)>0)*(Data_Act=\"Regulier\")*(Data_Sect=A40),MATCH(Data_Acro,Data_Acro,0),\"\"))>0,1))","v":15},{"$f":"SUM(IF(FREQUENCY(IF((LEN(Data_Acro)>0)*(Data_Act=\"Urgence\")*(Data_Sect=A40),MATCH(Data_Acro,Data_Acro,0),\"\"), IF((LEN(Data_Acro)>0)*(Data_Act=\"Urgence\")*(Data_Sect=A40),MATCH(Data_Acro,Data_Acro,0),\"\"))>0,1))","v":0},{"$f":"SUM(IF(FREQUENCY(IF((LEN(Data_Acro)>0)*(Data_Sect=A40),MATCH(Data_Acro,Data_Acro,0),\"\"),IF((LEN(Data_Acro)>0)*(Data_Sect=A40),MATCH(Data_Acro,Data_Acro,0),\"\"))>0,1))","v":15}]
["Abris et NFI",{"$f":"SUM(IF(FREQUENCY(IF((LEN(Data_Acro)>0)*(Data_Act=\"Regulier\")*(Data_Sect=A41),MATCH(Data_Acro,Data_Acro,0),\"\"), IF((LEN(Data_Acro)>0)*(Data_Act=\"Regulier\")*(Data_Sect=A41),MATCH(Data_Acro,Data_Acro,0),\"\"))>0,1))","v":5},{"$f":"SUM(IF(FREQUENCY(IF((LEN(Data_Acro)>0)*(Data_Act=\"Urgence\")*(Data_Sect=A41),MATCH(Data_Acro,Data_Acro,0),\"\"), IF((LEN(Data_Acro)>0)*(Data_Act=\"Urgence\")*(Data_Sect=A41),MATCH(Data_Acro,Data_Acro,0),\"\"))>0,1))","v":0},{"$f":"SUM(IF(FREQUENCY(IF((LEN(Data_Acro)>0)*(Data_Sect=A41),MATCH(Data_Acro,Data_Acro,0),\"\"),IF((LEN(Data_Acro)>0)*(Data_Sect=A41),MATCH(Data_Acro,Data_Acro,0),\"\"))>0,1))","v":5}]
[]
[]
["AdminName",null,"Regulier","Urgence","Tous les programmes"]
["Tombouctou","MLI06",{"$f":"SUM(IF(FREQUENCY(IF((LEN(Data_Acro)>0)*(Data_Act=\"Regulier\")*(Data_Pcd=B45),MATCH(Data_Acro,Data_Acro,0),\"\"),IF((LEN(Data_Acro)>0)*(Data_Act=\"Regulier\")*(Data_Pcd=B45),MATCH(Data_Acro,Data_Acro,0),\"\"))>0,1))","v":0},{"$f":"SUM(IF(FREQUENCY(IF((LEN(Data_Acro)>0)*(Data_Act=\"Urgence\")*(Data_Pcd=B45),MATCH(Data_Acro,Data_Acro,0),\"\"),IF((LEN(Data_Acro)>0)*(Data_Act=\"Urgence\")*(Data_Pcd=B45),MATCH(Data_Acro,Data_Acro,0),\"\"))>0,1))","v":0},{"$f":"SUM(IF(FREQUENCY(IF((LEN(Data_Acro)>0)*(Data_Pcd=B45),MATCH(Data_Acro,Data_Acro,0),\"\"),IF((LEN(Data_Acro)>0)*(Data_Pcd=B45),MATCH(Data_Acro,Data_Acro,0),\"\"))>0,1))","v":0}]
["Gao","MLI07",{"$f":"SUM(IF(FREQUENCY(IF((LEN(Data_Acro)>0)*(Data_Act=\"Regulier\")*(Data_Pcd=B46),MATCH(Data_Acro,Data_Acro,0),\"\"),IF((LEN(Data_Acro)>0)*(Data_Act=\"Regulier\")*(Data_Pcd=B46),MATCH(Data_Acro,Data_Acro,0),\"\"))>0,1))","v":0},{"$f":"SUM(IF(FREQUENCY(IF((LEN(Data_Acro)>0)*(Data_Act=\"Urgence\")*(Data_Pcd=B46),MATCH(Data_Acro,Data_Acro,0),\"\"),IF((LEN(Data_Acro)>0)*(Data_Act=\"Urgence\")*(Data_Pcd=B46),MATCH(Data_Acro,Data_Acro,0),\"\"))>0,1))","v":0},{"$f":"SUM(IF(FREQUENCY(IF((LEN(Data_Acro)>0)*(Data_Pcd=B46),MATCH(Data_Acro,Data_Acro,0),\"\"),IF((LEN(Data_Acro)>0)*(Data_Pcd=B46),MATCH(Data_Acro,Data_Acro,0),\"\"))>0,1))","v":0}]
["Mopti","MLI05",{"$f":"SUM(IF(FREQUENCY(IF((LEN(Data_Acro)>0)*(Data_Act=\"Regulier\")*(Data_Pcd=B47),MATCH(Data_Acro,Data_Acro,0),\"\"),IF((LEN(Data_Acro)>0)*(Data_Act=\"Regulier\")*(Data_Pcd=B47),MATCH(Data_Acro,Data_Acro,0),\"\"))>0,1))","v":0},{"$f":"SUM(IF(FREQUENCY(IF((LEN(Data_Acro)>0)*(Data_Act=\"Urgence\")*(Data_Pcd=B47),MATCH(Data_Acro,Data_Acro,0),\"\"),IF((LEN(Data_Acro)>0)*(Data_Act=\"Urgence\")*(Data_Pcd=B47),MATCH(Data_Acro,Data_Acro,0),\"\"))>0,1))","v":0},{"$f":"SUM(IF(FREQUENCY(IF((LEN(Data_Acro)>0)*(Data_Pcd=B47),MATCH(Data_Acro,Data_Acro,0),\"\"),IF((LEN(Data_Acro)>0)*(Data_Pcd=B47),MATCH(Data_Acro,Data_Acro,0),\"\"))>0,1))","v":0}]
["Segou","MLI04",{"$f":"SUM(IF(FREQUENCY(IF((LEN(Data_Acro)>0)*(Data_Act=\"Regulier\")*(Data_Pcd=B48),MATCH(Data_Acro,Data_Acro,0),\"\"),IF((LEN(Data_Acro)>0)*(Data_Act=\"Regulier\")*(Data_Pcd=B48),MATCH(Data_Acro,Data_Acro,0),\"\"))>0,1))","v":0},{"$f":"SUM(IF(FREQUENCY(IF((LEN(Data_Acro)>0)*(Data_Act=\"Urgence\")*(Data_Pcd=B48),MATCH(Data_Acro,Data_Acro,0),\"\"),IF((LEN(Data_Acro)>0)*(Data_Act=\"Urgence\")*(Data_Pcd=B48),MATCH(Data_Acro,Data_Acro,0),\"\"))>0,1))","v":0},{"$f":"SUM(IF(FREQUENCY(IF((LEN(Data_Acro)>0)*(Data_Pcd=B48),MATCH(Data_Acro,Data_Acro,0),\"\"),IF((LEN(Data_Acro)>0)*(Data_Pcd=B48),MATCH(Data_Acro,Data_Acro,0),\"\"))>0,1))","v":0}]
["Bamako","MLI09",{"$f":"SUM(IF(FREQUENCY(IF((LEN(Data_Acro)>0)*(Data_Act=\"Regulier\")*(Data_Pcd=B49),MATCH(Data_Acro,Data_Acro,0),\"\"),IF((LEN(Data_Acro)>0)*(Data_Act=\"Regulier\")*(Data_Pcd=B49),MATCH(Data_Acro,Data_Acro,0),\"\"))>0,1))","v":0},{"$f":"SUM(IF(FREQUENCY(IF((LEN(Data_Acro)>0)*(Data_Act=\"Urgence\")*(Data_Pcd=B49),MATCH(Data_Acro,Data_Acro,0),\"\"),IF((LEN(Data_Acro)>0)*(Data_Act=\"Urgence\")*(Data_Pcd=B49),MATCH(Data_Acro,Data_Acro,0),\"\"))>0,1))","v":0},{"$f":"SUM(IF(FREQUENCY(IF((LEN(Data_Acro)>0)*(Data_Pcd=B49),MATCH(Data_Acro,Data_Acro,0),\"\"),IF((LEN(Data_Acro)>0)*(Data_Pcd=B49),MATCH(Data_Acro,Data_Acro,0),\"\"))>0,1))","v":0}]
["Koulikoro","MLI02",{"$f":"SUM(IF(FREQUENCY(IF((LEN(Data_Acro)>0)*(Data_Act=\"Regulier\")*(Data_Pcd=B50),MATCH(Data_Acro,Data_Acro,0),\"\"),IF((LEN(Data_Acro)>0)*(Data_Act=\"Regulier\")*(Data_Pcd=B50),MATCH(Data_Acro,Data_Acro,0),\"\"))>0,1))","v":0},{"$f":"SUM(IF(FREQUENCY(IF((LEN(Data_Acro)>0)*(Data_Act=\"Urgence\")*(Data_Pcd=B50),MATCH(Data_Acro,Data_Acro,0),\"\"),IF((LEN(Data_Acro)>0)*(Data_Act=\"Urgence\")*(Data_Pcd=B50),MATCH(Data_Acro,Data_Acro,0),\"\"))>0,1))","v":0},{"$f":"SUM(IF(FREQUENCY(IF((LEN(Data_Acro)>0)*(Data_Pcd=B50),MATCH(Data_Acro,Data_Acro,0),\"\"),IF((LEN(Data_Acro)>0)*(Data_Pcd=B50),MATCH(Data_Acro,Data_Acro,0),\"\"))>0,1))","v":0}]
["Kidal","MLI08",{"$f":"SUM(IF(FREQUENCY(IF((LEN(Data_Acro)>0)*(Data_Act=\"Regulier\")*(Data_Pcd=B51),MATCH(Data_Acro,Data_Acro,0),\"\"),IF((LEN(Data_Acro)>0)*(Data_Act=\"Regulier\")*(Data_Pcd=B51),MATCH(Data_Acro,Data_Acro,0),\"\"))>0,1))","v":0},{"$f":"SUM(IF(FREQUENCY(IF((LEN(Data_Acro)>0)*(Data_Act=\"Urgence\")*(Data_Pcd=B51),MATCH(Data_Acro,Data_Acro,0),\"\"),IF((LEN(Data_Acro)>0)*(Data_Act=\"Urgence\")*(Data_Pcd=B51),MATCH(Data_Acro,Data_Acro,0),\"\"))>0,1))","v":0},{"$f":"SUM(IF(FREQUENCY(IF((LEN(Data_Acro)>0)*(Data_Pcd=B51),MATCH(Data_Acro,Data_Acro,0),\"\"),IF((LEN(Data_Acro)>0)*(Data_Pcd=B51),MATCH(Data_Acro,Data_Acro,0),\"\"))>0,1))","v":0}]
["Sikasso","MLI03",{"$f":"SUM(IF(FREQUENCY(IF((LEN(Data_Acro)>0)*(Data_Act=\"Regulier\")*(Data_Pcd=B52),MATCH(Data_Acro,Data_Acro,0),\"\"),IF((LEN(Data_Acro)>0)*(Data_Act=\"Regulier\")*(Data_Pcd=B52),MATCH(Data_Acro,Data_Acro,0),\"\"))>0,1))","v":0},{"$f":"SUM(IF(FREQUENCY(IF((LEN(Data_Acro)>0)*(Data_Act=\"Urgence\")*(Data_Pcd=B52),MATCH(Data_Acro,Data_Acro,0),\"\"),IF((LEN(Data_Acro)>0)*(Data_Act=\"Urgence\")*(Data_Pcd=B52),MATCH(Data_Acro,Data_Acro,0),\"\"))>0,1))","v":0},{"$f":"SUM(IF(FREQUENCY(IF((LEN(Data_Acro)>0)*(Data_Pcd=B52),MATCH(Data_Acro,Data_Acro,0),\"\"),IF((LEN(Data_Acro)>0)*(Data_Pcd=B52),MATCH(Data_Acro,Data_Acro,0),\"\"))>0,1))","v":0}]
["Kayes","MLI01",{"$f":"SUM(IF(FREQUENCY(IF((LEN(Data_Acro)>0)*(Data_Act=\"Regulier\")*(Data_Pcd=B53),MATCH(Data_Acro,Data_Acro,0),\"\"),IF((LEN(Data_Acro)>0)*(Data_Act=\"Regulier\")*(Data_Pcd=B53),MATCH(Data_Acro,Data_Acro,0),\"\"))>0,1))","v":0},{"$f":"SUM(IF(FREQUENCY(IF((LEN(Data_Acro)>0)*(Data_Act=\"Urgence\")*(Data_Pcd=B53),MATCH(Data_Acro,Data_Acro,0),\"\"),IF((LEN(Data_Acro)>0)*(Data_Act=\"Urgence\")*(Data_Pcd=B53),MATCH(Data_Acro,Data_Acro,0),\"\"))>0,1))","v":0},{"$f":"SUM(IF(FREQUENCY(IF((LEN(Data_Acro)>0)*(Data_Pcd=B53),MATCH(Data_Acro,Data_Acro,0),\"\"),IF((LEN(Data_Acro)>0)*(Data_Pcd=B53),MATCH(Data_Acro,Data_Acro,0),\"\"))>0,1))","v":0}]
[]
[]
["AdminName","Regulier","Urgence","Tous"]
["Nord",{"$f":"SUM(IF(FREQUENCY(IF((LEN(Data_Acro)>0)*(Data_Act=\"Regulier\")*(Data_AdminAutre=$A57),MATCH(Data_Acro,Data_Acro,0),\"\"),IF((LEN(Data_Acro)>0)*(Data_Act=\"Regulier\")*(Data_AdminAutre=$A57),MATCH(Data_Acro,Data_Acro,0),\"\"))>0,1))","v":92},{"$f":"SUM(IF(FREQUENCY(IF((LEN(Data_Acro)>0)*(Data_Act=\"Urgence\")*(Data_AdminAutre=$A57),MATCH(Data_Acro,Data_Acro,0),\"\"),IF((LEN(Data_Acro)>0)*(Data_Act=\"Urgence\")*(Data_AdminAutre=$A57),MATCH(Data_Acro,Data_Acro,0),\"\"))>0,1))","v":0},{"$f":"SUM(IF(FREQUENCY(IF((LEN(Data_Acro)>0)*(Data_AdminAutre=$A57),MATCH(Data_Acro,Data_Acro,0),\"\"),IF((LEN(Data_Acro)>0)*(Data_AdminAutre=$A57),MATCH(Data_Acro,Data_Acro,0),\"\"))>0,1))","v":92},"Régions Sud"]
["Sud",{"$f":"SUM(IF(FREQUENCY(IF((LEN(Data_Acro)>0)*(Data_Act=\"Regulier\")*(Data_AdminAutre=$A58),MATCH(Data_Acro,Data_Acro,0),\"\"),IF((LEN(Data_Acro)>0)*(Data_Act=\"Regulier\")*(Data_AdminAutre=$A58),MATCH(Data_Acro,Data_Acro,0),\"\"))>0,1))","v":80},{"$f":"SUM(IF(FREQUENCY(IF((LEN(Data_Acro)>0)*(Data_Act=\"Urgence\")*(Data_AdminAutre=$A58),MATCH(Data_Acro,Data_Acro,0),\"\"),IF((LEN(Data_Acro)>0)*(Data_Act=\"Urgence\")*(Data_AdminAutre=$A58),MATCH(Data_Acro,Data_Acro,0),\"\"))>0,1))","v":0},{"$f":"SUM(IF(FREQUENCY(IF((LEN(Data_Acro)>0)*(Data_AdminAutre=$A58),MATCH(Data_Acro,Data_Acro,0),\"\"),IF((LEN(Data_Acro)>0)*(Data_AdminAutre=$A58),MATCH(Data_Acro,Data_Acro,0),\"\"))>0,1))","v":80},"Régions Nord"]
[]
[]
["Mois","Nombre d'organisations operationelles"]
["2014-11-01",153]
["2014-12-01",156]
["2015-01-01",162]
["2015-02-01",151]
["2015-03-01",98]
["2015-04-01",114]
["2015-05-01",130]
["2015-06-01",132]
["2015-07-01",135]

{"sheet":"Setup Instructions","index":10,"n_rows":0,"n_cols":0,"rows_kept":0,"cut":false,"hidden":true,"merged":[]}

{"sheet":"Geometry","index":11,"n_rows":23,"n_cols":1,"rows_kept":23,"cut":false,"hidden":true,"merged":[]}
[]
["Go to instructions"]
[]
[]
[]
[]
[]
[]
[]
[]
["Paste Pcodes Below (1 Column Only)"]
["ML09"]
["ML01"]
["ML02"]
["ML03"]
["ML04"]
["ML05"]
["ML06"]
["ML07"]
["ML08"]
[]
[]
["Graphique 157"]

{"sheet":"3w","index":12,"n_rows":0,"n_cols":0,"rows_kept":0,"cut":false,"hidden":false,"merged":[]}